Workbook
Name Chronologie_Date_de_la_facture: #N/A
Name Détailsdelafacture: "InvoiceDetails[Invoice No]"
Name listeclients: Clients!$B$3:$K$6
Name N°defacture: 'Factures – Principal'!$B$4:$B$18
Name Nomdelasociété: Facture!$B$1
Name recherchedeclient: Clients!#REF!
Name rngFacture: Facture!$J$8

Sheet Utiliser le suivi des factures
B1: Comment utiliser l’outil de suivi des factures ?
B5: À propos de l’outil de suivi des factures
B6: L’outil de suivi des factures est conçu pour conserver un historique des clients, des factures et des détails de facture, ce qui vous permet de stocker plusieurs factures sans avoir à créer plusieurs fichiers. Vous pouvez également utiliser l’outil de suivi des factures pour analyser vos données de facturation antérieures. Par exemple, vous pouvez afficher toutes les factures relatives à un client ou un projet spécifique, ou bien toutes les factures du mois dernier, de l’année dernière, etc.
B7: Avant de commencer, jetez un coup d’œil aux exemples de données fournis. Dans la feuille Facture du classeur, sélectionnez la cellule située à droite de N° de facture (cellule L8) et une liste déroulante s’affiche. Sélectionnez la flèche déroulante, puis un exemple de facture. Notez que l’ensemble des informations de la facture change automatiquement afin de refléter la facture sélectionnée. À présent, examinez les feuilles Clients, Factures - Principal et Détails de la facture du classeur. Chacune de ces feuilles fournit des informations à la facture et toutes les modifications apportées sont mises à jour automatiquement.
B8: Par où commencer ?
B9: Modifiez la feuille Facture en fonction des informations de votre société à l’aide des étapes suivantes :
B10: 1. | C10: Accédez à la feuille Facture du classeur. Sous l’onglet Révision , dans le groupe Modifications , sélectionnez Ôter la protection de la feuille.
C11: Remarque : la feuille Facture est protégée afin d’éviter les modifications accidentelles. En effet, comme indiqué précédemment, la majorité des données de cette feuille sont extraites de toutes les autres feuilles du classeur.
B12: 2. | C12: Personnalisez l’en-tête de facture en indiquant votre nom de société, adresse, ville, code postal, adresse e-mail, site web, etc. Au bas de la facture (ligne 43), modifiez les instructions de paiement.
C13: Important : ne modifiez pas les informations de facturation. Toutes ces cellules ont des formules qui mettent automatiquement à jour la facture, comme indiqué dans la section À propos de l’outil de suivi des factures .
B14: 3. | C14: (Facultatif) Modifiez les couleurs du classeur : sous l’onglet Mise en page , dans le groupe Thèmes , sélectionnez Couleurs et sélectionnez un autre ensemble de couleurs de thème à partir de la galerie de couleurs.
B15: Conseil : créez un ensemble de couleurs de thème personnalisé aux couleurs de votre société. Pour ce faire, sous l’onglet Mise en page , dans le groupe Thèmes , sélectionnez Couleurs, puis sélectionnez Créer de nouvelles couleurs de thème. Pour plus d’informations sur la création d’un ensemble de couleurs personnalisé, consultez la rubrique d’aide suivante :
C16: Personnalisez un thème de document.
B17: 4. | C17: Une fois que vous avez effectué les modifications souhaitées, revenez à la feuille Facture du classeur. Sous l’onglet Révision , dans le groupe Modifications , sélectionnez Protéger la feuille, puis sélectionnez OK. Quand la feuille Facture est protégée, la seule cellule que vous pouvez sélectionner est la cellule qui contient la liste déroulante N° de facture.
B18: Comment créer une facture ?
B19: 1. | C19: Dans la feuille Clients entrez les informations relatives au client, par exemple le nom et l’adresse de la société. Notez que le numéro de la société est une entrée importante, car il fournit un identificateur unique pour chaque société dans l’outil de suivi des factures. Notez également que vous ne devez ajouter une société qu’une seule fois. Pour les factures ultérieures destinées à la même société, cette étape peut être ignorée.
C20: Remarque : si vous affectez le même numéro à plusieurs sociétés ou si vous entrez le même nom de société plusieurs fois, les entrées s’affichent en rouge pour vous signaler une duplication d’informations.
B21: 2. | C21: Dans la feuille Factures - Principal , entrez les informations principales de votre facture, par exemple le numéro de facture, la date de facturation et la description du projet. À l’image du numéro de société, le numéro de facture est une entrée importante, car il fournit un identificateur unique pour chaque facture dans l’outil de suivi des factures. Le nom de société est une autre entrée importante. Quand vous sélectionnez une société dans la liste déroulante, votre facture est associée à cette société. Quand vous sélectionnez ensuite un numéro de facture dans la feuille Facture, les informations relatives à cette société, telles que son nom et son adresse, sont indiquées automatiquement sur la facture.
C22: Remarque : si vous affectez le même numéro à plusieurs factures, les entrées s’affichent en rouge pour signaler la duplication d’informations.
B23: 3. | C23: Dans la feuille Détails de la facture , entrez les détails de votre facture, par exemple une description d’article, un numéro d’article, une quantité et un prix unitaire. La zone de liste déroulante N° de facture fournit une liste des factures que vous avez entrées dans la feuille Factures - Principal afin de faciliter la saisie des données. Comme pour le numéro de société à l’étape précédente, le numéro de facture associe l’élément de détail à une facture spécifique. Quand vous sélectionnez un numéro de facture dans la feuille Facture à partir de la liste déroulante N° de facture, les éléments de détail de la facture correspondante s’affichent.
C24: Remarque : vous êtes limité à 25 éléments de détail par facture. Si plus de 25 éléments sont ajoutés, toutes les entrées correspondantes s’affichent en rouge pour vous signaler le dépassement de cette limite. Si vous avez plus de 25 éléments de facture, vous devez créer une deuxième facture.
B25: Comment ajouter des clients, des factures et des détails de facture ?
B26: Les données des clients, des factures et des détails de facture sont stockées dans des tableaux Excel. Quand vous ajoutez une nouvelle ligne à un tableau, elle est mise en forme automatiquement et tous les calculs sont copiés. Pour ajouter de nouvelles lignes de tableau, procédez de l’une des façons suivantes :
B27: ● | C27: Si le tableau ne possède pas de ligne Total, commencez à taper sous le tableau. Ce dernier se développe automatiquement quand vous appuyez sur la touche Entrée ou Tab.
B28: ● | C28: Placez votre pointeur de cellule dans la dernière cellule au-dessus de la ligne Total, par exemple pour le tableau Factures, placez le pointeur dans la cellule Notes de la dernière facture, puis appuyez sur la touche Tab.
B29: ● | C29: Sous l’onglet Accueil , dans le groupe Cellules , sélectionnez Insérer , puis sélectionnez Lignes de tableau en haut ou Lignes de tableau en dessous.
B30: ● | C30: Dans l’angle inférieur droit du tableau, placez votre souris sur la poignée de redimensionnement du tableau, puis faites-la glisser vers le bas pour augmenter le nombre de lignes disponibles dans le tableau.
B31: Comment analyser les détails de ma facture ?
B32: Comme indiqué dans la section À propos de l’outil de suivi des factures , une fois que vous avez entré plusieurs factures, vous pouvez afficher une liste de toutes les factures relatives à un client, un projet, un intervalle de dates spécifique, etc. Ce type d’analyse s’effectue à l’aide d’un filtre qui vous permet d’affiner rapidement une liste de données. Pour accéder à un filtre sur les tables relatives aux clients, aux factures ou aux détails de facture, sélectionnez une flèche déroulante en regard du nom de champ d’une table. Un volet Filtre s’affiche en vous proposant diverses options de filtrage. Voici quelques exemples de filtrage pour vous aider à démarrer :
B33: ● | C33: Pour afficher le montant total que vous avez facturé à un client spécifique : dans la feuille Factures - Principal, à droite du champ N° de société, sélectionnez la flèche déroulante. Dans le volet Filtre, cliquez sur Sélectionner tout pour désélectionner toutes les sociétés, sélectionnez la société souhaitée, puis sélectionnez OK.
C34: Conseil : dans le volet Filtre , vous pouvez également taper le nom du client dans la zone de texte Rechercher afin d’effectuer une recherche rapide dans la liste disponible.
B35: ● | C35: Pour afficher toutes les factures d’un client spécifique et d’un ou de plusieurs projets spécifiques : commencez par filtrer le client souhaité à l’aide des étapes décrites dans l’exemple précédent. Sélectionnez ensuite la flèche déroulante à droite du numéro de projet. Dans le volet Filtre, sélectionnez le ou les projets souhaités, puis sélectionnez OK.
B36: ● | C36: Pour afficher toutes les factures du mois précédent : dans la feuille Factures - Principal, à droite du champ Date de la facture, sélectionnez la flèche déroulante, pointez sur Filtres chronologiques, puis sélectionnez Le mois dernier.
B37: ● | C37: Pour afficher tous les clients ayant le même indicatif régional : dans la feuille Clients, à droite du champ Téléphone, sélectionnez la flèche déroulante. Dans le volet Filtre, cliquez dans la zone de texte Rechercher, tapez l’indicatif régional, puis sélectionnez OK.
B38: Conseils pour le filtrage
B39: ● | C39: Si un tableau comporte une ligne de total, par exemple Clients et Factures, le total calculé reflète uniquement votre liste filtrée.
B40: ● | C40: Utilisez plusieurs filtres sur un champ unique ou sur plusieurs champs pour affiner vos résultats.
B41: ● | C41: Pour effacer un seul filtre, sélectionnez la flèche déroulante d’une colonne préalablement filtrée, puis sélectionnez Effacer le filtre <nom du champ>.
B42: ● | C42: Pour effacer plusieurs filtres en même temps, placez votre pointeur de cellule dans le tableau, sous l’onglet Accueil , dans le groupe Édition , sélectionnez Trier et filtrer, puis sélectionnez Effacer.

Sheet Facture
B1: nom de la société
B4: Adresse postale | D4: T : | E4: Numéro de téléphone | H4: E-mail
B5: Code postal, ville, département | D5: T : | E5: Numéro de télécopie | H5: Site web
B8: Facturer à : | C8: =IFERROR(VLOOKUP(VLOOKUP(rngFacture,'Factures – Principal'!$B$4:$L$18,2),Clients!$B$4:$K$10,3,FALSE),"") | F8: Téléphone : | G8: =IFERROR(VLOOKUP(VLOOKUP(rngFacture,'Factures – Principal'!$B$4:$L$18,2),Clients!$B$4:$K$10,9,FALSE),"") | I8: N° de facture : | J8: 3-456-14
B9: Adresse : | C9: =IFERROR(VLOOKUP(VLOOKUP(rngFacture,'Factures – Principal'!$B$4:$L$18,2),Clients!$B$4:$K$10,5,FALSE),"") | F9: Télécopie : | G9: =IFERROR(VLOOKUP(VLOOKUP(rngFacture,'Factures – Principal'!$B$4:$L$18,2),Clients!$B$4:$K$10,11,FALSE),"") | I9: Date de la facture : | J9: =IFERROR(VLOOKUP(rngFacture,'Factures – Principal'!$B$4:$L$18,3,FALSE),"") -> 3
C10: =IFERROR(VLOOKUP(VLOOKUP(rngFacture,'Factures – Principal'!$B$4:$L$18,2),Clients!$B$4:$K$10,6,FALSE)&" "& VLOOKUP(VLOOKUP(J8,'Factures – Principal'!$B$4:$L$18,2,FALSE),Clients!$B$4:$K$10,7,FALSE)&", "&VLOOKUP(VLOOKUP(J8,'Factures – Principal'!$B$4:$L$18,2,FALSE),Clients!$B$4:$K$10,8,FALSE),"") | F10: E-mail : | G10: =IFERROR(VLOOKUP(VLOOKUP(rngFacture,'Factures – Principal'!$B$4:$L$18,2),Clients!$B$4:$K$10,10,FALSE),"")
B12: ="Facture pour : "&IFERROR(VLOOKUP(rngFacture,'Factures – Principal'!$B$4:$L$18,4),"") -> Facture pour : 42804
B13: Description | C13: Date de Livraison | D13: Bordereau de Livraison | E13: Référence Client | F13: Enlevé à | G13: Livré à | H13: Quantité | I13: Prix unitaire | J13: Prix
B14: {=IFERROR(INDEX(Détailsfacture[],SMALL(IF(Détailsfacture[N° de facture]=rngFacture,ROW(Détailsfacture[])-ROW(Détailsfacture[#Headers])), ROW(1:1)), MATCH($B$13, Détailsfacture[#Headers], 0)),"")} -> MM | C14: {=IFERROR(INDEX(Détailsfacture[],SMALL(IF(Détailsfacture[N° de facture]=rngFacture,ROW(Détailsfacture[])-ROW(Détailsfacture[#Headers])), ROW(1:1)), MATCH($C$13, Détailsfacture[#Headers], 0)),"")} -> 43191 | D14: {=IFERROR(INDEX(Détailsfacture[],SMALL(IF(Détailsfacture[N° de facture]=rngFacture,ROW(Détailsfacture[])-ROW(Détailsfacture[#Headers])), ROW(1:1)), MATCH($D$13, Détailsfacture[#Headers], 0)),"")} -> 148 | E14: {=IFERROR(INDEX(Détailsfacture[],SMALL(IF(Détailsfacture[N° de facture]=rngFacture,ROW(Détailsfacture[])-ROW(Détailsfacture[#Headers])), ROW(1:1)), MATCH($E$13, Détailsfacture[#Headers], 0)),"")} -> 238 | F14: {=IFERROR(INDEX(Détailsfacture[],SMALL(IF(Détailsfacture[N° de facture]=rngFacture,ROW(Détailsfacture[])-ROW(Détailsfacture[#Headers])), ROW(1:1)), MATCH($F$13, Détailsfacture[#Headers], 0)),"")} -> Arras | G14: {=IFERROR(INDEX(Détailsfacture[],SMALL(IF(Détailsfacture[N° de facture]=rngFacture,ROW(Détailsfacture[])-ROW(Détailsfacture[#Headers])), ROW(1:1)), MATCH($G$13, Détailsfacture[#Headers], 0)),"")} -> Lille | H14: {=IFERROR(INDEX(Détailsfacture[],SMALL(IF(Détailsfacture[N° de facture]=rngFacture,ROW(Détailsfacture[])-ROW(Détailsfacture[#Headers])), ROW(1:1)), MATCH($H$13, Détailsfacture[#Headers], 0)),"")} -> 38 | I14: {=IFERROR(INDEX(Détailsfacture[],SMALL(IF(Détailsfacture[N° de facture]=rngFacture,ROW(Détailsfacture[])-ROW(Détailsfacture[#Headers])), ROW(1:1)), MATCH($I$13, Détailsfacture[#Headers], 0)),"")} -> 38 | J14: =IFERROR((H14*I14),"") -> 1444
B15: {=IFERROR(INDEX(Détailsfacture[],SMALL(IF(Détailsfacture[N° de facture]=rngFacture,ROW(Détailsfacture[])-ROW(Détailsfacture[#Headers])), ROW(2:2)), MATCH($B$13, Détailsfacture[#Headers], 0)),"")} | C15: {=IFERROR(INDEX(Détailsfacture[],SMALL(IF(Détailsfacture[N° de facture]=rngFacture,ROW(Détailsfacture[])-ROW(Détailsfacture[#Headers])), ROW(2:2)), MATCH($C$13, Détailsfacture[#Headers], 0)),"")} | D15: {=IFERROR(INDEX(Détailsfacture[],SMALL(IF(Détailsfacture[N° de facture]=rngFacture,ROW(Détailsfacture[])-ROW(Détailsfacture[#Headers])), ROW(2:2)), MATCH($D$13, Détailsfacture[#Headers], 0)),"")} | E15: {=IFERROR(INDEX(Détailsfacture[],SMALL(IF(Détailsfacture[N° de facture]=rngFacture,ROW(Détailsfacture[])-ROW(Détailsfacture[#Headers])), ROW(2:2)), MATCH($E$13, Détailsfacture[#Headers], 0)),"")} | F15: {=IFERROR(INDEX(Détailsfacture[],SMALL(IF(Détailsfacture[N° de facture]=rngFacture,ROW(Détailsfacture[])-ROW(Détailsfacture[#Headers])), ROW(2:2)), MATCH($F$13, Détailsfacture[#Headers], 0)),"")} | G15: {=IFERROR(INDEX(Détailsfacture[],SMALL(IF(Détailsfacture[N° de facture]=rngFacture,ROW(Détailsfacture[])-ROW(Détailsfacture[#Headers])), ROW(2:2)), MATCH($G$13, Détailsfacture[#Headers], 0)),"")} | H15: {=IFERROR(INDEX(Détailsfacture[],SMALL(IF(Détailsfacture[N° de facture]=rngFacture,ROW(Détailsfacture[])-ROW(Détailsfacture[#Headers])), ROW(2:2)), MATCH($H$13, Détailsfacture[#Headers], 0)),"")} | I15: {=IFERROR(INDEX(Détailsfacture[],SMALL(IF(Détailsfacture[N° de facture]=rngFacture,ROW(Détailsfacture[])-ROW(Détailsfacture[#Headers])), ROW(2:2)), MATCH($I$13, Détailsfacture[#Headers], 0)),"")} | J15: =IFERROR((H15*I15),"")
B16: {=IFERROR(INDEX(Détailsfacture[],SMALL(IF(Détailsfacture[N° de facture]=rngFacture,ROW(Détailsfacture[])-ROW(Détailsfacture[#Headers])), ROW(3:3)), MATCH($B$13, Détailsfacture[#Headers], 0)),"")} | C16: {=IFERROR(INDEX(Détailsfacture[],SMALL(IF(Détailsfacture[N° de facture]=rngFacture,ROW(Détailsfacture[])-ROW(Détailsfacture[#Headers])), ROW(3:3)), MATCH($C$13, Détailsfacture[#Headers], 0)),"")} | D16: {=IFERROR(INDEX(Détailsfacture[],SMALL(IF(Détailsfacture[N° de facture]=rngFacture,ROW(Détailsfacture[])-ROW(Détailsfacture[#Headers])), ROW(3:3)), MATCH($D$13, Détailsfacture[#Headers], 0)),"")} | E16: {=IFERROR(INDEX(Détailsfacture[],SMALL(IF(Détailsfacture[N° de facture]=rngFacture,ROW(Détailsfacture[])-ROW(Détailsfacture[#Headers])), ROW(3:3)), MATCH($E$13, Détailsfacture[#Headers], 0)),"")} | F16: {=IFERROR(INDEX(Détailsfacture[],SMALL(IF(Détailsfacture[N° de facture]=rngFacture,ROW(Détailsfacture[])-ROW(Détailsfacture[#Headers])), ROW(3:3)), MATCH($F$13, Détailsfacture[#Headers], 0)),"")} | G16: {=IFERROR(INDEX(Détailsfacture[],SMALL(IF(Détailsfacture[N° de facture]=rngFacture,ROW(Détailsfacture[])-ROW(Détailsfacture[#Headers])), ROW(3:3)), MATCH($G$13, Détailsfacture[#Headers], 0)),"")} | H16: {=IFERROR(INDEX(Détailsfacture[],SMALL(IF(Détailsfacture[N° de facture]=rngFacture,ROW(Détailsfacture[])-ROW(Détailsfacture[#Headers])), ROW(3:3)), MATCH($H$13, Détailsfacture[#Headers], 0)),"")} | I16: {=IFERROR(INDEX(Détailsfacture[],SMALL(IF(Détailsfacture[N° de facture]=rngFacture,ROW(Détailsfacture[])-ROW(Détailsfacture[#Headers])), ROW(3:3)), MATCH($I$13, Détailsfacture[#Headers], 0)),"")} | J16: =IFERROR((H16*I16),"")
B17: {=IFERROR(INDEX(Détailsfacture[],SMALL(IF(Détailsfacture[N° de facture]=rngFacture,ROW(Détailsfacture[])-ROW(Détailsfacture[#Headers])), ROW(4:4)), MATCH($B$13, Détailsfacture[#Headers], 0)),"")} | C17: {=IFERROR(INDEX(Détailsfacture[],SMALL(IF(Détailsfacture[N° de facture]=rngFacture,ROW(Détailsfacture[])-ROW(Détailsfacture[#Headers])), ROW(4:4)), MATCH($C$13, Détailsfacture[#Headers], 0)),"")} | D17: {=IFERROR(INDEX(Détailsfacture[],SMALL(IF(Détailsfacture[N° de facture]=rngFacture,ROW(Détailsfacture[])-ROW(Détailsfacture[#Headers])), ROW(4:4)), MATCH($D$13, Détailsfacture[#Headers], 0)),"")} | E17: {=IFERROR(INDEX(Détailsfacture[],SMALL(IF(Détailsfacture[N° de facture]=rngFacture,ROW(Détailsfacture[])-ROW(Détailsfacture[#Headers])), ROW(4:4)), MATCH($E$13, Détailsfacture[#Headers], 0)),"")} | F17: {=IFERROR(INDEX(Détailsfacture[],SMALL(IF(Détailsfacture[N° de facture]=rngFacture,ROW(Détailsfacture[])-ROW(Détailsfacture[#Headers])), ROW(4:4)), MATCH($F$13, Détailsfacture[#Headers], 0)),"")} | G17: {=IFERROR(INDEX(Détailsfacture[],SMALL(IF(Détailsfacture[N° de facture]=rngFacture,ROW(Détailsfacture[])-ROW(Détailsfacture[#Headers])), ROW(4:4)), MATCH($G$13, Détailsfacture[#Headers], 0)),"")} | H17: {=IFERROR(INDEX(Détailsfacture[],SMALL(IF(Détailsfacture[N° de facture]=rngFacture,ROW(Détailsfacture[])-ROW(Détailsfacture[#Headers])), ROW(4:4)), MATCH($H$13, Détailsfacture[#Headers], 0)),"")} | I17: {=IFERROR(INDEX(Détailsfacture[],SMALL(IF(Détailsfacture[N° de facture]=rngFacture,ROW(Détailsfacture[])-ROW(Détailsfacture[#Headers])), ROW(4:4)), MATCH($I$13, Détailsfacture[#Headers], 0)),"")} | J17: =IFERROR((H17*I17),"")
B18: {=IFERROR(INDEX(Détailsfacture[],SMALL(IF(Détailsfacture[N° de facture]=rngFacture,ROW(Détailsfacture[])-ROW(Détailsfacture[#Headers])), ROW(5:5)), MATCH($B$13, Détailsfacture[#Headers], 0)),"")} | C18: {=IFERROR(INDEX(Détailsfacture[],SMALL(IF(Détailsfacture[N° de facture]=rngFacture,ROW(Détailsfacture[])-ROW(Détailsfacture[#Headers])), ROW(5:5)), MATCH($C$13, Détailsfacture[#Headers], 0)),"")} | D18: {=IFERROR(INDEX(Détailsfacture[],SMALL(IF(Détailsfacture[N° de facture]=rngFacture,ROW(Détailsfacture[])-ROW(Détailsfacture[#Headers])), ROW(5:5)), MATCH($D$13, Détailsfacture[#Headers], 0)),"")} | E18: {=IFERROR(INDEX(Détailsfacture[],SMALL(IF(Détailsfacture[N° de facture]=rngFacture,ROW(Détailsfacture[])-ROW(Détailsfacture[#Headers])), ROW(5:5)), MATCH($E$13, Détailsfacture[#Headers], 0)),"")} | F18: {=IFERROR(INDEX(Détailsfacture[],SMALL(IF(Détailsfacture[N° de facture]=rngFacture,ROW(Détailsfacture[])-ROW(Détailsfacture[#Headers])), ROW(5:5)), MATCH($F$13, Détailsfacture[#Headers], 0)),"")} | G18: {=IFERROR(INDEX(Détailsfacture[],SMALL(IF(Détailsfacture[N° de facture]=rngFacture,ROW(Détailsfacture[])-ROW(Détailsfacture[#Headers])), ROW(5:5)), MATCH($G$13, Détailsfacture[#Headers], 0)),"")} | H18: {=IFERROR(INDEX(Détailsfacture[],SMALL(IF(Détailsfacture[N° de facture]=rngFacture,ROW(Détailsfacture[])-ROW(Détailsfacture[#Headers])), ROW(5:5)), MATCH($H$13, Détailsfacture[#Headers], 0)),"")} | I18: {=IFERROR(INDEX(Détailsfacture[],SMALL(IF(Détailsfacture[N° de facture]=rngFacture,ROW(Détailsfacture[])-ROW(Détailsfacture[#Headers])), ROW(5:5)), MATCH($I$13, Détailsfacture[#Headers], 0)),"")} | J18: =IFERROR((H18*I18),"")
B19: {=IFERROR(INDEX(Détailsfacture[],SMALL(IF(Détailsfacture[N° de facture]=rngFacture,ROW(Détailsfacture[])-ROW(Détailsfacture[#Headers])), ROW(6:6)), MATCH($B$13, Détailsfacture[#Headers], 0)),"")} | C19: {=IFERROR(INDEX(Détailsfacture[],SMALL(IF(Détailsfacture[N° de facture]=rngFacture,ROW(Détailsfacture[])-ROW(Détailsfacture[#Headers])), ROW(6:6)), MATCH($C$13, Détailsfacture[#Headers], 0)),"")} | D19: {=IFERROR(INDEX(Détailsfacture[],SMALL(IF(Détailsfacture[N° de facture]=rngFacture,ROW(Détailsfacture[])-ROW(Détailsfacture[#Headers])), ROW(6:6)), MATCH($D$13, Détailsfacture[#Headers], 0)),"")} | E19: {=IFERROR(INDEX(Détailsfacture[],SMALL(IF(Détailsfacture[N° de facture]=rngFacture,ROW(Détailsfacture[])-ROW(Détailsfacture[#Headers])), ROW(6:6)), MATCH($E$13, Détailsfacture[#Headers], 0)),"")} | F19: {=IFERROR(INDEX(Détailsfacture[],SMALL(IF(Détailsfacture[N° de facture]=rngFacture,ROW(Détailsfacture[])-ROW(Détailsfacture[#Headers])), ROW(6:6)), MATCH($F$13, Détailsfacture[#Headers], 0)),"")} | G19: {=IFERROR(INDEX(Détailsfacture[],SMALL(IF(Détailsfacture[N° de facture]=rngFacture,ROW(Détailsfacture[])-ROW(Détailsfacture[#Headers])), ROW(6:6)), MATCH($G$13, Détailsfacture[#Headers], 0)),"")} | H19: {=IFERROR(INDEX(Détailsfacture[],SMALL(IF(Détailsfacture[N° de facture]=rngFacture,ROW(Détailsfacture[])-ROW(Détailsfacture[#Headers])), ROW(6:6)), MATCH($H$13, Détailsfacture[#Headers], 0)),"")} | I19: {=IFERROR(INDEX(Détailsfacture[],SMALL(IF(Détailsfacture[N° de facture]=rngFacture,ROW(Détailsfacture[])-ROW(Détailsfacture[#Headers])), ROW(6:6)), MATCH($I$13, Détailsfacture[#Headers], 0)),"")} | J19: =IFERROR((H19*I19),"")
B20: {=IFERROR(INDEX(Détailsfacture[],SMALL(IF(Détailsfacture[N° de facture]=rngFacture,ROW(Détailsfacture[])-ROW(Détailsfacture[#Headers])), ROW(7:7)), MATCH($B$13, Détailsfacture[#Headers], 0)),"")} | C20: {=IFERROR(INDEX(Détailsfacture[],SMALL(IF(Détailsfacture[N° de facture]=rngFacture,ROW(Détailsfacture[])-ROW(Détailsfacture[#Headers])), ROW(7:7)), MATCH($C$13, Détailsfacture[#Headers], 0)),"")} | D20: {=IFERROR(INDEX(Détailsfacture[],SMALL(IF(Détailsfacture[N° de facture]=rngFacture,ROW(Détailsfacture[])-ROW(Détailsfacture[#Headers])), ROW(7:7)), MATCH($D$13, Détailsfacture[#Headers], 0)),"")} | E20: {=IFERROR(INDEX(Détailsfacture[],SMALL(IF(Détailsfacture[N° de facture]=rngFacture,ROW(Détailsfacture[])-ROW(Détailsfacture[#Headers])), ROW(7:7)), MATCH($E$13, Détailsfacture[#Headers], 0)),"")} | F20: {=IFERROR(INDEX(Détailsfacture[],SMALL(IF(Détailsfacture[N° de facture]=rngFacture,ROW(Détailsfacture[])-ROW(Détailsfacture[#Headers])), ROW(7:7)), MATCH($F$13, Détailsfacture[#Headers], 0)),"")} | G20: {=IFERROR(INDEX(Détailsfacture[],SMALL(IF(Détailsfacture[N° de facture]=rngFacture,ROW(Détailsfacture[])-ROW(Détailsfacture[#Headers])), ROW(7:7)), MATCH($G$13, Détailsfacture[#Headers], 0)),"")} | H20: {=IFERROR(INDEX(Détailsfacture[],SMALL(IF(Détailsfacture[N° de facture]=rngFacture,ROW(Détailsfacture[])-ROW(Détailsfacture[#Headers])), ROW(7:7)), MATCH($H$13, Détailsfacture[#Headers], 0)),"")} | I20: {=IFERROR(INDEX(Détailsfacture[],SMALL(IF(Détailsfacture[N° de facture]=rngFacture,ROW(Détailsfacture[])-ROW(Détailsfacture[#Headers])), ROW(7:7)), MATCH($I$13, Détailsfacture[#Headers], 0)),"")} | J20: =IFERROR((H20*I20),"")
B21: {=IFERROR(INDEX(Détailsfacture[],SMALL(IF(Détailsfacture[N° de facture]=rngFacture,ROW(Détailsfacture[])-ROW(Détailsfacture[#Headers])), ROW(8:8)), MATCH($B$13, Détailsfacture[#Headers], 0)),"")} | C21: {=IFERROR(INDEX(Détailsfacture[],SMALL(IF(Détailsfacture[N° de facture]=rngFacture,ROW(Détailsfacture[])-ROW(Détailsfacture[#Headers])), ROW(8:8)), MATCH($C$13, Détailsfacture[#Headers], 0)),"")} | D21: {=IFERROR(INDEX(Détailsfacture[],SMALL(IF(Détailsfacture[N° de facture]=rngFacture,ROW(Détailsfacture[])-ROW(Détailsfacture[#Headers])), ROW(8:8)), MATCH($D$13, Détailsfacture[#Headers], 0)),"")} | E21: {=IFERROR(INDEX(Détailsfacture[],SMALL(IF(Détailsfacture[N° de facture]=rngFacture,ROW(Détailsfacture[])-ROW(Détailsfacture[#Headers])), ROW(8:8)), MATCH($E$13, Détailsfacture[#Headers], 0)),"")} | F21: {=IFERROR(INDEX(Détailsfacture[],SMALL(IF(Détailsfacture[N° de facture]=rngFacture,ROW(Détailsfacture[])-ROW(Détailsfacture[#Headers])), ROW(8:8)), MATCH($F$13, Détailsfacture[#Headers], 0)),"")} | G21: {=IFERROR(INDEX(Détailsfacture[],SMALL(IF(Détailsfacture[N° de facture]=rngFacture,ROW(Détailsfacture[])-ROW(Détailsfacture[#Headers])), ROW(8:8)), MATCH($G$13, Détailsfacture[#Headers], 0)),"")} | H21: {=IFERROR(INDEX(Détailsfacture[],SMALL(IF(Détailsfacture[N° de facture]=rngFacture,ROW(Détailsfacture[])-ROW(Détailsfacture[#Headers])), ROW(8:8)), MATCH($H$13, Détailsfacture[#Headers], 0)),"")} | I21: {=IFERROR(INDEX(Détailsfacture[],SMALL(IF(Détailsfacture[N° de facture]=rngFacture,ROW(Détailsfacture[])-ROW(Détailsfacture[#Headers])), ROW(8:8)), MATCH($I$13, Détailsfacture[#Headers], 0)),"")} | J21: =IFERROR((H21*I21),"")
B22: {=IFERROR(INDEX(Détailsfacture[],SMALL(IF(Détailsfacture[N° de facture]=rngFacture,ROW(Détailsfacture[])-ROW(Détailsfacture[#Headers])), ROW(9:9)), MATCH($B$13, Détailsfacture[#Headers], 0)),"")} | C22: {=IFERROR(INDEX(Détailsfacture[],SMALL(IF(Détailsfacture[N° de facture]=rngFacture,ROW(Détailsfacture[])-ROW(Détailsfacture[#Headers])), ROW(9:9)), MATCH($C$13, Détailsfacture[#Headers], 0)),"")} | D22: {=IFERROR(INDEX(Détailsfacture[],SMALL(IF(Détailsfacture[N° de facture]=rngFacture,ROW(Détailsfacture[])-ROW(Détailsfacture[#Headers])), ROW(9:9)), MATCH($D$13, Détailsfacture[#Headers], 0)),"")} | E22: {=IFERROR(INDEX(Détailsfacture[],SMALL(IF(Détailsfacture[N° de facture]=rngFacture,ROW(Détailsfacture[])-ROW(Détailsfacture[#Headers])), ROW(9:9)), MATCH($E$13, Détailsfacture[#Headers], 0)),"")} | F22: {=IFERROR(INDEX(Détailsfacture[],SMALL(IF(Détailsfacture[N° de facture]=rngFacture,ROW(Détailsfacture[])-ROW(Détailsfacture[#Headers])), ROW(9:9)), MATCH($F$13, Détailsfacture[#Headers], 0)),"")} | G22: {=IFERROR(INDEX(Détailsfacture[],SMALL(IF(Détailsfacture[N° de facture]=rngFacture,ROW(Détailsfacture[])-ROW(Détailsfacture[#Headers])), ROW(9:9)), MATCH($G$13, Détailsfacture[#Headers], 0)),"")} | H22: {=IFERROR(INDEX(Détailsfacture[],SMALL(IF(Détailsfacture[N° de facture]=rngFacture,ROW(Détailsfacture[])-ROW(Détailsfacture[#Headers])), ROW(9:9)), MATCH($H$13, Détailsfacture[#Headers], 0)),"")} | I22: {=IFERROR(INDEX(Détailsfacture[],SMALL(IF(Détailsfacture[N° de facture]=rngFacture,ROW(Détailsfacture[])-ROW(Détailsfacture[#Headers])), ROW(9:9)), MATCH($I$13, Détailsfacture[#Headers], 0)),"")} | J22: =IFERROR((H22*I22),"")
B23: {=IFERROR(INDEX(Détailsfacture[],SMALL(IF(Détailsfacture[N° de facture]=rngFacture,ROW(Détailsfacture[])-ROW(Détailsfacture[#Headers])), ROW(10:10)), MATCH($B$13, Détailsfacture[#Headers], 0)),"")} | C23: {=IFERROR(INDEX(Détailsfacture[],SMALL(IF(Détailsfacture[N° de facture]=rngFacture,ROW(Détailsfacture[])-ROW(Détailsfacture[#Headers])), ROW(10:10)), MATCH($C$13, Détailsfacture[#Headers], 0)),"")} | D23: {=IFERROR(INDEX(Détailsfacture[],SMALL(IF(Détailsfacture[N° de facture]=rngFacture,ROW(Détailsfacture[])-ROW(Détailsfacture[#Headers])), ROW(10:10)), MATCH($D$13, Détailsfacture[#Headers], 0)),"")} | E23: {=IFERROR(INDEX(Détailsfacture[],SMALL(IF(Détailsfacture[N° de facture]=rngFacture,ROW(Détailsfacture[])-ROW(Détailsfacture[#Headers])), ROW(10:10)), MATCH($E$13, Détailsfacture[#Headers], 0)),"")} | F23: {=IFERROR(INDEX(Détailsfacture[],SMALL(IF(Détailsfacture[N° de facture]=rngFacture,ROW(Détailsfacture[])-ROW(Détailsfacture[#Headers])), ROW(10:10)), MATCH($F$13, Détailsfacture[#Headers], 0)),"")} | G23: {=IFERROR(INDEX(Détailsfacture[],SMALL(IF(Détailsfacture[N° de facture]=rngFacture,ROW(Détailsfacture[])-ROW(Détailsfacture[#Headers])), ROW(10:10)), MATCH($G$13, Détailsfacture[#Headers], 0)),"")} | H23: {=IFERROR(INDEX(Détailsfacture[],SMALL(IF(Détailsfacture[N° de facture]=rngFacture,ROW(Détailsfacture[])-ROW(Détailsfacture[#Headers])), ROW(10:10)), MATCH($H$13, Détailsfacture[#Headers], 0)),"")} | I23: {=IFERROR(INDEX(Détailsfacture[],SMALL(IF(Détailsfacture[N° de facture]=rngFacture,ROW(Détailsfacture[])-ROW(Détailsfacture[#Headers])), ROW(10:10)), MATCH($I$13, Détailsfacture[#Headers], 0)),"")} | J23: =IFERROR((H23*I23),"")
B24: {=IFERROR(INDEX(Détailsfacture[],SMALL(IF(Détailsfacture[N° de facture]=rngFacture,ROW(Détailsfacture[])-ROW(Détailsfacture[#Headers])), ROW(11:11)), MATCH($B$13, Détailsfacture[#Headers], 0)),"")} | C24: {=IFERROR(INDEX(Détailsfacture[],SMALL(IF(Détailsfacture[N° de facture]=rngFacture,ROW(Détailsfacture[])-ROW(Détailsfacture[#Headers])), ROW(11:11)), MATCH($C$13, Détailsfacture[#Headers], 0)),"")} | D24: {=IFERROR(INDEX(Détailsfacture[],SMALL(IF(Détailsfacture[N° de facture]=rngFacture,ROW(Détailsfacture[])-ROW(Détailsfacture[#Headers])), ROW(11:11)), MATCH($D$13, Détailsfacture[#Headers], 0)),"")} | E24: {=IFERROR(INDEX(Détailsfacture[],SMALL(IF(Détailsfacture[N° de facture]=rngFacture,ROW(Détailsfacture[])-ROW(Détailsfacture[#Headers])), ROW(11:11)), MATCH($E$13, Détailsfacture[#Headers], 0)),"")} | F24: {=IFERROR(INDEX(Détailsfacture[],SMALL(IF(Détailsfacture[N° de facture]=rngFacture,ROW(Détailsfacture[])-ROW(Détailsfacture[#Headers])), ROW(11:11)), MATCH($F$13, Détailsfacture[#Headers], 0)),"")} | G24: {=IFERROR(INDEX(Détailsfacture[],SMALL(IF(Détailsfacture[N° de facture]=rngFacture,ROW(Détailsfacture[])-ROW(Détailsfacture[#Headers])), ROW(11:11)), MATCH($G$13, Détailsfacture[#Headers], 0)),"")} | H24: {=IFERROR(INDEX(Détailsfacture[],SMALL(IF(Détailsfacture[N° de facture]=rngFacture,ROW(Détailsfacture[])-ROW(Détailsfacture[#Headers])), ROW(11:11)), MATCH($H$13, Détailsfacture[#Headers], 0)),"")} | I24: {=IFERROR(INDEX(Détailsfacture[],SMALL(IF(Détailsfacture[N° de facture]=rngFacture,ROW(Détailsfacture[])-ROW(Détailsfacture[#Headers])), ROW(11:11)), MATCH($I$13, Détailsfacture[#Headers], 0)),"")} | J24: =IFERROR((H24*I24),"")
B25: {=IFERROR(INDEX(Détailsfacture[],SMALL(IF(Détailsfacture[N° de facture]=rngFacture,ROW(Détailsfacture[])-ROW(Détailsfacture[#Headers])), ROW(12:12)), MATCH($B$13, Détailsfacture[#Headers], 0)),"")} | C25: {=IFERROR(INDEX(Détailsfacture[],SMALL(IF(Détailsfacture[N° de facture]=rngFacture,ROW(Détailsfacture[])-ROW(Détailsfacture[#Headers])), ROW(12:12)), MATCH($C$13, Détailsfacture[#Headers], 0)),"")} | D25: {=IFERROR(INDEX(Détailsfacture[],SMALL(IF(Détailsfacture[N° de facture]=rngFacture,ROW(Détailsfacture[])-ROW(Détailsfacture[#Headers])), ROW(12:12)), MATCH($D$13, Détailsfacture[#Headers], 0)),"")} | E25: {=IFERROR(INDEX(Détailsfacture[],SMALL(IF(Détailsfacture[N° de facture]=rngFacture,ROW(Détailsfacture[])-ROW(Détailsfacture[#Headers])), ROW(12:12)), MATCH($E$13, Détailsfacture[#Headers], 0)),"")} | F25: {=IFERROR(INDEX(Détailsfacture[],SMALL(IF(Détailsfacture[N° de facture]=rngFacture,ROW(Détailsfacture[])-ROW(Détailsfacture[#Headers])), ROW(12:12)), MATCH($F$13, Détailsfacture[#Headers], 0)),"")} | G25: {=IFERROR(INDEX(Détailsfacture[],SMALL(IF(Détailsfacture[N° de facture]=rngFacture,ROW(Détailsfacture[])-ROW(Détailsfacture[#Headers])), ROW(12:12)), MATCH($G$13, Détailsfacture[#Headers], 0)),"")} | H25: {=IFERROR(INDEX(Détailsfacture[],SMALL(IF(Détailsfacture[N° de facture]=rngFacture,ROW(Détailsfacture[])-ROW(Détailsfacture[#Headers])), ROW(12:12)), MATCH($H$13, Détailsfacture[#Headers], 0)),"")} | I25: {=IFERROR(INDEX(Détailsfacture[],SMALL(IF(Détailsfacture[N° de facture]=rngFacture,ROW(Détailsfacture[])-ROW(Détailsfacture[#Headers])), ROW(12:12)), MATCH($I$13, Détailsfacture[#Headers], 0)),"")} | J25: =IFERROR((H25*I25),"")
B26: {=IFERROR(INDEX(Détailsfacture[],SMALL(IF(Détailsfacture[N° de facture]=rngFacture,ROW(Détailsfacture[])-ROW(Détailsfacture[#Headers])), ROW(13:13)), MATCH($B$13, Détailsfacture[#Headers], 0)),"")} | C26: {=IFERROR(INDEX(Détailsfacture[],SMALL(IF(Détailsfacture[N° de facture]=rngFacture,ROW(Détailsfacture[])-ROW(Détailsfacture[#Headers])), ROW(13:13)), MATCH($C$13, Détailsfacture[#Headers], 0)),"")} | D26: {=IFERROR(INDEX(Détailsfacture[],SMALL(IF(Détailsfacture[N° de facture]=rngFacture,ROW(Détailsfacture[])-ROW(Détailsfacture[#Headers])), ROW(13:13)), MATCH($D$13, Détailsfacture[#Headers], 0)),"")} | E26: {=IFERROR(INDEX(Détailsfacture[],SMALL(IF(Détailsfacture[N° de facture]=rngFacture,ROW(Détailsfacture[])-ROW(Détailsfacture[#Headers])), ROW(13:13)), MATCH($E$13, Détailsfacture[#Headers], 0)),"")} | F26: {=IFERROR(INDEX(Détailsfacture[],SMALL(IF(Détailsfacture[N° de facture]=rngFacture,ROW(Détailsfacture[])-ROW(Détailsfacture[#Headers])), ROW(13:13)), MATCH($F$13, Détailsfacture[#Headers], 0)),"")} | G26: {=IFERROR(INDEX(Détailsfacture[],SMALL(IF(Détailsfacture[N° de facture]=rngFacture,ROW(Détailsfacture[])-ROW(Détailsfacture[#Headers])), ROW(13:13)), MATCH($G$13, Détailsfacture[#Headers], 0)),"")} | H26: {=IFERROR(INDEX(Détailsfacture[],SMALL(IF(Détailsfacture[N° de facture]=rngFacture,ROW(Détailsfacture[])-ROW(Détailsfacture[#Headers])), ROW(13:13)), MATCH($H$13, Détailsfacture[#Headers], 0)),"")} | I26: {=IFERROR(INDEX(Détailsfacture[],SMALL(IF(Détailsfacture[N° de facture]=rngFacture,ROW(Détailsfacture[])-ROW(Détailsfacture[#Headers])), ROW(13:13)), MATCH($I$13, Détailsfacture[#Headers], 0)),"")} | J26: =IFERROR((H26*I26),"")
B27: {=IFERROR(INDEX(Détailsfacture[],SMALL(IF(Détailsfacture[N° de facture]=rngFacture,ROW(Détailsfacture[])-ROW(Détailsfacture[#Headers])), ROW(14:14)), MATCH($B$13, Détailsfacture[#Headers], 0)),"")} | C27: {=IFERROR(INDEX(Détailsfacture[],SMALL(IF(Détailsfacture[N° de facture]=rngFacture,ROW(Détailsfacture[])-ROW(Détailsfacture[#Headers])), ROW(14:14)), MATCH($C$13, Détailsfacture[#Headers], 0)),"")} | D27: {=IFERROR(INDEX(Détailsfacture[],SMALL(IF(Détailsfacture[N° de facture]=rngFacture,ROW(Détailsfacture[])-ROW(Détailsfacture[#Headers])), ROW(14:14)), MATCH($D$13, Détailsfacture[#Headers], 0)),"")} | E27: {=IFERROR(INDEX(Détailsfacture[],SMALL(IF(Détailsfacture[N° de facture]=rngFacture,ROW(Détailsfacture[])-ROW(Détailsfacture[#Headers])), ROW(14:14)), MATCH($E$13, Détailsfacture[#Headers], 0)),"")} | F27: {=IFERROR(INDEX(Détailsfacture[],SMALL(IF(Détailsfacture[N° de facture]=rngFacture,ROW(Détailsfacture[])-ROW(Détailsfacture[#Headers])), ROW(14:14)), MATCH($F$13, Détailsfacture[#Headers], 0)),"")} | G27: {=IFERROR(INDEX(Détailsfacture[],SMALL(IF(Détailsfacture[N° de facture]=rngFacture,ROW(Détailsfacture[])-ROW(Détailsfacture[#Headers])), ROW(14:14)), MATCH($G$13, Détailsfacture[#Headers], 0)),"")} | H27: {=IFERROR(INDEX(Détailsfacture[],SMALL(IF(Détailsfacture[N° de facture]=rngFacture,ROW(Détailsfacture[])-ROW(Détailsfacture[#Headers])), ROW(14:14)), MATCH($H$13, Détailsfacture[#Headers], 0)),"")} | I27: {=IFERROR(INDEX(Détailsfacture[],SMALL(IF(Détailsfacture[N° de facture]=rngFacture,ROW(Détailsfacture[])-ROW(Détailsfacture[#Headers])), ROW(14:14)), MATCH($I$13, Détailsfacture[#Headers], 0)),"")} | J27: =IFERROR((H27*I27),"")
B28: {=IFERROR(INDEX(Détailsfacture[],SMALL(IF(Détailsfacture[N° de facture]=rngFacture,ROW(Détailsfacture[])-ROW(Détailsfacture[#Headers])), ROW(15:15)), MATCH($B$13, Détailsfacture[#Headers], 0)),"")} | C28: {=IFERROR(INDEX(Détailsfacture[],SMALL(IF(Détailsfacture[N° de facture]=rngFacture,ROW(Détailsfacture[])-ROW(Détailsfacture[#Headers])), ROW(15:15)), MATCH($C$13, Détailsfacture[#Headers], 0)),"")} | D28: {=IFERROR(INDEX(Détailsfacture[],SMALL(IF(Détailsfacture[N° de facture]=rngFacture,ROW(Détailsfacture[])-ROW(Détailsfacture[#Headers])), ROW(15:15)), MATCH($D$13, Détailsfacture[#Headers], 0)),"")} | E28: {=IFERROR(INDEX(Détailsfacture[],SMALL(IF(Détailsfacture[N° de facture]=rngFacture,ROW(Détailsfacture[])-ROW(Détailsfacture[#Headers])), ROW(15:15)), MATCH($E$13, Détailsfacture[#Headers], 0)),"")} | F28: {=IFERROR(INDEX(Détailsfacture[],SMALL(IF(Détailsfacture[N° de facture]=rngFacture,ROW(Détailsfacture[])-ROW(Détailsfacture[#Headers])), ROW(15:15)), MATCH($F$13, Détailsfacture[#Headers], 0)),"")} | G28: {=IFERROR(INDEX(Détailsfacture[],SMALL(IF(Détailsfacture[N° de facture]=rngFacture,ROW(Détailsfacture[])-ROW(Détailsfacture[#Headers])), ROW(15:15)), MATCH($G$13, Détailsfacture[#Headers], 0)),"")} | H28: {=IFERROR(INDEX(Détailsfacture[],SMALL(IF(Détailsfacture[N° de facture]=rngFacture,ROW(Détailsfacture[])-ROW(Détailsfacture[#Headers])), ROW(15:15)), MATCH($H$13, Détailsfacture[#Headers], 0)),"")} | I28: {=IFERROR(INDEX(Détailsfacture[],SMALL(IF(Détailsfacture[N° de facture]=rngFacture,ROW(Détailsfacture[])-ROW(Détailsfacture[#Headers])), ROW(15:15)), MATCH($I$13, Détailsfacture[#Headers], 0)),"")} | J28: =IFERROR((H28*I28),"")
B29: {=IFERROR(INDEX(Détailsfacture[],SMALL(IF(Détailsfacture[N° de facture]=rngFacture,ROW(Détailsfacture[])-ROW(Détailsfacture[#Headers])), ROW(16:16)), MATCH($B$13, Détailsfacture[#Headers], 0)),"")} | C29: {=IFERROR(INDEX(Détailsfacture[],SMALL(IF(Détailsfacture[N° de facture]=rngFacture,ROW(Détailsfacture[])-ROW(Détailsfacture[#Headers])), ROW(16:16)), MATCH($C$13, Détailsfacture[#Headers], 0)),"")} | D29: {=IFERROR(INDEX(Détailsfacture[],SMALL(IF(Détailsfacture[N° de facture]=rngFacture,ROW(Détailsfacture[])-ROW(Détailsfacture[#Headers])), ROW(16:16)), MATCH($D$13, Détailsfacture[#Headers], 0)),"")} | E29: {=IFERROR(INDEX(Détailsfacture[],SMALL(IF(Détailsfacture[N° de facture]=rngFacture,ROW(Détailsfacture[])-ROW(Détailsfacture[#Headers])), ROW(16:16)), MATCH($E$13, Détailsfacture[#Headers], 0)),"")} | F29: {=IFERROR(INDEX(Détailsfacture[],SMALL(IF(Détailsfacture[N° de facture]=rngFacture,ROW(Détailsfacture[])-ROW(Détailsfacture[#Headers])), ROW(16:16)), MATCH($F$13, Détailsfacture[#Headers], 0)),"")} | G29: {=IFERROR(INDEX(Détailsfacture[],SMALL(IF(Détailsfacture[N° de facture]=rngFacture,ROW(Détailsfacture[])-ROW(Détailsfacture[#Headers])), ROW(16:16)), MATCH($G$13, Détailsfacture[#Headers], 0)),"")} | H29: {=IFERROR(INDEX(Détailsfacture[],SMALL(IF(Détailsfacture[N° de facture]=rngFacture,ROW(Détailsfacture[])-ROW(Détailsfacture[#Headers])), ROW(16:16)), MATCH($H$13, Détailsfacture[#Headers], 0)),"")} | I29: {=IFERROR(INDEX(Détailsfacture[],SMALL(IF(Détailsfacture[N° de facture]=rngFacture,ROW(Détailsfacture[])-ROW(Détailsfacture[#Headers])), ROW(16:16)), MATCH($I$13, Détailsfacture[#Headers], 0)),"")} | J29: =IFERROR((H29*I29),"")
B30: {=IFERROR(INDEX(Détailsfacture[],SMALL(IF(Détailsfacture[N° de facture]=rngFacture,ROW(Détailsfacture[])-ROW(Détailsfacture[#Headers])), ROW(17:17)), MATCH($B$13, Détailsfacture[#Headers], 0)),"")} | C30: {=IFERROR(INDEX(Détailsfacture[],SMALL(IF(Détailsfacture[N° de facture]=rngFacture,ROW(Détailsfacture[])-ROW(Détailsfacture[#Headers])), ROW(17:17)), MATCH($C$13, Détailsfacture[#Headers], 0)),"")} | D30: {=IFERROR(INDEX(Détailsfacture[],SMALL(IF(Détailsfacture[N° de facture]=rngFacture,ROW(Détailsfacture[])-ROW(Détailsfacture[#Headers])), ROW(17:17)), MATCH($D$13, Détailsfacture[#Headers], 0)),"")} | E30: {=IFERROR(INDEX(Détailsfacture[],SMALL(IF(Détailsfacture[N° de facture]=rngFacture,ROW(Détailsfacture[])-ROW(Détailsfacture[#Headers])), ROW(17:17)), MATCH($E$13, Détailsfacture[#Headers], 0)),"")} | F30: {=IFERROR(INDEX(Détailsfacture[],SMALL(IF(Détailsfacture[N° de facture]=rngFacture,ROW(Détailsfacture[])-ROW(Détailsfacture[#Headers])), ROW(17:17)), MATCH($F$13, Détailsfacture[#Headers], 0)),"")} | G30: {=IFERROR(INDEX(Détailsfacture[],SMALL(IF(Détailsfacture[N° de facture]=rngFacture,ROW(Détailsfacture[])-ROW(Détailsfacture[#Headers])), ROW(17:17)), MATCH($G$13, Détailsfacture[#Headers], 0)),"")} | H30: {=IFERROR(INDEX(Détailsfacture[],SMALL(IF(Détailsfacture[N° de facture]=rngFacture,ROW(Détailsfacture[])-ROW(Détailsfacture[#Headers])), ROW(17:17)), MATCH($H$13, Détailsfacture[#Headers], 0)),"")} | I30: {=IFERROR(INDEX(Détailsfacture[],SMALL(IF(Détailsfacture[N° de facture]=rngFacture,ROW(Détailsfacture[])-ROW(Détailsfacture[#Headers])), ROW(17:17)), MATCH($I$13, Détailsfacture[#Headers], 0)),"")} | J30: =IFERROR((H30*I30),"")
B31: {=IFERROR(INDEX(Détailsfacture[],SMALL(IF(Détailsfacture[N° de facture]=rngFacture,ROW(Détailsfacture[])-ROW(Détailsfacture[#Headers])), ROW(18:18)), MATCH($B$13, Détailsfacture[#Headers], 0)),"")} | C31: {=IFERROR(INDEX(Détailsfacture[],SMALL(IF(Détailsfacture[N° de facture]=rngFacture,ROW(Détailsfacture[])-ROW(Détailsfacture[#Headers])), ROW(18:18)), MATCH($C$13, Détailsfacture[#Headers], 0)),"")} | D31: {=IFERROR(INDEX(Détailsfacture[],SMALL(IF(Détailsfacture[N° de facture]=rngFacture,ROW(Détailsfacture[])-ROW(Détailsfacture[#Headers])), ROW(18:18)), MATCH($D$13, Détailsfacture[#Headers], 0)),"")} | E31: {=IFERROR(INDEX(Détailsfacture[],SMALL(IF(Détailsfacture[N° de facture]=rngFacture,ROW(Détailsfacture[])-ROW(Détailsfacture[#Headers])), ROW(18:18)), MATCH($E$13, Détailsfacture[#Headers], 0)),"")} | F31: {=IFERROR(INDEX(Détailsfacture[],SMALL(IF(Détailsfacture[N° de facture]=rngFacture,ROW(Détailsfacture[])-ROW(Détailsfacture[#Headers])), ROW(18:18)), MATCH($F$13, Détailsfacture[#Headers], 0)),"")} | G31: {=IFERROR(INDEX(Détailsfacture[],SMALL(IF(Détailsfacture[N° de facture]=rngFacture,ROW(Détailsfacture[])-ROW(Détailsfacture[#Headers])), ROW(18:18)), MATCH($G$13, Détailsfacture[#Headers], 0)),"")} | H31: {=IFERROR(INDEX(Détailsfacture[],SMALL(IF(Détailsfacture[N° de facture]=rngFacture,ROW(Détailsfacture[])-ROW(Détailsfacture[#Headers])), ROW(18:18)), MATCH($H$13, Détailsfacture[#Headers], 0)),"")} | I31: {=IFERROR(INDEX(Détailsfacture[],SMALL(IF(Détailsfacture[N° de facture]=rngFacture,ROW(Détailsfacture[])-ROW(Détailsfacture[#Headers])), ROW(18:18)), MATCH($I$13, Détailsfacture[#Headers], 0)),"")} | J31: =IFERROR((H31*I31),"")
B32: {=IFERROR(INDEX(Détailsfacture[],SMALL(IF(Détailsfacture[N° de facture]=rngFacture,ROW(Détailsfacture[])-ROW(Détailsfacture[#Headers])), ROW(19:19)), MATCH($B$13, Détailsfacture[#Headers], 0)),"")} | C32: {=IFERROR(INDEX(Détailsfacture[],SMALL(IF(Détailsfacture[N° de facture]=rngFacture,ROW(Détailsfacture[])-ROW(Détailsfacture[#Headers])), ROW(19:19)), MATCH($C$13, Détailsfacture[#Headers], 0)),"")} | D32: {=IFERROR(INDEX(Détailsfacture[],SMALL(IF(Détailsfacture[N° de facture]=rngFacture,ROW(Détailsfacture[])-ROW(Détailsfacture[#Headers])), ROW(19:19)), MATCH($D$13, Détailsfacture[#Headers], 0)),"")} | E32: {=IFERROR(INDEX(Détailsfacture[],SMALL(IF(Détailsfacture[N° de facture]=rngFacture,ROW(Détailsfacture[])-ROW(Détailsfacture[#Headers])), ROW(19:19)), MATCH($E$13, Détailsfacture[#Headers], 0)),"")} | F32: {=IFERROR(INDEX(Détailsfacture[],SMALL(IF(Détailsfacture[N° de facture]=rngFacture,ROW(Détailsfacture[])-ROW(Détailsfacture[#Headers])), ROW(19:19)), MATCH($F$13, Détailsfacture[#Headers], 0)),"")} | G32: {=IFERROR(INDEX(Détailsfacture[],SMALL(IF(Détailsfacture[N° de facture]=rngFacture,ROW(Détailsfacture[])-ROW(Détailsfacture[#Headers])), ROW(19:19)), MATCH($G$13, Détailsfacture[#Headers], 0)),"")} | H32: {=IFERROR(INDEX(Détailsfacture[],SMALL(IF(Détailsfacture[N° de facture]=rngFacture,ROW(Détailsfacture[])-ROW(Détailsfacture[#Headers])), ROW(19:19)), MATCH($H$13, Détailsfacture[#Headers], 0)),"")} | I32: {=IFERROR(INDEX(Détailsfacture[],SMALL(IF(Détailsfacture[N° de facture]=rngFacture,ROW(Détailsfacture[])-ROW(Détailsfacture[#Headers])), ROW(19:19)), MATCH($I$13, Détailsfacture[#Headers], 0)),"")} | J32: =IFERROR((H32*I32),"")
B33: {=IFERROR(INDEX(Détailsfacture[],SMALL(IF(Détailsfacture[N° de facture]=rngFacture,ROW(Détailsfacture[])-ROW(Détailsfacture[#Headers])), ROW(20:20)), MATCH($B$13, Détailsfacture[#Headers], 0)),"")} | C33: {=IFERROR(INDEX(Détailsfacture[],SMALL(IF(Détailsfacture[N° de facture]=rngFacture,ROW(Détailsfacture[])-ROW(Détailsfacture[#Headers])), ROW(20:20)), MATCH($C$13, Détailsfacture[#Headers], 0)),"")} | D33: {=IFERROR(INDEX(Détailsfacture[],SMALL(IF(Détailsfacture[N° de facture]=rngFacture,ROW(Détailsfacture[])-ROW(Détailsfacture[#Headers])), ROW(20:20)), MATCH($D$13, Détailsfacture[#Headers], 0)),"")} | E33: {=IFERROR(INDEX(Détailsfacture[],SMALL(IF(Détailsfacture[N° de facture]=rngFacture,ROW(Détailsfacture[])-ROW(Détailsfacture[#Headers])), ROW(20:20)), MATCH($E$13, Détailsfacture[#Headers], 0)),"")} | F33: {=IFERROR(INDEX(Détailsfacture[],SMALL(IF(Détailsfacture[N° de facture]=rngFacture,ROW(Détailsfacture[])-ROW(Détailsfacture[#Headers])), ROW(20:20)), MATCH($F$13, Détailsfacture[#Headers], 0)),"")} | G33: {=IFERROR(INDEX(Détailsfacture[],SMALL(IF(Détailsfacture[N° de facture]=rngFacture,ROW(Détailsfacture[])-ROW(Détailsfacture[#Headers])), ROW(20:20)), MATCH($G$13, Détailsfacture[#Headers], 0)),"")} | H33: {=IFERROR(INDEX(Détailsfacture[],SMALL(IF(Détailsfacture[N° de facture]=rngFacture,ROW(Détailsfacture[])-ROW(Détailsfacture[#Headers])), ROW(20:20)), MATCH($H$13, Détailsfacture[#Headers], 0)),"")} | I33: {=IFERROR(INDEX(Détailsfacture[],SMALL(IF(Détailsfacture[N° de facture]=rngFacture,ROW(Détailsfacture[])-ROW(Détailsfacture[#Headers])), ROW(20:20)), MATCH($I$13, Détailsfacture[#Headers], 0)),"")} | J33: =IFERROR((H33*I33),"")
B34: {=IFERROR(INDEX(Détailsfacture[],SMALL(IF(Détailsfacture[N° de facture]=rngFacture,ROW(Détailsfacture[])-ROW(Détailsfacture[#Headers])), ROW(21:21)), MATCH($B$13, Détailsfacture[#Headers], 0)),"")} | C34: {=IFERROR(INDEX(Détailsfacture[],SMALL(IF(Détailsfacture[N° de facture]=rngFacture,ROW(Détailsfacture[])-ROW(Détailsfacture[#Headers])), ROW(21:21)), MATCH($C$13, Détailsfacture[#Headers], 0)),"")} | D34: {=IFERROR(INDEX(Détailsfacture[],SMALL(IF(Détailsfacture[N° de facture]=rngFacture,ROW(Détailsfacture[])-ROW(Détailsfacture[#Headers])), ROW(21:21)), MATCH($D$13, Détailsfacture[#Headers], 0)),"")} | E34: {=IFERROR(INDEX(Détailsfacture[],SMALL(IF(Détailsfacture[N° de facture]=rngFacture,ROW(Détailsfacture[])-ROW(Détailsfacture[#Headers])), ROW(21:21)), MATCH($E$13, Détailsfacture[#Headers], 0)),"")} | F34: {=IFERROR(INDEX(Détailsfacture[],SMALL(IF(Détailsfacture[N° de facture]=rngFacture,ROW(Détailsfacture[])-ROW(Détailsfacture[#Headers])), ROW(21:21)), MATCH($F$13, Détailsfacture[#Headers], 0)),"")} | G34: {=IFERROR(INDEX(Détailsfacture[],SMALL(IF(Détailsfacture[N° de facture]=rngFacture,ROW(Détailsfacture[])-ROW(Détailsfacture[#Headers])), ROW(21:21)), MATCH($G$13, Détailsfacture[#Headers], 0)),"")} | H34: {=IFERROR(INDEX(Détailsfacture[],SMALL(IF(Détailsfacture[N° de facture]=rngFacture,ROW(Détailsfacture[])-ROW(Détailsfacture[#Headers])), ROW(21:21)), MATCH($H$13, Détailsfacture[#Headers], 0)),"")} | I34: {=IFERROR(INDEX(Détailsfacture[],SMALL(IF(Détailsfacture[N° de facture]=rngFacture,ROW(Détailsfacture[])-ROW(Détailsfacture[#Headers])), ROW(21:21)), MATCH($I$13, Détailsfacture[#Headers], 0)),"")} | J34: =IFERROR((H34*I34),"")
B35: {=IFERROR(INDEX(Détailsfacture[],SMALL(IF(Détailsfacture[N° de facture]=rngFacture,ROW(Détailsfacture[])-ROW(Détailsfacture[#Headers])), ROW(22:22)), MATCH($B$13, Détailsfacture[#Headers], 0)),"")} | C35: {=IFERROR(INDEX(Détailsfacture[],SMALL(IF(Détailsfacture[N° de facture]=rngFacture,ROW(Détailsfacture[])-ROW(Détailsfacture[#Headers])), ROW(22:22)), MATCH($C$13, Détailsfacture[#Headers], 0)),"")} | D35: {=IFERROR(INDEX(Détailsfacture[],SMALL(IF(Détailsfacture[N° de facture]=rngFacture,ROW(Détailsfacture[])-ROW(Détailsfacture[#Headers])), ROW(22:22)), MATCH($D$13, Détailsfacture[#Headers], 0)),"")} | E35: {=IFERROR(INDEX(Détailsfacture[],SMALL(IF(Détailsfacture[N° de facture]=rngFacture,ROW(Détailsfacture[])-ROW(Détailsfacture[#Headers])), ROW(22:22)), MATCH($E$13, Détailsfacture[#Headers], 0)),"")} | F35: {=IFERROR(INDEX(Détailsfacture[],SMALL(IF(Détailsfacture[N° de facture]=rngFacture,ROW(Détailsfacture[])-ROW(Détailsfacture[#Headers])), ROW(22:22)), MATCH($F$13, Détailsfacture[#Headers], 0)),"")} | G35: {=IFERROR(INDEX(Détailsfacture[],SMALL(IF(Détailsfacture[N° de facture]=rngFacture,ROW(Détailsfacture[])-ROW(Détailsfacture[#Headers])), ROW(22:22)), MATCH($G$13, Détailsfacture[#Headers], 0)),"")} | H35: {=IFERROR(INDEX(Détailsfacture[],SMALL(IF(Détailsfacture[N° de facture]=rngFacture,ROW(Détailsfacture[])-ROW(Détailsfacture[#Headers])), ROW(22:22)), MATCH($H$13, Détailsfacture[#Headers], 0)),"")} | I35: {=IFERROR(INDEX(Détailsfacture[],SMALL(IF(Détailsfacture[N° de facture]=rngFacture,ROW(Détailsfacture[])-ROW(Détailsfacture[#Headers])), ROW(22:22)), MATCH($I$13, Détailsfacture[#Headers], 0)),"")} | J35: =IFERROR((H35*I35),"")
B36: {=IFERROR(INDEX(Détailsfacture[],SMALL(IF(Détailsfacture[N° de facture]=rngFacture,ROW(Détailsfacture[])-ROW(Détailsfacture[#Headers])), ROW(23:23)), MATCH($B$13, Détailsfacture[#Headers], 0)),"")} | C36: {=IFERROR(INDEX(Détailsfacture[],SMALL(IF(Détailsfacture[N° de facture]=rngFacture,ROW(Détailsfacture[])-ROW(Détailsfacture[#Headers])), ROW(23:23)), MATCH($C$13, Détailsfacture[#Headers], 0)),"")} | D36: {=IFERROR(INDEX(Détailsfacture[],SMALL(IF(Détailsfacture[N° de facture]=rngFacture,ROW(Détailsfacture[])-ROW(Détailsfacture[#Headers])), ROW(23:23)), MATCH($D$13, Détailsfacture[#Headers], 0)),"")} | E36: {=IFERROR(INDEX(Détailsfacture[],SMALL(IF(Détailsfacture[N° de facture]=rngFacture,ROW(Détailsfacture[])-ROW(Détailsfacture[#Headers])), ROW(23:23)), MATCH($E$13, Détailsfacture[#Headers], 0)),"")} | F36: {=IFERROR(INDEX(Détailsfacture[],SMALL(IF(Détailsfacture[N° de facture]=rngFacture,ROW(Détailsfacture[])-ROW(Détailsfacture[#Headers])), ROW(23:23)), MATCH($F$13, Détailsfacture[#Headers], 0)),"")} | G36: {=IFERROR(INDEX(Détailsfacture[],SMALL(IF(Détailsfacture[N° de facture]=rngFacture,ROW(Détailsfacture[])-ROW(Détailsfacture[#Headers])), ROW(23:23)), MATCH($G$13, Détailsfacture[#Headers], 0)),"")} | H36: {=IFERROR(INDEX(Détailsfacture[],SMALL(IF(Détailsfacture[N° de facture]=rngFacture,ROW(Détailsfacture[])-ROW(Détailsfacture[#Headers])), ROW(23:23)), MATCH($H$13, Détailsfacture[#Headers], 0)),"")} | I36: {=IFERROR(INDEX(Détailsfacture[],SMALL(IF(Détailsfacture[N° de facture]=rngFacture,ROW(Détailsfacture[])-ROW(Détailsfacture[#Headers])), ROW(23:23)), MATCH($I$13, Détailsfacture[#Headers], 0)),"")} | J36: =IFERROR((H36*I36),"")
B37: {=IFERROR(INDEX(Détailsfacture[],SMALL(IF(Détailsfacture[N° de facture]=rngFacture,ROW(Détailsfacture[])-ROW(Détailsfacture[#Headers])), ROW(24:24)), MATCH($B$13, Détailsfacture[#Headers], 0)),"")} | C37: {=IFERROR(INDEX(Détailsfacture[],SMALL(IF(Détailsfacture[N° de facture]=rngFacture,ROW(Détailsfacture[])-ROW(Détailsfacture[#Headers])), ROW(24:24)), MATCH($C$13, Détailsfacture[#Headers], 0)),"")} | D37: {=IFERROR(INDEX(Détailsfacture[],SMALL(IF(Détailsfacture[N° de facture]=rngFacture,ROW(Détailsfacture[])-ROW(Détailsfacture[#Headers])), ROW(24:24)), MATCH($D$13, Détailsfacture[#Headers], 0)),"")} | E37: {=IFERROR(INDEX(Détailsfacture[],SMALL(IF(Détailsfacture[N° de facture]=rngFacture,ROW(Détailsfacture[])-ROW(Détailsfacture[#Headers])), ROW(24:24)), MATCH($E$13, Détailsfacture[#Headers], 0)),"")} | F37: {=IFERROR(INDEX(Détailsfacture[],SMALL(IF(Détailsfacture[N° de facture]=rngFacture,ROW(Détailsfacture[])-ROW(Détailsfacture[#Headers])), ROW(24:24)), MATCH($F$13, Détailsfacture[#Headers], 0)),"")} | G37: {=IFERROR(INDEX(Détailsfacture[],SMALL(IF(Détailsfacture[N° de facture]=rngFacture,ROW(Détailsfacture[])-ROW(Détailsfacture[#Headers])), ROW(24:24)), MATCH($G$13, Détailsfacture[#Headers], 0)),"")} | H37: {=IFERROR(INDEX(Détailsfacture[],SMALL(IF(Détailsfacture[N° de facture]=rngFacture,ROW(Détailsfacture[])-ROW(Détailsfacture[#Headers])), ROW(24:24)), MATCH($H$13, Détailsfacture[#Headers], 0)),"")} | I37: {=IFERROR(INDEX(Détailsfacture[],SMALL(IF(Détailsfacture[N° de facture]=rngFacture,ROW(Détailsfacture[])-ROW(Détailsfacture[#Headers])), ROW(24:24)), MATCH($I$13, Détailsfacture[#Headers], 0)),"")} | J37: =IFERROR((H37*I37),"")
B38: {=IFERROR(INDEX(Détailsfacture[],SMALL(IF(Détailsfacture[N° de facture]=rngFacture,ROW(Détailsfacture[])-ROW(Détailsfacture[#Headers])), ROW(25:25)), MATCH($B$13, Détailsfacture[#Headers], 0)),"")} | C38: {=IFERROR(INDEX(Détailsfacture[],SMALL(IF(Détailsfacture[N° de facture]=rngFacture,ROW(Détailsfacture[])-ROW(Détailsfacture[#Headers])), ROW(25:25)), MATCH($C$13, Détailsfacture[#Headers], 0)),"")} | D38: {=IFERROR(INDEX(Détailsfacture[],SMALL(IF(Détailsfacture[N° de facture]=rngFacture,ROW(Détailsfacture[])-ROW(Détailsfacture[#Headers])), ROW(25:25)), MATCH($D$13, Détailsfacture[#Headers], 0)),"")} | E38: {=IFERROR(INDEX(Détailsfacture[],SMALL(IF(Détailsfacture[N° de facture]=rngFacture,ROW(Détailsfacture[])-ROW(Détailsfacture[#Headers])), ROW(25:25)), MATCH($E$13, Détailsfacture[#Headers], 0)),"")} | F38: {=IFERROR(INDEX(Détailsfacture[],SMALL(IF(Détailsfacture[N° de facture]=rngFacture,ROW(Détailsfacture[])-ROW(Détailsfacture[#Headers])), ROW(25:25)), MATCH($F$13, Détailsfacture[#Headers], 0)),"")} | G38: {=IFERROR(INDEX(Détailsfacture[],SMALL(IF(Détailsfacture[N° de facture]=rngFacture,ROW(Détailsfacture[])-ROW(Détailsfacture[#Headers])), ROW(25:25)), MATCH($G$13, Détailsfacture[#Headers], 0)),"")} | H38: {=IFERROR(INDEX(Détailsfacture[],SMALL(IF(Détailsfacture[N° de facture]=rngFacture,ROW(Détailsfacture[])-ROW(Détailsfacture[#Headers])), ROW(25:25)), MATCH($H$13, Détailsfacture[#Headers], 0)),"")} | I38: {=IFERROR(INDEX(Détailsfacture[],SMALL(IF(Détailsfacture[N° de facture]=rngFacture,ROW(Détailsfacture[])-ROW(Détailsfacture[#Headers])), ROW(25:25)), MATCH($I$13, Détailsfacture[#Headers], 0)),"")} | J38: =IFERROR((H38*I38),"")
I39: Sous-total de la facture | J39: =SUM(J14:J38) -> 1444
I40: Taux T.V.A. | J40: =VLOOKUP(rngFacture,'Factures – Principal'!$B$4:$L$18,5) -> Messagerie
I41: T.V.A. ventes | J41: =J39*J40 -> #VALUE!
I42: Autre | J42: =VLOOKUP(rngFacture,'Factures – Principal'!$B$4:$L$18,7) -> 100
I43: Dépôt reçu | J43: =VLOOKUP(rngFacture,'Factures – Principal'!$B$4:$L$18,6) -> 0.2
I44: TOTAL | J44: =(J39+J41+J42)-J43 -> #VALUE!
N46: ="Définir tous les chèques à l’ordre de "&Nomdelasociété&"." -> Définir tous les chèques à l’ordre de nom de la société.
...

Sheet Clients
B2: Clients
B3: N° de société | C3: Nom de la société | D3: Nom du contact | E3: Adresse | F3: Ville | G3: Département | H3: Code postal | I3: Téléphone | J3: E-mail | K3: Télécopie
B4: 1 | C4: Tailspin Toys | D4: Robert Lyon | E4: 345, rue de la Gare | F4: Lyon | G4: RHÔNE | H4: 69001 | I4: 01 56 78 90 12 | J4: xyz@example.com | K4: 01 90 12 34 56
B5: 2 | C5: Dupond | D5: Martin | E5: 346 Rue de la gare | F5: Lille | G5: NORD | H5: 59000 | I5: 0320212223
B6: 3 | C6: Durand | D6: Pierre | E6: 347 Rue de la gare | F6: SAINT QUENTIN | G6: AISNE | H6: 02000 | I6: 0320212224
B11: ="Total clients : "&SUBTOTAL(103,Clients!$B$4:$B$10) -> Total clients : 3 | K11: =SUBTOTAL(103,Clients!$K$4:$K$10) -> 1

Sheet TCD
A1: N° sociéte | B1: All
A3: Étiquettes de lignes | B3: Somme de Total de la facture
A4: Dupond
A5: NORD
A6: 3-456-4 | B6: 940.8
A7: 3-456-5 | B7: 1009.2
A8: 3-456-6 | B8: 1080
A9: Durand
A10: AISNE
A11: 3-456-11 | B11: 1470
A12: 3-456-12 | B12: 1555.2
A13: 3-456-13 | B13: 1642.8
A14: 3-456-14 | B14: 1732.8
A15: Tailspin Toys
A16: RHÔNE
A17: 3-456-1 | B17: 15834
A18: 3-456-10 | B18: 1387.2
A19: 3-456-2 | B19: 811.2
A20: 3-456-3 | B20: 874.8
A21: 3-456-7 | B21: 1153.2
A22: 3-456-8 | B22: 1228.8
A23: 3-456-9 | B23: 1306.8
A24: Total général | B24: 32026.8

Sheet Factures – Principal
B2: Factures
B3: N° de facture | C3: nom de la Société | D3: N° sociéte | E3: Date de la facture | F3: Description du projet | G3: Taux T.V.A. | H3: Autre | I3: Dépôt | J3: Total des détails | K3: Total de la facture | L3: Notes
B4: 3-456-1 | C4: Tailspin Toys | D4: =INDEX(Clients!$B$4:$B$6,MATCH('Factures – Principal'!C4,Tableau4[Nom de la société],0)) -> 1 | E4: 42804 | F4: Messagerie | G4: 0.2 | H4: 100 | I4: 100 | J4: =SUMIF(Détailsfacture[N° de facture],"="&'Factures – Principal'!$B4,Détailsfacture[Total]) -> 13195 | K4: =('Factures – Principal'!$J4*(1+'Factures – Principal'!$G4))+'Factures – Principal'!$H4-'Factures – Principal'!$I4 -> 15834
B5: 3-456-2 | C5: Tailspin Toys | D5: =INDEX(Clients!$B$4:$B$6,MATCH('Factures – Principal'!C5,Tableau4[Nom de la société],0)) -> 1 | E5: 42997 | F5: LIVRAISON | G5: 0.2 | J5: =SUMIF(Détailsfacture[N° de facture],"="&'Factures – Principal'!$B5,Détailsfacture[Total]) -> 676 | K5: =('Factures – Principal'!$J5*(1+'Factures – Principal'!$G5))+'Factures – Principal'!$H5-'Factures – Principal'!$I5 -> 811.2
B6: 3-456-3 | C6: Tailspin Toys | D6: =INDEX(Clients!$B$4:$B$6,MATCH('Factures – Principal'!C6,Clients!$C$4:$C$6,0)) -> 1 | E6: 42998 | F6: A | G6: 0.2 | J6: =SUMIF(Détailsfacture[N° de facture],"="&'Factures – Principal'!$B6,Détailsfacture[Total]) -> 729 | K6: =('Factures – Principal'!$J6*(1+'Factures – Principal'!$G6))+'Factures – Principal'!$H6-'Factures – Principal'!$I6 -> 874.8
B7: 3-456-4 | C7: Dupond | D7: =INDEX(Clients!$B$4:$B$6,MATCH('Factures – Principal'!C7,Clients!$C$4:$C$6,0)) -> 2 | E7: 42999 | F7: B | G7: 0.2 | J7: =SUMIF(Détailsfacture[N° de facture],"="&'Factures – Principal'!$B7,Détailsfacture[Total]) -> 784 | K7: =('Factures – Principal'!$J7*(1+'Factures – Principal'!$G7))+'Factures – Principal'!$H7-'Factures – Principal'!$I7 -> 940.8
B8: 3-456-5 | C8: Dupond | D8: =INDEX(Clients!$B$4:$B$6,MATCH('Factures – Principal'!C8,Clients!$C$4:$C$6,0)) -> 2 | E8: 43000 | F8: C | G8: 0.2 | J8: =SUMIF(Détailsfacture[N° de facture],"="&'Factures – Principal'!$B8,Détailsfacture[Total]) -> 841 | K8: =('Factures – Principal'!$J8*(1+'Factures – Principal'!$G8))+'Factures – Principal'!$H8-'Factures – Principal'!$I8 -> 1009.2
B9: 3-456-6 | C9: Dupond | D9: =INDEX(Clients!$B$4:$B$6,MATCH('Factures – Principal'!C9,Clients!$C$4:$C$6,0)) -> 2 | E9: 43001 | F9: D | G9: 0.2 | J9: =SUMIF(Détailsfacture[N° de facture],"="&'Factures – Principal'!$B9,Détailsfacture[Total]) -> 900 | K9: =('Factures – Principal'!$J9*(1+'Factures – Principal'!$G9))+'Factures – Principal'!$H9-'Factures – Principal'!$I9 -> 1080
B10: 3-456-7 | C10: Tailspin Toys | D10: =INDEX(Clients!$B$4:$B$6,MATCH('Factures – Principal'!C10,Clients!$C$4:$C$6,0)) -> 1 | E10: 43002 | F10: E | G10: 0.2 | J10: =SUMIF(Détailsfacture[N° de facture],"="&'Factures – Principal'!$B10,Détailsfacture[Total]) -> 961 | K10: =('Factures – Principal'!$J10*(1+'Factures – Principal'!$G10))+'Factures – Principal'!$H10-'Factures – Principal'!$I10 -> 1153.2
B11: 3-456-8 | C11: Tailspin Toys | D11: =INDEX(Clients!$B$4:$B$6,MATCH('Factures – Principal'!C11,Clients!$C$4:$C$6,0)) -> 1 | E11: 43003 | F11: F | G11: 0.2 | J11: =SUMIF(Détailsfacture[N° de facture],"="&'Factures – Principal'!$B11,Détailsfacture[Total]) -> 1024 | K11: =('Factures – Principal'!$J11*(1+'Factures – Principal'!$G11))+'Factures – Principal'!$H11-'Factures – Principal'!$I11 -> 1228.8
B12: 3-456-9 | C12: Tailspin Toys | D12: =INDEX(Clients!$B$4:$B$6,MATCH('Factures – Principal'!C12,Clients!$C$4:$C$6,0)) -> 1 | E12: 43004 | F12: G | G12: 0.2 | J12: =SUMIF(Détailsfacture[N° de facture],"="&'Factures – Principal'!$B12,Détailsfacture[Total]) -> 1089 | K12: =('Factures – Principal'!$J12*(1+'Factures – Principal'!$G12))+'Factures – Principal'!$H12-'Factures – Principal'!$I12 -> 1306.8
B13: 3-456-10 | C13: Tailspin Toys | D13: =INDEX(Clients!$B$4:$B$6,MATCH('Factures – Principal'!C13,Clients!$C$4:$C$6,0)) -> 1 | E13: 43005 | F13: H | G13: 0.2 | J13: =SUMIF(Détailsfacture[N° de facture],"="&'Factures – Principal'!$B13,Détailsfacture[Total]) -> 1156 | K13: =('Factures – Principal'!$J13*(1+'Factures – Principal'!$G13))+'Factures – Principal'!$H13-'Factures – Principal'!$I13 -> 1387.2
B14: 3-456-11 | C14: Durand | D14: =INDEX(Clients!$B$4:$B$6,MATCH('Factures – Principal'!C14,Clients!$C$4:$C$6,0)) -> 3 | E14: 43006 | F14: I | G14: 0.2 | J14: =SUMIF(Détailsfacture[N° de facture],"="&'Factures – Principal'!$B14,Détailsfacture[Total]) -> 1225 | K14: =('Factures – Principal'!$J14*(1+'Factures – Principal'!$G14))+'Factures – Principal'!$H14-'Factures – Principal'!$I14 -> 1470
