Workbook
Name Article: BD!$H$2:$H$100
Name code: BD!$I$2:$I$100
Name Désignation: BD!$C$2:$C$100
Name Dim_Carton: BD!$F$2:$F$100
Name Nb_Cartons: BD!$A$2:$A$100
Name Nb_Palette: BD!$G$2:$G$100
Name Nb_ref_Carton: BD!$D$2:$D$100
Name Poids_Carton: BD!$E$2:$E$100
Name ref_dans_carton: Logistique!$C$3:$C$100
Name Ref_Par_Carton: OFFSET(BD!$B$2,0,0,COUNTA(BD!$B:$B)-1,1)

Sheet Logistique
A4: ID carton | B4: Nb de carton | C4: Ref dans le carton | D4: Désignation | E4: Nb/ref par Carton | F4: Poids du Carton Kg | G4: Dim Carton l x Lar x H | H4: Nb Palette | J4: {=INDEX(ref_dans_carton,MIN(IF(ref_dans_carton<>"",IF(COUNTIF(J$2:J2,ref_dans_carton)=0,ROW(ref_dans_carton)-2))))&""} -> Ref dans le carton | K4: Qté | M4: Articles | N4: Qté
A5: 1 | B5: 2 | C5: DH 154 | D5: =IFERROR(INDEX(Désignation,MATCH($C5,Ref_Par_Carton,0)), " ") -> PM 200x160cm | E5: 57 | H5: 2 | J5: {=INDEX(ref_dans_carton,MIN(IF(ref_dans_carton<>"",IF(COUNTIF(J$2:J4,ref_dans_carton)=0,ROW(ref_dans_carton)-2))))&""} -> DH 154 | K5: =IF(J5="","",SUMPRODUCT(($C$5:$C$1000=$J5)*($E$5:$E$1000))) -> 57 | M5: =IFERROR(INDEX(Article,MATCH(BD!K2,code,0)),"") -> Protège Matelas | N5: {=IFERROR(SUM(IF(LEFT($J$5:$J$34,2)=VLOOKUP($M5,BD!$H$2:$I$3,2,0),$K$5:$K34)),"")} -> 98 | P5: Total Carton | Q5: =IFERROR(INDEX($B:$B,MATCH(9^9^9,$B:$B,1)),0) -> 1
A6: =IF(C6="","",IF(B6="x",A5,A5+B6)) -> 2 | B6: 1 | C6: DH152 | D6: =IFERROR(INDEX(Désignation,MATCH($C6,Ref_Par_Carton,0)), " ") -> PM 120x60cm | E6: 41 | H6: 8 | J6: {=INDEX(ref_dans_carton,MIN(IF(ref_dans_carton<>"",IF(COUNTIF(J$2:J5,ref_dans_carton)=0,ROW(ref_dans_carton)-2))))&""} -> DH152 | K6: =IF(J6="","",SUMPRODUCT(($C$5:$C$1000=$J6)*($E$5:$E$1000))) -> 41 | M6: =IFERROR(INDEX(Article,MATCH(BD!K3,code,0)),"") -> Couette | N6: {=IFERROR(SUM(IF(LEFT($J$5:$J$34,2)=VLOOKUP($M6,BD!$H$2:$I$3,2,0),$K$5:$K35)),"")} | P6: Total Palette | Q6: =SUM(H5:H1000) -> 10
A7: =IF(C7="","",IF(B7="x",A6,A6+B7)) -> 3 | B7: 1 | C7: CT269 | D7: =IFERROR(INDEX(Désignation,MATCH($C7,Ref_Par_Carton,0)), " ") -> CP 240x220cm | E7: 27 | J7: {=INDEX(ref_dans_carton,MIN(IF(ref_dans_carton<>"",IF(COUNTIF(J$2:J6,ref_dans_carton)=0,ROW(ref_dans_carton)-2))))&""} -> CT269 | K7: =IF(J7="","",SUMPRODUCT(($C$5:$C$1000=$J7)*($E$5:$E$1000))) -> 27 | M7: =IFERROR(INDEX(Article,MATCH(BD!K4,code,0)),"") | N7: {=IFERROR(SUM(IF(LEFT($J$5:$J$34,2)=VLOOKUP($M7,BD!$H$2:$I$3,2,0),$K$5:$K36)),"")}
A8: =IF(C8="","",IF(B8="x",A7,A7+B8)) | D8: =IFERROR(INDEX(Désignation,MATCH($C8,Ref_Par_Carton,0)), " ") | J8: {=INDEX(ref_dans_carton,MIN(IF(ref_dans_carton<>"",IF(COUNTIF(J$2:J7,ref_dans_carton)=0,ROW(ref_dans_carton)-2))))&""} | K8: =IF(J8="","",SUMPRODUCT(($C$5:$C$1000=$J8)*($E$5:$E$1000))) | M8: =IFERROR(INDEX(Article,MATCH(BD!K5,code,0)),"") | N8: {=IFERROR(SUM(IF(LEFT($J$5:$J$34,2)=VLOOKUP($M8,BD!$H$2:$I$3,2,0),$K$5:$K37)),"")}
A9: =IF(C9="","",IF(B9="x",A8,A8+B9)) | D9: =IFERROR(INDEX(Désignation,MATCH($C9,Ref_Par_Carton,0)), " ") | J9: {=INDEX(ref_dans_carton,MIN(IF(ref_dans_carton<>"",IF(COUNTIF(J$2:J8,ref_dans_carton)=0,ROW(ref_dans_carton)-2))))&""} | K9: =IF(J9="","",SUMPRODUCT(($C$5:$C$1000=$J9)*($E$5:$E$1000))) | M9: =IFERROR(INDEX(Article,MATCH(BD!K6,code,0)),"") | N9: {=IFERROR(SUM(IF(LEFT($J$5:$J$34,2)=VLOOKUP($M9,BD!$H$2:$I$3,2,0),$K$5:$K38)),"")}
A10: =IF(C10="","",IF(B10="x",A9,A9+B10)) | D10: =IFERROR(INDEX(Désignation,MATCH($C10,Ref_Par_Carton,0)), " ") | J10: {=INDEX(ref_dans_carton,MIN(IF(ref_dans_carton<>"",IF(COUNTIF(J$2:J9,ref_dans_carton)=0,ROW(ref_dans_carton)-2))))&""} | K10: =IF(J10="","",SUMPRODUCT(($C$5:$C$1000=$J10)*($E$5:$E$1000))) | M10: =IFERROR(INDEX(Article,MATCH(BD!K7,code,0)),"") | N10: {=IFERROR(SUM(IF(LEFT($J$5:$J$34,2)=VLOOKUP($M10,BD!$H$2:$I$3,2,0),$K$5:$K39)),"")}
A11: =IF(C11="","",IF(B11="x",A10,A10+B11)) | D11: =IFERROR(INDEX(Désignation,MATCH($C11,Ref_Par_Carton,0)), " ") | J11: {=INDEX(ref_dans_carton,MIN(IF(ref_dans_carton<>"",IF(COUNTIF(J$2:J10,ref_dans_carton)=0,ROW(ref_dans_carton)-2))))&""} | K11: =IF(J11="","",SUMPRODUCT(($C$5:$C$1000=$J11)*($E$5:$E$1000))) | M11: =IFERROR(INDEX(Article,MATCH(BD!K8,code,0)),"") | N11: {=IFERROR(SUM(IF(LEFT($J$5:$J$34,2)=VLOOKUP($M11,BD!$H$2:$I$3,2,0),$K$5:$K40)),"")}
A12: =IF(C12="","",IF(B12="x",A11,A11+B12)) | D12: =IFERROR(INDEX(Désignation,MATCH($C12,Ref_Par_Carton,0)), " ") | J12: {=INDEX(ref_dans_carton,MIN(IF(ref_dans_carton<>"",IF(COUNTIF(J$2:J11,ref_dans_carton)=0,ROW(ref_dans_carton)-2))))&""} | K12: =IF(J12="","",SUMPRODUCT(($C$5:$C$1000=$J12)*($E$5:$E$1000))) | M12: =IFERROR(INDEX(Article,MATCH(BD!K9,code,0)),"") | N12: {=IFERROR(SUM(IF(LEFT($J$5:$J$34,2)=VLOOKUP($M12,BD!$H$2:$I$3,2,0),$K$5:$K41)),"")}
A13: =IF(C13="","",IF(B13="x",A12,A12+B13)) | D13: =IFERROR(INDEX(Désignation,MATCH($C13,Ref_Par_Carton,0)), " ") | J13: {=INDEX(ref_dans_carton,MIN(IF(ref_dans_carton<>"",IF(COUNTIF(J$2:J12,ref_dans_carton)=0,ROW(ref_dans_carton)-2))))&""} | K13: =IF(J13="","",SUMPRODUCT(($C$5:$C$1000=$J13)*($E$5:$E$1000))) | M13: =IFERROR(INDEX(Article,MATCH(BD!K10,code,0)),"") | N13: {=IFERROR(SUM(IF(LEFT($J$5:$J$34,2)=VLOOKUP($M13,BD!$H$2:$I$3,2,0),$K$5:$K42)),"")}
A14: =IF(C14="","",IF(B14="x",A13,A13+B14)) | D14: =IFERROR(INDEX(Désignation,MATCH($C14,Ref_Par_Carton,0)), " ") | J14: {=INDEX(ref_dans_carton,MIN(IF(ref_dans_carton<>"",IF(COUNTIF(J$2:J13,ref_dans_carton)=0,ROW(ref_dans_carton)-2))))&""} | K14: =IF(J14="","",SUMPRODUCT(($C$5:$C$1000=$J14)*($E$5:$E$1000))) | M14: =IFERROR(INDEX(Article,MATCH(BD!K11,code,0)),"") | N14: {=IFERROR(SUM(IF(LEFT($J$5:$J$34,2)=VLOOKUP($M14,BD!$H$2:$I$3,2,0),$K$5:$K43)),"")}
A15: =IF(C15="","",IF(B15="x",A14,A14+B15)) | D15: =IFERROR(INDEX(Désignation,MATCH($C15,Ref_Par_Carton,0)), " ") | J15: {=INDEX(ref_dans_carton,MIN(IF(ref_dans_carton<>"",IF(COUNTIF(J$2:J14,ref_dans_carton)=0,ROW(ref_dans_carton)-2))))&""} | K15: =IF(J15="","",SUMPRODUCT(($C$5:$C$1000=$J15)*($E$5:$E$1000))) | M15: =IFERROR(INDEX(Article,MATCH(BD!K12,code,0)),"") | N15: {=IFERROR(SUM(IF(LEFT($J$5:$J$34,2)=VLOOKUP($M15,BD!$H$2:$I$3,2,0),$K$5:$K44)),"")}
A16: =IF(C16="","",IF(B16="x",A15,A15+B16)) | D16: =IFERROR(INDEX(Désignation,MATCH($C16,Ref_Par_Carton,0)), " ") | J16: {=INDEX(ref_dans_carton,MIN(IF(ref_dans_carton<>"",IF(COUNTIF(J$2:J15,ref_dans_carton)=0,ROW(ref_dans_carton)-2))))&""} | K16: =IF(J16="","",SUMPRODUCT(($C$5:$C$1000=$J16)*($E$5:$E$1000))) | M16: =IFERROR(INDEX(Article,MATCH(BD!K13,code,0)),"") | N16: {=IFERROR(SUM(IF(LEFT($J$5:$J$34,2)=VLOOKUP($M16,BD!$H$2:$I$3,2,0),$K$5:$K45)),"")}
A17: =IF(C17="","",IF(B17="x",A16,A16+B17)) | D17: =IFERROR(INDEX(Désignation,MATCH($C17,Ref_Par_Carton,0)), " ") | J17: {=INDEX(ref_dans_carton,MIN(IF(ref_dans_carton<>"",IF(COUNTIF(J$2:J16,ref_dans_carton)=0,ROW(ref_dans_carton)-2))))&""} | K17: =IF(J17="","",SUMPRODUCT(($C$5:$C$1000=$J17)*($E$5:$E$1000))) | M17: =IFERROR(INDEX(Article,MATCH(BD!K14,code,0)),"") | N17: {=IFERROR(SUM(IF(LEFT($J$5:$J$34,2)=VLOOKUP($M17,BD!$H$2:$I$3,2,0),$K$5:$K46)),"")}
A18: =IF(C18="","",IF(B18="x",A17,A17+B18)) | D18: =IFERROR(INDEX(Désignation,MATCH($C18,Ref_Par_Carton,0)), " ") | J18: {=INDEX(ref_dans_carton,MIN(IF(ref_dans_carton<>"",IF(COUNTIF(J$2:J17,ref_dans_carton)=0,ROW(ref_dans_carton)-2))))&""} | K18: =IF(J18="","",SUMPRODUCT(($C$5:$C$1000=$J18)*($E$5:$E$1000))) | M18: =IFERROR(INDEX(Article,MATCH(BD!K15,code,0)),"") | N18: {=IFERROR(SUM(IF(LEFT($J$5:$J$34,2)=VLOOKUP($M18,BD!$H$2:$I$3,2,0),$K$5:$K47)),"")}
A19: =IF(C19="","",IF(B19="x",A18,A18+B19)) | D19: =IFERROR(INDEX(Désignation,MATCH($C19,Ref_Par_Carton,0)), " ") | J19: {=INDEX(ref_dans_carton,MIN(IF(ref_dans_carton<>"",IF(COUNTIF(J$2:J18,ref_dans_carton)=0,ROW(ref_dans_carton)-2))))&""} | K19: =IF(J19="","",SUMPRODUCT(($C$5:$C$1000=$J19)*($E$5:$E$1000))) | M19: =IFERROR(INDEX(Article,MATCH(BD!K16,code,0)),"") | N19: {=IFERROR(SUM(IF(LEFT($J$5:$J$34,2)=VLOOKUP($M19,BD!$H$2:$I$3,2,0),$K$5:$K48)),"")}
... A34: =IF(C34="","",IF(B34="x",A33,A33+B34)) | D34: =IFERROR(INDEX(Désignation,MATCH($C34,Ref_Par_Carton,0)), " ") | J34: {=INDEX(ref_dans_carton,MIN(IF(ref_dans_carton<>"",IF(COUNTIF(J$2:J33,ref_dans_carton)=0,ROW(ref_dans_carton)-2))))&""} | K34: =IF(J34="","",SUMPRODUCT(($C$5:$C$1000=$J34)*($E$5:$E$1000))) | M34: =IFERROR(INDEX(Article,MATCH(BD!K31,code,0)),"") | N34: {=IFERROR(SUM(IF(LEFT($J$5:$J$34,2)=VLOOKUP($M34,BD!$H$2:$I$3,2,0),$K$5:$K63)),"")}

Sheet BD
A1: Nb Cartons | B1: Ref par carton | C1: Désignation | D1: Nb/ref Carton | E1: Poids Carton | F1: Dim Carton | G1: Nb Palette | H1: Article | I1: code | K1: Ref Log.
A2: 1 | B2: CT194 | C2: CP 200x140cm | D2: 1 | G2: 1 | H2: Couette | I2: ct | J2: =LEFT(Logistique!J5,2) -> DH | K2: {=INDEX(BD!$J$1:$J$1000,MIN(IF(BD!$J$1:$J$1000<>"",IF(COUNTIF(BD!$K$1:$K1,BD!$J$1:$J$1000)=0,ROW(BD!$J$1:$J$1000)))))&""} -> DH
A3: 2 | B3: CT269 | C3: CP 240x220cm | D3: 2 | G3: 2 | H3: Protège Matelas | I3: dh | J3: =LEFT(Logistique!J6,2) -> DH | K3: {=INDEX(BD!$J$1:$J$1000,MIN(IF(BD!$J$1:$J$1000<>"",IF(COUNTIF(BD!$K$1:$K2,BD!$J$1:$J$1000)=0,ROW(BD!$J$1:$J$1000)))))&""} -> CT
A4: 3 | B4: CT277 | C4: CP 260x240cm | D4: 3 | G4: 3 | J4: =LEFT(Logistique!J7,2) -> CT | K4: {=INDEX(BD!$J$1:$J$1000,MIN(IF(BD!$J$1:$J$1000<>"",IF(COUNTIF(BD!$K$1:$K3,BD!$J$1:$J$1000)=0,ROW(BD!$J$1:$J$1000)))))&""}
A5: 4 | B5: DH152 | C5: PM 120x60cm | D5: 4 | G5: 4 | J5: =LEFT(Logistique!J8,2) | K5: {=INDEX(BD!$J$1:$J$1000,MIN(IF(BD!$J$1:$J$1000<>"",IF(COUNTIF(BD!$K$1:$K4,BD!$J$1:$J$1000)=0,ROW(BD!$J$1:$J$1000)))))&""}
A6: 5 | B6: DH153 | C6: PM 190x140cm | D6: 5 | G6: 5 | J6: =LEFT(Logistique!J9,2) | K6: {=INDEX(BD!$J$1:$J$1000,MIN(IF(BD!$J$1:$J$1000<>"",IF(COUNTIF(BD!$K$1:$K5,BD!$J$1:$J$1000)=0,ROW(BD!$J$1:$J$1000)))))&""}
A7: 6 | B7: DH 154 | C7: PM 200x160cm | D7: 6 | G7: 6 | J7: =LEFT(Logistique!J10,2) | K7: {=INDEX(BD!$J$1:$J$1000,MIN(IF(BD!$J$1:$J$1000<>"",IF(COUNTIF(BD!$K$1:$K6,BD!$J$1:$J$1000)=0,ROW(BD!$J$1:$J$1000)))))&""}
A8: 7 | D8: 7 | G8: 7 | K8: {=INDEX(BD!$J$1:$J$1000,MIN(IF(BD!$J$1:$J$1000<>"",IF(COUNTIF(BD!$K$1:$K7,BD!$J$1:$J$1000)=0,ROW(BD!$J$1:$J$1000)))))&""}
A9: 8 | D9: 8 | G9: 8 | K9: {=INDEX(BD!$J$1:$J$1000,MIN(IF(BD!$J$1:$J$1000<>"",IF(COUNTIF(BD!$K$1:$K8,BD!$J$1:$J$1000)=0,ROW(BD!$J$1:$J$1000)))))&""}
A10: 9 | D10: 9 | G10: 9 | J10: =LEFT(Logistique!J13,2) | K10: {=INDEX(BD!$J$1:$J$1000,MIN(IF(BD!$J$1:$J$1000<>"",IF(COUNTIF(BD!$K$1:$K9,BD!$J$1:$J$1000)=0,ROW(BD!$J$1:$J$1000)))))&""}
A11: 10 | D11: 10 | G11: 10 | J11: =LEFT(Logistique!J14,2) | K11: {=INDEX(BD!$J$1:$J$1000,MIN(IF(BD!$J$1:$J$1000<>"",IF(COUNTIF(BD!$K$1:$K10,BD!$J$1:$J$1000)=0,ROW(BD!$J$1:$J$1000)))))&""}
A12: 11 | D12: 11 | G12: 11 | J12: =LEFT(Logistique!J15,2) | K12: {=INDEX(BD!$J$1:$J$1000,MIN(IF(BD!$J$1:$J$1000<>"",IF(COUNTIF(BD!$K$1:$K11,BD!$J$1:$J$1000)=0,ROW(BD!$J$1:$J$1000)))))&""}
A13: 12 | D13: 12 | G13: 12 | J13: =LEFT(Logistique!J16,2) | K13: {=INDEX(BD!$J$1:$J$1000,MIN(IF(BD!$J$1:$J$1000<>"",IF(COUNTIF(BD!$K$1:$K12,BD!$J$1:$J$1000)=0,ROW(BD!$J$1:$J$1000)))))&""}
A14: 13 | D14: 13 | G14: 13 | J14: =LEFT(Logistique!J17,2) | K14: {=INDEX(BD!$J$1:$J$1000,MIN(IF(BD!$J$1:$J$1000<>"",IF(COUNTIF(BD!$K$1:$K13,BD!$J$1:$J$1000)=0,ROW(BD!$J$1:$J$1000)))))&""}
A15: 14 | D15: 14 | G15: 14 | J15: =LEFT(Logistique!J18,2) | K15: {=INDEX(BD!$J$1:$J$1000,MIN(IF(BD!$J$1:$J$1000<>"",IF(COUNTIF(BD!$K$1:$K14,BD!$J$1:$J$1000)=0,ROW(BD!$J$1:$J$1000)))))&""}
A16: 15 | D16: 15 | G16: 15 | J16: =LEFT(Logistique!J19,2) | K16: {=INDEX(BD!$J$1:$J$1000,MIN(IF(BD!$J$1:$J$1000<>"",IF(COUNTIF(BD!$K$1:$K15,BD!$J$1:$J$1000)=0,ROW(BD!$J$1:$J$1000)))))&""}
A17: 16 | D17: 16 | G17: 16 | J17: =LEFT(Logistique!J20,2) | K17: {=INDEX(BD!$J$1:$J$1000,MIN(IF(BD!$J$1:$J$1000<>"",IF(COUNTIF(BD!$K$1:$K16,BD!$J$1:$J$1000)=0,ROW(BD!$J$1:$J$1000)))))&""}
A18: 17 | D18: 17 | G18: 17 | J18: =LEFT(Logistique!J21,2) | K18: {=INDEX(BD!$J$1:$J$1000,MIN(IF(BD!$J$1:$J$1000<>"",IF(COUNTIF(BD!$K$1:$K17,BD!$J$1:$J$1000)=0,ROW(BD!$J$1:$J$1000)))))&""}
A19: 18 | D19: 18 | G19: 18 | J19: =LEFT(Logistique!J22,2) | K19: {=INDEX(BD!$J$1:$J$1000,MIN(IF(BD!$J$1:$J$1000<>"",IF(COUNTIF(BD!$K$1:$K18,BD!$J$1:$J$1000)=0,ROW(BD!$J$1:$J$1000)))))&""}
A20: 19 | D20: 19 | G20: 19 | J20: =LEFT(Logistique!J23,2) | K20: {=INDEX(BD!$J$1:$J$1000,MIN(IF(BD!$J$1:$J$1000<>"",IF(COUNTIF(BD!$K$1:$K19,BD!$J$1:$J$1000)=0,ROW(BD!$J$1:$J$1000)))))&""}
A21: 20 | D21: 20 | G21: 20 | J21: =LEFT(Logistique!J24,2) | K21: {=INDEX(BD!$J$1:$J$1000,MIN(IF(BD!$J$1:$J$1000<>"",IF(COUNTIF(BD!$K$1:$K20,BD!$J$1:$J$1000)=0,ROW(BD!$J$1:$J$1000)))))&""}
... A101: 100 | D101: 100 | G101: 100 | J101: =LEFT(Logistique!J104,2) | K101: {=INDEX(BD!$J$1:$J$1000,MIN(IF(BD!$J$1:$J$1000<>"",IF(COUNTIF(BD!$K$1:$K100,BD!$J$1:$J$1000)=0,ROW(BD!$J$1:$J$1000)))))&""}
