Workbook
Name Début_: Tableau1[Début_]
Name fin_: Tableau1[FIN_]
Name fin_3: Tableau1[FIN3_]
Name fin2_: Tableau1[FIN2_]
Name Jec: Feuil1!$D$8:$N$8
Name Jojo: Feuil1!$D$6:$N$6
Name mama: Feuil1!$D$9:$N$9
Name papa: Feuil1!$D$10:$N$10
Name Toto: Feuil1!$D$7:$N$7

Sheet Feuil1
E2: Les croix c'est seulement pour faire correspondre les initiales sur les calendriers mais on peux faire sans
F3: =SUM(OFFSET(Feuil1!$D$5,MATCH("jojo",Tableau1[Equipe],0),0,1,11)) -> 0
D4: Pavillons | O4: MONTAGE | Q4: Chantier | R4: Nettoyage
C5: Equipe | D5: 1; | E5: 2; | F5: 3; | G5: 4; | H5: 5A; | I5: 5B1; | J5: 5B2; | K5: 6; | L5: 7; | M5: 8A; | N5: 8B; | O5: Début_ | P5: FIN_ | Q5: FIN2_ | R5: FIN3_
C6: Jojo | D6: x | E6: x | F6: x | I6: x | M6: x | O6: 43470 | P6: 43475 | Q6: 43479 | R6: 43480
C7: Toto | G7: X | H7: X | O7: 43468 | P7: 43478 | Q7: 43481 | R7: 43482
C8: Jec | E8: X | J8: X | O8: 43483 | P8: 43484 | Q8: 43485 | R8: 43487
C9: mama | L9: X | O9: 43485 | P9: 43489 | Q9: 43492 | R9: 43495
C10: Papa | N10: X | O10: 43477 | P10: 43492 | Q10: 43496 | R10: 43499
AD12: 43492 | AE12: 43493 | AF12: 43494 | AG12: 43495 | AH12: 43496
AD21: S | AE21: D | AF21: D | AG21: D
AD23: MO | AE23: S | AF23: S | AG23: S | AH23: S
D26: =IF(HLOOKUP($C13,$D$5:$N$10,2,0)="x",IF(AND(D$12>=$O6,D$12<=$P6),"mo",IF(AND(D$12>$P6,D$12<=$Q6),"s",IF(AND(D$12=$R6),"d",""))),"") -> #N/A | E26: =IF(HLOOKUP($C13,$D$5:$N$10,2,0)="x",IF(AND(E$12>=$O6,E$12<=$P6),"mo",IF(AND(E$12>$P6,E$12<=$Q6),"s",IF(AND(E$12=$R6),"d",""))),"") -> #N/A | F26: =IF(HLOOKUP($C13,$D$5:$N$10,2,0)="x",IF(AND(F$12>=$O6,F$12<=$P6),"mo",IF(AND(F$12>$P6,F$12<=$Q6),"s",IF(AND(F$12=$R6),"d",""))),"") -> #N/A | G26: =IF(HLOOKUP($C13,$D$5:$N$10,2,0)="x",IF(AND(G$12>=$O6,G$12<=$P6),"mo",IF(AND(G$12>$P6,G$12<=$Q6),"s",IF(AND(G$12=$R6),"d",""))),"") -> #N/A | H26: =IF(HLOOKUP($C13,$D$5:$N$10,2,0)="x",IF(AND(H$12>=$O6,H$12<=$P6),"mo",IF(AND(H$12>$P6,H$12<=$Q6),"s",IF(AND(H$12=$R6),"d",""))),"") -> #N/A | I26: =IF(HLOOKUP($C13,$D$5:$N$10,2,0)="x",IF(AND(I$12>=$O6,I$12<=$P6),"mo",IF(AND(I$12>$P6,I$12<=$Q6),"s",IF(AND(I$12=$R6),"d",""))),"") -> #N/A | J26: =IF(HLOOKUP($C13,$D$5:$N$10,2,0)="x",IF(AND(J$12>=$O6,J$12<=$P6),"mo",IF(AND(J$12>$P6,J$12<=$Q6),"s",IF(AND(J$12=$R6),"d",""))),"") -> #N/A | K26: =IF(HLOOKUP($C13,$D$5:$N$10,2,0)="x",IF(AND(K$12>=$O6,K$12<=$P6),"mo",IF(AND(K$12>$P6,K$12<=$Q6),"s",IF(AND(K$12=$R6),"d",""))),"") -> #N/A | ... T26: =IF(HLOOKUP($C13,$D$5:$N$10,2,0)="x",IF(AND(T$12>=$O6,T$12<=$P6),"mo",IF(AND(T$12>$P6,T$12<=$Q6),"s",IF(AND(T$12=$R6),"d",""))),"") -> #N/A | U26: =IF(AND(U$12>=$O6,U$12<=$P6),"mo",IF(AND(U$12>$P6,U$12<=$Q6),"s",IF(AND(U$12=$R6),"d",""))) | V26: =IF(AND(V$12>=$O6,V$12<=$P6),"mo",IF(AND(V$12>$P6,V$12<=$Q6),"s",IF(AND(V$12=$R6),"d","")))

Sheet Feuil2
A4: date | B4: jojo | C4: pav | D4: toto | E4: pav | F4: jec | G4: pav | H4: mama | I4: pav | J4: papa | K4: pav
A5: 43466 | B5: =_xlfn.IFS($A5<OFFSET(Feuil1!$D$5,MATCH(B$4,Tableau1[Equipe],0),11),"",AND($A5>=OFFSET(Feuil1!$D$5,MATCH(B$4,Tableau1[Equipe],0),11),$A5<=OFFSET(Feuil1!$D$5,MATCH(B$4,Tableau1[Equipe],0),12)),"mo",AND($A5>OFFSET(Feuil1!$D$5,MATCH(B$4,Tableau1[Equipe],0),12),$A5<=OFFSET(Feuil1!$D$5,MATCH(B$4,Tableau1[Equipe],0),13)),"s",AND($A5>OFFSET(Feuil1!$D$5,MATCH(B$4,Tableau1[Equipe],0),13),$A5<=OFFSET(Feuil1!$D$5,MATCH(B$4,Tableau1[Equipe],0),14)),"d",$A5>OFFSET(Feuil1!$D$5,MATCH(B$4,Tableau1[Equipe],0),14),"") | C5: {=IF(B5="","",_xlfn.CONCAT(IF(INDIRECT(B$4)="x",Tableau1[[#Headers],[1;]:[8B;]],"")))} | D5: =_xlfn.IFS($A5<OFFSET(Feuil1!$D$5,MATCH(D$4,Tableau1[Equipe],0),11),"",AND($A5>=OFFSET(Feuil1!$D$5,MATCH(D$4,Tableau1[Equipe],0),11),$A5<=OFFSET(Feuil1!$D$5,MATCH(D$4,Tableau1[Equipe],0),12)),"mo",AND($A5>OFFSET(Feuil1!$D$5,MATCH(D$4,Tableau1[Equipe],0),12),$A5<=OFFSET(Feuil1!$D$5,MATCH(D$4,Tableau1[Equipe],0),13)),"s",AND($A5>OFFSET(Feuil1!$D$5,MATCH(D$4,Tableau1[Equipe],0),13),$A5<=OFFSET(Feuil1!$D$5,MATCH(D$4,Tableau1[Equipe],0),14)),"d",$A5>OFFSET(Feuil1!$D$5,MATCH(D$4,Tableau1[Equipe],0),14),"") | E5: {=IF(D5="","",_xlfn.CONCAT(IF(INDIRECT(D$4)="x",Tableau1[[#Headers],[1;]:[8B;]],"")))} | F5: =_xlfn.IFS($A5<OFFSET(Feuil1!$D$5,MATCH(F$4,Tableau1[Equipe],0),11),"",AND($A5>=OFFSET(Feuil1!$D$5,MATCH(F$4,Tableau1[Equipe],0),11),$A5<=OFFSET(Feuil1!$D$5,MATCH(F$4,Tableau1[Equipe],0),12)),"mo",AND($A5>OFFSET(Feuil1!$D$5,MATCH(F$4,Tableau1[Equipe],0),12),$A5<=OFFSET(Feuil1!$D$5,MATCH(F$4,Tableau1[Equipe],0),13)),"s",AND($A5>OFFSET(Feuil1!$D$5,MATCH(F$4,Tableau1[Equipe],0),13),$A5<=OFFSET(Feuil1!$D$5,MATCH(F$4,Tableau1[Equipe],0),14)),"d",$A5>OFFSET(Feuil1!$D$5,MATCH(F$4,Tableau1[Equipe],0),14),"") | G5: {=IF(F5="","",_xlfn.CONCAT(IF(INDIRECT(F$4)="x",Tableau1[[#Headers],[1;]:[8B;]],"")))} | H5: =_xlfn.IFS($A5<OFFSET(Feuil1!$D$5,MATCH(H$4,Tableau1[Equipe],0),11),"",AND($A5>=OFFSET(Feuil1!$D$5,MATCH(H$4,Tableau1[Equipe],0),11),$A5<=OFFSET(Feuil1!$D$5,MATCH(H$4,Tableau1[Equipe],0),12)),"mo",AND($A5>OFFSET(Feuil1!$D$5,MATCH(H$4,Tableau1[Equipe],0),12),$A5<=OFFSET(Feuil1!$D$5,MATCH(H$4,Tableau1[Equipe],0),13)),"s",AND($A5>OFFSET(Feuil1!$D$5,MATCH(H$4,Tableau1[Equipe],0),13),$A5<=OFFSET(Feuil1!$D$5,MATCH(H$4,Tableau1[Equipe],0),14)),"d",$A5>OFFSET(Feuil1!$D$5,MATCH(H$4,Tableau1[Equipe],0),14),"") | I5: {=IF(H5="","",_xlfn.CONCAT(IF(INDIRECT(H$4)="x",Tableau1[[#Headers],[1;]:[8B;]],"")))} | J5: =_xlfn.IFS($A5<OFFSET(Feuil1!$D$5,MATCH(J$4,Tableau1[Equipe],0),11),"",AND($A5>=OFFSET(Feuil1!$D$5,MATCH(J$4,Tableau1[Equipe],0),11),$A5<=OFFSET(Feuil1!$D$5,MATCH(J$4,Tableau1[Equipe],0),12)),"mo",AND($A5>OFFSET(Feuil1!$D$5,MATCH(J$4,Tableau1[Equipe],0),12),$A5<=OFFSET(Feuil1!$D$5,MATCH(J$4,Tableau1[Equipe],0),13)),"s",AND($A5>OFFSET(Feuil1!$D$5,MATCH(J$4,Tableau1[Equipe],0),13),$A5<=OFFSET(Feuil1!$D$5,MATCH(J$4,Tableau1[Equipe],0),14)),"d",$A5>OFFSET(Feuil1!$D$5,MATCH(J$4,Tableau1[Equipe],0),14),"") | K5: {=IF(J5="","",_xlfn.CONCAT(IF(INDIRECT(J$4)="x",Tableau1[[#Headers],[1;]:[8B;]],"")))}
A6: 43467 | B6: =_xlfn.IFS($A6<OFFSET(Feuil1!$D$5,MATCH(B$4,Tableau1[Equipe],0),11),"",AND($A6>=OFFSET(Feuil1!$D$5,MATCH(B$4,Tableau1[Equipe],0),11),$A6<=OFFSET(Feuil1!$D$5,MATCH(B$4,Tableau1[Equipe],0),12)),"mo",AND($A6>OFFSET(Feuil1!$D$5,MATCH(B$4,Tableau1[Equipe],0),12),$A6<=OFFSET(Feuil1!$D$5,MATCH(B$4,Tableau1[Equipe],0),13)),"s",AND($A6>OFFSET(Feuil1!$D$5,MATCH(B$4,Tableau1[Equipe],0),13),$A6<=OFFSET(Feuil1!$D$5,MATCH(B$4,Tableau1[Equipe],0),14)),"d",$A6>OFFSET(Feuil1!$D$5,MATCH(B$4,Tableau1[Equipe],0),14),"") | C6: {=IF(B6="","",_xlfn.CONCAT(IF(INDIRECT(B$4)="x",Tableau1[[#Headers],[1;]:[8B;]],"")))} | D6: =_xlfn.IFS($A6<OFFSET(Feuil1!$D$5,MATCH(D$4,Tableau1[Equipe],0),11),"",AND($A6>=OFFSET(Feuil1!$D$5,MATCH(D$4,Tableau1[Equipe],0),11),$A6<=OFFSET(Feuil1!$D$5,MATCH(D$4,Tableau1[Equipe],0),12)),"mo",AND($A6>OFFSET(Feuil1!$D$5,MATCH(D$4,Tableau1[Equipe],0),12),$A6<=OFFSET(Feuil1!$D$5,MATCH(D$4,Tableau1[Equipe],0),13)),"s",AND($A6>OFFSET(Feuil1!$D$5,MATCH(D$4,Tableau1[Equipe],0),13),$A6<=OFFSET(Feuil1!$D$5,MATCH(D$4,Tableau1[Equipe],0),14)),"d",$A6>OFFSET(Feuil1!$D$5,MATCH(D$4,Tableau1[Equipe],0),14),"") | E6: {=IF(D6="","",_xlfn.CONCAT(IF(INDIRECT(D$4)="x",Tableau1[[#Headers],[1;]:[8B;]],"")))} | F6: =_xlfn.IFS($A6<OFFSET(Feuil1!$D$5,MATCH(F$4,Tableau1[Equipe],0),11),"",AND($A6>=OFFSET(Feuil1!$D$5,MATCH(F$4,Tableau1[Equipe],0),11),$A6<=OFFSET(Feuil1!$D$5,MATCH(F$4,Tableau1[Equipe],0),12)),"mo",AND($A6>OFFSET(Feuil1!$D$5,MATCH(F$4,Tableau1[Equipe],0),12),$A6<=OFFSET(Feuil1!$D$5,MATCH(F$4,Tableau1[Equipe],0),13)),"s",AND($A6>OFFSET(Feuil1!$D$5,MATCH(F$4,Tableau1[Equipe],0),13),$A6<=OFFSET(Feuil1!$D$5,MATCH(F$4,Tableau1[Equipe],0),14)),"d",$A6>OFFSET(Feuil1!$D$5,MATCH(F$4,Tableau1[Equipe],0),14),"") | G6: {=IF(F6="","",_xlfn.CONCAT(IF(INDIRECT(F$4)="x",Tableau1[[#Headers],[1;]:[8B;]],"")))} | H6: =_xlfn.IFS($A6<OFFSET(Feuil1!$D$5,MATCH(H$4,Tableau1[Equipe],0),11),"",AND($A6>=OFFSET(Feuil1!$D$5,MATCH(H$4,Tableau1[Equipe],0),11),$A6<=OFFSET(Feuil1!$D$5,MATCH(H$4,Tableau1[Equipe],0),12)),"mo",AND($A6>OFFSET(Feuil1!$D$5,MATCH(H$4,Tableau1[Equipe],0),12),$A6<=OFFSET(Feuil1!$D$5,MATCH(H$4,Tableau1[Equipe],0),13)),"s",AND($A6>OFFSET(Feuil1!$D$5,MATCH(H$4,Tableau1[Equipe],0),13),$A6<=OFFSET(Feuil1!$D$5,MATCH(H$4,Tableau1[Equipe],0),14)),"d",$A6>OFFSET(Feuil1!$D$5,MATCH(H$4,Tableau1[Equipe],0),14),"") | I6: {=IF(H6="","",_xlfn.CONCAT(IF(INDIRECT(H$4)="x",Tableau1[[#Headers],[1;]:[8B;]],"")))} | J6: =_xlfn.IFS($A6<OFFSET(Feuil1!$D$5,MATCH(J$4,Tableau1[Equipe],0),11),"",AND($A6>=OFFSET(Feuil1!$D$5,MATCH(J$4,Tableau1[Equipe],0),11),$A6<=OFFSET(Feuil1!$D$5,MATCH(J$4,Tableau1[Equipe],0),12)),"mo",AND($A6>OFFSET(Feuil1!$D$5,MATCH(J$4,Tableau1[Equipe],0),12),$A6<=OFFSET(Feuil1!$D$5,MATCH(J$4,Tableau1[Equipe],0),13)),"s",AND($A6>OFFSET(Feuil1!$D$5,MATCH(J$4,Tableau1[Equipe],0),13),$A6<=OFFSET(Feuil1!$D$5,MATCH(J$4,Tableau1[Equipe],0),14)),"d",$A6>OFFSET(Feuil1!$D$5,MATCH(J$4,Tableau1[Equipe],0),14),"") | K6: {=IF(J6="","",_xlfn.CONCAT(IF(INDIRECT(J$4)="x",Tableau1[[#Headers],[1;]:[8B;]],"")))}
A7: 43468 | B7: =_xlfn.IFS($A7<OFFSET(Feuil1!$D$5,MATCH(B$4,Tableau1[Equipe],0),11),"",AND($A7>=OFFSET(Feuil1!$D$5,MATCH(B$4,Tableau1[Equipe],0),11),$A7<=OFFSET(Feuil1!$D$5,MATCH(B$4,Tableau1[Equipe],0),12)),"mo",AND($A7>OFFSET(Feuil1!$D$5,MATCH(B$4,Tableau1[Equipe],0),12),$A7<=OFFSET(Feuil1!$D$5,MATCH(B$4,Tableau1[Equipe],0),13)),"s",AND($A7>OFFSET(Feuil1!$D$5,MATCH(B$4,Tableau1[Equipe],0),13),$A7<=OFFSET(Feuil1!$D$5,MATCH(B$4,Tableau1[Equipe],0),14)),"d",$A7>OFFSET(Feuil1!$D$5,MATCH(B$4,Tableau1[Equipe],0),14),"") | C7: {=IF(B7="","",_xlfn.CONCAT(IF(INDIRECT(B$4)="x",Tableau1[[#Headers],[1;]:[8B;]],"")))} | D7: =_xlfn.IFS($A7<OFFSET(Feuil1!$D$5,MATCH(D$4,Tableau1[Equipe],0),11),"",AND($A7>=OFFSET(Feuil1!$D$5,MATCH(D$4,Tableau1[Equipe],0),11),$A7<=OFFSET(Feuil1!$D$5,MATCH(D$4,Tableau1[Equipe],0),12)),"mo",AND($A7>OFFSET(Feuil1!$D$5,MATCH(D$4,Tableau1[Equipe],0),12),$A7<=OFFSET(Feuil1!$D$5,MATCH(D$4,Tableau1[Equipe],0),13)),"s",AND($A7>OFFSET(Feuil1!$D$5,MATCH(D$4,Tableau1[Equipe],0),13),$A7<=OFFSET(Feuil1!$D$5,MATCH(D$4,Tableau1[Equipe],0),14)),"d",$A7>OFFSET(Feuil1!$D$5,MATCH(D$4,Tableau1[Equipe],0),14),"") -> mo | E7: {=IF(D7="","",_xlfn.CONCAT(IF(INDIRECT(D$4)="x",Tableau1[[#Headers],[1;]:[8B;]],"")))} -> 4;5A; | F7: =_xlfn.IFS($A7<OFFSET(Feuil1!$D$5,MATCH(F$4,Tableau1[Equipe],0),11),"",AND($A7>=OFFSET(Feuil1!$D$5,MATCH(F$4,Tableau1[Equipe],0),11),$A7<=OFFSET(Feuil1!$D$5,MATCH(F$4,Tableau1[Equipe],0),12)),"mo",AND($A7>OFFSET(Feuil1!$D$5,MATCH(F$4,Tableau1[Equipe],0),12),$A7<=OFFSET(Feuil1!$D$5,MATCH(F$4,Tableau1[Equipe],0),13)),"s",AND($A7>OFFSET(Feuil1!$D$5,MATCH(F$4,Tableau1[Equipe],0),13),$A7<=OFFSET(Feuil1!$D$5,MATCH(F$4,Tableau1[Equipe],0),14)),"d",$A7>OFFSET(Feuil1!$D$5,MATCH(F$4,Tableau1[Equipe],0),14),"") | G7: {=IF(F7="","",_xlfn.CONCAT(IF(INDIRECT(F$4)="x",Tableau1[[#Headers],[1;]:[8B;]],"")))} | H7: =_xlfn.IFS($A7<OFFSET(Feuil1!$D$5,MATCH(H$4,Tableau1[Equipe],0),11),"",AND($A7>=OFFSET(Feuil1!$D$5,MATCH(H$4,Tableau1[Equipe],0),11),$A7<=OFFSET(Feuil1!$D$5,MATCH(H$4,Tableau1[Equipe],0),12)),"mo",AND($A7>OFFSET(Feuil1!$D$5,MATCH(H$4,Tableau1[Equipe],0),12),$A7<=OFFSET(Feuil1!$D$5,MATCH(H$4,Tableau1[Equipe],0),13)),"s",AND($A7>OFFSET(Feuil1!$D$5,MATCH(H$4,Tableau1[Equipe],0),13),$A7<=OFFSET(Feuil1!$D$5,MATCH(H$4,Tableau1[Equipe],0),14)),"d",$A7>OFFSET(Feuil1!$D$5,MATCH(H$4,Tableau1[Equipe],0),14),"") | I7: {=IF(H7="","",_xlfn.CONCAT(IF(INDIRECT(H$4)="x",Tableau1[[#Headers],[1;]:[8B;]],"")))} | J7: =_xlfn.IFS($A7<OFFSET(Feuil1!$D$5,MATCH(J$4,Tableau1[Equipe],0),11),"",AND($A7>=OFFSET(Feuil1!$D$5,MATCH(J$4,Tableau1[Equipe],0),11),$A7<=OFFSET(Feuil1!$D$5,MATCH(J$4,Tableau1[Equipe],0),12)),"mo",AND($A7>OFFSET(Feuil1!$D$5,MATCH(J$4,Tableau1[Equipe],0),12),$A7<=OFFSET(Feuil1!$D$5,MATCH(J$4,Tableau1[Equipe],0),13)),"s",AND($A7>OFFSET(Feuil1!$D$5,MATCH(J$4,Tableau1[Equipe],0),13),$A7<=OFFSET(Feuil1!$D$5,MATCH(J$4,Tableau1[Equipe],0),14)),"d",$A7>OFFSET(Feuil1!$D$5,MATCH(J$4,Tableau1[Equipe],0),14),"") | K7: {=IF(J7="","",_xlfn.CONCAT(IF(INDIRECT(J$4)="x",Tableau1[[#Headers],[1;]:[8B;]],"")))}
A8: 43469 | B8: =_xlfn.IFS($A8<OFFSET(Feuil1!$D$5,MATCH(B$4,Tableau1[Equipe],0),11),"",AND($A8>=OFFSET(Feuil1!$D$5,MATCH(B$4,Tableau1[Equipe],0),11),$A8<=OFFSET(Feuil1!$D$5,MATCH(B$4,Tableau1[Equipe],0),12)),"mo",AND($A8>OFFSET(Feuil1!$D$5,MATCH(B$4,Tableau1[Equipe],0),12),$A8<=OFFSET(Feuil1!$D$5,MATCH(B$4,Tableau1[Equipe],0),13)),"s",AND($A8>OFFSET(Feuil1!$D$5,MATCH(B$4,Tableau1[Equipe],0),13),$A8<=OFFSET(Feuil1!$D$5,MATCH(B$4,Tableau1[Equipe],0),14)),"d",$A8>OFFSET(Feuil1!$D$5,MATCH(B$4,Tableau1[Equipe],0),14),"") | C8: {=IF(B8="","",_xlfn.CONCAT(IF(INDIRECT(B$4)="x",Tableau1[[#Headers],[1;]:[8B;]],"")))} | D8: =_xlfn.IFS($A8<OFFSET(Feuil1!$D$5,MATCH(D$4,Tableau1[Equipe],0),11),"",AND($A8>=OFFSET(Feuil1!$D$5,MATCH(D$4,Tableau1[Equipe],0),11),$A8<=OFFSET(Feuil1!$D$5,MATCH(D$4,Tableau1[Equipe],0),12)),"mo",AND($A8>OFFSET(Feuil1!$D$5,MATCH(D$4,Tableau1[Equipe],0),12),$A8<=OFFSET(Feuil1!$D$5,MATCH(D$4,Tableau1[Equipe],0),13)),"s",AND($A8>OFFSET(Feuil1!$D$5,MATCH(D$4,Tableau1[Equipe],0),13),$A8<=OFFSET(Feuil1!$D$5,MATCH(D$4,Tableau1[Equipe],0),14)),"d",$A8>OFFSET(Feuil1!$D$5,MATCH(D$4,Tableau1[Equipe],0),14),"") -> mo | E8: {=IF(D8="","",_xlfn.CONCAT(IF(INDIRECT(D$4)="x",Tableau1[[#Headers],[1;]:[8B;]],"")))} -> 4;5A; | F8: =_xlfn.IFS($A8<OFFSET(Feuil1!$D$5,MATCH(F$4,Tableau1[Equipe],0),11),"",AND($A8>=OFFSET(Feuil1!$D$5,MATCH(F$4,Tableau1[Equipe],0),11),$A8<=OFFSET(Feuil1!$D$5,MATCH(F$4,Tableau1[Equipe],0),12)),"mo",AND($A8>OFFSET(Feuil1!$D$5,MATCH(F$4,Tableau1[Equipe],0),12),$A8<=OFFSET(Feuil1!$D$5,MATCH(F$4,Tableau1[Equipe],0),13)),"s",AND($A8>OFFSET(Feuil1!$D$5,MATCH(F$4,Tableau1[Equipe],0),13),$A8<=OFFSET(Feuil1!$D$5,MATCH(F$4,Tableau1[Equipe],0),14)),"d",$A8>OFFSET(Feuil1!$D$5,MATCH(F$4,Tableau1[Equipe],0),14),"") | G8: {=IF(F8="","",_xlfn.CONCAT(IF(INDIRECT(F$4)="x",Tableau1[[#Headers],[1;]:[8B;]],"")))} | H8: =_xlfn.IFS($A8<OFFSET(Feuil1!$D$5,MATCH(H$4,Tableau1[Equipe],0),11),"",AND($A8>=OFFSET(Feuil1!$D$5,MATCH(H$4,Tableau1[Equipe],0),11),$A8<=OFFSET(Feuil1!$D$5,MATCH(H$4,Tableau1[Equipe],0),12)),"mo",AND($A8>OFFSET(Feuil1!$D$5,MATCH(H$4,Tableau1[Equipe],0),12),$A8<=OFFSET(Feuil1!$D$5,MATCH(H$4,Tableau1[Equipe],0),13)),"s",AND($A8>OFFSET(Feuil1!$D$5,MATCH(H$4,Tableau1[Equipe],0),13),$A8<=OFFSET(Feuil1!$D$5,MATCH(H$4,Tableau1[Equipe],0),14)),"d",$A8>OFFSET(Feuil1!$D$5,MATCH(H$4,Tableau1[Equipe],0),14),"") | I8: {=IF(H8="","",_xlfn.CONCAT(IF(INDIRECT(H$4)="x",Tableau1[[#Headers],[1;]:[8B;]],"")))} | J8: =_xlfn.IFS($A8<OFFSET(Feuil1!$D$5,MATCH(J$4,Tableau1[Equipe],0),11),"",AND($A8>=OFFSET(Feuil1!$D$5,MATCH(J$4,Tableau1[Equipe],0),11),$A8<=OFFSET(Feuil1!$D$5,MATCH(J$4,Tableau1[Equipe],0),12)),"mo",AND($A8>OFFSET(Feuil1!$D$5,MATCH(J$4,Tableau1[Equipe],0),12),$A8<=OFFSET(Feuil1!$D$5,MATCH(J$4,Tableau1[Equipe],0),13)),"s",AND($A8>OFFSET(Feuil1!$D$5,MATCH(J$4,Tableau1[Equipe],0),13),$A8<=OFFSET(Feuil1!$D$5,MATCH(J$4,Tableau1[Equipe],0),14)),"d",$A8>OFFSET(Feuil1!$D$5,MATCH(J$4,Tableau1[Equipe],0),14),"") | K8: {=IF(J8="","",_xlfn.CONCAT(IF(INDIRECT(J$4)="x",Tableau1[[#Headers],[1;]:[8B;]],"")))}
A9: 43470 | B9: =_xlfn.IFS($A9<OFFSET(Feuil1!$D$5,MATCH(B$4,Tableau1[Equipe],0),11),"",AND($A9>=OFFSET(Feuil1!$D$5,MATCH(B$4,Tableau1[Equipe],0),11),$A9<=OFFSET(Feuil1!$D$5,MATCH(B$4,Tableau1[Equipe],0),12)),"mo",AND($A9>OFFSET(Feuil1!$D$5,MATCH(B$4,Tableau1[Equipe],0),12),$A9<=OFFSET(Feuil1!$D$5,MATCH(B$4,Tableau1[Equipe],0),13)),"s",AND($A9>OFFSET(Feuil1!$D$5,MATCH(B$4,Tableau1[Equipe],0),13),$A9<=OFFSET(Feuil1!$D$5,MATCH(B$4,Tableau1[Equipe],0),14)),"d",$A9>OFFSET(Feuil1!$D$5,MATCH(B$4,Tableau1[Equipe],0),14),"") -> mo | C9: {=IF(B9="","",_xlfn.CONCAT(IF(INDIRECT(B$4)="x",Tableau1[[#Headers],[1;]:[8B;]],"")))} -> 1;2;3;5B1;8A; | D9: =_xlfn.IFS($A9<OFFSET(Feuil1!$D$5,MATCH(D$4,Tableau1[Equipe],0),11),"",AND($A9>=OFFSET(Feuil1!$D$5,MATCH(D$4,Tableau1[Equipe],0),11),$A9<=OFFSET(Feuil1!$D$5,MATCH(D$4,Tableau1[Equipe],0),12)),"mo",AND($A9>OFFSET(Feuil1!$D$5,MATCH(D$4,Tableau1[Equipe],0),12),$A9<=OFFSET(Feuil1!$D$5,MATCH(D$4,Tableau1[Equipe],0),13)),"s",AND($A9>OFFSET(Feuil1!$D$5,MATCH(D$4,Tableau1[Equipe],0),13),$A9<=OFFSET(Feuil1!$D$5,MATCH(D$4,Tableau1[Equipe],0),14)),"d",$A9>OFFSET(Feuil1!$D$5,MATCH(D$4,Tableau1[Equipe],0),14),"") -> mo | E9: {=IF(D9="","",_xlfn.CONCAT(IF(INDIRECT(D$4)="x",Tableau1[[#Headers],[1;]:[8B;]],"")))} -> 4;5A; | F9: =_xlfn.IFS($A9<OFFSET(Feuil1!$D$5,MATCH(F$4,Tableau1[Equipe],0),11),"",AND($A9>=OFFSET(Feuil1!$D$5,MATCH(F$4,Tableau1[Equipe],0),11),$A9<=OFFSET(Feuil1!$D$5,MATCH(F$4,Tableau1[Equipe],0),12)),"mo",AND($A9>OFFSET(Feuil1!$D$5,MATCH(F$4,Tableau1[Equipe],0),12),$A9<=OFFSET(Feuil1!$D$5,MATCH(F$4,Tableau1[Equipe],0),13)),"s",AND($A9>OFFSET(Feuil1!$D$5,MATCH(F$4,Tableau1[Equipe],0),13),$A9<=OFFSET(Feuil1!$D$5,MATCH(F$4,Tableau1[Equipe],0),14)),"d",$A9>OFFSET(Feuil1!$D$5,MATCH(F$4,Tableau1[Equipe],0),14),"") | G9: {=IF(F9="","",_xlfn.CONCAT(IF(INDIRECT(F$4)="x",Tableau1[[#Headers],[1;]:[8B;]],"")))} | H9: =_xlfn.IFS($A9<OFFSET(Feuil1!$D$5,MATCH(H$4,Tableau1[Equipe],0),11),"",AND($A9>=OFFSET(Feuil1!$D$5,MATCH(H$4,Tableau1[Equipe],0),11),$A9<=OFFSET(Feuil1!$D$5,MATCH(H$4,Tableau1[Equipe],0),12)),"mo",AND($A9>OFFSET(Feuil1!$D$5,MATCH(H$4,Tableau1[Equipe],0),12),$A9<=OFFSET(Feuil1!$D$5,MATCH(H$4,Tableau1[Equipe],0),13)),"s",AND($A9>OFFSET(Feuil1!$D$5,MATCH(H$4,Tableau1[Equipe],0),13),$A9<=OFFSET(Feuil1!$D$5,MATCH(H$4,Tableau1[Equipe],0),14)),"d",$A9>OFFSET(Feuil1!$D$5,MATCH(H$4,Tableau1[Equipe],0),14),"") | I9: {=IF(H9="","",_xlfn.CONCAT(IF(INDIRECT(H$4)="x",Tableau1[[#Headers],[1;]:[8B;]],"")))} | J9: =_xlfn.IFS($A9<OFFSET(Feuil1!$D$5,MATCH(J$4,Tableau1[Equipe],0),11),"",AND($A9>=OFFSET(Feuil1!$D$5,MATCH(J$4,Tableau1[Equipe],0),11),$A9<=OFFSET(Feuil1!$D$5,MATCH(J$4,Tableau1[Equipe],0),12)),"mo",AND($A9>OFFSET(Feuil1!$D$5,MATCH(J$4,Tableau1[Equipe],0),12),$A9<=OFFSET(Feuil1!$D$5,MATCH(J$4,Tableau1[Equipe],0),13)),"s",AND($A9>OFFSET(Feuil1!$D$5,MATCH(J$4,Tableau1[Equipe],0),13),$A9<=OFFSET(Feuil1!$D$5,MATCH(J$4,Tableau1[Equipe],0),14)),"d",$A9>OFFSET(Feuil1!$D$5,MATCH(J$4,Tableau1[Equipe],0),14),"") | K9: {=IF(J9="","",_xlfn.CONCAT(IF(INDIRECT(J$4)="x",Tableau1[[#Headers],[1;]:[8B;]],"")))}
A10: 43471 | B10: =_xlfn.IFS($A10<OFFSET(Feuil1!$D$5,MATCH(B$4,Tableau1[Equipe],0),11),"",AND($A10>=OFFSET(Feuil1!$D$5,MATCH(B$4,Tableau1[Equipe],0),11),$A10<=OFFSET(Feuil1!$D$5,MATCH(B$4,Tableau1[Equipe],0),12)),"mo",AND($A10>OFFSET(Feuil1!$D$5,MATCH(B$4,Tableau1[Equipe],0),12),$A10<=OFFSET(Feuil1!$D$5,MATCH(B$4,Tableau1[Equipe],0),13)),"s",AND($A10>OFFSET(Feuil1!$D$5,MATCH(B$4,Tableau1[Equipe],0),13),$A10<=OFFSET(Feuil1!$D$5,MATCH(B$4,Tableau1[Equipe],0),14)),"d",$A10>OFFSET(Feuil1!$D$5,MATCH(B$4,Tableau1[Equipe],0),14),"") -> mo | C10: {=IF(B10="","",_xlfn.CONCAT(IF(INDIRECT(B$4)="x",Tableau1[[#Headers],[1;]:[8B;]],"")))} -> 1;2;3;5B1;8A; | D10: =_xlfn.IFS($A10<OFFSET(Feuil1!$D$5,MATCH(D$4,Tableau1[Equipe],0),11),"",AND($A10>=OFFSET(Feuil1!$D$5,MATCH(D$4,Tableau1[Equipe],0),11),$A10<=OFFSET(Feuil1!$D$5,MATCH(D$4,Tableau1[Equipe],0),12)),"mo",AND($A10>OFFSET(Feuil1!$D$5,MATCH(D$4,Tableau1[Equipe],0),12),$A10<=OFFSET(Feuil1!$D$5,MATCH(D$4,Tableau1[Equipe],0),13)),"s",AND($A10>OFFSET(Feuil1!$D$5,MATCH(D$4,Tableau1[Equipe],0),13),$A10<=OFFSET(Feuil1!$D$5,MATCH(D$4,Tableau1[Equipe],0),14)),"d",$A10>OFFSET(Feuil1!$D$5,MATCH(D$4,Tableau1[Equipe],0),14),"") -> mo | E10: {=IF(D10="","",_xlfn.CONCAT(IF(INDIRECT(D$4)="x",Tableau1[[#Headers],[1;]:[8B;]],"")))} -> 4;5A; | F10: =_xlfn.IFS($A10<OFFSET(Feuil1!$D$5,MATCH(F$4,Tableau1[Equipe],0),11),"",AND($A10>=OFFSET(Feuil1!$D$5,MATCH(F$4,Tableau1[Equipe],0),11),$A10<=OFFSET(Feuil1!$D$5,MATCH(F$4,Tableau1[Equipe],0),12)),"mo",AND($A10>OFFSET(Feuil1!$D$5,MATCH(F$4,Tableau1[Equipe],0),12),$A10<=OFFSET(Feuil1!$D$5,MATCH(F$4,Tableau1[Equipe],0),13)),"s",AND($A10>OFFSET(Feuil1!$D$5,MATCH(F$4,Tableau1[Equipe],0),13),$A10<=OFFSET(Feuil1!$D$5,MATCH(F$4,Tableau1[Equipe],0),14)),"d",$A10>OFFSET(Feuil1!$D$5,MATCH(F$4,Tableau1[Equipe],0),14),"") | G10: {=IF(F10="","",_xlfn.CONCAT(IF(INDIRECT(F$4)="x",Tableau1[[#Headers],[1;]:[8B;]],"")))} | H10: =_xlfn.IFS($A10<OFFSET(Feuil1!$D$5,MATCH(H$4,Tableau1[Equipe],0),11),"",AND($A10>=OFFSET(Feuil1!$D$5,MATCH(H$4,Tableau1[Equipe],0),11),$A10<=OFFSET(Feuil1!$D$5,MATCH(H$4,Tableau1[Equipe],0),12)),"mo",AND($A10>OFFSET(Feuil1!$D$5,MATCH(H$4,Tableau1[Equipe],0),12),$A10<=OFFSET(Feuil1!$D$5,MATCH(H$4,Tableau1[Equipe],0),13)),"s",AND($A10>OFFSET(Feuil1!$D$5,MATCH(H$4,Tableau1[Equipe],0),13),$A10<=OFFSET(Feuil1!$D$5,MATCH(H$4,Tableau1[Equipe],0),14)),"d",$A10>OFFSET(Feuil1!$D$5,MATCH(H$4,Tableau1[Equipe],0),14),"") | I10: {=IF(H10="","",_xlfn.CONCAT(IF(INDIRECT(H$4)="x",Tableau1[[#Headers],[1;]:[8B;]],"")))} | J10: =_xlfn.IFS($A10<OFFSET(Feuil1!$D$5,MATCH(J$4,Tableau1[Equipe],0),11),"",AND($A10>=OFFSET(Feuil1!$D$5,MATCH(J$4,Tableau1[Equipe],0),11),$A10<=OFFSET(Feuil1!$D$5,MATCH(J$4,Tableau1[Equipe],0),12)),"mo",AND($A10>OFFSET(Feuil1!$D$5,MATCH(J$4,Tableau1[Equipe],0),12),$A10<=OFFSET(Feuil1!$D$5,MATCH(J$4,Tableau1[Equipe],0),13)),"s",AND($A10>OFFSET(Feuil1!$D$5,MATCH(J$4,Tableau1[Equipe],0),13),$A10<=OFFSET(Feuil1!$D$5,MATCH(J$4,Tableau1[Equipe],0),14)),"d",$A10>OFFSET(Feuil1!$D$5,MATCH(J$4,Tableau1[Equipe],0),14),"") | K10: {=IF(J10="","",_xlfn.CONCAT(IF(INDIRECT(J$4)="x",Tableau1[[#Headers],[1;]:[8B;]],"")))}
A11: 43472 | B11: =_xlfn.IFS($A11<OFFSET(Feuil1!$D$5,MATCH(B$4,Tableau1[Equipe],0),11),"",AND($A11>=OFFSET(Feuil1!$D$5,MATCH(B$4,Tableau1[Equipe],0),11),$A11<=OFFSET(Feuil1!$D$5,MATCH(B$4,Tableau1[Equipe],0),12)),"mo",AND($A11>OFFSET(Feuil1!$D$5,MATCH(B$4,Tableau1[Equipe],0),12),$A11<=OFFSET(Feuil1!$D$5,MATCH(B$4,Tableau1[Equipe],0),13)),"s",AND($A11>OFFSET(Feuil1!$D$5,MATCH(B$4,Tableau1[Equipe],0),13),$A11<=OFFSET(Feuil1!$D$5,MATCH(B$4,Tableau1[Equipe],0),14)),"d",$A11>OFFSET(Feuil1!$D$5,MATCH(B$4,Tableau1[Equipe],0),14),"") -> mo | C11: {=IF(B11="","",_xlfn.CONCAT(IF(INDIRECT(B$4)="x",Tableau1[[#Headers],[1;]:[8B;]],"")))} -> 1;2;3;5B1;8A; | D11: =_xlfn.IFS($A11<OFFSET(Feuil1!$D$5,MATCH(D$4,Tableau1[Equipe],0),11),"",AND($A11>=OFFSET(Feuil1!$D$5,MATCH(D$4,Tableau1[Equipe],0),11),$A11<=OFFSET(Feuil1!$D$5,MATCH(D$4,Tableau1[Equipe],0),12)),"mo",AND($A11>OFFSET(Feuil1!$D$5,MATCH(D$4,Tableau1[Equipe],0),12),$A11<=OFFSET(Feuil1!$D$5,MATCH(D$4,Tableau1[Equipe],0),13)),"s",AND($A11>OFFSET(Feuil1!$D$5,MATCH(D$4,Tableau1[Equipe],0),13),$A11<=OFFSET(Feuil1!$D$5,MATCH(D$4,Tableau1[Equipe],0),14)),"d",$A11>OFFSET(Feuil1!$D$5,MATCH(D$4,Tableau1[Equipe],0),14),"") -> mo | E11: {=IF(D11="","",_xlfn.CONCAT(IF(INDIRECT(D$4)="x",Tableau1[[#Headers],[1;]:[8B;]],"")))} -> 4;5A; | F11: =_xlfn.IFS($A11<OFFSET(Feuil1!$D$5,MATCH(F$4,Tableau1[Equipe],0),11),"",AND($A11>=OFFSET(Feuil1!$D$5,MATCH(F$4,Tableau1[Equipe],0),11),$A11<=OFFSET(Feuil1!$D$5,MATCH(F$4,Tableau1[Equipe],0),12)),"mo",AND($A11>OFFSET(Feuil1!$D$5,MATCH(F$4,Tableau1[Equipe],0),12),$A11<=OFFSET(Feuil1!$D$5,MATCH(F$4,Tableau1[Equipe],0),13)),"s",AND($A11>OFFSET(Feuil1!$D$5,MATCH(F$4,Tableau1[Equipe],0),13),$A11<=OFFSET(Feuil1!$D$5,MATCH(F$4,Tableau1[Equipe],0),14)),"d",$A11>OFFSET(Feuil1!$D$5,MATCH(F$4,Tableau1[Equipe],0),14),"") | G11: {=IF(F11="","",_xlfn.CONCAT(IF(INDIRECT(F$4)="x",Tableau1[[#Headers],[1;]:[8B;]],"")))} | H11: =_xlfn.IFS($A11<OFFSET(Feuil1!$D$5,MATCH(H$4,Tableau1[Equipe],0),11),"",AND($A11>=OFFSET(Feuil1!$D$5,MATCH(H$4,Tableau1[Equipe],0),11),$A11<=OFFSET(Feuil1!$D$5,MATCH(H$4,Tableau1[Equipe],0),12)),"mo",AND($A11>OFFSET(Feuil1!$D$5,MATCH(H$4,Tableau1[Equipe],0),12),$A11<=OFFSET(Feuil1!$D$5,MATCH(H$4,Tableau1[Equipe],0),13)),"s",AND($A11>OFFSET(Feuil1!$D$5,MATCH(H$4,Tableau1[Equipe],0),13),$A11<=OFFSET(Feuil1!$D$5,MATCH(H$4,Tableau1[Equipe],0),14)),"d",$A11>OFFSET(Feuil1!$D$5,MATCH(H$4,Tableau1[Equipe],0),14),"") | I11: {=IF(H11="","",_xlfn.CONCAT(IF(INDIRECT(H$4)="x",Tableau1[[#Headers],[1;]:[8B;]],"")))} | J11: =_xlfn.IFS($A11<OFFSET(Feuil1!$D$5,MATCH(J$4,Tableau1[Equipe],0),11),"",AND($A11>=OFFSET(Feuil1!$D$5,MATCH(J$4,Tableau1[Equipe],0),11),$A11<=OFFSET(Feuil1!$D$5,MATCH(J$4,Tableau1[Equipe],0),12)),"mo",AND($A11>OFFSET(Feuil1!$D$5,MATCH(J$4,Tableau1[Equipe],0),12),$A11<=OFFSET(Feuil1!$D$5,MATCH(J$4,Tableau1[Equipe],0),13)),"s",AND($A11>OFFSET(Feuil1!$D$5,MATCH(J$4,Tableau1[Equipe],0),13),$A11<=OFFSET(Feuil1!$D$5,MATCH(J$4,Tableau1[Equipe],0),14)),"d",$A11>OFFSET(Feuil1!$D$5,MATCH(J$4,Tableau1[Equipe],0),14),"") | K11: {=IF(J11="","",_xlfn.CONCAT(IF(INDIRECT(J$4)="x",Tableau1[[#Headers],[1;]:[8B;]],"")))}
A12: 43473 | B12: =_xlfn.IFS($A12<OFFSET(Feuil1!$D$5,MATCH(B$4,Tableau1[Equipe],0),11),"",AND($A12>=OFFSET(Feuil1!$D$5,MATCH(B$4,Tableau1[Equipe],0),11),$A12<=OFFSET(Feuil1!$D$5,MATCH(B$4,Tableau1[Equipe],0),12)),"mo",AND($A12>OFFSET(Feuil1!$D$5,MATCH(B$4,Tableau1[Equipe],0),12),$A12<=OFFSET(Feuil1!$D$5,MATCH(B$4,Tableau1[Equipe],0),13)),"s",AND($A12>OFFSET(Feuil1!$D$5,MATCH(B$4,Tableau1[Equipe],0),13),$A12<=OFFSET(Feuil1!$D$5,MATCH(B$4,Tableau1[Equipe],0),14)),"d",$A12>OFFSET(Feuil1!$D$5,MATCH(B$4,Tableau1[Equipe],0),14),"") -> mo | C12: {=IF(B12="","",_xlfn.CONCAT(IF(INDIRECT(B$4)="x",Tableau1[[#Headers],[1;]:[8B;]],"")))} -> 1;2;3;5B1;8A; | D12: =_xlfn.IFS($A12<OFFSET(Feuil1!$D$5,MATCH(D$4,Tableau1[Equipe],0),11),"",AND($A12>=OFFSET(Feuil1!$D$5,MATCH(D$4,Tableau1[Equipe],0),11),$A12<=OFFSET(Feuil1!$D$5,MATCH(D$4,Tableau1[Equipe],0),12)),"mo",AND($A12>OFFSET(Feuil1!$D$5,MATCH(D$4,Tableau1[Equipe],0),12),$A12<=OFFSET(Feuil1!$D$5,MATCH(D$4,Tableau1[Equipe],0),13)),"s",AND($A12>OFFSET(Feuil1!$D$5,MATCH(D$4,Tableau1[Equipe],0),13),$A12<=OFFSET(Feuil1!$D$5,MATCH(D$4,Tableau1[Equipe],0),14)),"d",$A12>OFFSET(Feuil1!$D$5,MATCH(D$4,Tableau1[Equipe],0),14),"") -> mo | E12: {=IF(D12="","",_xlfn.CONCAT(IF(INDIRECT(D$4)="x",Tableau1[[#Headers],[1;]:[8B;]],"")))} -> 4;5A; | F12: =_xlfn.IFS($A12<OFFSET(Feuil1!$D$5,MATCH(F$4,Tableau1[Equipe],0),11),"",AND($A12>=OFFSET(Feuil1!$D$5,MATCH(F$4,Tableau1[Equipe],0),11),$A12<=OFFSET(Feuil1!$D$5,MATCH(F$4,Tableau1[Equipe],0),12)),"mo",AND($A12>OFFSET(Feuil1!$D$5,MATCH(F$4,Tableau1[Equipe],0),12),$A12<=OFFSET(Feuil1!$D$5,MATCH(F$4,Tableau1[Equipe],0),13)),"s",AND($A12>OFFSET(Feuil1!$D$5,MATCH(F$4,Tableau1[Equipe],0),13),$A12<=OFFSET(Feuil1!$D$5,MATCH(F$4,Tableau1[Equipe],0),14)),"d",$A12>OFFSET(Feuil1!$D$5,MATCH(F$4,Tableau1[Equipe],0),14),"") | G12: {=IF(F12="","",_xlfn.CONCAT(IF(INDIRECT(F$4)="x",Tableau1[[#Headers],[1;]:[8B;]],"")))} | H12: =_xlfn.IFS($A12<OFFSET(Feuil1!$D$5,MATCH(H$4,Tableau1[Equipe],0),11),"",AND($A12>=OFFSET(Feuil1!$D$5,MATCH(H$4,Tableau1[Equipe],0),11),$A12<=OFFSET(Feuil1!$D$5,MATCH(H$4,Tableau1[Equipe],0),12)),"mo",AND($A12>OFFSET(Feuil1!$D$5,MATCH(H$4,Tableau1[Equipe],0),12),$A12<=OFFSET(Feuil1!$D$5,MATCH(H$4,Tableau1[Equipe],0),13)),"s",AND($A12>OFFSET(Feuil1!$D$5,MATCH(H$4,Tableau1[Equipe],0),13),$A12<=OFFSET(Feuil1!$D$5,MATCH(H$4,Tableau1[Equipe],0),14)),"d",$A12>OFFSET(Feuil1!$D$5,MATCH(H$4,Tableau1[Equipe],0),14),"") | I12: {=IF(H12="","",_xlfn.CONCAT(IF(INDIRECT(H$4)="x",Tableau1[[#Headers],[1;]:[8B;]],"")))} | J12: =_xlfn.IFS($A12<OFFSET(Feuil1!$D$5,MATCH(J$4,Tableau1[Equipe],0),11),"",AND($A12>=OFFSET(Feuil1!$D$5,MATCH(J$4,Tableau1[Equipe],0),11),$A12<=OFFSET(Feuil1!$D$5,MATCH(J$4,Tableau1[Equipe],0),12)),"mo",AND($A12>OFFSET(Feuil1!$D$5,MATCH(J$4,Tableau1[Equipe],0),12),$A12<=OFFSET(Feuil1!$D$5,MATCH(J$4,Tableau1[Equipe],0),13)),"s",AND($A12>OFFSET(Feuil1!$D$5,MATCH(J$4,Tableau1[Equipe],0),13),$A12<=OFFSET(Feuil1!$D$5,MATCH(J$4,Tableau1[Equipe],0),14)),"d",$A12>OFFSET(Feuil1!$D$5,MATCH(J$4,Tableau1[Equipe],0),14),"") | K12: {=IF(J12="","",_xlfn.CONCAT(IF(INDIRECT(J$4)="x",Tableau1[[#Headers],[1;]:[8B;]],"")))}
A13: 43474 | B13: =_xlfn.IFS($A13<OFFSET(Feuil1!$D$5,MATCH(B$4,Tableau1[Equipe],0),11),"",AND($A13>=OFFSET(Feuil1!$D$5,MATCH(B$4,Tableau1[Equipe],0),11),$A13<=OFFSET(Feuil1!$D$5,MATCH(B$4,Tableau1[Equipe],0),12)),"mo",AND($A13>OFFSET(Feuil1!$D$5,MATCH(B$4,Tableau1[Equipe],0),12),$A13<=OFFSET(Feuil1!$D$5,MATCH(B$4,Tableau1[Equipe],0),13)),"s",AND($A13>OFFSET(Feuil1!$D$5,MATCH(B$4,Tableau1[Equipe],0),13),$A13<=OFFSET(Feuil1!$D$5,MATCH(B$4,Tableau1[Equipe],0),14)),"d",$A13>OFFSET(Feuil1!$D$5,MATCH(B$4,Tableau1[Equipe],0),14),"") -> mo | C13: {=IF(B13="","",_xlfn.CONCAT(IF(INDIRECT(B$4)="x",Tableau1[[#Headers],[1;]:[8B;]],"")))} -> 1;2;3;5B1;8A; | D13: =_xlfn.IFS($A13<OFFSET(Feuil1!$D$5,MATCH(D$4,Tableau1[Equipe],0),11),"",AND($A13>=OFFSET(Feuil1!$D$5,MATCH(D$4,Tableau1[Equipe],0),11),$A13<=OFFSET(Feuil1!$D$5,MATCH(D$4,Tableau1[Equipe],0),12)),"mo",AND($A13>OFFSET(Feuil1!$D$5,MATCH(D$4,Tableau1[Equipe],0),12),$A13<=OFFSET(Feuil1!$D$5,MATCH(D$4,Tableau1[Equipe],0),13)),"s",AND($A13>OFFSET(Feuil1!$D$5,MATCH(D$4,Tableau1[Equipe],0),13),$A13<=OFFSET(Feuil1!$D$5,MATCH(D$4,Tableau1[Equipe],0),14)),"d",$A13>OFFSET(Feuil1!$D$5,MATCH(D$4,Tableau1[Equipe],0),14),"") -> mo | E13: {=IF(D13="","",_xlfn.CONCAT(IF(INDIRECT(D$4)="x",Tableau1[[#Headers],[1;]:[8B;]],"")))} -> 4;5A; | F13: =_xlfn.IFS($A13<OFFSET(Feuil1!$D$5,MATCH(F$4,Tableau1[Equipe],0),11),"",AND($A13>=OFFSET(Feuil1!$D$5,MATCH(F$4,Tableau1[Equipe],0),11),$A13<=OFFSET(Feuil1!$D$5,MATCH(F$4,Tableau1[Equipe],0),12)),"mo",AND($A13>OFFSET(Feuil1!$D$5,MATCH(F$4,Tableau1[Equipe],0),12),$A13<=OFFSET(Feuil1!$D$5,MATCH(F$4,Tableau1[Equipe],0),13)),"s",AND($A13>OFFSET(Feuil1!$D$5,MATCH(F$4,Tableau1[Equipe],0),13),$A13<=OFFSET(Feuil1!$D$5,MATCH(F$4,Tableau1[Equipe],0),14)),"d",$A13>OFFSET(Feuil1!$D$5,MATCH(F$4,Tableau1[Equipe],0),14),"") | G13: {=IF(F13="","",_xlfn.CONCAT(IF(INDIRECT(F$4)="x",Tableau1[[#Headers],[1;]:[8B;]],"")))} | H13: =_xlfn.IFS($A13<OFFSET(Feuil1!$D$5,MATCH(H$4,Tableau1[Equipe],0),11),"",AND($A13>=OFFSET(Feuil1!$D$5,MATCH(H$4,Tableau1[Equipe],0),11),$A13<=OFFSET(Feuil1!$D$5,MATCH(H$4,Tableau1[Equipe],0),12)),"mo",AND($A13>OFFSET(Feuil1!$D$5,MATCH(H$4,Tableau1[Equipe],0),12),$A13<=OFFSET(Feuil1!$D$5,MATCH(H$4,Tableau1[Equipe],0),13)),"s",AND($A13>OFFSET(Feuil1!$D$5,MATCH(H$4,Tableau1[Equipe],0),13),$A13<=OFFSET(Feuil1!$D$5,MATCH(H$4,Tableau1[Equipe],0),14)),"d",$A13>OFFSET(Feuil1!$D$5,MATCH(H$4,Tableau1[Equipe],0),14),"") | I13: {=IF(H13="","",_xlfn.CONCAT(IF(INDIRECT(H$4)="x",Tableau1[[#Headers],[1;]:[8B;]],"")))} | J13: =_xlfn.IFS($A13<OFFSET(Feuil1!$D$5,MATCH(J$4,Tableau1[Equipe],0),11),"",AND($A13>=OFFSET(Feuil1!$D$5,MATCH(J$4,Tableau1[Equipe],0),11),$A13<=OFFSET(Feuil1!$D$5,MATCH(J$4,Tableau1[Equipe],0),12)),"mo",AND($A13>OFFSET(Feuil1!$D$5,MATCH(J$4,Tableau1[Equipe],0),12),$A13<=OFFSET(Feuil1!$D$5,MATCH(J$4,Tableau1[Equipe],0),13)),"s",AND($A13>OFFSET(Feuil1!$D$5,MATCH(J$4,Tableau1[Equipe],0),13),$A13<=OFFSET(Feuil1!$D$5,MATCH(J$4,Tableau1[Equipe],0),14)),"d",$A13>OFFSET(Feuil1!$D$5,MATCH(J$4,Tableau1[Equipe],0),14),"") | K13: {=IF(J13="","",_xlfn.CONCAT(IF(INDIRECT(J$4)="x",Tableau1[[#Headers],[1;]:[8B;]],"")))}
A14: 43475 | B14: =_xlfn.IFS($A14<OFFSET(Feuil1!$D$5,MATCH(B$4,Tableau1[Equipe],0),11),"",AND($A14>=OFFSET(Feuil1!$D$5,MATCH(B$4,Tableau1[Equipe],0),11),$A14<=OFFSET(Feuil1!$D$5,MATCH(B$4,Tableau1[Equipe],0),12)),"mo",AND($A14>OFFSET(Feuil1!$D$5,MATCH(B$4,Tableau1[Equipe],0),12),$A14<=OFFSET(Feuil1!$D$5,MATCH(B$4,Tableau1[Equipe],0),13)),"s",AND($A14>OFFSET(Feuil1!$D$5,MATCH(B$4,Tableau1[Equipe],0),13),$A14<=OFFSET(Feuil1!$D$5,MATCH(B$4,Tableau1[Equipe],0),14)),"d",$A14>OFFSET(Feuil1!$D$5,MATCH(B$4,Tableau1[Equipe],0),14),"") -> mo | C14: {=IF(B14="","",_xlfn.CONCAT(IF(INDIRECT(B$4)="x",Tableau1[[#Headers],[1;]:[8B;]],"")))} -> 1;2;3;5B1;8A; | D14: =_xlfn.IFS($A14<OFFSET(Feuil1!$D$5,MATCH(D$4,Tableau1[Equipe],0),11),"",AND($A14>=OFFSET(Feuil1!$D$5,MATCH(D$4,Tableau1[Equipe],0),11),$A14<=OFFSET(Feuil1!$D$5,MATCH(D$4,Tableau1[Equipe],0),12)),"mo",AND($A14>OFFSET(Feuil1!$D$5,MATCH(D$4,Tableau1[Equipe],0),12),$A14<=OFFSET(Feuil1!$D$5,MATCH(D$4,Tableau1[Equipe],0),13)),"s",AND($A14>OFFSET(Feuil1!$D$5,MATCH(D$4,Tableau1[Equipe],0),13),$A14<=OFFSET(Feuil1!$D$5,MATCH(D$4,Tableau1[Equipe],0),14)),"d",$A14>OFFSET(Feuil1!$D$5,MATCH(D$4,Tableau1[Equipe],0),14),"") -> mo | E14: {=IF(D14="","",_xlfn.CONCAT(IF(INDIRECT(D$4)="x",Tableau1[[#Headers],[1;]:[8B;]],"")))} -> 4;5A; | F14: =_xlfn.IFS($A14<OFFSET(Feuil1!$D$5,MATCH(F$4,Tableau1[Equipe],0),11),"",AND($A14>=OFFSET(Feuil1!$D$5,MATCH(F$4,Tableau1[Equipe],0),11),$A14<=OFFSET(Feuil1!$D$5,MATCH(F$4,Tableau1[Equipe],0),12)),"mo",AND($A14>OFFSET(Feuil1!$D$5,MATCH(F$4,Tableau1[Equipe],0),12),$A14<=OFFSET(Feuil1!$D$5,MATCH(F$4,Tableau1[Equipe],0),13)),"s",AND($A14>OFFSET(Feuil1!$D$5,MATCH(F$4,Tableau1[Equipe],0),13),$A14<=OFFSET(Feuil1!$D$5,MATCH(F$4,Tableau1[Equipe],0),14)),"d",$A14>OFFSET(Feuil1!$D$5,MATCH(F$4,Tableau1[Equipe],0),14),"") | G14: {=IF(F14="","",_xlfn.CONCAT(IF(INDIRECT(F$4)="x",Tableau1[[#Headers],[1;]:[8B;]],"")))} | H14: =_xlfn.IFS($A14<OFFSET(Feuil1!$D$5,MATCH(H$4,Tableau1[Equipe],0),11),"",AND($A14>=OFFSET(Feuil1!$D$5,MATCH(H$4,Tableau1[Equipe],0),11),$A14<=OFFSET(Feuil1!$D$5,MATCH(H$4,Tableau1[Equipe],0),12)),"mo",AND($A14>OFFSET(Feuil1!$D$5,MATCH(H$4,Tableau1[Equipe],0),12),$A14<=OFFSET(Feuil1!$D$5,MATCH(H$4,Tableau1[Equipe],0),13)),"s",AND($A14>OFFSET(Feuil1!$D$5,MATCH(H$4,Tableau1[Equipe],0),13),$A14<=OFFSET(Feuil1!$D$5,MATCH(H$4,Tableau1[Equipe],0),14)),"d",$A14>OFFSET(Feuil1!$D$5,MATCH(H$4,Tableau1[Equipe],0),14),"") | I14: {=IF(H14="","",_xlfn.CONCAT(IF(INDIRECT(H$4)="x",Tableau1[[#Headers],[1;]:[8B;]],"")))} | J14: =_xlfn.IFS($A14<OFFSET(Feuil1!$D$5,MATCH(J$4,Tableau1[Equipe],0),11),"",AND($A14>=OFFSET(Feuil1!$D$5,MATCH(J$4,Tableau1[Equipe],0),11),$A14<=OFFSET(Feuil1!$D$5,MATCH(J$4,Tableau1[Equipe],0),12)),"mo",AND($A14>OFFSET(Feuil1!$D$5,MATCH(J$4,Tableau1[Equipe],0),12),$A14<=OFFSET(Feuil1!$D$5,MATCH(J$4,Tableau1[Equipe],0),13)),"s",AND($A14>OFFSET(Feuil1!$D$5,MATCH(J$4,Tableau1[Equipe],0),13),$A14<=OFFSET(Feuil1!$D$5,MATCH(J$4,Tableau1[Equipe],0),14)),"d",$A14>OFFSET(Feuil1!$D$5,MATCH(J$4,Tableau1[Equipe],0),14),"") | K14: {=IF(J14="","",_xlfn.CONCAT(IF(INDIRECT(J$4)="x",Tableau1[[#Headers],[1;]:[8B;]],"")))}
A15: 43476 | B15: =_xlfn.IFS($A15<OFFSET(Feuil1!$D$5,MATCH(B$4,Tableau1[Equipe],0),11),"",AND($A15>=OFFSET(Feuil1!$D$5,MATCH(B$4,Tableau1[Equipe],0),11),$A15<=OFFSET(Feuil1!$D$5,MATCH(B$4,Tableau1[Equipe],0),12)),"mo",AND($A15>OFFSET(Feuil1!$D$5,MATCH(B$4,Tableau1[Equipe],0),12),$A15<=OFFSET(Feuil1!$D$5,MATCH(B$4,Tableau1[Equipe],0),13)),"s",AND($A15>OFFSET(Feuil1!$D$5,MATCH(B$4,Tableau1[Equipe],0),13),$A15<=OFFSET(Feuil1!$D$5,MATCH(B$4,Tableau1[Equipe],0),14)),"d",$A15>OFFSET(Feuil1!$D$5,MATCH(B$4,Tableau1[Equipe],0),14),"") -> s | C15: {=IF(B15="","",_xlfn.CONCAT(IF(INDIRECT(B$4)="x",Tableau1[[#Headers],[1;]:[8B;]],"")))} -> 1;2;3;5B1;8A; | D15: =_xlfn.IFS($A15<OFFSET(Feuil1!$D$5,MATCH(D$4,Tableau1[Equipe],0),11),"",AND($A15>=OFFSET(Feuil1!$D$5,MATCH(D$4,Tableau1[Equipe],0),11),$A15<=OFFSET(Feuil1!$D$5,MATCH(D$4,Tableau1[Equipe],0),12)),"mo",AND($A15>OFFSET(Feuil1!$D$5,MATCH(D$4,Tableau1[Equipe],0),12),$A15<=OFFSET(Feuil1!$D$5,MATCH(D$4,Tableau1[Equipe],0),13)),"s",AND($A15>OFFSET(Feuil1!$D$5,MATCH(D$4,Tableau1[Equipe],0),13),$A15<=OFFSET(Feuil1!$D$5,MATCH(D$4,Tableau1[Equipe],0),14)),"d",$A15>OFFSET(Feuil1!$D$5,MATCH(D$4,Tableau1[Equipe],0),14),"") -> mo | E15: {=IF(D15="","",_xlfn.CONCAT(IF(INDIRECT(D$4)="x",Tableau1[[#Headers],[1;]:[8B;]],"")))} -> 4;5A; | F15: =_xlfn.IFS($A15<OFFSET(Feuil1!$D$5,MATCH(F$4,Tableau1[Equipe],0),11),"",AND($A15>=OFFSET(Feuil1!$D$5,MATCH(F$4,Tableau1[Equipe],0),11),$A15<=OFFSET(Feuil1!$D$5,MATCH(F$4,Tableau1[Equipe],0),12)),"mo",AND($A15>OFFSET(Feuil1!$D$5,MATCH(F$4,Tableau1[Equipe],0),12),$A15<=OFFSET(Feuil1!$D$5,MATCH(F$4,Tableau1[Equipe],0),13)),"s",AND($A15>OFFSET(Feuil1!$D$5,MATCH(F$4,Tableau1[Equipe],0),13),$A15<=OFFSET(Feuil1!$D$5,MATCH(F$4,Tableau1[Equipe],0),14)),"d",$A15>OFFSET(Feuil1!$D$5,MATCH(F$4,Tableau1[Equipe],0),14),"") | G15: {=IF(F15="","",_xlfn.CONCAT(IF(INDIRECT(F$4)="x",Tableau1[[#Headers],[1;]:[8B;]],"")))} | H15: =_xlfn.IFS($A15<OFFSET(Feuil1!$D$5,MATCH(H$4,Tableau1[Equipe],0),11),"",AND($A15>=OFFSET(Feuil1!$D$5,MATCH(H$4,Tableau1[Equipe],0),11),$A15<=OFFSET(Feuil1!$D$5,MATCH(H$4,Tableau1[Equipe],0),12)),"mo",AND($A15>OFFSET(Feuil1!$D$5,MATCH(H$4,Tableau1[Equipe],0),12),$A15<=OFFSET(Feuil1!$D$5,MATCH(H$4,Tableau1[Equipe],0),13)),"s",AND($A15>OFFSET(Feuil1!$D$5,MATCH(H$4,Tableau1[Equipe],0),13),$A15<=OFFSET(Feuil1!$D$5,MATCH(H$4,Tableau1[Equipe],0),14)),"d",$A15>OFFSET(Feuil1!$D$5,MATCH(H$4,Tableau1[Equipe],0),14),"") | I15: {=IF(H15="","",_xlfn.CONCAT(IF(INDIRECT(H$4)="x",Tableau1[[#Headers],[1;]:[8B;]],"")))} | J15: =_xlfn.IFS($A15<OFFSET(Feuil1!$D$5,MATCH(J$4,Tableau1[Equipe],0),11),"",AND($A15>=OFFSET(Feuil1!$D$5,MATCH(J$4,Tableau1[Equipe],0),11),$A15<=OFFSET(Feuil1!$D$5,MATCH(J$4,Tableau1[Equipe],0),12)),"mo",AND($A15>OFFSET(Feuil1!$D$5,MATCH(J$4,Tableau1[Equipe],0),12),$A15<=OFFSET(Feuil1!$D$5,MATCH(J$4,Tableau1[Equipe],0),13)),"s",AND($A15>OFFSET(Feuil1!$D$5,MATCH(J$4,Tableau1[Equipe],0),13),$A15<=OFFSET(Feuil1!$D$5,MATCH(J$4,Tableau1[Equipe],0),14)),"d",$A15>OFFSET(Feuil1!$D$5,MATCH(J$4,Tableau1[Equipe],0),14),"") | K15: {=IF(J15="","",_xlfn.CONCAT(IF(INDIRECT(J$4)="x",Tableau1[[#Headers],[1;]:[8B;]],"")))}
A16: 43477 | B16: =_xlfn.IFS($A16<OFFSET(Feuil1!$D$5,MATCH(B$4,Tableau1[Equipe],0),11),"",AND($A16>=OFFSET(Feuil1!$D$5,MATCH(B$4,Tableau1[Equipe],0),11),$A16<=OFFSET(Feuil1!$D$5,MATCH(B$4,Tableau1[Equipe],0),12)),"mo",AND($A16>OFFSET(Feuil1!$D$5,MATCH(B$4,Tableau1[Equipe],0),12),$A16<=OFFSET(Feuil1!$D$5,MATCH(B$4,Tableau1[Equipe],0),13)),"s",AND($A16>OFFSET(Feuil1!$D$5,MATCH(B$4,Tableau1[Equipe],0),13),$A16<=OFFSET(Feuil1!$D$5,MATCH(B$4,Tableau1[Equipe],0),14)),"d",$A16>OFFSET(Feuil1!$D$5,MATCH(B$4,Tableau1[Equipe],0),14),"") -> s | C16: {=IF(B16="","",_xlfn.CONCAT(IF(INDIRECT(B$4)="x",Tableau1[[#Headers],[1;]:[8B;]],"")))} -> 1;2;3;5B1;8A; | D16: =_xlfn.IFS($A16<OFFSET(Feuil1!$D$5,MATCH(D$4,Tableau1[Equipe],0),11),"",AND($A16>=OFFSET(Feuil1!$D$5,MATCH(D$4,Tableau1[Equipe],0),11),$A16<=OFFSET(Feuil1!$D$5,MATCH(D$4,Tableau1[Equipe],0),12)),"mo",AND($A16>OFFSET(Feuil1!$D$5,MATCH(D$4,Tableau1[Equipe],0),12),$A16<=OFFSET(Feuil1!$D$5,MATCH(D$4,Tableau1[Equipe],0),13)),"s",AND($A16>OFFSET(Feuil1!$D$5,MATCH(D$4,Tableau1[Equipe],0),13),$A16<=OFFSET(Feuil1!$D$5,MATCH(D$4,Tableau1[Equipe],0),14)),"d",$A16>OFFSET(Feuil1!$D$5,MATCH(D$4,Tableau1[Equipe],0),14),"") -> mo | E16: {=IF(D16="","",_xlfn.CONCAT(IF(INDIRECT(D$4)="x",Tableau1[[#Headers],[1;]:[8B;]],"")))} -> 4;5A; | F16: =_xlfn.IFS($A16<OFFSET(Feuil1!$D$5,MATCH(F$4,Tableau1[Equipe],0),11),"",AND($A16>=OFFSET(Feuil1!$D$5,MATCH(F$4,Tableau1[Equipe],0),11),$A16<=OFFSET(Feuil1!$D$5,MATCH(F$4,Tableau1[Equipe],0),12)),"mo",AND($A16>OFFSET(Feuil1!$D$5,MATCH(F$4,Tableau1[Equipe],0),12),$A16<=OFFSET(Feuil1!$D$5,MATCH(F$4,Tableau1[Equipe],0),13)),"s",AND($A16>OFFSET(Feuil1!$D$5,MATCH(F$4,Tableau1[Equipe],0),13),$A16<=OFFSET(Feuil1!$D$5,MATCH(F$4,Tableau1[Equipe],0),14)),"d",$A16>OFFSET(Feuil1!$D$5,MATCH(F$4,Tableau1[Equipe],0),14),"") | G16: {=IF(F16="","",_xlfn.CONCAT(IF(INDIRECT(F$4)="x",Tableau1[[#Headers],[1;]:[8B;]],"")))} | H16: =_xlfn.IFS($A16<OFFSET(Feuil1!$D$5,MATCH(H$4,Tableau1[Equipe],0),11),"",AND($A16>=OFFSET(Feuil1!$D$5,MATCH(H$4,Tableau1[Equipe],0),11),$A16<=OFFSET(Feuil1!$D$5,MATCH(H$4,Tableau1[Equipe],0),12)),"mo",AND($A16>OFFSET(Feuil1!$D$5,MATCH(H$4,Tableau1[Equipe],0),12),$A16<=OFFSET(Feuil1!$D$5,MATCH(H$4,Tableau1[Equipe],0),13)),"s",AND($A16>OFFSET(Feuil1!$D$5,MATCH(H$4,Tableau1[Equipe],0),13),$A16<=OFFSET(Feuil1!$D$5,MATCH(H$4,Tableau1[Equipe],0),14)),"d",$A16>OFFSET(Feuil1!$D$5,MATCH(H$4,Tableau1[Equipe],0),14),"") | I16: {=IF(H16="","",_xlfn.CONCAT(IF(INDIRECT(H$4)="x",Tableau1[[#Headers],[1;]:[8B;]],"")))} | J16: =_xlfn.IFS($A16<OFFSET(Feuil1!$D$5,MATCH(J$4,Tableau1[Equipe],0),11),"",AND($A16>=OFFSET(Feuil1!$D$5,MATCH(J$4,Tableau1[Equipe],0),11),$A16<=OFFSET(Feuil1!$D$5,MATCH(J$4,Tableau1[Equipe],0),12)),"mo",AND($A16>OFFSET(Feuil1!$D$5,MATCH(J$4,Tableau1[Equipe],0),12),$A16<=OFFSET(Feuil1!$D$5,MATCH(J$4,Tableau1[Equipe],0),13)),"s",AND($A16>OFFSET(Feuil1!$D$5,MATCH(J$4,Tableau1[Equipe],0),13),$A16<=OFFSET(Feuil1!$D$5,MATCH(J$4,Tableau1[Equipe],0),14)),"d",$A16>OFFSET(Feuil1!$D$5,MATCH(J$4,Tableau1[Equipe],0),14),"") -> mo | K16: {=IF(J16="","",_xlfn.CONCAT(IF(INDIRECT(J$4)="x",Tableau1[[#Headers],[1;]:[8B;]],"")))} -> 8B;
... A35: 43496 | B35: =_xlfn.IFS($A35<OFFSET(Feuil1!$D$5,MATCH(B$4,Tableau1[Equipe],0),11),"",AND($A35>=OFFSET(Feuil1!$D$5,MATCH(B$4,Tableau1[Equipe],0),11),$A35<=OFFSET(Feuil1!$D$5,MATCH(B$4,Tableau1[Equipe],0),12)),"mo",AND($A35>OFFSET(Feuil1!$D$5,MATCH(B$4,Tableau1[Equipe],0),12),$A35<=OFFSET(Feuil1!$D$5,MATCH(B$4,Tableau1[Equipe],0),13)),"s",AND($A35>OFFSET(Feuil1!$D$5,MATCH(B$4,Tableau1[Equipe],0),13),$A35<=OFFSET(Feuil1!$D$5,MATCH(B$4,Tableau1[Equipe],0),14)),"d",$A35>OFFSET(Feuil1!$D$5,MATCH(B$4,Tableau1[Equipe],0),14),"") | C35: {=IF(B35="","",_xlfn.CONCAT(IF(INDIRECT(B$4)="x",Tableau1[[#Headers],[1;]:[8B;]],"")))} | D35: =_xlfn.IFS($A35<OFFSET(Feuil1!$D$5,MATCH(D$4,Tableau1[Equipe],0),11),"",AND($A35>=OFFSET(Feuil1!$D$5,MATCH(D$4,Tableau1[Equipe],0),11),$A35<=OFFSET(Feuil1!$D$5,MATCH(D$4,Tableau1[Equipe],0),12)),"mo",AND($A35>OFFSET(Feuil1!$D$5,MATCH(D$4,Tableau1[Equipe],0),12),$A35<=OFFSET(Feuil1!$D$5,MATCH(D$4,Tableau1[Equipe],0),13)),"s",AND($A35>OFFSET(Feuil1!$D$5,MATCH(D$4,Tableau1[Equipe],0),13),$A35<=OFFSET(Feuil1!$D$5,MATCH(D$4,Tableau1[Equipe],0),14)),"d",$A35>OFFSET(Feuil1!$D$5,MATCH(D$4,Tableau1[Equipe],0),14),"") | E35: {=IF(D35="","",_xlfn.CONCAT(IF(INDIRECT(D$4)="x",Tableau1[[#Headers],[1;]:[8B;]],"")))} | F35: =_xlfn.IFS($A35<OFFSET(Feuil1!$D$5,MATCH(F$4,Tableau1[Equipe],0),11),"",AND($A35>=OFFSET(Feuil1!$D$5,MATCH(F$4,Tableau1[Equipe],0),11),$A35<=OFFSET(Feuil1!$D$5,MATCH(F$4,Tableau1[Equipe],0),12)),"mo",AND($A35>OFFSET(Feuil1!$D$5,MATCH(F$4,Tableau1[Equipe],0),12),$A35<=OFFSET(Feuil1!$D$5,MATCH(F$4,Tableau1[Equipe],0),13)),"s",AND($A35>OFFSET(Feuil1!$D$5,MATCH(F$4,Tableau1[Equipe],0),13),$A35<=OFFSET(Feuil1!$D$5,MATCH(F$4,Tableau1[Equipe],0),14)),"d",$A35>OFFSET(Feuil1!$D$5,MATCH(F$4,Tableau1[Equipe],0),14),"") | G35: {=IF(F35="","",_xlfn.CONCAT(IF(INDIRECT(F$4)="x",Tableau1[[#Headers],[1;]:[8B;]],"")))} | H35: =_xlfn.IFS($A35<OFFSET(Feuil1!$D$5,MATCH(H$4,Tableau1[Equipe],0),11),"",AND($A35>=OFFSET(Feuil1!$D$5,MATCH(H$4,Tableau1[Equipe],0),11),$A35<=OFFSET(Feuil1!$D$5,MATCH(H$4,Tableau1[Equipe],0),12)),"mo",AND($A35>OFFSET(Feuil1!$D$5,MATCH(H$4,Tableau1[Equipe],0),12),$A35<=OFFSET(Feuil1!$D$5,MATCH(H$4,Tableau1[Equipe],0),13)),"s",AND($A35>OFFSET(Feuil1!$D$5,MATCH(H$4,Tableau1[Equipe],0),13),$A35<=OFFSET(Feuil1!$D$5,MATCH(H$4,Tableau1[Equipe],0),14)),"d",$A35>OFFSET(Feuil1!$D$5,MATCH(H$4,Tableau1[Equipe],0),14),"") | I35: {=IF(H35="","",_xlfn.CONCAT(IF(INDIRECT(H$4)="x",Tableau1[[#Headers],[1;]:[8B;]],"")))} | J35: =_xlfn.IFS($A35<OFFSET(Feuil1!$D$5,MATCH(J$4,Tableau1[Equipe],0),11),"",AND($A35>=OFFSET(Feuil1!$D$5,MATCH(J$4,Tableau1[Equipe],0),11),$A35<=OFFSET(Feuil1!$D$5,MATCH(J$4,Tableau1[Equipe],0),12)),"mo",AND($A35>OFFSET(Feuil1!$D$5,MATCH(J$4,Tableau1[Equipe],0),12),$A35<=OFFSET(Feuil1!$D$5,MATCH(J$4,Tableau1[Equipe],0),13)),"s",AND($A35>OFFSET(Feuil1!$D$5,MATCH(J$4,Tableau1[Equipe],0),13),$A35<=OFFSET(Feuil1!$D$5,MATCH(J$4,Tableau1[Equipe],0),14)),"d",$A35>OFFSET(Feuil1!$D$5,MATCH(J$4,Tableau1[Equipe],0),14),"") -> s | K35: {=IF(J35="","",_xlfn.CONCAT(IF(INDIRECT(J$4)="x",Tableau1[[#Headers],[1;]:[8B;]],"")))} -> 8B;
