Workbook

Sheet AM
A5: Prenom | B5: Dernier jours travaillé : | C5: DATE de retour | D5: Nbre Abscent par jour
A6: Marc | B6: 43869 | G6: =COUNTIFS(AM!$B$6:$B$46,"<="&Effectifs!A3) -> 1
A7: Franck | B7: 43873
A8: Anthony | B8: 43884 | C8: 43927
A9: Jean | B9: 43886
A10: Mustapha | B10: 43891
A11: Daniel | B11: 43892
A12: Laurent | B12: 43895
A13: Sebastien | B13: 43901
A14: Dominque | B14: 43902 | C14: 43914
A15: Bizenga Samy | B15: 43902 | C15: 43941
A16: David | B16: 43902
A17: Patrick | B17: 43902
A18: Christian | B18: 43902
A19: abdel | B19: 43902
A20: Hella | B20: 43903 | C20: 43941
A21: Mustapha | B21: 43903
A22: Frédéric | B22: 43904 | C22: 43934
A23: malick | B23: 43904 | C23: 43934
A24: RAJEEV | B24: 43904 | C24: 43946
A25: Nicolas | B25: 43904
A26: Deidi | B26: 43904
A27: Mathieu | B27: 43906 | C27: 43928
A28: Mostefa | B28: 43906 | C28: 43934
A29: Daniel | B29: 43906
A30: Nicolas | B30: 43906
A31: NABIL | B31: 43906
A32: ABDESSADAK | B32: 43906
A33: Olivier | B33: 43907 | C33: 43936
A34: Deepant | B34: 43907 | C34: 43938
A35: Madioub | B35: 43907
A36: Abdeljalil | B36: 43907
A37: Ahmed | B37: 43907
A38: Abdallah | B38: 43908
A39: Didier | B39: 43908
A40: Jamale | B40: 43908
A41: Sofiane | B41: 43909 | C41: 43920
A42: Karl | B42: 43909 | C42: 43923
A43: Mohamed | B43: 43909 | C43: 43925
A44: Nabih | B44: 43909 | C44: 43928
A45: Vincent | B45: 43909 | C45: 43942
A46: Ali Samir | B46: 43909 | C46: 43943

Sheet Effectifs
A2: Date | B2: Effectif plan | C2: Nbre / Dernier jours travaillé : | D2: Nbre / DATE de retour | E2: Nbre Abscent par jour
A3: 43869 | B3: 173 | C3: 123 | D3: =COUNTIF(AM!$C$6:$C$43,$A3) -> 0 | E3: =COUNTIFS(AM!$B$6:$B$46,"<="&Effectifs!A3) -> 1
A4: 43870 | B4: 0 | C4: 0 | D4: =COUNTIF(AM!$C$6:$C$43,$A4) -> 0 | E4: =COUNTIFS(AM!$B$6:$B$46,"<="&Effectifs!A4) -> 1
A5: 43871 | B5: 186 | C5: 159 | D5: =COUNTIF(AM!$C$6:$C$43,$A5) -> 0 | E5: =COUNTIFS(AM!$B$6:$B$46,"<="&Effectifs!A5) -> 1
A6: 43872 | B6: 337 | C6: 256 | D6: =COUNTIF(AM!$C$6:$C$43,$A6) -> 0 | E6: =COUNTIFS(AM!$B$6:$B$46,"<="&Effectifs!A6) -> 1
A7: 43873 | B7: 337 | C7: 276 | D7: =COUNTIF(AM!$C$6:$C$43,$A7) -> 0 | E7: =COUNTIFS(AM!$B$6:$B$46,"<="&Effectifs!A7) -> 2
A8: 43874 | B8: 337 | C8: 289 | D8: =COUNTIF(AM!$C$6:$C$43,$A8) -> 0 | E8: =COUNTIFS(AM!$B$6:$B$46,"<="&Effectifs!A8) -> 2
A9: 43875 | B9: 81 | C9: 59 | D9: =COUNTIF(AM!$C$6:$C$43,$A9) -> 0 | E9: =COUNTIFS(AM!$B$6:$B$46,"<="&Effectifs!A9) -> 2
A10: 43876 | B10: 173 | C10: 156 | D10: =COUNTIF(AM!$C$6:$C$43,$A10) -> 0 | E10: =COUNTIFS(AM!$B$6:$B$46,"<="&Effectifs!A10) -> 2
A11: 43877 | B11: 0 | C11: 0 | D11: =COUNTIF(AM!$C$6:$C$43,$A11) -> 0 | E11: =COUNTIFS(AM!$B$6:$B$46,"<="&Effectifs!A11) -> 2
A12: 43878 | B12: 186 | C12: 146 | D12: =COUNTIF(AM!$C$6:$C$43,$A12) -> 0 | E12: =COUNTIFS(AM!$B$6:$B$46,"<="&Effectifs!A12) -> 2
A13: 43879 | B13: 337 | C13: 301 | D13: =COUNTIF(AM!$C$6:$C$43,$A13) -> 0 | E13: =COUNTIFS(AM!$B$6:$B$46,"<="&Effectifs!A13) -> 2
A14: 43880 | B14: 337 | C14: 297 | D14: =COUNTIF(AM!$C$6:$C$43,$A14) -> 0 | E14: =COUNTIFS(AM!$B$6:$B$46,"<="&Effectifs!A14) -> 2
... A43: 43909 | B43: 337 | C43: 280 | D43: =COUNTIF(AM!$C$6:$C$43,$A43) -> 0 | E43: =COUNTIFS(AM!$B$6:$B$46,"<="&Effectifs!A43) -> 41
