Workbook
Name Compétence: Feuil1!$C$1:$C$407
Name employés: Feuil1!$A$1:$A$407
Name Métier: Feuil1!$B$1:$B$407
Name validité: Feuil1!$G$1:$G$407

Sheet Feuil1
A1: Employé | B1: Métier | C1: Compétence | D1: MetComp | E1: CompEmp | F1: Date | G1: Validité | H1: 2016 | I1: 2017 | J1: 2018 | K1: 2019 | L1: 2020 | M1: Théorique
A2: Employe A | B2: Chef d'équipe | C2: Incendie | D2: =B2&C2 -> Chef d'équipe Incendie | E2: =C2&A2 -> IncendieEmploye A | F2: 2015 | G2: =IF(AND(YEAR(TODAY())<=F2+VLOOKUP(C2,[1]Compétencesssss!$A$1:$B$15,2,FALSE),YEAR(TODAY())>=F2),1,0) -> 1 | H2: 0.5 | M2: =VLOOKUP(D2,'[1]Théorique métier'!$C$1:$D10000,2,FALSE) -> 1
A3: Employe A | B3: Chef d'équipe | C3: Informatique niveau 1 | D3: =B3&C3 -> Chef d'équipe Informatique niveau 1 | E3: =C3&A3 -> Informatique niveau 1Employe A | F3: 2015 | G3: =IF(AND(YEAR(TODAY())<=F3+VLOOKUP(C3,[1]Compétencesssss!$A$1:$B$15,2,FALSE),YEAR(TODAY())>=F3),1,0) -> 1 | J3: 0.5 | M3: =VLOOKUP(D3,'[1]Théorique métier'!$C$1:$D10001,2,FALSE) -> 1
A4: Employe A | B4: Chef d'équipe | C4: Informatique niveau 2 | D4: =B4&C4 -> Chef d'équipe Informatique niveau 2 | E4: =C4&A4 -> Informatique niveau 2Employe A | F4: 2015 | G4: =IF(AND(YEAR(TODAY())<=F4+VLOOKUP(C4,[1]Compétencesssss!$A$1:$B$15,2,FALSE),YEAR(TODAY())>=F4),1,0) -> 1 | L4: 1 | M4: =VLOOKUP(D4,'[1]Théorique métier'!$C$1:$D10002,2,FALSE) -> 1
A5: Employe A | B5: Chef d'équipe | C5: SST | D5: =B5&C5 -> Chef d'équipe SST | E5: =C5&A5 -> SSTEmploye A | F5: 2015 | G5: =IF(AND(YEAR(TODAY())<=F5+VLOOKUP(C5,[1]Compétencesssss!$A$1:$B$15,2,FALSE),YEAR(TODAY())>=F5),1,0) -> 1 | M5: =VLOOKUP(D5,'[1]Théorique métier'!$C$1:$D10003,2,FALSE) -> 1
A6: Employe A | B6: Chef d'équipe | C6: Administratif niveau 1 | D6: =B6&C6 -> Chef d'équipe Administratif niveau 1 | E6: =C6&A6 -> Administratif niveau 1Employe A | F6: 2015 | G6: =IF(AND(YEAR(TODAY())<=F6+VLOOKUP(C6,[1]Compétencesssss!$A$1:$B$15,2,FALSE),YEAR(TODAY())>=F6),1,0) -> 1 | M6: =VLOOKUP(D6,'[1]Théorique métier'!$C$1:$D10004,2,FALSE) -> 1
A7: Employe A | B7: Chef d'équipe | C7: Administratif niveau 2 | D7: =B7&C7 -> Chef d'équipe Administratif niveau 2 | E7: =C7&A7 -> Administratif niveau 2Employe A | F7: 2015 | G7: =IF(AND(YEAR(TODAY())<=F7+VLOOKUP(C7,[1]Compétencesssss!$A$1:$B$15,2,FALSE),YEAR(TODAY())>=F7),1,0) -> 1 | M7: =VLOOKUP(D7,'[1]Théorique métier'!$C$1:$D10005,2,FALSE) -> 1
A8: Employe A | B8: Chef d'équipe | C8: Inventaire | D8: =B8&C8 -> Chef d'équipe Inventaire | E8: =C8&A8 -> InventaireEmploye A | F8: 2015 | G8: =IF(AND(YEAR(TODAY())<=F8+VLOOKUP(C8,[1]Compétencesssss!$A$1:$B$15,2,FALSE),YEAR(TODAY())>=F8),1,0) -> 1 | M8: =VLOOKUP(D8,'[1]Théorique métier'!$C$1:$D10006,2,FALSE) -> 1
A9: Employe A | B9: Chef d'équipe | C9: Geste et posture | D9: =B9&C9 -> Chef d'équipe Geste et posture | E9: =C9&A9 -> Geste et postureEmploye A | F9: 2015 | G9: =IF(AND(YEAR(TODAY())<=F9+VLOOKUP(C9,[1]Compétencesssss!$A$1:$B$15,2,FALSE),YEAR(TODAY())>=F9),1,0) -> 1 | M9: =VLOOKUP(D9,'[1]Théorique métier'!$C$1:$D10007,2,FALSE) -> 1
A10: Employe A | B10: Chef d'équipe | C10: PDA | D10: =B10&C10 -> Chef d'équipe PDA | E10: =C10&A10 -> PDAEmploye A | F10: 2015 | G10: =IF(AND(YEAR(TODAY())<=F10+VLOOKUP(C10,[1]Compétencesssss!$A$1:$B$15,2,FALSE),YEAR(TODAY())>=F10),1,0) -> 1 | M10: =VLOOKUP(D10,'[1]Théorique métier'!$C$1:$D10008,2,FALSE) -> 1
A11: Employe A | B11: Chef d'équipe | C11: Caces 1/3/5 | D11: =B11&C11 -> Chef d'équipe Caces 1/3/5 | E11: =C11&A11 -> Caces 1/3/5Employe A | F11: 2014 | G11: =IF(AND(YEAR(TODAY())<=F11+VLOOKUP(C11,[1]Compétencesssss!$A$1:$B$15,2,FALSE),YEAR(TODAY())>=F11),1,0) -> 1 | L11: 1 | M11: =VLOOKUP(D11,'[1]Théorique métier'!$C$1:$D10009,2,FALSE) -> 1
A12: Employe A | B12: Chef d'équipe | C12: Caces 1 | D12: =B12&C12 -> Chef d'équipe Caces 1 | E12: =C12&A12 -> Caces 1Employe A | F12: 2014 | G12: =IF(AND(YEAR(TODAY())<=F12+VLOOKUP(C12,[1]Compétencesssss!$A$1:$B$15,2,FALSE),YEAR(TODAY())>=F12),1,0) -> 1 | M12: =VLOOKUP(D12,'[1]Théorique métier'!$C$1:$D10010,2,FALSE) -> 1
A13: Employe A | B13: Chef d'équipe | C13: Management initiation | D13: =B13&C13 -> Chef d'équipe Management initiation | E13: =C13&A13 -> Management initiationEmploye A | F13: 2015 | G13: =IF(AND(YEAR(TODAY())<=F13+VLOOKUP(C13,[1]Compétencesssss!$A$1:$B$15,2,FALSE),YEAR(TODAY())>=F13),1,0) -> 1 | I13: 1 | M13: =VLOOKUP(D13,'[1]Théorique métier'!$C$1:$D10011,2,FALSE) -> 1
A14: Employe A | B14: Chef d'équipe | C14: Chef de file | D14: =B14&C14 -> Chef d'équipe Chef de file | E14: =C14&A14 -> Chef de fileEmploye A | F14: 2015 | G14: =IF(AND(YEAR(TODAY())<=F14+VLOOKUP(C14,[1]Compétencesssss!$A$1:$B$15,2,FALSE),YEAR(TODAY())>=F14),1,0) -> 1 | M14: =VLOOKUP(D14,'[1]Théorique métier'!$C$1:$D10012,2,FALSE) -> 1
A15: Employe A | B15: Chef d'équipe | C15: Management perfectionnement | D15: =B15&C15 -> Chef d'équipe Management perfectionnement | E15: =C15&A15 -> Management perfectionnementEmploye A | F15: 2015 | G15: =IF(AND(YEAR(TODAY())<=F15+VLOOKUP(C15,[1]Compétencesssss!$A$1:$B$15,2,FALSE),YEAR(TODAY())>=F15),1,0) -> 1 | H15: 1 | M15: =VLOOKUP(D15,'[1]Théorique métier'!$C$1:$D10013,2,FALSE) -> 1
A16: Employe B | B16: Chef d'équipe | C16: Incendie | D16: =B16&C16 -> Chef d'équipe Incendie | E16: =C16&A16 -> IncendieEmploye B | F16: 2015 | G16: =IF(AND(YEAR(TODAY())<=F16+VLOOKUP(C16,[1]Compétencesssss!$A$1:$B$15,2,FALSE),YEAR(TODAY())>=F16),1,0) -> 1 | M16: =VLOOKUP(D16,'[1]Théorique métier'!$C$1:$D10014,2,FALSE) -> 1
A17: Employe B | B17: Chef d'équipe | C17: Informatique niveau 1 | D17: =B17&C17 -> Chef d'équipe Informatique niveau 1 | E17: =C17&A17 -> Informatique niveau 1Employe B | F17: 2015 | G17: =IF(AND(YEAR(TODAY())<=F17+VLOOKUP(C17,[1]Compétencesssss!$A$1:$B$15,2,FALSE),YEAR(TODAY())>=F17),1,0) -> 1 | M17: =VLOOKUP(D17,'[1]Théorique métier'!$C$1:$D10015,2,FALSE) -> 1
A18: Employe B | B18: Chef d'équipe | C18: Informatique niveau 2 | D18: =B18&C18 -> Chef d'équipe Informatique niveau 2 | E18: =C18&A18 -> Informatique niveau 2Employe B | F18: 2015 | G18: =IF(AND(YEAR(TODAY())<=F18+VLOOKUP(C18,[1]Compétencesssss!$A$1:$B$15,2,FALSE),YEAR(TODAY())>=F18),1,0) -> 1 | M18: =VLOOKUP(D18,'[1]Théorique métier'!$C$1:$D10016,2,FALSE) -> 1
A19: Employe B | B19: Chef d'équipe | C19: SST | D19: =B19&C19 -> Chef d'équipe SST | E19: =C19&A19 -> SSTEmploye B | F19: 2015 | G19: =IF(AND(YEAR(TODAY())<=F19+VLOOKUP(C19,[1]Compétencesssss!$A$1:$B$15,2,FALSE),YEAR(TODAY())>=F19),1,0) -> 1 | M19: =VLOOKUP(D19,'[1]Théorique métier'!$C$1:$D10017,2,FALSE) -> 1
A20: Employe B | B20: Chef d'équipe | C20: Administratif niveau 1 | D20: =B20&C20 -> Chef d'équipe Administratif niveau 1 | E20: =C20&A20 -> Administratif niveau 1Employe B | F20: 2015 | G20: =IF(AND(YEAR(TODAY())<=F20+VLOOKUP(C20,[1]Compétencesssss!$A$1:$B$15,2,FALSE),YEAR(TODAY())>=F20),1,0) -> 1 | M20: =VLOOKUP(D20,'[1]Théorique métier'!$C$1:$D10018,2,FALSE) -> 1
A21: Employe B | B21: Chef d'équipe | C21: Administratif niveau 2 | D21: =B21&C21 -> Chef d'équipe Administratif niveau 2 | E21: =C21&A21 -> Administratif niveau 2Employe B | F21: 2015 | G21: =IF(AND(YEAR(TODAY())<=F21+VLOOKUP(C21,[1]Compétencesssss!$A$1:$B$15,2,FALSE),YEAR(TODAY())>=F21),1,0) -> 1 | M21: =VLOOKUP(D21,'[1]Théorique métier'!$C$1:$D10019,2,FALSE) -> 1
A22: Employe B | B22: Chef d'équipe | C22: Inventaire | D22: =B22&C22 -> Chef d'équipe Inventaire | E22: =C22&A22 -> InventaireEmploye B | F22: 2015 | G22: =IF(AND(YEAR(TODAY())<=F22+VLOOKUP(C22,[1]Compétencesssss!$A$1:$B$15,2,FALSE),YEAR(TODAY())>=F22),1,0) -> 1 | M22: =VLOOKUP(D22,'[1]Théorique métier'!$C$1:$D10020,2,FALSE) -> 1
A23: Employe B | B23: Chef d'équipe | C23: Geste et posture | D23: =B23&C23 -> Chef d'équipe Geste et posture | E23: =C23&A23 -> Geste et postureEmploye B | F23: 2015 | G23: =IF(AND(YEAR(TODAY())<=F23+VLOOKUP(C23,[1]Compétencesssss!$A$1:$B$15,2,FALSE),YEAR(TODAY())>=F23),1,0) -> 1 | M23: =VLOOKUP(D23,'[1]Théorique métier'!$C$1:$D10021,2,FALSE) -> 1
A24: Employe B | B24: Chef d'équipe | C24: PDA | D24: =B24&C24 -> Chef d'équipe PDA | E24: =C24&A24 -> PDAEmploye B | F24: 2015 | G24: =IF(AND(YEAR(TODAY())<=F24+VLOOKUP(C24,[1]Compétencesssss!$A$1:$B$15,2,FALSE),YEAR(TODAY())>=F24),1,0) -> 1 | M24: =VLOOKUP(D24,'[1]Théorique métier'!$C$1:$D10022,2,FALSE) -> 1
A25: Employe B | B25: Chef d'équipe | C25: Caces 1/3/5 | D25: =B25&C25 -> Chef d'équipe Caces 1/3/5 | E25: =C25&A25 -> Caces 1/3/5Employe B | F25: 2014 | G25: =IF(AND(YEAR(TODAY())<=F25+VLOOKUP(C25,[1]Compétencesssss!$A$1:$B$15,2,FALSE),YEAR(TODAY())>=F25),1,0) -> 1 | M25: =VLOOKUP(D25,'[1]Théorique métier'!$C$1:$D10023,2,FALSE) -> 1
A26: Employe B | B26: Chef d'équipe | C26: Caces 1 | D26: =B26&C26 -> Chef d'équipe Caces 1 | E26: =C26&A26 -> Caces 1Employe B | F26: 2014 | G26: =IF(AND(YEAR(TODAY())<=F26+VLOOKUP(C26,[1]Compétencesssss!$A$1:$B$15,2,FALSE),YEAR(TODAY())>=F26),1,0) -> 1 | M26: =VLOOKUP(D26,'[1]Théorique métier'!$C$1:$D10024,2,FALSE) -> 1
A27: Employe B | B27: Chef d'équipe | C27: Management initiation | D27: =B27&C27 -> Chef d'équipe Management initiation | E27: =C27&A27 -> Management initiationEmploye B | F27: 2015 | G27: =IF(AND(YEAR(TODAY())<=F27+VLOOKUP(C27,[1]Compétencesssss!$A$1:$B$15,2,FALSE),YEAR(TODAY())>=F27),1,0) -> 1 | M27: =VLOOKUP(D27,'[1]Théorique métier'!$C$1:$D10025,2,FALSE) -> 1
A28: Employe B | B28: Chef d'équipe | C28: Chef de file | D28: =B28&C28 -> Chef d'équipe Chef de file | E28: =C28&A28 -> Chef de fileEmploye B | F28: 2015 | G28: =IF(AND(YEAR(TODAY())<=F28+VLOOKUP(C28,[1]Compétencesssss!$A$1:$B$15,2,FALSE),YEAR(TODAY())>=F28),1,0) -> 1 | M28: =VLOOKUP(D28,'[1]Théorique métier'!$C$1:$D10026,2,FALSE) -> 1
A29: Employe B | B29: Chef d'équipe | C29: Management perfectionnement | D29: =B29&C29 -> Chef d'équipe Management perfectionnement | E29: =C29&A29 -> Management perfectionnementEmploye B | M29: =VLOOKUP(D29,'[1]Théorique métier'!$C$1:$D10027,2,FALSE) -> 1
A30: Employe C | B30: Administrative | C30: Incendie | D30: =B30&C30 -> AdministrativeIncendie | E30: =C30&A30 -> IncendieEmploye C | F30: 2015 | G30: =IF(AND(YEAR(TODAY())<=F30+VLOOKUP(C30,[1]Compétencesssss!$A$1:$B$15,2,FALSE),YEAR(TODAY())>=F30),1,0) -> 1 | M30: =VLOOKUP(D30,'[1]Théorique métier'!$C$1:$D10028,2,FALSE) -> 0
A31: Employe C | B31: Administrative | C31: Informatique niveau 1 | D31: =B31&C31 -> AdministrativeInformatique niveau 1 | E31: =C31&A31 -> Informatique niveau 1Employe C | F31: 2015 | G31: =IF(AND(YEAR(TODAY())<=F31+VLOOKUP(C31,[1]Compétencesssss!$A$1:$B$15,2,FALSE),YEAR(TODAY())>=F31),1,0) -> 1 | M31: =VLOOKUP(D31,'[1]Théorique métier'!$C$1:$D10029,2,FALSE) -> 1
A32: Employe C | B32: Administrative | C32: Informatique niveau 2 | D32: =B32&C32 -> AdministrativeInformatique niveau 2 | E32: =C32&A32 -> Informatique niveau 2Employe C | F32: 2015 | G32: =IF(AND(YEAR(TODAY())<=F32+VLOOKUP(C32,[1]Compétencesssss!$A$1:$B$15,2,FALSE),YEAR(TODAY())>=F32),1,0) -> 1 | M32: =VLOOKUP(D32,'[1]Théorique métier'!$C$1:$D10030,2,FALSE) -> 1
A33: Employe C | B33: Administrative | C33: SST | D33: =B33&C33 -> AdministrativeSST | E33: =C33&A33 -> SSTEmploye C | M33: =VLOOKUP(D33,'[1]Théorique métier'!$C$1:$D10031,2,FALSE) -> 1
A34: Employe C | B34: Administrative | C34: Administratif niveau 1 | D34: =B34&C34 -> AdministrativeAdministratif niveau 1 | E34: =C34&A34 -> Administratif niveau 1Employe C | F34: 2015 | G34: =IF(AND(YEAR(TODAY())<=F34+VLOOKUP(C34,[1]Compétencesssss!$A$1:$B$15,2,FALSE),YEAR(TODAY())>=F34),1,0) -> 1 | M34: =VLOOKUP(D34,'[1]Théorique métier'!$C$1:$D10032,2,FALSE) -> 1
A35: Employe C | B35: Administrative | C35: Administratif niveau 2 | D35: =B35&C35 -> AdministrativeAdministratif niveau 2 | E35: =C35&A35 -> Administratif niveau 2Employe C | F35: 2015 | G35: =IF(AND(YEAR(TODAY())<=F35+VLOOKUP(C35,[1]Compétencesssss!$A$1:$B$15,2,FALSE),YEAR(TODAY())>=F35),1,0) -> 1 | M35: =VLOOKUP(D35,'[1]Théorique métier'!$C$1:$D10033,2,FALSE) -> 1
A36: Employe C | B36: Administrative | C36: Inventaire | D36: =B36&C36 -> AdministrativeInventaire | E36: =C36&A36 -> InventaireEmploye C | M36: =VLOOKUP(D36,'[1]Théorique métier'!$C$1:$D10034,2,FALSE) -> 0
A37: Employe C | B37: Administrative | C37: Geste et posture | D37: =B37&C37 -> AdministrativeGeste et posture | E37: =C37&A37 -> Geste et postureEmploye C | M37: =VLOOKUP(D37,'[1]Théorique métier'!$C$1:$D10035,2,FALSE) -> 1
A38: Employe C | B38: Administrative | C38: PDA | D38: =B38&C38 -> AdministrativePDA | E38: =C38&A38 -> PDAEmploye C | M38: =VLOOKUP(D38,'[1]Théorique métier'!$C$1:$D10036,2,FALSE) -> 0
A39: Employe C | B39: Administrative | C39: Caces 1/3/5 | D39: =B39&C39 -> AdministrativeCaces 1/3/5 | E39: =C39&A39 -> Caces 1/3/5Employe C | F39: 2014 | G39: =IF(AND(YEAR(TODAY())<=F39+VLOOKUP(C39,[1]Compétencesssss!$A$1:$B$15,2,FALSE),YEAR(TODAY())>=F39),1,0) -> 1 | M39: =VLOOKUP(D39,'[1]Théorique métier'!$C$1:$D10037,2,FALSE) -> 0
A40: Employe C | B40: Administrative | C40: Caces 1 | D40: =B40&C40 -> AdministrativeCaces 1 | E40: =C40&A40 -> Caces 1Employe C | M40: =VLOOKUP(D40,'[1]Théorique métier'!$C$1:$D10038,2,FALSE) -> 0
...

Sheet Feuil2
A1: Métier | B1: Compétence
A2: Chef d'équipe | B2: Incendie
A3: Administrative | B3: Informatique niveau 1
A4: Preparation | B4: Informatique niveau 2 | F4: metier | G4: compétence | I4: employés
A5: Mise en stock | B5: SST | F5: Chef d'équipe | G5: Incendie | I5: {=IFERROR(INDEX(employés,SMALL(IF(((Métier=$F$5)*(Compétence=$G$5)*(validité=1))<>0,ROW(employés)),ROWS($1:1))),"")} -> Employe A
A6: Expedition | B6: Administratif niveau 1 | I6: {=IFERROR(INDEX(employés,SMALL(IF(((Métier=$F$5)*(Compétence=$G$5)*(validité=1))<>0,ROW(employés)),ROWS($1:2))),"")} -> Employe B
A7: Reception | B7: Administratif niveau 2 | I7: {=IFERROR(INDEX(employés,SMALL(IF(((Métier=$F$5)*(Compétence=$G$5)*(validité=1))<>0,ROW(employés)),ROWS($1:3))),"")}
A8: Emballage | B8: Inventaire | I8: {=IFERROR(INDEX(employés,SMALL(IF(((Métier=$F$5)*(Compétence=$G$5)*(validité=1))<>0,ROW(employés)),ROWS($1:4))),"")}
B9: Geste et posture | I9: {=IFERROR(INDEX(employés,SMALL(IF(((Métier=$F$5)*(Compétence=$G$5)*(validité=1))<>0,ROW(employés)),ROWS($1:5))),"")}
B10: PDA | I10: {=IFERROR(INDEX(employés,SMALL(IF(((Métier=$F$5)*(Compétence=$G$5)*(validité=1))<>0,ROW(employés)),ROWS($1:6))),"")}
B11: Caces 1/3/5 | I11: {=IFERROR(INDEX(employés,SMALL(IF(((Métier=$F$5)*(Compétence=$G$5)*(validité=1))<>0,ROW(employés)),ROWS($1:7))),"")}
B12: Caces 1 | I12: {=IFERROR(INDEX(employés,SMALL(IF(((Métier=$F$5)*(Compétence=$G$5)*(validité=1))<>0,ROW(employés)),ROWS($1:8))),"")}
B13: Management initiation | I13: {=IFERROR(INDEX(employés,SMALL(IF(((Métier=$F$5)*(Compétence=$G$5)*(validité=1))<>0,ROW(employés)),ROWS($1:9))),"")}
B14: Chef de file | I14: {=IFERROR(INDEX(employés,SMALL(IF(((Métier=$F$5)*(Compétence=$G$5)*(validité=1))<>0,ROW(employés)),ROWS($1:10))),"")}
B15: Management perfectionnement | I15: {=IFERROR(INDEX(employés,SMALL(IF(((Métier=$F$5)*(Compétence=$G$5)*(validité=1))<>0,ROW(employés)),ROWS($1:11))),"")}
I16: {=IFERROR(INDEX(employés,SMALL(IF(((Métier=$F$5)*(Compétence=$G$5)*(validité=1))<>0,ROW(employés)),ROWS($1:12))),"")}
