Workbook
Name Compétence: Feuil1!$C$1:$C$407
Name employés: Feuil1!$A$1:$A$407
Name Métier: Feuil1!$B$1:$B$407
Name validité: Feuil1!$G$1:$G$407

Sheet Feuil1
A1: Employé | B1: Métier | C1: Compétence | D1: MetComp | E1: CompEmp | F1: Date | G1: Validité | H1: 2016 | I1: 2017 | J1: 2018 | K1: 2019 | L1: 2020 | M1: Théorique
A2: Employe A | B2: Chef d'équipe | C2: Incendie | D2: =B2&C2 -> Chef d'équipe Incendie | E2: =C2&A2 -> IncendieEmploye A | F2: 2015 | G2: =IF(AND(YEAR(TODAY())<=F2+VLOOKUP(C2,[1]Compétencesssss!$A$1:$B$15,2,FALSE),YEAR(TODAY())>=F2),1,0) -> 1 | H2: 0.5 | M2: =VLOOKUP(D2,'[1]Théorique métier'!$C$1:$D10000,2,FALSE) -> 1
A3: Employe A | B3: Chef d'équipe | C3: Informatique niveau 1 | D3: =B3&C3 -> Chef d'équipe Informatique niveau 1 | E3: =C3&A3 -> Informatique niveau 1Employe A | F3: 2015 | G3: =IF(AND(YEAR(TODAY())<=F3+VLOOKUP(C3,[1]Compétencesssss!$A$1:$B$15,2,FALSE),YEAR(TODAY())>=F3),1,0) -> 1 | J3: 0.5 | M3: =VLOOKUP(D3,'[1]Théorique métier'!$C$1:$D10001,2,FALSE) -> 1
A4: Employe A | B4: Chef d'équipe | C4: Informatique niveau 2 | D4: =B4&C4 -> Chef d'équipe Informatique niveau 2 | E4: =C4&A4 -> Informatique niveau 2Employe A | F4: 2015 | G4: =IF(AND(YEAR(TODAY())<=F4+VLOOKUP(C4,[1]Compétencesssss!$A$1:$B$15,2,FALSE),YEAR(TODAY())>=F4),1,0) -> 1 | L4: 1 | M4: =VLOOKUP(D4,'[1]Théorique métier'!$C$1:$D10002,2,FALSE) -> 1
A5: Employe A | B5: Chef d'équipe | C5: SST | D5: =B5&C5 -> Chef d'équipe SST | E5: =C5&A5 -> SSTEmploye A | F5: 2015 | G5: =IF(AND(YEAR(TODAY())<=F5+VLOOKUP(C5,[1]Compétencesssss!$A$1:$B$15,2,FALSE),YEAR(TODAY())>=F5),1,0) -> 1 | M5: =VLOOKUP(D5,'[1]Théorique métier'!$C$1:$D10003,2,FALSE) -> 1
A6: Employe A | B6: Chef d'équipe | C6: Administratif niveau 1 | D6: =B6&C6 -> Chef d'équipe Administratif niveau 1 | E6: =C6&A6 -> Administratif niveau 1Employe A | F6: 2015 | G6: =IF(AND(YEAR(TODAY())<=F6+VLOOKUP(C6,[1]Compétencesssss!$A$1:$B$15,2,FALSE),YEAR(TODAY())>=F6),1,0) -> 1 | M6: =VLOOKUP(D6,'[1]Théorique métier'!$C$1:$D10004,2,FALSE) -> 1
A7: Employe A | B7: Chef d'équipe | C7: Administratif niveau 2 | D7: =B7&C7 -> Chef d'équipe Administratif niveau 2 | E7: =C7&A7 -> Administratif niveau 2Employe A | F7: 2015 | G7: =IF(AND(YEAR(TODAY())<=F7+VLOOKUP(C7,[1]Compétencesssss!$A$1:$B$15,2,FALSE),YEAR(TODAY())>=F7),1,0) -> 1 | M7: =VLOOKUP(D7,'[1]Théorique métier'!$C$1:$D10005,2,FALSE) -> 1
A8: Employe A | B8: Chef d'équipe | C8: Inventaire | D8: =B8&C8 -> Chef d'équipe Inventaire | E8: =C8&A8 -> InventaireEmploye A | F8: 2015 | G8: =IF(AND(YEAR(TODAY())<=F8+VLOOKUP(C8,[1]Compétencesssss!$A$1:$B$15,2,FALSE),YEAR(TODAY())>=F8),1,0) -> 1 | M8: =VLOOKUP(D8,'[1]Théorique métier'!$C$1:$D10006,2,FALSE) -> 1
A9: Employe A | B9: Chef d'équipe | C9: Geste et posture | D9: =B9&C9 -> Chef d'équipe Geste et posture | E9: =C9&A9 -> Geste et postureEmploye A | F9: 2015 | G9: =IF(AND(YEAR(TODAY())<=F9+VLOOKUP(C9,[1]Compétencesssss!$A$1:$B$15,2,FALSE),YEAR(TODAY())>=F9),1,0) -> 1 | M9: =VLOOKUP(D9,'[1]Théorique métier'!$C$1:$D10007,2,FALSE) -> 1
A10: Employe A | B10: Chef d'équipe | C10: PDA | D10: =B10&C10 -> Chef d'équipe PDA | E10: =C10&A10 -> PDAEmploye A | F10: 2015 | G10: =IF(AND(YEAR(TODAY())<=F10+VLOOKUP(C10,[1]Compétencesssss!$A$1:$B$15,2,FALSE),YEAR(TODAY())>=F10),1,0) -> 1 | M10: =VLOOKUP(D10,'[1]Théorique métier'!$C$1:$D10008,2,FALSE) -> 1
A11: Employe A | B11: Chef d'équipe | C11: Caces 1/3/5 | D11: =B11&C11 -> Chef d'équipe Caces 1/3/5 | E11: =C11&A11 -> Caces 1/3/5Employe A | F11: 2014 | G11: =IF(AND(YEAR(TODAY())<=F11+VLOOKUP(C11,[1]Compétencesssss!$A$1:$B$15,2,FALSE),YEAR(TODAY())>=F11),1,0) -> 1 | L11: 1 | M11: =VLOOKUP(D11,'[1]Théorique métier'!$C$1:$D10009,2,FALSE) -> 1
A12: Employe A | B12: Chef d'équipe | C12: Caces 1 | D12: =B12&C12 -> Chef d'équipe Caces 1 | E12: =C12&A12 -> Caces 1Employe A | F12: 2014 | G12: =IF(AND(YEAR(TODAY())<=F12+VLOOKUP(C12,[1]Compétencesssss!$A$1:$B$15,2,FALSE),YEAR(TODAY())>=F12),1,0) -> 1 | M12: =VLOOKUP(D12,'[1]Théorique métier'!$C$1:$D10010,2,FALSE) -> 1
A13: Employe A | B13: Chef d'équipe | C13: Management initiation | D13: =B13&C13 -> Chef d'équipe Management initiation | E13: =C13&A13 -> Management initiationEmploye A | F13: 2015 | G13: =IF(AND(YEAR(TODAY())<=F13+VLOOKUP(C13,[1]Compétencesssss!$A$1:$B$15,2,FALSE),YEAR(TODAY())>=F13),1,0) -> 1 | I13: 1 | M13: =VLOOKUP(D13,'[1]Théorique métier'!$C$1:$D10011,2,FALSE) -> 1
A14: Employe A | B14: Chef d'équipe | C14: Chef de file | D14: =B14&C14 -> Chef d'équipe Chef de file | E14: =C14&A14 -> Chef de fileEmploye A | F14: 2015 | G14: =IF(AND(YEAR(TODAY())<=F14+VLOOKUP(C14,[1]Compétencesssss!$A$1:$B$15,2,FALSE),YEAR(TODAY())>=F14),1,0) -> 1 | M14: =VLOOKUP(D14,'[1]Théorique métier'!$C$1:$D10012,2,FALSE) -> 1
A15: Employe A | B15: Chef d'équipe | C15: Management perfectionnement | D15: =B15&C15 -> Chef d'équipe Management perfectionnement | E15: =C15&A15 -> Management perfectionnementEmploye A | F15: 2015 | G15: =IF(AND(YEAR(TODAY())<=F15+VLOOKUP(C15,[1]Compétencesssss!$A$1:$B$15,2,FALSE),YEAR(TODAY())>=F15),1,0) -> 1 | H15: 1 | M15: =VLOOKUP(D15,'[1]Théorique métier'!$C$1:$D10013,2,FALSE) -> 1
A16: Employe B | B16: Chef d'équipe | C16: Incendie | D16: =B16&C16 -> Chef d'équipe Incendie | E16: =C16&A16 -> IncendieEmploye B | F16: 2015 | G16: =IF(AND(YEAR(TODAY())<=F16+VLOOKUP(C16,[1]Compétencesssss!$A$1:$B$15,2,FALSE),YEAR(TODAY())>=F16),1,0) -> 1 | M16: =VLOOKUP(D16,'[1]Théorique métier'!$C$1:$D10014,2,FALSE) -> 1
A17: Employe B | B17: Chef d'équipe | C17: Informatique niveau 1 | D17: =B17&C17 -> Chef d'équipe Informatique niveau 1 | E17: =C17&A17 -> Informatique niveau 1Employe B | F17: 2015 | G17: =IF(AND(YEAR(TODAY())<=F17+VLOOKUP(C17,[1]Compétencesssss!$A$1:$B$15,2,FALSE),YEAR(TODAY())>=F17),1,0) -> 1 | M17: =VLOOKUP(D17,'[1]Théorique métier'!$C$1:$D10015,2,FALSE) -> 1
A18: Employe B | B18: Chef d'équipe | C18: Informatique niveau 2 | D18: =B18&C18 -> Chef d'équipe Informatique niveau 2 | E18: =C18&A18 -> Informatique niveau 2Employe B | F18: 2015 | G18: =IF(AND(YEAR(TODAY())<=F18+VLOOKUP(C18,[1]Compétencesssss!$A$1:$B$15,2,FALSE),YEAR(TODAY())>=F18),1,0) -> 1 | M18: =VLOOKUP(D18,'[1]Théorique métier'!$C$1:$D10016,2,FALSE) -> 1
A19: Employe B | B19: Chef d'équipe | C19: SST | D19: =B19&C19 -> Chef d'équipe SST | E19: =C19&A19 -> SSTEmploye B | F19: 2015 | G19: =IF(AND(YEAR(TODAY())<=F19+VLOOKUP(C19,[1]Compétencesssss!$A$1:$B$15,2,FALSE),YEAR(TODAY())>=F19),1,0) -> 1 | M19: =VLOOKUP(D19,'[1]Théorique métier'!$C$1:$D10017,2,FALSE) -> 1
A20: Employe B | B20: Chef d'équipe | C20: Administratif niveau 1 | D20: =B20&C20 -> Chef d'équipe Administratif niveau 1 | E20: =C20&A20 -> Administratif niveau 1Employe B | F20: 2015 | G20: =IF(AND(YEAR(TODAY())<=F20+VLOOKUP(C20,[1]Compétencesssss!$A$1:$B$15,2,FALSE),YEAR(TODAY())>=F20),1,0) -> 1 | M20: =VLOOKUP(D20,'[1]Théorique métier'!$C$1:$D10018,2,FALSE) -> 1
A21: Employe B | B21: Chef d'équipe | C21: Administratif niveau 2 | D21: =B21&C21 -> Chef d'équipe Administratif niveau 2 | E21: =C21&A21 -> Administratif niveau 2Employe B | F21: 2015 | G21: =IF(AND(YEAR(TODAY())<=F21+VLOOKUP(C21,[1]Compétencesssss!$A$1:$B$15,2,FALSE),YEAR(TODAY())>=F21),1,0) -> 1 | M21: =VLOOKUP(D21,'[1]Théorique métier'!$C$1:$D10019,2,FALSE) -> 1
A22: Employe B | B22: Chef d'équipe | C22: Inventaire | D22: =B22&C22 -> Chef d'équipe Inventaire | E22: =C22&A22 -> InventaireEmploye B | F22: 2015 | G22: =IF(AND(YEAR(TODAY())<=F22+VLOOKUP(C22,[1]Compétencesssss!$A$1:$B$15,2,FALSE),YEAR(TODAY())>=F22),1,0) -> 1 | M22: =VLOOKUP(D22,'[1]Théorique métier'!$C$1:$D10020,2,FALSE) -> 1
A23: Employe B | B23: Chef d'équipe | C23: Geste et posture | D23: =B23&C23 -> Chef d'équipe Geste et posture | E23: =C23&A23 -> Geste et postureEmploye B | F23: 2015 | G23: =IF(AND(YEAR(TODAY())<=F23+VLOOKUP(C23,[1]Compétencesssss!$A$1:$B$15,2,FALSE),YEAR(TODAY())>=F23),1,0) -> 1 | M23: =VLOOKUP(D23,'[1]Théorique métier'!$C$1:$D10021,2,FALSE) -> 1
A24: Employe B | B24: Chef d'équipe | C24: PDA | D24: =B24&C24 -> Chef d'équipe PDA | E24: =C24&A24 -> PDAEmploye B | F24: 2015 | G24: =IF(AND(YEAR(TODAY())<=F24+VLOOKUP(C24,[1]Compétencesssss!$A$1:$B$15,2,FALSE),YEAR(TODAY())>=F24),1,0) -> 1 | M24: =VLOOKUP(D24,'[1]Théorique métier'!$C$1:$D10022,2,FALSE) -> 1
A25: Employe B | B25: Chef d'équipe | C25: Caces 1/3/5 | D25: =B25&C25 -> Chef d'équipe Caces 1/3/5 | E25: =C25&A25 -> Caces 1/3/5Employe B | F25: 2014 | G25: =IF(AND(YEAR(TODAY())<=F25+VLOOKUP(C25,[1]Compétencesssss!$A$1:$B$15,2,FALSE),YEAR(TODAY())>=F25),1,0) -> 1 | M25: =VLOOKUP(D25,'[1]Théorique métier'!$C$1:$D10023,2,FALSE) -> 1
A26: Employe B | B26: Chef d'équipe | C26: Caces 1 | D26: =B26&C26 -> Chef d'équipe Caces 1 | E26: =C26&A26 -> Caces 1Employe B | F26: 2014 | G26: =IF(AND(YEAR(TODAY())<=F26+VLOOKUP(C26,[1]Compétencesssss!$A$1:$B$15,2,FALSE),YEAR(TODAY())>=F26),1,0) -> 1 | M26: =VLOOKUP(D26,'[1]Théorique métier'!$C$1:$D10024,2,FALSE) -> 1
A27: Employe B | B27: Chef d'équipe | C27: Management initiation | D27: =B27&C27 -> Chef d'équipe Management initiation | E27: =C27&A27 -> Management initiationEmploye B | F27: 2015 | G27: =IF(AND(YEAR(TODAY())<=F27+VLOOKUP(C27,[1]Compétencesssss!$A$1:$B$15,2,FALSE),YEAR(TODAY())>=F27),1,0) -> 1 | M27: =VLOOKUP(D27,'[1]Théorique métier'!$C$1:$D10025,2,FALSE) -> 1
A28: Employe B | B28: Chef d'équipe | C28: Chef de file | D28: =B28&C28 -> Chef d'équipe Chef de file | E28: =C28&A28 -> Chef de fileEmploye B | F28: 2015 | G28: =IF(AND(YEAR(TODAY())<=F28+VLOOKUP(C28,[1]Compétencesssss!$A$1:$B$15,2,FALSE),YEAR(TODAY())>=F28),1,0) -> 1 | M28: =VLOOKUP(D28,'[1]Théorique métier'!$C$1:$D10026,2,FALSE) -> 1
A29: Employe B | B29: Chef d'équipe | C29: Management perfectionnement | D29: =B29&C29 -> Chef d'équipe Management perfectionnement | E29: =C29&A29 -> Management perfectionnementEmploye B | M29: =VLOOKUP(D29,'[1]Théorique métier'!$C$1:$D10027,2,FALSE) -> 1
A30: Employe C | B30: Administrative | C30: Incendie | D30: =B30&C30 -> AdministrativeIncendie | E30: =C30&A30 -> IncendieEmploye C | F30: 2015 | G30: =IF(AND(YEAR(TODAY())<=F30+VLOOKUP(C30,[1]Compétencesssss!$A$1:$B$15,2,FALSE),YEAR(TODAY())>=F30),1,0) -> 1 | M30: =VLOOKUP(D30,'[1]Théorique métier'!$C$1:$D10028,2,FALSE) -> 0
A31: Employe C | B31: Administrative | C31: Informatique niveau 1 | D31: =B31&C31 -> AdministrativeInformatique niveau 1 | E31: =C31&A31 -> Informatique niveau 1Employe C | F31: 2015 | G31: =IF(AND(YEAR(TODAY())<=F31+VLOOKUP(C31,[1]Compétencesssss!$A$1:$B$15,2,FALSE),YEAR(TODAY())>=F31),1,0) -> 1 | M31: =VLOOKUP(D31,'[1]Théorique métier'!$C$1:$D10029,2,FALSE) -> 1
A32: Employe C | B32: Administrative | C32: Informatique niveau 2 | D32: =B32&C32 -> AdministrativeInformatique niveau 2 | E32: =C32&A32 -> Informatique niveau 2Employe C | F32: 2015 | G32: =IF(AND(YEAR(TODAY())<=F32+VLOOKUP(C32,[1]Compétencesssss!$A$1:$B$15,2,FALSE),YEAR(TODAY())>=F32),1,0) -> 1 | M32: =VLOOKUP(D32,'[1]Théorique métier'!$C$1:$D10030,2,FALSE) -> 1
A33: Employe C | B33: Administrative | C33: SST | D33: =B33&C33 -> AdministrativeSST | E33: =C33&A33 -> SSTEmploye C | M33: =VLOOKUP(D33,'[1]Théorique métier'!$C$1:$D10031,2,FALSE) -> 1
A34: Employe C | B34: Administrative | C34: Administratif niveau 1 | D34: =B34&C34 -> AdministrativeAdministratif niveau 1 | E34: =C34&A34 -> Administratif niveau 1Employe C | F34: 2015 | G34: =IF(AND(YEAR(TODAY())<=F34+VLOOKUP(C34,[1]Compétencesssss!$A$1:$B$15,2,FALSE),YEAR(TODAY())>=F34),1,0) -> 1 | M34: =VLOOKUP(D34,'[1]Théorique métier'!$C$1:$D10032,2,FALSE) -> 1
A35: Employe C | B35: Administrative | C35: Administratif niveau 2 | D35: =B35&C35 -> AdministrativeAdministratif niveau 2 | E35: =C35&A35 -> Administratif niveau 2Employe C | F35: 2015 | G35: =IF(AND(YEAR(TODAY())<=F35+VLOOKUP(C35,[1]Compétencesssss!$A$1:$B$15,2,FALSE),YEAR(TODAY())>=F35),1,0) -> 1 | M35: =VLOOKUP(D35,'[1]Théorique métier'!$C$1:$D10033,2,FALSE) -> 1
A36: Employe C | B36: Administrative | C36: Inventaire | D36: =B36&C36 -> AdministrativeInventaire | E36: =C36&A36 -> InventaireEmploye C | M36: =VLOOKUP(D36,'[1]Théorique métier'!$C$1:$D10034,2,FALSE) -> 0
A37: Employe C | B37: Administrative | C37: Geste et posture | D37: =B37&C37 -> AdministrativeGeste et posture | E37: =C37&A37 -> Geste et postureEmploye C | M37: =VLOOKUP(D37,'[1]Théorique métier'!$C$1:$D10035,2,FALSE) -> 1
A38: Employe C | B38: Administrative | C38: PDA | D38: =B38&C38 -> AdministrativePDA | E38: =C38&A38 -> PDAEmploye C | M38: =VLOOKUP(D38,'[1]Théorique métier'!$C$1:$D10036,2,FALSE) -> 0
A39: Employe C | B39: Administrative | C39: Caces 1/3/5 | D39: =B39&C39 -> AdministrativeCaces 1/3/5 | E39: =C39&A39 -> Caces 1/3/5Employe C | F39: 2014 | G39: =IF(AND(YEAR(TODAY())<=F39+VLOOKUP(C39,[1]Compétencesssss!$A$1:$B$15,2,FALSE),YEAR(TODAY())>=F39),1,0) -> 1 | M39: =VLOOKUP(D39,'[1]Théorique métier'!$C$1:$D10037,2,FALSE) -> 0
A40: Employe C | B40: Administrative | C40: Caces 1 | D40: =B40&C40 -> AdministrativeCaces 1 | E40: =C40&A40 -> Caces 1Employe C | M40: =VLOOKUP(D40,'[1]Théorique métier'!$C$1:$D10038,2,FALSE) -> 0
A41: Employe C | B41: Administrative | C41: Management initiation | D41: =B41&C41 -> AdministrativeManagement initiation | E41: =C41&A41 -> Management initiationEmploye C | M41: =VLOOKUP(D41,'[1]Théorique métier'!$C$1:$D10039,2,FALSE) -> 0
A42: Employe C | B42: Administrative | C42: Chef de file | D42: =B42&C42 -> AdministrativeChef de file | E42: =C42&A42 -> Chef de fileEmploye C | M42: =VLOOKUP(D42,'[1]Théorique métier'!$C$1:$D10040,2,FALSE) -> 0
A43: Employe C | B43: Administrative | C43: Management perfectionnement | D43: =B43&C43 -> AdministrativeManagement perfectionnement | E43: =C43&A43 -> Management perfectionnementEmploye C | M43: =VLOOKUP(D43,'[1]Théorique métier'!$C$1:$D10041,2,FALSE) -> 0
A44: Employe D | B44: Administrative | C44: Incendie | D44: =B44&C44 -> AdministrativeIncendie | E44: =C44&A44 -> IncendieEmploye D | M44: =VLOOKUP(D44,'[1]Théorique métier'!$C$1:$D10042,2,FALSE) -> 0
A45: Employe D | B45: Administrative | C45: Informatique niveau 1 | D45: =B45&C45 -> AdministrativeInformatique niveau 1 | E45: =C45&A45 -> Informatique niveau 1Employe D | F45: 2015 | G45: =IF(AND(YEAR(TODAY())<=F45+VLOOKUP(C45,[1]Compétencesssss!$A$1:$B$15,2,FALSE),YEAR(TODAY())>=F45),1,0) -> 1 | M45: =VLOOKUP(D45,'[1]Théorique métier'!$C$1:$D10043,2,FALSE) -> 1
A46: Employe D | B46: Administrative | C46: Informatique niveau 2 | D46: =B46&C46 -> AdministrativeInformatique niveau 2 | E46: =C46&A46 -> Informatique niveau 2Employe D | F46: 2015 | G46: =IF(AND(YEAR(TODAY())<=F46+VLOOKUP(C46,[1]Compétencesssss!$A$1:$B$15,2,FALSE),YEAR(TODAY())>=F46),1,0) -> 1 | M46: =VLOOKUP(D46,'[1]Théorique métier'!$C$1:$D10044,2,FALSE) -> 1
A47: Employe D | B47: Administrative | C47: SST | D47: =B47&C47 -> AdministrativeSST | E47: =C47&A47 -> SSTEmploye D | M47: =VLOOKUP(D47,'[1]Théorique métier'!$C$1:$D10045,2,FALSE) -> 1
A48: Employe D | B48: Administrative | C48: Administratif niveau 1 | D48: =B48&C48 -> AdministrativeAdministratif niveau 1 | E48: =C48&A48 -> Administratif niveau 1Employe D | F48: 2015 | G48: =IF(AND(YEAR(TODAY())<=F48+VLOOKUP(C48,[1]Compétencesssss!$A$1:$B$15,2,FALSE),YEAR(TODAY())>=F48),1,0) -> 1 | M48: =VLOOKUP(D48,'[1]Théorique métier'!$C$1:$D10046,2,FALSE) -> 1
A49: Employe D | B49: Administrative | C49: Administratif niveau 2 | D49: =B49&C49 -> AdministrativeAdministratif niveau 2 | E49: =C49&A49 -> Administratif niveau 2Employe D | F49: 2015 | G49: =IF(AND(YEAR(TODAY())<=F49+VLOOKUP(C49,[1]Compétencesssss!$A$1:$B$15,2,FALSE),YEAR(TODAY())>=F49),1,0) -> 1 | M49: =VLOOKUP(D49,'[1]Théorique métier'!$C$1:$D10047,2,FALSE) -> 1
A50: Employe D | B50: Administrative | C50: Inventaire | D50: =B50&C50 -> AdministrativeInventaire | E50: =C50&A50 -> InventaireEmploye D | M50: =VLOOKUP(D50,'[1]Théorique métier'!$C$1:$D10048,2,FALSE) -> 0
A51: Employe D | B51: Administrative | C51: Geste et posture | D51: =B51&C51 -> AdministrativeGeste et posture | E51: =C51&A51 -> Geste et postureEmploye D | M51: =VLOOKUP(D51,'[1]Théorique métier'!$C$1:$D10049,2,FALSE) -> 1
A52: Employe D | B52: Administrative | C52: PDA | D52: =B52&C52 -> AdministrativePDA | E52: =C52&A52 -> PDAEmploye D | F52: 2015 | G52: =IF(AND(YEAR(TODAY())<=F52+VLOOKUP(C52,[1]Compétencesssss!$A$1:$B$15,2,FALSE),YEAR(TODAY())>=F52),1,0) -> 1 | M52: =VLOOKUP(D52,'[1]Théorique métier'!$C$1:$D10050,2,FALSE) -> 0
A53: Employe D | B53: Administrative | C53: Caces 1/3/5 | D53: =B53&C53 -> AdministrativeCaces 1/3/5 | E53: =C53&A53 -> Caces 1/3/5Employe D | M53: =VLOOKUP(D53,'[1]Théorique métier'!$C$1:$D10051,2,FALSE) -> 0
A54: Employe D | B54: Administrative | C54: Caces 1 | D54: =B54&C54 -> AdministrativeCaces 1 | E54: =C54&A54 -> Caces 1Employe D | M54: =VLOOKUP(D54,'[1]Théorique métier'!$C$1:$D10052,2,FALSE) -> 0
A55: Employe D | B55: Administrative | C55: Management initiation | D55: =B55&C55 -> AdministrativeManagement initiation | E55: =C55&A55 -> Management initiationEmploye D | M55: =VLOOKUP(D55,'[1]Théorique métier'!$C$1:$D10053,2,FALSE) -> 0
A56: Employe D | B56: Administrative | C56: Chef de file | D56: =B56&C56 -> AdministrativeChef de file | E56: =C56&A56 -> Chef de fileEmploye D | M56: =VLOOKUP(D56,'[1]Théorique métier'!$C$1:$D10054,2,FALSE) -> 0
A57: Employe D | B57: Administrative | C57: Management perfectionnement | D57: =B57&C57 -> AdministrativeManagement perfectionnement | E57: =C57&A57 -> Management perfectionnementEmploye D | M57: =VLOOKUP(D57,'[1]Théorique métier'!$C$1:$D10055,2,FALSE) -> 0
A58: Employe E | B58: Preparation | C58: Incendie | D58: =B58&C58 -> PreparationIncendie | E58: =C58&A58 -> IncendieEmploye E | F58: 2015 | G58: =IF(AND(YEAR(TODAY())<=F58+VLOOKUP(C58,[1]Compétencesssss!$A$1:$B$15,2,FALSE),YEAR(TODAY())>=F58),1,0) -> 1 | M58: =VLOOKUP(D58,'[1]Théorique métier'!$C$1:$D10056,2,FALSE) -> 0
A59: Employe E | B59: Preparation | C59: Informatique niveau 1 | D59: =B59&C59 -> PreparationInformatique niveau 1 | E59: =C59&A59 -> Informatique niveau 1Employe E | F59: 2015 | G59: =IF(AND(YEAR(TODAY())<=F59+VLOOKUP(C59,[1]Compétencesssss!$A$1:$B$15,2,FALSE),YEAR(TODAY())>=F59),1,0) -> 1 | M59: =VLOOKUP(D59,'[1]Théorique métier'!$C$1:$D10057,2,FALSE) -> 0
A60: Employe E | B60: Preparation | C60: Informatique niveau 2 | D60: =B60&C60 -> PreparationInformatique niveau 2 | E60: =C60&A60 -> Informatique niveau 2Employe E | F60: 2015 | G60: =IF(AND(YEAR(TODAY())<=F60+VLOOKUP(C60,[1]Compétencesssss!$A$1:$B$15,2,FALSE),YEAR(TODAY())>=F60),1,0) -> 1 | M60: =VLOOKUP(D60,'[1]Théorique métier'!$C$1:$D10058,2,FALSE) -> 0
A61: Employe E | B61: Preparation | C61: SST | D61: =B61&C61 -> PreparationSST | E61: =C61&A61 -> SSTEmploye E | F61: 2015 | G61: =IF(AND(YEAR(TODAY())<=F61+VLOOKUP(C61,[1]Compétencesssss!$A$1:$B$15,2,FALSE),YEAR(TODAY())>=F61),1,0) -> 1 | M61: =VLOOKUP(D61,'[1]Théorique métier'!$C$1:$D10059,2,FALSE) -> 1
A62: Employe E | B62: Preparation | C62: Administratif niveau 1 | D62: =B62&C62 -> PreparationAdministratif niveau 1 | E62: =C62&A62 -> Administratif niveau 1Employe E | F62: 2015 | G62: =IF(AND(YEAR(TODAY())<=F62+VLOOKUP(C62,[1]Compétencesssss!$A$1:$B$15,2,FALSE),YEAR(TODAY())>=F62),1,0) -> 1 | M62: =VLOOKUP(D62,'[1]Théorique métier'!$C$1:$D10060,2,FALSE) -> 0
A63: Employe E | B63: Preparation | C63: Administratif niveau 2 | D63: =B63&C63 -> PreparationAdministratif niveau 2 | E63: =C63&A63 -> Administratif niveau 2Employe E | F63: 2015 | G63: =IF(AND(YEAR(TODAY())<=F63+VLOOKUP(C63,[1]Compétencesssss!$A$1:$B$15,2,FALSE),YEAR(TODAY())>=F63),1,0) -> 1 | M63: =VLOOKUP(D63,'[1]Théorique métier'!$C$1:$D10061,2,FALSE) -> 0
A64: Employe E | B64: Preparation | C64: Inventaire | D64: =B64&C64 -> PreparationInventaire | E64: =C64&A64 -> InventaireEmploye E | M64: =VLOOKUP(D64,'[1]Théorique métier'!$C$1:$D10062,2,FALSE) -> 0
A65: Employe E | B65: Preparation | C65: Geste et posture | D65: =B65&C65 -> PreparationGeste et posture | E65: =C65&A65 -> Geste et postureEmploye E | F65: 2015 | G65: =IF(AND(YEAR(TODAY())<=F65+VLOOKUP(C65,[1]Compétencesssss!$A$1:$B$15,2,FALSE),YEAR(TODAY())>=F65),1,0) -> 1 | M65: =VLOOKUP(D65,'[1]Théorique métier'!$C$1:$D10063,2,FALSE) -> 1
A66: Employe E | B66: Preparation | C66: PDA | D66: =B66&C66 -> PreparationPDA | E66: =C66&A66 -> PDAEmploye E | F66: 2015 | G66: =IF(AND(YEAR(TODAY())<=F66+VLOOKUP(C66,[1]Compétencesssss!$A$1:$B$15,2,FALSE),YEAR(TODAY())>=F66),1,0) -> 1 | M66: =VLOOKUP(D66,'[1]Théorique métier'!$C$1:$D10064,2,FALSE) -> 1
A67: Employe E | B67: Preparation | C67: Caces 1/3/5 | D67: =B67&C67 -> PreparationCaces 1/3/5 | E67: =C67&A67 -> Caces 1/3/5Employe E | F67: 2014 | G67: =IF(AND(YEAR(TODAY())<=F67+VLOOKUP(C67,[1]Compétencesssss!$A$1:$B$15,2,FALSE),YEAR(TODAY())>=F67),1,0) -> 1 | M67: =VLOOKUP(D67,'[1]Théorique métier'!$C$1:$D10065,2,FALSE) -> 0
A68: Employe E | B68: Preparation | C68: Caces 1 | D68: =B68&C68 -> PreparationCaces 1 | E68: =C68&A68 -> Caces 1Employe E | M68: =VLOOKUP(D68,'[1]Théorique métier'!$C$1:$D10066,2,FALSE) -> 1
A69: Employe E | B69: Preparation | C69: Management initiation | D69: =B69&C69 -> PreparationManagement initiation | E69: =C69&A69 -> Management initiationEmploye E | M69: =VLOOKUP(D69,'[1]Théorique métier'!$C$1:$D10067,2,FALSE) -> 0
A70: Employe E | B70: Preparation | C70: Chef de file | D70: =B70&C70 -> PreparationChef de file | E70: =C70&A70 -> Chef de fileEmploye E | F70: 2015 | G70: =IF(AND(YEAR(TODAY())<=F70+VLOOKUP(C70,[1]Compétencesssss!$A$1:$B$15,2,FALSE),YEAR(TODAY())>=F70),1,0) -> 1 | M70: =VLOOKUP(D70,'[1]Théorique métier'!$C$1:$D10068,2,FALSE) -> 0
A71: Employe E | B71: Preparation | C71: Management perfectionnement | D71: =B71&C71 -> PreparationManagement perfectionnement | E71: =C71&A71 -> Management perfectionnementEmploye E | M71: =VLOOKUP(D71,'[1]Théorique métier'!$C$1:$D10069,2,FALSE) -> 0
A72: Employe F | B72: Preparation | C72: Incendie | D72: =B72&C72 -> PreparationIncendie | E72: =C72&A72 -> IncendieEmploye F | M72: =VLOOKUP(D72,'[1]Théorique métier'!$C$1:$D10070,2,FALSE) -> 0
A73: Employe F | B73: Preparation | C73: Informatique niveau 1 | D73: =B73&C73 -> PreparationInformatique niveau 1 | E73: =C73&A73 -> Informatique niveau 1Employe F | M73: =VLOOKUP(D73,'[1]Théorique métier'!$C$1:$D10071,2,FALSE) -> 0
A74: Employe F | B74: Preparation | C74: Informatique niveau 2 | D74: =B74&C74 -> PreparationInformatique niveau 2 | E74: =C74&A74 -> Informatique niveau 2Employe F | M74: =VLOOKUP(D74,'[1]Théorique métier'!$C$1:$D10072,2,FALSE) -> 0
A75: Employe F | B75: Preparation | C75: SST | D75: =B75&C75 -> PreparationSST | E75: =C75&A75 -> SSTEmploye F | M75: =VLOOKUP(D75,'[1]Théorique métier'!$C$1:$D10073,2,FALSE) -> 1
A76: Employe F | B76: Preparation | C76: Administratif niveau 1 | D76: =B76&C76 -> PreparationAdministratif niveau 1 | E76: =C76&A76 -> Administratif niveau 1Employe F | M76: =VLOOKUP(D76,'[1]Théorique métier'!$C$1:$D10074,2,FALSE) -> 0
A77: Employe F | B77: Preparation | C77: Administratif niveau 2 | D77: =B77&C77 -> PreparationAdministratif niveau 2 | E77: =C77&A77 -> Administratif niveau 2Employe F | M77: =VLOOKUP(D77,'[1]Théorique métier'!$C$1:$D10075,2,FALSE) -> 0
A78: Employe F | B78: Preparation | C78: Inventaire | D78: =B78&C78 -> PreparationInventaire | E78: =C78&A78 -> InventaireEmploye F | M78: =VLOOKUP(D78,'[1]Théorique métier'!$C$1:$D10076,2,FALSE) -> 0
A79: Employe F | B79: Preparation | C79: Geste et posture | D79: =B79&C79 -> PreparationGeste et posture | E79: =C79&A79 -> Geste et postureEmploye F | M79: =VLOOKUP(D79,'[1]Théorique métier'!$C$1:$D10077,2,FALSE) -> 1
A80: Employe F | B80: Preparation | C80: PDA | D80: =B80&C80 -> PreparationPDA | E80: =C80&A80 -> PDAEmploye F | F80: 2015 | G80: =IF(AND(YEAR(TODAY())<=F80+VLOOKUP(C80,[1]Compétencesssss!$A$1:$B$15,2,FALSE),YEAR(TODAY())>=F80),1,0) -> 1 | M80: =VLOOKUP(D80,'[1]Théorique métier'!$C$1:$D10078,2,FALSE) -> 1
A81: Employe F | B81: Preparation | C81: Caces 1/3/5 | D81: =B81&C81 -> PreparationCaces 1/3/5 | E81: =C81&A81 -> Caces 1/3/5Employe F | F81: 2015 | G81: =IF(AND(YEAR(TODAY())<=F81+VLOOKUP(C81,[1]Compétencesssss!$A$1:$B$15,2,FALSE),YEAR(TODAY())>=F81),1,0) -> 1 | M81: =VLOOKUP(D81,'[1]Théorique métier'!$C$1:$D10079,2,FALSE) -> 0
A82: Employe F | B82: Preparation | C82: Caces 1 | D82: =B82&C82 -> PreparationCaces 1 | E82: =C82&A82 -> Caces 1Employe F | M82: =VLOOKUP(D82,'[1]Théorique métier'!$C$1:$D10080,2,FALSE) -> 1
A83: Employe F | B83: Preparation | C83: Management initiation | D83: =B83&C83 -> PreparationManagement initiation | E83: =C83&A83 -> Management initiationEmploye F | M83: =VLOOKUP(D83,'[1]Théorique métier'!$C$1:$D10081,2,FALSE) -> 0
A84: Employe F | B84: Preparation | C84: Chef de file | D84: =B84&C84 -> PreparationChef de file | E84: =C84&A84 -> Chef de fileEmploye F | M84: =VLOOKUP(D84,'[1]Théorique métier'!$C$1:$D10082,2,FALSE) -> 0
A85: Employe F | B85: Preparation | C85: Management perfectionnement | D85: =B85&C85 -> PreparationManagement perfectionnement | E85: =C85&A85 -> Management perfectionnementEmploye F | M85: =VLOOKUP(D85,'[1]Théorique métier'!$C$1:$D10083,2,FALSE) -> 0
A86: Employe G | B86: Preparation | C86: Incendie | D86: =B86&C86 -> PreparationIncendie | E86: =C86&A86 -> IncendieEmploye G | M86: =VLOOKUP(D86,'[1]Théorique métier'!$C$1:$D10084,2,FALSE) -> 0
A87: Employe G | B87: Preparation | C87: Informatique niveau 1 | D87: =B87&C87 -> PreparationInformatique niveau 1 | E87: =C87&A87 -> Informatique niveau 1Employe G | M87: =VLOOKUP(D87,'[1]Théorique métier'!$C$1:$D10085,2,FALSE) -> 0
A88: Employe G | B88: Preparation | C88: Informatique niveau 2 | D88: =B88&C88 -> PreparationInformatique niveau 2 | E88: =C88&A88 -> Informatique niveau 2Employe G | M88: =VLOOKUP(D88,'[1]Théorique métier'!$C$1:$D10086,2,FALSE) -> 0
A89: Employe G | B89: Preparation | C89: SST | D89: =B89&C89 -> PreparationSST | E89: =C89&A89 -> SSTEmploye G | M89: =VLOOKUP(D89,'[1]Théorique métier'!$C$1:$D10087,2,FALSE) -> 1
A90: Employe G | B90: Preparation | C90: Administratif niveau 1 | D90: =B90&C90 -> PreparationAdministratif niveau 1 | E90: =C90&A90 -> Administratif niveau 1Employe G | M90: =VLOOKUP(D90,'[1]Théorique métier'!$C$1:$D10088,2,FALSE) -> 0
A91: Employe G | B91: Preparation | C91: Administratif niveau 2 | D91: =B91&C91 -> PreparationAdministratif niveau 2 | E91: =C91&A91 -> Administratif niveau 2Employe G | M91: =VLOOKUP(D91,'[1]Théorique métier'!$C$1:$D10089,2,FALSE) -> 0
A92: Employe G | B92: Preparation | C92: Inventaire | D92: =B92&C92 -> PreparationInventaire | E92: =C92&A92 -> InventaireEmploye G | M92: =VLOOKUP(D92,'[1]Théorique métier'!$C$1:$D10090,2,FALSE) -> 0
A93: Employe G | B93: Preparation | C93: Geste et posture | D93: =B93&C93 -> PreparationGeste et posture | E93: =C93&A93 -> Geste et postureEmploye G | M93: =VLOOKUP(D93,'[1]Théorique métier'!$C$1:$D10091,2,FALSE) -> 1
A94: Employe G | B94: Preparation | C94: PDA | D94: =B94&C94 -> PreparationPDA | E94: =C94&A94 -> PDAEmploye G | F94: 2015 | G94: =IF(AND(YEAR(TODAY())<=F94+VLOOKUP(C94,[1]Compétencesssss!$A$1:$B$15,2,FALSE),YEAR(TODAY())>=F94),1,0) -> 1 | M94: =VLOOKUP(D94,'[1]Théorique métier'!$C$1:$D10092,2,FALSE) -> 1
A95: Employe G | B95: Preparation | C95: Caces 1/3/5 | D95: =B95&C95 -> PreparationCaces 1/3/5 | E95: =C95&A95 -> Caces 1/3/5Employe G | M95: =VLOOKUP(D95,'[1]Théorique métier'!$C$1:$D10093,2,FALSE) -> 0
A96: Employe G | B96: Preparation | C96: Caces 1 | D96: =B96&C96 -> PreparationCaces 1 | E96: =C96&A96 -> Caces 1Employe G | F96: 2014 | G96: =IF(AND(YEAR(TODAY())<=F96+VLOOKUP(C96,[1]Compétencesssss!$A$1:$B$15,2,FALSE),YEAR(TODAY())>=F96),1,0) -> 1 | M96: =VLOOKUP(D96,'[1]Théorique métier'!$C$1:$D10094,2,FALSE) -> 1
A97: Employe G | B97: Preparation | C97: Management initiation | D97: =B97&C97 -> PreparationManagement initiation | E97: =C97&A97 -> Management initiationEmploye G | M97: =VLOOKUP(D97,'[1]Théorique métier'!$C$1:$D10095,2,FALSE) -> 0
A98: Employe G | B98: Preparation | C98: Chef de file | D98: =B98&C98 -> PreparationChef de file | E98: =C98&A98 -> Chef de fileEmploye G | M98: =VLOOKUP(D98,'[1]Théorique métier'!$C$1:$D10096,2,FALSE) -> 0
A99: Employe G | B99: Preparation | C99: Management perfectionnement | D99: =B99&C99 -> PreparationManagement perfectionnement | E99: =C99&A99 -> Management perfectionnementEmploye G | M99: =VLOOKUP(D99,'[1]Théorique métier'!$C$1:$D10097,2,FALSE) -> 0
A100: Employe H | B100: Preparation | C100: Incendie | D100: =B100&C100 -> PreparationIncendie | E100: =C100&A100 -> IncendieEmploye H | M100: =VLOOKUP(D100,'[1]Théorique métier'!$C$1:$D10098,2,FALSE) -> 0
...

Sheet Feuil2
A1: Métier | B1: Compétence
A2: Chef d'équipe | B2: Incendie
A3: Administrative | B3: Informatique niveau 1
A4: Preparation | B4: Informatique niveau 2 | F4: metier | G4: compétence | I4: employés
A5: Mise en stock | B5: SST | F5: Chef d'équipe | G5: Incendie | I5: {=IFERROR(INDEX(employés,SMALL(IF(((Métier=$F$5)*(Compétence=$G$5)*(validité=1))<>0,ROW(employés)),ROWS($1:1))),"")} -> Employe A
A6: Expedition | B6: Administratif niveau 1 | I6: {=IFERROR(INDEX(employés,SMALL(IF(((Métier=$F$5)*(Compétence=$G$5)*(validité=1))<>0,ROW(employés)),ROWS($1:2))),"")} -> Employe B
A7: Reception | B7: Administratif niveau 2 | I7: {=IFERROR(INDEX(employés,SMALL(IF(((Métier=$F$5)*(Compétence=$G$5)*(validité=1))<>0,ROW(employés)),ROWS($1:3))),"")}
A8: Emballage | B8: Inventaire | I8: {=IFERROR(INDEX(employés,SMALL(IF(((Métier=$F$5)*(Compétence=$G$5)*(validité=1))<>0,ROW(employés)),ROWS($1:4))),"")}
B9: Geste et posture | I9: {=IFERROR(INDEX(employés,SMALL(IF(((Métier=$F$5)*(Compétence=$G$5)*(validité=1))<>0,ROW(employés)),ROWS($1:5))),"")}
B10: PDA | I10: {=IFERROR(INDEX(employés,SMALL(IF(((Métier=$F$5)*(Compétence=$G$5)*(validité=1))<>0,ROW(employés)),ROWS($1:6))),"")}
B11: Caces 1/3/5 | I11: {=IFERROR(INDEX(employés,SMALL(IF(((Métier=$F$5)*(Compétence=$G$5)*(validité=1))<>0,ROW(employés)),ROWS($1:7))),"")}
B12: Caces 1 | I12: {=IFERROR(INDEX(employés,SMALL(IF(((Métier=$F$5)*(Compétence=$G$5)*(validité=1))<>0,ROW(employés)),ROWS($1:8))),"")}
B13: Management initiation | I13: {=IFERROR(INDEX(employés,SMALL(IF(((Métier=$F$5)*(Compétence=$G$5)*(validité=1))<>0,ROW(employés)),ROWS($1:9))),"")}
B14: Chef de file | I14: {=IFERROR(INDEX(employés,SMALL(IF(((Métier=$F$5)*(Compétence=$G$5)*(validité=1))<>0,ROW(employés)),ROWS($1:10))),"")}
B15: Management perfectionnement | I15: {=IFERROR(INDEX(employés,SMALL(IF(((Métier=$F$5)*(Compétence=$G$5)*(validité=1))<>0,ROW(employés)),ROWS($1:11))),"")}
I16: {=IFERROR(INDEX(employés,SMALL(IF(((Métier=$F$5)*(Compétence=$G$5)*(validité=1))<>0,ROW(employés)),ROWS($1:12))),"")}
