Workbook
Name Acces_casier: Casiers!$A$96:$A$106
Name Année: OFFSET(Parametres!$C$1,1,0,COUNTA(Parametres!$C:$C)-1)
Name AOC: Parametres!$G:$G
Name Bouteilles: 'Mes vins'!$I$5:$I$200
Name Casiers: Parametres!$A$2:$A$13
Name Couleurs: Parametres!$E$2:$E$8
Name Nbr_bouteilles: 'Mes vins'!$H$5:$I$200
Name Plage: OFFSET('Mes vins'!$E$4,MATCH('Mes vins'!$A1,'Mes vins'!$A$5:$A$100,0),,COUNTIF('Mes vins'!$A$3:$A$100,'Mes vins'!$A1))
Name Régions: OFFSET(Parametres!$G$1,,,,COUNTA(Parametres!$G$1:$Q$1))

Sheet Mes vins
A1: Ma cave à vins
A4: Casiers | B4: Désignations | C4: Année | D4: Région | E4: Appelation | F4: Producteur | G4: Couleur | H4: Casier | I4: Nombre de bouteilles | J4: Vins différents dans casier | K4: Nombre de bouteilles dans le casier
A5: Casier 1 | C5: 2006 | D5: Bourgogne | E5: RULLY 1er CRU | F5: Benoit Lafont | G5: Rouge | H5: =Tableau_cave[[#This Row],[Casiers]] -> Casier 1 | I5: 2 | J5: =IF(A5="","",SUMPRODUCT(1/COUNTIF(Plage,Plage))) -> 2 | K5: =IF(SUMIF(Nbr_bouteilles,A5,Bouteilles)>9,"Attention "&SUMIF(Nbr_bouteilles,A5,Bouteilles)-9&" bouteille(s) en trop",REPT(CHAR(149),SUMIF(Nbr_bouteilles,A5,Bouteilles))) -> •••••
A6: Casier 1 | C6: 2008 | D6: Alsace | E6: ALSACE RIESLING | F6: - | G6: Blanc | H6: =Tableau_cave[[#This Row],[Casiers]] -> Casier 1 | I6: 3 | J6: =IF(A6="","",SUMPRODUCT(1/COUNTIF(Plage,Plage))) -> 2 | K6: =IF(SUMIF(Nbr_bouteilles,A6,Bouteilles)>9,"Attention "&SUMIF(Nbr_bouteilles,A6,Bouteilles)-9&" bouteille(s) en trop",REPT(CHAR(149),SUMIF(Nbr_bouteilles,A6,Bouteilles))) -> •••••
A7: Casier 2 | C7: 2009 | D7: Beaujolais | E7: CHENAS | F7: - | G7: Rouge | H7: =Tableau_cave[[#This Row],[Casiers]] -> Casier 2 | I7: 2 | J7: =IF(A7="","",SUMPRODUCT(1/COUNTIF(Plage,Plage))) -> 2 | K7: =IF(SUMIF(Nbr_bouteilles,A7,Bouteilles)>9,"Attention "&SUMIF(Nbr_bouteilles,A7,Bouteilles)-9&" bouteille(s) en trop",REPT(CHAR(149),SUMIF(Nbr_bouteilles,A7,Bouteilles))) -> •••
A8: Casier 2 | C8: 2017 | D8: Champagne | E8: Champagne | F8: - | G8: Champagne | H8: =Tableau_cave[[#This Row],[Casiers]] -> Casier 2 | I8: 1 | J8: =IF(A8="","",SUMPRODUCT(1/COUNTIF(Plage,Plage))) -> 2 | K8: =IF(SUMIF(Nbr_bouteilles,A8,Bouteilles)>9,"Attention "&SUMIF(Nbr_bouteilles,A8,Bouteilles)-9&" bouteille(s) en trop",REPT(CHAR(149),SUMIF(Nbr_bouteilles,A8,Bouteilles))) -> •••
A9: Casier 3 | C9: 2012 | D9: Bourgogne | E9: CHABLIS GRAND CRU | F9: Benoit Lafont | G9: Blanc | H9: =Tableau_cave[[#This Row],[Casiers]] -> Casier 3 | I9: 6 | J9: =IF(A9="","",SUMPRODUCT(1/COUNTIF(Plage,Plage))) -> 1 | K9: =IF(SUMIF(Nbr_bouteilles,A9,Bouteilles)>9,"Attention "&SUMIF(Nbr_bouteilles,A9,Bouteilles)-9&" bouteille(s) en trop",REPT(CHAR(149),SUMIF(Nbr_bouteilles,A9,Bouteilles))) -> ••••••

Sheet Casiers
A1: Mes casiers
A3: Casier 2
A5: Année | B5: Région | C5: Appelation | D5: Producteur | E5: Couleur
A6: {=IFERROR(INDEX(Tableau_cave[Année],SMALL(IF(Tableau_cave[Casiers]=Casiers!$A$3,ROW(Tableau_cave[Région])-4),ROWS($1:1))),"")} -> 2009 | B6: {=IFERROR(INDEX(Tableau_cave[Région],SMALL(IF(Tableau_cave[Casiers]=Casiers!$A$3,ROW(Tableau_cave[Région])-4),ROWS($1:1))),"")} -> Beaujolais | C6: {=IFERROR(INDEX(Tableau_cave[Appelation],SMALL(IF(Tableau_cave[Casiers]=Casiers!$A$3,ROW(Tableau_cave[Région])-4),ROWS($1:1))),"")} -> CHENAS | D6: {=IFERROR(INDEX(Tableau_cave[Producteur],SMALL(IF(Tableau_cave[Casiers]=Casiers!$A$3,ROW(Tableau_cave[Région])-4),ROWS($1:1))),"")} -> - | E6: {=IFERROR(INDEX(Tableau_cave[Couleur],SMALL(IF(Tableau_cave[Casiers]=Casiers!$A$3,ROW(Tableau_cave[Région])-4),ROWS($1:1))),"")} -> Rouge
A7: {=IFERROR(INDEX(Tableau_cave[Année],SMALL(IF(Tableau_cave[Casiers]=Casiers!$A$3,ROW(Tableau_cave[Région])-4),ROWS($1:2))),"")} -> 2017 | B7: {=IFERROR(INDEX(Tableau_cave[Région],SMALL(IF(Tableau_cave[Casiers]=Casiers!$A$3,ROW(Tableau_cave[Région])-4),ROWS($1:2))),"")} -> Champagne | C7: {=IFERROR(INDEX(Tableau_cave[Appelation],SMALL(IF(Tableau_cave[Casiers]=Casiers!$A$3,ROW(Tableau_cave[Région])-4),ROWS($1:2))),"")} -> Champagne | D7: {=IFERROR(INDEX(Tableau_cave[Producteur],SMALL(IF(Tableau_cave[Casiers]=Casiers!$A$3,ROW(Tableau_cave[Région])-4),ROWS($1:2))),"")} -> - | E7: {=IFERROR(INDEX(Tableau_cave[Couleur],SMALL(IF(Tableau_cave[Casiers]=Casiers!$A$3,ROW(Tableau_cave[Région])-4),ROWS($1:2))),"")} -> Champagne
A8: {=IFERROR(INDEX(Tableau_cave[Année],SMALL(IF(Tableau_cave[Casiers]=Casiers!$A$3,ROW(Tableau_cave[Région])-4),ROWS($1:3))),"")} | B8: {=IFERROR(INDEX(Tableau_cave[Région],SMALL(IF(Tableau_cave[Casiers]=Casiers!$A$3,ROW(Tableau_cave[Région])-4),ROWS($1:3))),"")} | C8: {=IFERROR(INDEX(Tableau_cave[Appelation],SMALL(IF(Tableau_cave[Casiers]=Casiers!$A$3,ROW(Tableau_cave[Région])-4),ROWS($1:3))),"")} | D8: {=IFERROR(INDEX(Tableau_cave[Producteur],SMALL(IF(Tableau_cave[Casiers]=Casiers!$A$3,ROW(Tableau_cave[Région])-4),ROWS($1:3))),"")} | E8: {=IFERROR(INDEX(Tableau_cave[Couleur],SMALL(IF(Tableau_cave[Casiers]=Casiers!$A$3,ROW(Tableau_cave[Région])-4),ROWS($1:3))),"")}
A96: Casier 1
A97: Casier 2
A98: Casier 3
A99: Casier 4
A100: Casier 5
A101: Casier 6
A102: Casier 7
A103: Casier 8
A104: Casier 9
A105: Casier 10
A106: Bas

Sheet Parametres
A1: Casiers | C1: Année | E1: Couleurs | G1: Alsace | H1: Beaujolais | I1: Bordeaux | J1: Bourgogne | K1: Côtes du Rhône | L1: Languedoc-Roussillon | M1: Loire | N1: Provence et Corse | O1: Sud Ouest | P1: Autres | Q1: Champagne
C2: 2006 | G2: ALSACE CHASSELAS OU GUTEDEL | H2: BEAUJOLAIS | I2: BARSAC | J2: ALOXE-CORTON | K2: BEAUMES DE VENISE | L2: BANYULS | M2: ANJOU | N2: BANDOL | O2: BEARN | P2: ARBOIS (JURA) | Q2: Champagne
A3: Casier 1 | C3: 2007 | E3: Blanc | G3: ALSACE GEWURZTRAMINER | H3: BEAUJOLAIS-VILLAGES | I3: BLAYE | J3: AUXEY-DURESSES | K3: CHATEAU-GRILLET | L3: BANYULS GRAND CRU | M3: ANJOU-COTEAUX DE LA LOIRE | N3: BELLET | O3: BERGERAC | P3: ARBOIS PUPILLIN (JURA)
A4: Casier 2 | C4: 2008 | E4: Champagne | G4: ALSACE GRAND CRU | H4: BEAUJOLAIS SUPERIEUR (nouveau) | I4: BORDEAUX | J4: BATARD-MONTRACHET | K4: CHATEAUNEUF-DU-PAPE | L4: BLANQUETTE DE LIMOUX | M4: ANJOU-GAMAY | N4: CASSIS | O4: BERGERAC SEC | P4: BUGEY AOVDQS
A5: Casier 3 | C5: 2009 | E5: Liquoreux | G5: ALSACE MUSCAT | H5: BROUILLY | I5: BORDEAUX CLAIRET | J5: BEAUNE | K5: CLAIRETTE DE DIE | L5: CABARDES AOVDQS | M5: ANJOU-VILLAGES | N5: COTEAUX D'AIX | O5: BUZET | P5: CHATEAU-CHALON (JURA)
A6: Casier 4 | C6: 2010 | E6: Rosé | G6: ALSACE PINOT NOIR | H6: CHENAS | I6: BORDEAUX COTES DE FRANCS | J6: BIENVENUE BATARD-MONTRACHET | K6: CONDRIEU | L6: CLAIRETTE DE BELLEGARDE | M6: BONNEZEAUX | N6: COTEAUX VAROIS EN PROVENCE | O6: CAHORS | P6: CHAMPAGNE
A7: Casier 5 | C7: 2011 | E7: Rouge | G7: ALSACE PINOT OU KLEVNER | H7: CHIROUBLES | I7: BORDEAUX ROSE | J7: BLAGNY | K7: CORNAS | L7: CLAIRETTE DU LANGUEDOC | M7: BOURGUEIL | N7: COTES DE PROVENCE | O7: COTES DE BERGERAC | P7: COTEAUX CHAMPENOIS (CHAMPAGNE)
A8: Casier 6 | C8: 2012 | E8: Jaune | G8: ALSACE RIESLING | H8: COTE DE BROUILLY | I8: BORDEAUX SEC | J8: BONNES-MARES | K8: COTE ROTIE | L8: COLLIOURE | M8: CABERNET D'ANJOU | N8: PALETTE | O8: COTES DE BERGERAC MOELLEUX | P8: ROSE DES RICEYS (CHAMPAGNE)
A9: Casier 7 | C9: 2013 | G9: ALSACE SYLVANER | H9: COTEAUX DU LYONNAIS (LYONNAIS) | I9: BORDEAUX SUPERIEUR | J9: BOURGOGNE | K9: COTEAUX DE PIERREVERT | L9: CORBIERES | M9: CHATEAUMEILLANT AOVDQS | N9: Corse : | O9: COTES DE DURAS | P9: COTES DE TOUL AOVDQS (EST)
A10: Casier 8 | C10: 2014 | G10: ALSACE TOKAY-PINOT GRIS | H10: FLEURIE | I10: CADILLAC | J10: BOURGOGNE ALIGOTE | K10: COTEAUX DU TRICASTIN | L10: COSTIERES DE NIMES | M10: CHAUME | N10: AJACCIO | O10: COTES DE SAINT-MONT AOVDQS | P10: MOSELLE AOVDQS (EST)
A11: Casier 9 | C11: 2015 | G11: CREMANT D'ALSACE | H11: JULIENAS | I11: CANON-FRONSAC | J11: BOURGOGNE ALIGOTE BOUZERON | K11: COTES DU LUBERON | L11: COTEAUX DU LANGUEDOC | M11: CHEVERNY | N11: MUSCAT DU CAP CORSE | O11: COTES DU MARMANDAIS | P11: COTES DU JURA
A12: Casier 10 | C12: 2016 | H12: MORGON | I12: CERONS | J12: BOURGOGNE CHITRY | K12: COTES DU RHONE | L12: COTES DE LA MALEPERE | M12: CHINON | N12: PATRIMONIO | O12: FRONTON (ANCIEN COTES DU FRONTONNAIS) | P12: CREMANT DU JURA
A13: Bas | C13: 2017 | H13: MOULIN A VENT | I13: CREMANT DE BORDEAUX | J13: BOURGOGNE CLARET | K13: COTES DU RHONE-VILLAGES | L13: COTES DU ROUSSILLON | M13: COTE ROANNAISE | N13: VIN DE CORSE | O13: GAILLAC | P13: L'ETOILE (JURA)
C14: 2018 | H14: REGNIE | I14: COTES DE BLAYE | J14: BOURGOGNE COTE CHALONNAISE | K14: COTES DU VENTOUX | L14: COTES DU ROUSSILLON-VILLAGES | M14: COTEAUX D'ANCENIS | O14: HAUT-MONTRAVEL | P14: PINEAU DES CHARENTES
H15: SAINT-AMOUR | I15: COTES DE BOURG | J15: BOURGOGNE COTE SAINT-JACQUES | K15: COTES DU VIVARAIS AOVDQS | L15: FAUGERES | M15: COTEAUX DE L'AUBANCE | O15: IROULEGUY | P15: ROUSSETTE DE SAVOIE
I16: COTES DE CASTILLON | J16: BOURGOGNE COTES D'AUXERRE | K16: CROZES-HERMITAGE | L16: FITOU | M16: COTEAUX DU GIENNOIS AOVDQS | O16: JURANCON | P16: VIN DE SAVOIE
I17: ENTRE-DEUX-MERS | J17: BOURGOGNE COTES DU COUCHOIS | K17: GIGONDAS | L17: LIMOUX | M17: COTEAUX DU LAYON | O17: JURANCON SEC
I18: FRONSAC | J18: BOURGOGNE COULANGES-LA-VINEUSE | K18: HERMITAGE | L18: MAURY | M18: COTEAUX DU LOIR | O18: MADIRAN
I19: GRAVES | J19: BOURGOGNE EPINEUIL | K19: LIRAC | L19: MINERVOIS | M19: COTEAUX DU VENDOMOIS AOVDQS | O19: MARCILLAC
I20: GRAVES DE VAYRES | J20: BOURGOGNE GRAND ORDINAIRE | K20: MUSCAT DE BEAUMES-DE-VENISE | L20: MUSCAT DE LUNEL | M20: COTES D'AUVERGNE AOVDQS | O20: MONBAZILLAC
I21: GRAVES SUPERIEURES | J21: BOURGOGNE HAUTES-COTES DE BEAUNE | K21: SAINT-JOSEPH | L21: MUSCAT DE MIREVAL | M21: COTES DU FOREZ AOVDQS | O21: MONTRAVEL
I22: HAUT-MEDOC | J22: BOURGOGNE HAUTES-COTES DE NUITS | K22: SAINT PERAY | L22: MUSCAT DE RIVESALTES | M22: COUR-CHEVERNY | O22: PACHERENC DU VIC-BILH
I23: LALANDE DE POMEROL | J23: BOURGOGNE LA CHAPELLE NOTRE-DAME | K23: TAVEL | L23: MUSCAT DE SAINT-JEAN DE MINERVOIS | M23: FIEFS VENDEENS AOVDQS | O23: PECHARMANT
I24: LISTRAC-MEDOC | J24: BOURGOGNE LE CHAPITRE | K24: VACQUEYRAS | L24: PICPOUL DE PINET | M24: GROS PLANT AOVDQS | O24: SAUSSIGNAC
I25: LOUPIAC | J25: BOURGOGNE MONTRECUL | K25: VINSOBRES | L25: RIVESALTES | M25: HAUT-POITOU AOVDQS | O25: TURSAN AOVDQS
I26: MARGAUX | J26: BOURGOGNE MOUSSEUX | L26: SAINT-CHINIAN | M26: JASNIERES
I27: MEDOC | J27: BOURGOGNE PASSETOUTGRAIN | M27: MENETOU-SALON
I28: MONTAGNE SAINT-EMILION | J28: BOURGOGNE VEZELAY | M28: MONTLOUIS
I29: MOULIS EN MEDOC | J29: CHABLIS | M29: MUSCADET
I30: PAUILLAC | J30: CHABLIS GRAND CRU | M30: MUSCADET COTES DE GRAND-LIEU
I31: PESSAC LEOGNAN | J31: CHABLIS PREMIER CRU | M31: MUSCADET DE SEVRE-ET-MAINE
I32: POMEROL | J32: CHAMBERTIN | M32: MUSCADET DES COTEAUX DE LA LOIRE
I33: PREMIERES COTES DE BORDEAUX | J33: CHAMBERTIN-CLOS DE BEZE | M33: QUARTS DE CHAUME
I34: PREMIERES COTES DE BLAYE | J34: CHAMBOLLE MUSIGNY | M34: POUILLY-FUME
I35: PUISSEGUIN SAINT-EMILION | J35: CHAPELLE-CHAMBERTIN | M35: POUILLY-SUR-LOIRE
I36: SAINT-EMILION | J36: CHARMES-CHAMBERTIN | M36: QUINCY
I37: SAINT-EMILION GRAND CRU | J37: CHASSAGNE-MONTRACHET | M37: REUILLY
I38: SAINT-ESTEPHE | J38: CHEVALIER-MONTRACHET | M38: ROSE DE LOIRE
... I43: SAUTERNES | J43: CLOS DES LAMBRAYS | M43: SAUMUR
J44: CLOS SAINT-DENIS | M44: SAUMUR SEC BLANC
J45: CORTON | M45: SAUMUR-CHAMPIGNY
J46: CORTON-CHARLEMAGNE | M46: SAVENNIERES
J47: COTE DE BEAUNE | M47: SAVENNIERES COULEE-DE-SERRANT
J48: COTE DE BEAUNE VILLAGES | M48: SAVENNIERES ROCHES-AUX-MOINES
J49: COTE DE NUITS-VILLAGES | M49: TOURAINE
J50: CREMANT DE BOURGOGNE | M50: TOURAINE AMBOISE
J51: CRIOTS BATARD-MONTRACHET | M51: TOURAINE-AZAY-LE-RIDEAU
J52: ECHEZEAUX | M52: TOURAINE-MESLAND
J53: FIXIN | M53: VALENCAY AOVDQS
J54: GEVREY-CHAMBERTIN | M54: VOUVRAY
J55: GIVRY
J56: GRANDS-ECHEZEAUX
J57: GRIOTTE-CHAMBERTIN
J58: IRANCY
J59: LA GRANDE RUE
J60: LA ROMANEE
J61: LA TACHE
J62: LADOIX
J63: LATRICIERES-CHAMBERTIN
J64: MACON
J65: MACON SUPERIEUR
J66: MACON-VILLAGES
... J100: VOUGEOT
