Workbook

Sheet Worksheet
A1: Employé | B1: Mail | C1: CA | D1: Naissance | E1: Mois
A2: Johnson Larissa | B2: morbi@nisia.org | C2: XXX1 | D2: 31116 | E2: 1 | H2: =INDEX(Worksheet!$C$2:$C$134,MATCH(1,(Worksheet!$A$2:$A$134=Cible!A$2)*(Worksheet!$D$2:$D$134=SUMPRODUCT(MAX((Worksheet!$A$2:$A$134=Cible!A$2)*(Worksheet!$D$2:$D$134)))),0)) -> #N/A
A3: Boyer Griffith | B3: Aliquam@nibhdolor.co.uk | C3: XXX2 | D3: 26755 | E3: 1
A4: Battle Conan | B4: arcu@Sed.com | C4: XXX3 | D4: 19696 | E4: 1
A5: Travis Rinah | B5: elementum@nullaCraseu.ca | C5: XXX4 | D5: 27172 | E5: 1
A6: Atkinson Abel | B6: ac.urna@aodio.org | C6: XXX5 | D6: 32996 | E6: 1
A7: Emerson Emery | B7: hendrerit@adipiscing.com | C7: XXX6 | D7: 29174 | E7: 1
A8: Taylor Francesca | B8: Sed@sitametlorem.edu | C8: XXX7 | D8: 19856 | E8: 1
A9: Kim Eleanor | B9: Nunc@luctusCurabitur.net | C9: XXX8 | D9: 30819 | E9: 1
A10: Rodgers Austin | B10: Fusce@Duis.co.uk | C10: XXX9 | D10: 32507 | E10: 1
A11: Dunlap Ahmed | B11: elit.Etiam@nonummy.edu | C11: XXX10 | D11: 21710 | E11: 1
A12: Grant Alexander | B12: lorem.Donec.elementum@estMauris.com | C12: XXX11 | D12: 28616 | E12: 1
A13: Reid Tanek | B13: erat.Sed@ultricies.edu | C13: XXX12 | D13: 28560 | E13: 1
A14: Townsend Wayne | B14: risus@ornareliberoat.org | C14: XXX13 | D14: 33491 | E14: 1
... A134: Avila Penelope | B134: sapien@interdumenimnon.ca | C134: XXX133 | D134: 20048 | E134: 3

Sheet Cible
A1: Employé | B1: CA du mois le plus récent
A2: Avila Penelope | B2: =INDEX(Worksheet!$C$2:$C$134,SUMPRODUCT((Worksheet!$A$2:$A$134=Cible!$A2)*(Worksheet!$E$2:$E$134=1)*(ROW(Worksheet!$E$2:$E$134)-1))) -> XXX44 | D2: =MAX(IF(Worksheet!$A$2:$A$134=Cible!$A2,Worksheet!$E$2:$E$134)) -> 0
A3: Battle Conan | B3: =INDEX(Worksheet!$C$2:$C$134,SUMPRODUCT((Worksheet!$A$2:$A$134=Cible!$A3)*(Worksheet!$E$2:$E$134=1)*(ROW(Worksheet!$E$2:$E$134)-1))) -> XXX3
A4: Boyer Griffith | B4: =INDEX(Worksheet!$C$2:$C$134,SUMPRODUCT((Worksheet!$A$2:$A$134=Cible!$A4)*(Worksheet!$E$2:$E$134=1)*(ROW(Worksheet!$E$2:$E$134)-1))) -> XXX2
A5: Bridges Ralph | B5: =INDEX(Worksheet!$C$2:$C$134,SUMPRODUCT((Worksheet!$A$2:$A$134=Cible!$A5)*(Worksheet!$E$2:$E$134=1)*(ROW(Worksheet!$E$2:$E$134)-1))) -> XXX39
A6: Bruce Lydia | B6: =INDEX(Worksheet!$C$2:$C$134,SUMPRODUCT((Worksheet!$A$2:$A$134=Cible!$A6)*(Worksheet!$E$2:$E$134=1)*(ROW(Worksheet!$E$2:$E$134)-1))) -> XXX37
A7: Burke Adele | B7: =INDEX(Worksheet!$C$2:$C$134,SUMPRODUCT((Worksheet!$A$2:$A$134=Cible!$A7)*(Worksheet!$E$2:$E$134=1)*(ROW(Worksheet!$E$2:$E$134)-1))) -> XXX17
A8: Cabrera Vanna | B8: =INDEX(Worksheet!$C$2:$C$134,SUMPRODUCT((Worksheet!$A$2:$A$134=Cible!$A8)*(Worksheet!$E$2:$E$134=1)*(ROW(Worksheet!$E$2:$E$134)-1))) -> XXX22
A9: Cardenas Hu | B9: =INDEX(Worksheet!$C$2:$C$134,SUMPRODUCT((Worksheet!$A$2:$A$134=Cible!$A9)*(Worksheet!$E$2:$E$134=1)*(ROW(Worksheet!$E$2:$E$134)-1))) -> XXX21
A10: Cervantes Alan | B10: =INDEX(Worksheet!$C$2:$C$134,SUMPRODUCT((Worksheet!$A$2:$A$134=Cible!$A10)*(Worksheet!$E$2:$E$134=1)*(ROW(Worksheet!$E$2:$E$134)-1))) -> XXX9
A11: Coffey Yolanda | B11: =INDEX(Worksheet!$C$2:$C$134,SUMPRODUCT((Worksheet!$A$2:$A$134=Cible!$A11)*(Worksheet!$E$2:$E$134=1)*(ROW(Worksheet!$E$2:$E$134)-1))) -> XXX10
A12: Delacruz Ifeoma | B12: =INDEX(Worksheet!$C$2:$C$134,SUMPRODUCT((Worksheet!$A$2:$A$134=Cible!$A12)*(Worksheet!$E$2:$E$134=1)*(ROW(Worksheet!$E$2:$E$134)-1))) -> XXX11
A13: Dixon Cynthia | B13: =INDEX(Worksheet!$C$2:$C$134,SUMPRODUCT((Worksheet!$A$2:$A$134=Cible!$A13)*(Worksheet!$E$2:$E$134=1)*(ROW(Worksheet!$E$2:$E$134)-1))) -> XXX15
A14: Dodson Jerry | B14: =INDEX(Worksheet!$C$2:$C$134,SUMPRODUCT((Worksheet!$A$2:$A$134=Cible!$A14)*(Worksheet!$E$2:$E$134=1)*(ROW(Worksheet!$E$2:$E$134)-1))) -> XXX13
... A59: Wooten Ebony | B59: =INDEX(Worksheet!$C$2:$C$134,SUMPRODUCT((Worksheet!$A$2:$A$134=Cible!$A59)*(Worksheet!$E$2:$E$134=1)*(ROW(Worksheet!$E$2:$E$134)-1))) -> XXX14
