Workbook
Name dept: '[1]Rubriques Brut'!#REF!
Name Listing: OFFSET(dept,,,COUNTIF('[1]Rubriques Brut'!$A:$A,"><"))

Sheet Source
A1: Mois | B1: 42644 | D1: 42614 | F1: 42583 | H1: 42552 | J1: 42522 | L1: 42491 | N1: 42461 | P1: 42430 | R1: 42401 | T1: 42370 | V1: 42339 | X1: 42309 | Z1: 42278
A3: Article | B3: Prix | C3: Article | D3: Prix | E3: Article | F3: Prix | G3: Article | H3: Prix | I3: Article | J3: Prix | K3: Article | L3: Prix | M3: Article | N3: Prix | O3: Article | P3: Prix | Q3: Article | R3: Prix | S3: Article | T3: Prix | U3: Article | V3: Prix | W3: Article | X3: Prix | Y3: Article | Z3: Prix
A4: A1-Article 1 | B4: 4050 | C4: A1-Article 4 | D4: 640 | E4: A1-Article 6 | F4: 3970 | G4: A1-Article 1 | H4: 3970 | I4: A1-Article 7 | J4: 3970 | K4: A1-Article 4 | L4: 3970 | M4: A1-Article 5 | N4: 3970 | O4: A1-Article 3 | P4: 3970 | Q4: A1-Article 11 | R4: 3970 | S4: A1-Article 3 | T4: 3970 | U4: A1-Article 6 | V4: 3970 | W4: A1-Article 17 | X4: 3970 | Y4: A1-Article 3 | Z4: 3970
A5: A1-Article 2 | B5: -203.21 | C5: A1-Article 7 | D5: 4050 | E5: A1-Article 7 | F5: -183.23 | G5: A1-Article 2 | H5: 250.74 | I5: A1-Article 8 | J5: -183.23 | K5: A1-Article 5 | L5: -183.29 | M5: A1-Article 6 | N5: -183.23 | O5: A1-Article 4 | P5: -916.44 | Q5: A1-Article 12 | R5: -183.23 | S5: A1-Article 4 | T5: -183.23 | U5: A1-Article 7 | V5: 300 | W5: A1-Article 18 | X5: -549.86 | Y5: A1-Article 4 | Z5: -183.29
A6: A1-Article 3 | B6: 203.21 | C6: A1-Article 5 | D6: -183.23 | E6: A1-Article 8 | F6: 183.23 | G6: A1-Article 3 | H6: 62.22 | I6: A1-Article 9 | J6: 183.23 | K6: A1-Article 6 | L6: 183.29 | M6: A1-Article 7 | N6: 183.23 | O6: A1-Article 5 | P6: 916.44 | Q6: A1-Article 13 | R6: 183.23 | S6: A1-Article 5 | T6: 183.23 | U6: A1-Article 8 | V6: -183.23 | W6: A1-Article 19 | X6: 549.86 | Y6: A1-Article 5 | Z6: 183.29
A7: A1-Article 4 | B7: -186.98 | C7: A1-Article 6 | D7: 183.23 | E7: A1-Article 9 | F7: -2566.02 | I7: A1-Article 10 | J7: -183.29 | K7: A1-Article 7 | L7: -366.57 | M7: A1-Article 8 | N7: 250.74 | O7: A1-Article 6 | P7: 250.74 | Q7: A1-Article 14 | R7: 250.74 | S7: A1-Article 14 | T7: -183.23 | U7: A1-Article 9 | V7: 183.23 | W7: A1-Article 20 | X7: 250.74 | Y7: A1-Article 16 | Z7: 250.74
A8: A1-Article 5 | B8: 186.98 | C8: A1-Article 12 | D8: -916.44 | E8: A1-Article 10 | F8: 2566.02 | I8: A1-Article 11 | J8: 183.29 | K8: A1-Article 8 | L8: 366.57 | M8: A1-Article 9 | N8: 62.22 | O8: A1-Article 7 | P8: 62.22 | Q8: A1-Article 15 | R8: 62.22 | S8: A1-Article 15 | T8: 183.23 | U8: A1-Article 10 | V8: 250.74 | W8: A1-Article 21 | X8: 62.22 | Y8: A1-Article 7 | Z8: 62.22
A9: A1-Article 6 | B9: 250.74 | C9: A1-Article 13 | D9: 916.44 | I9: A1-Article 2 | J9: 250.74 | K9: A1-Article 13 | L9: 250.74 | O9: A1-Article 8 | P9: 1715 | S9: A1-Article 5 | T9: -274.93 | U9: A1-Article 11 | V9: 62.22 | W9: A1-Article 22 | X9: 322.97 | Y9: A1-Article 25
A10: A1-Article 7 | B10: 50 | C10: A1-Article 6 | D10: -183.23 | I10: A1-Article 3 | J10: 62.22 | K10: A1-Article 14 | L10: 62.22 | O10: A1-Article 7 | P10: 62.22 | S10: A1-Article 6 | T10: 274.93 | Y10: A1-Article 5 | Z10: 200
A11: A1-Article 8 | B11: 41.48 | I11: A1-Article 10 | J11: -183.29 | S11: A1-Article 7 | T11: -183.29
A12: A1-Article 1 | B12: 2000 | S12: A1-Article 8 | T12: 183.29
S13: A1-Article 9 | T13: 133.42
S14: A1-Article 10 | T14: 250.74
S15: A1-Article 11 | T15: 62.22
S16: A1-Article 14 | T16: -183.23
C25: =SUMIF(A4:A12,A4,B4:B12) -> 6050

Sheet Prix
B2: =SUM(OFFSET(Source!$A$1,3,MATCH($A6,Source!$B$1:$Z$1,0),17,1)) -> 4482.96 | F2: z4:z20 | G2: SOMME(DECALER(Source!$A$1;3;EQUIV($A6;Source!$B$1:$Z$1;0);17;1))
B3: =SUMIF(OFFSET(Source!$A$1,3,MATCH($A6,Source!$B$1:$Z$1,0)-1,17,1),B$5,OFFSET(Source!$A$1,3,MATCH($A6,Source!$B$1:$Z$1,0)-1,17,1)) -> 0 | F3: y4;y20 | G3: SOMME(DECALER(Source!$A$1;3;EQUIV($A6;Source!$B$1:$Z$1;0)-1;17;1))
A5: Mois / Article | B5: A1-Article 1 | C5: A1-Article 2 | D5: A1-Article 3 | E5: A1-Article 4 | F5: A1-Article 5 | G5: A1-Article 6 | H5: A1-Article 7 | I5: A1-Article 8 | J5: A1-Article 9 | K5: A1-Article 10 | L5: A1-Article 11 | M5: A1-Article 12 | N5: A1-Article 13 | O5: A1-Article 14 | P5: A1-Article 15 | Q5: A1-Article 16 | R5: A1-Article 17 | S5: A1-Article 18 | T5: A1-Article 19 | U5: A1-Article 20 | V5: A1-Article 21 | W5: A1-Article 22 | X5: A1-Article 25
A6: 42278 | B6: =SUMIF(OFFSET(Source!$A$1,3,MATCH($A6,Source!$B$1:$Z$1,0)-1,17,1),B$5,OFFSET(Source!$A$1,3,MATCH($A6,Source!$B$1:$Z$1,0),17,1)) -> 0 | C6: =SUMIF(OFFSET(Source!$A$1,3,MATCH($A6,Source!$B$1:$Z$1,0)-1,17,1),C$5,OFFSET(Source!$A$1,3,MATCH($A6,Source!$B$1:$Z$1,0),17,1)) -> 0 | D6: =SUMIF(OFFSET(Source!$A$1,3,MATCH($A6,Source!$B$1:$Z$1,0)-1,17,1),D$5,OFFSET(Source!$A$1,3,MATCH($A6,Source!$B$1:$Z$1,0),17,1)) -> 3970 | E6: =SUMIF(OFFSET(Source!$A$1,3,MATCH($A6,Source!$B$1:$Z$1,0)-1,17,1),E$5,OFFSET(Source!$A$1,3,MATCH($A6,Source!$B$1:$Z$1,0),17,1)) -> -183.29 | F6: =SUMIF(OFFSET(Source!$A$1,3,MATCH($A6,Source!$B$1:$Z$1,0)-1,17,1),F$5,OFFSET(Source!$A$1,3,MATCH($A6,Source!$B$1:$Z$1,0),17,1)) -> 383.29 | G6: =SUMIF(OFFSET(Source!$A$1,3,MATCH($A6,Source!$B$1:$Z$1,0)-1,17,1),G$5,OFFSET(Source!$A$1,3,MATCH($A6,Source!$B$1:$Z$1,0),17,1)) -> 0 | H6: =SUMIF(OFFSET(Source!$A$1,3,MATCH($A6,Source!$B$1:$Z$1,0)-1,17,1),H$5,OFFSET(Source!$A$1,3,MATCH($A6,Source!$B$1:$Z$1,0),17,1)) -> 62.22 | I6: =SUMIF(OFFSET(Source!$A$1,3,MATCH($A6,Source!$B$1:$Z$1,0)-1,17,1),I$5,OFFSET(Source!$A$1,3,MATCH($A6,Source!$B$1:$Z$1,0),17,1)) -> 0 | ... X6: =SUMIF(OFFSET(Source!$A$1,3,MATCH($A6,Source!$B$1:$Z$1,0)-1,17,1),X$5,OFFSET(Source!$A$1,3,MATCH($A6,Source!$B$1:$Z$1,0),17,1)) -> 0
A7: =EDATE(A6,1) -> 42309 | B7: =SUMIF(OFFSET(Source!$A$1,3,MATCH($A7,Source!$B$1:$Z$1,0)-1,17,1),B$5,OFFSET(Source!$A$1,3,MATCH($A7,Source!$B$1:$Z$1,0),17,1)) -> 0 | C7: =SUMIF(OFFSET(Source!$A$1,3,MATCH($A7,Source!$B$1:$Z$1,0)-1,17,1),C$5,OFFSET(Source!$A$1,3,MATCH($A7,Source!$B$1:$Z$1,0),17,1)) -> 0 | D7: =SUMIF(OFFSET(Source!$A$1,3,MATCH($A7,Source!$B$1:$Z$1,0)-1,17,1),D$5,OFFSET(Source!$A$1,3,MATCH($A7,Source!$B$1:$Z$1,0),17,1)) -> 0 | E7: =SUMIF(OFFSET(Source!$A$1,3,MATCH($A7,Source!$B$1:$Z$1,0)-1,17,1),E$5,OFFSET(Source!$A$1,3,MATCH($A7,Source!$B$1:$Z$1,0),17,1)) -> 0 | F7: =SUMIF(OFFSET(Source!$A$1,3,MATCH($A7,Source!$B$1:$Z$1,0)-1,17,1),F$5,OFFSET(Source!$A$1,3,MATCH($A7,Source!$B$1:$Z$1,0),17,1)) -> 0 | G7: =SUMIF(OFFSET(Source!$A$1,3,MATCH($A7,Source!$B$1:$Z$1,0)-1,17,1),G$5,OFFSET(Source!$A$1,3,MATCH($A7,Source!$B$1:$Z$1,0),17,1)) -> 0 | H7: =SUMIF(OFFSET(Source!$A$1,3,MATCH($A7,Source!$B$1:$Z$1,0)-1,17,1),H$5,OFFSET(Source!$A$1,3,MATCH($A7,Source!$B$1:$Z$1,0),17,1)) -> 0 | I7: =SUMIF(OFFSET(Source!$A$1,3,MATCH($A7,Source!$B$1:$Z$1,0)-1,17,1),I$5,OFFSET(Source!$A$1,3,MATCH($A7,Source!$B$1:$Z$1,0),17,1)) -> 0 | ... X7: =SUMIF(OFFSET(Source!$A$1,3,MATCH($A7,Source!$B$1:$Z$1,0)-1,17,1),X$5,OFFSET(Source!$A$1,3,MATCH($A7,Source!$B$1:$Z$1,0),17,1)) -> 0
A8: =EDATE(A7,1) -> 42339 | B8: =SUMIF(OFFSET(Source!$A$1,3,MATCH($A8,Source!$B$1:$Z$1,0)-1,17,1),B$5,OFFSET(Source!$A$1,3,MATCH($A8,Source!$B$1:$Z$1,0),17,1)) -> 0 | C8: =SUMIF(OFFSET(Source!$A$1,3,MATCH($A8,Source!$B$1:$Z$1,0)-1,17,1),C$5,OFFSET(Source!$A$1,3,MATCH($A8,Source!$B$1:$Z$1,0),17,1)) -> 0 | D8: =SUMIF(OFFSET(Source!$A$1,3,MATCH($A8,Source!$B$1:$Z$1,0)-1,17,1),D$5,OFFSET(Source!$A$1,3,MATCH($A8,Source!$B$1:$Z$1,0),17,1)) -> 0 | E8: =SUMIF(OFFSET(Source!$A$1,3,MATCH($A8,Source!$B$1:$Z$1,0)-1,17,1),E$5,OFFSET(Source!$A$1,3,MATCH($A8,Source!$B$1:$Z$1,0),17,1)) -> 0 | F8: =SUMIF(OFFSET(Source!$A$1,3,MATCH($A8,Source!$B$1:$Z$1,0)-1,17,1),F$5,OFFSET(Source!$A$1,3,MATCH($A8,Source!$B$1:$Z$1,0),17,1)) -> 0 | G8: =SUMIF(OFFSET(Source!$A$1,3,MATCH($A8,Source!$B$1:$Z$1,0)-1,17,1),G$5,OFFSET(Source!$A$1,3,MATCH($A8,Source!$B$1:$Z$1,0),17,1)) -> 3970 | H8: =SUMIF(OFFSET(Source!$A$1,3,MATCH($A8,Source!$B$1:$Z$1,0)-1,17,1),H$5,OFFSET(Source!$A$1,3,MATCH($A8,Source!$B$1:$Z$1,0),17,1)) -> 300 | I8: =SUMIF(OFFSET(Source!$A$1,3,MATCH($A8,Source!$B$1:$Z$1,0)-1,17,1),I$5,OFFSET(Source!$A$1,3,MATCH($A8,Source!$B$1:$Z$1,0),17,1)) -> -183.23 | ... X8: =SUMIF(OFFSET(Source!$A$1,3,MATCH($A8,Source!$B$1:$Z$1,0)-1,17,1),X$5,OFFSET(Source!$A$1,3,MATCH($A8,Source!$B$1:$Z$1,0),17,1)) -> 0
A9: =EDATE(A8,1) -> 42370 | B9: =SUMIF(OFFSET(Source!$A$1,3,MATCH($A9,Source!$B$1:$Z$1,0)-1,17,1),B$5,OFFSET(Source!$A$1,3,MATCH($A9,Source!$B$1:$Z$1,0),17,1)) -> 0 | C9: =SUMIF(OFFSET(Source!$A$1,3,MATCH($A9,Source!$B$1:$Z$1,0)-1,17,1),C$5,OFFSET(Source!$A$1,3,MATCH($A9,Source!$B$1:$Z$1,0),17,1)) -> 0 | D9: =SUMIF(OFFSET(Source!$A$1,3,MATCH($A9,Source!$B$1:$Z$1,0)-1,17,1),D$5,OFFSET(Source!$A$1,3,MATCH($A9,Source!$B$1:$Z$1,0),17,1)) -> 3970 | E9: =SUMIF(OFFSET(Source!$A$1,3,MATCH($A9,Source!$B$1:$Z$1,0)-1,17,1),E$5,OFFSET(Source!$A$1,3,MATCH($A9,Source!$B$1:$Z$1,0),17,1)) -> -183.23 | F9: =SUMIF(OFFSET(Source!$A$1,3,MATCH($A9,Source!$B$1:$Z$1,0)-1,17,1),F$5,OFFSET(Source!$A$1,3,MATCH($A9,Source!$B$1:$Z$1,0),17,1)) -> -91.7 | G9: =SUMIF(OFFSET(Source!$A$1,3,MATCH($A9,Source!$B$1:$Z$1,0)-1,17,1),G$5,OFFSET(Source!$A$1,3,MATCH($A9,Source!$B$1:$Z$1,0),17,1)) -> 274.93 | H9: =SUMIF(OFFSET(Source!$A$1,3,MATCH($A9,Source!$B$1:$Z$1,0)-1,17,1),H$5,OFFSET(Source!$A$1,3,MATCH($A9,Source!$B$1:$Z$1,0),17,1)) -> -183.29 | I9: =SUMIF(OFFSET(Source!$A$1,3,MATCH($A9,Source!$B$1:$Z$1,0)-1,17,1),I$5,OFFSET(Source!$A$1,3,MATCH($A9,Source!$B$1:$Z$1,0),17,1)) -> 183.29 | ... X9: =SUMIF(OFFSET(Source!$A$1,3,MATCH($A9,Source!$B$1:$Z$1,0)-1,17,1),X$5,OFFSET(Source!$A$1,3,MATCH($A9,Source!$B$1:$Z$1,0),17,1)) -> 0
A10: =EDATE(A9,1) -> 42401 | B10: =SUMIF(OFFSET(Source!$A$1,3,MATCH($A10,Source!$B$1:$Z$1,0)-1,17,1),B$5,OFFSET(Source!$A$1,3,MATCH($A10,Source!$B$1:$Z$1,0),17,1)) -> 0 | C10: =SUMIF(OFFSET(Source!$A$1,3,MATCH($A10,Source!$B$1:$Z$1,0)-1,17,1),C$5,OFFSET(Source!$A$1,3,MATCH($A10,Source!$B$1:$Z$1,0),17,1)) -> 0 | D10: =SUMIF(OFFSET(Source!$A$1,3,MATCH($A10,Source!$B$1:$Z$1,0)-1,17,1),D$5,OFFSET(Source!$A$1,3,MATCH($A10,Source!$B$1:$Z$1,0),17,1)) -> 0 | E10: =SUMIF(OFFSET(Source!$A$1,3,MATCH($A10,Source!$B$1:$Z$1,0)-1,17,1),E$5,OFFSET(Source!$A$1,3,MATCH($A10,Source!$B$1:$Z$1,0),17,1)) -> 0 | F10: =SUMIF(OFFSET(Source!$A$1,3,MATCH($A10,Source!$B$1:$Z$1,0)-1,17,1),F$5,OFFSET(Source!$A$1,3,MATCH($A10,Source!$B$1:$Z$1,0),17,1)) -> 0 | G10: =SUMIF(OFFSET(Source!$A$1,3,MATCH($A10,Source!$B$1:$Z$1,0)-1,17,1),G$5,OFFSET(Source!$A$1,3,MATCH($A10,Source!$B$1:$Z$1,0),17,1)) -> 0 | H10: =SUMIF(OFFSET(Source!$A$1,3,MATCH($A10,Source!$B$1:$Z$1,0)-1,17,1),H$5,OFFSET(Source!$A$1,3,MATCH($A10,Source!$B$1:$Z$1,0),17,1)) -> 0 | I10: =SUMIF(OFFSET(Source!$A$1,3,MATCH($A10,Source!$B$1:$Z$1,0)-1,17,1),I$5,OFFSET(Source!$A$1,3,MATCH($A10,Source!$B$1:$Z$1,0),17,1)) -> 0 | ... X10: =SUMIF(OFFSET(Source!$A$1,3,MATCH($A10,Source!$B$1:$Z$1,0)-1,17,1),X$5,OFFSET(Source!$A$1,3,MATCH($A10,Source!$B$1:$Z$1,0),17,1)) -> 0
A11: =EDATE(A10,1) -> 42430 | B11: =SUMIF(OFFSET(Source!$A$1,3,MATCH($A11,Source!$B$1:$Z$1,0)-1,17,1),B$5,OFFSET(Source!$A$1,3,MATCH($A11,Source!$B$1:$Z$1,0),17,1)) -> 0 | C11: =SUMIF(OFFSET(Source!$A$1,3,MATCH($A11,Source!$B$1:$Z$1,0)-1,17,1),C$5,OFFSET(Source!$A$1,3,MATCH($A11,Source!$B$1:$Z$1,0),17,1)) -> 0 | D11: =SUMIF(OFFSET(Source!$A$1,3,MATCH($A11,Source!$B$1:$Z$1,0)-1,17,1),D$5,OFFSET(Source!$A$1,3,MATCH($A11,Source!$B$1:$Z$1,0),17,1)) -> 3970 | E11: =SUMIF(OFFSET(Source!$A$1,3,MATCH($A11,Source!$B$1:$Z$1,0)-1,17,1),E$5,OFFSET(Source!$A$1,3,MATCH($A11,Source!$B$1:$Z$1,0),17,1)) -> -916.44 | F11: =SUMIF(OFFSET(Source!$A$1,3,MATCH($A11,Source!$B$1:$Z$1,0)-1,17,1),F$5,OFFSET(Source!$A$1,3,MATCH($A11,Source!$B$1:$Z$1,0),17,1)) -> 916.44 | G11: =SUMIF(OFFSET(Source!$A$1,3,MATCH($A11,Source!$B$1:$Z$1,0)-1,17,1),G$5,OFFSET(Source!$A$1,3,MATCH($A11,Source!$B$1:$Z$1,0),17,1)) -> 250.74 | H11: =SUMIF(OFFSET(Source!$A$1,3,MATCH($A11,Source!$B$1:$Z$1,0)-1,17,1),H$5,OFFSET(Source!$A$1,3,MATCH($A11,Source!$B$1:$Z$1,0),17,1)) -> 124.44 | I11: =SUMIF(OFFSET(Source!$A$1,3,MATCH($A11,Source!$B$1:$Z$1,0)-1,17,1),I$5,OFFSET(Source!$A$1,3,MATCH($A11,Source!$B$1:$Z$1,0),17,1)) -> 1715 | ... X11: =SUMIF(OFFSET(Source!$A$1,3,MATCH($A11,Source!$B$1:$Z$1,0)-1,17,1),X$5,OFFSET(Source!$A$1,3,MATCH($A11,Source!$B$1:$Z$1,0),17,1)) -> 0
A12: =EDATE(A11,1) -> 42461 | B12: =SUMIF(OFFSET(Source!$A$1,3,MATCH($A12,Source!$B$1:$Z$1,0)-1,17,1),B$5,OFFSET(Source!$A$1,3,MATCH($A12,Source!$B$1:$Z$1,0),17,1)) -> 0 | C12: =SUMIF(OFFSET(Source!$A$1,3,MATCH($A12,Source!$B$1:$Z$1,0)-1,17,1),C$5,OFFSET(Source!$A$1,3,MATCH($A12,Source!$B$1:$Z$1,0),17,1)) -> 0 | D12: =SUMIF(OFFSET(Source!$A$1,3,MATCH($A12,Source!$B$1:$Z$1,0)-1,17,1),D$5,OFFSET(Source!$A$1,3,MATCH($A12,Source!$B$1:$Z$1,0),17,1)) -> 0 | E12: =SUMIF(OFFSET(Source!$A$1,3,MATCH($A12,Source!$B$1:$Z$1,0)-1,17,1),E$5,OFFSET(Source!$A$1,3,MATCH($A12,Source!$B$1:$Z$1,0),17,1)) -> 0 | F12: =SUMIF(OFFSET(Source!$A$1,3,MATCH($A12,Source!$B$1:$Z$1,0)-1,17,1),F$5,OFFSET(Source!$A$1,3,MATCH($A12,Source!$B$1:$Z$1,0),17,1)) -> 3970 | G12: =SUMIF(OFFSET(Source!$A$1,3,MATCH($A12,Source!$B$1:$Z$1,0)-1,17,1),G$5,OFFSET(Source!$A$1,3,MATCH($A12,Source!$B$1:$Z$1,0),17,1)) -> -183.23 | H12: =SUMIF(OFFSET(Source!$A$1,3,MATCH($A12,Source!$B$1:$Z$1,0)-1,17,1),H$5,OFFSET(Source!$A$1,3,MATCH($A12,Source!$B$1:$Z$1,0),17,1)) -> 183.23 | I12: =SUMIF(OFFSET(Source!$A$1,3,MATCH($A12,Source!$B$1:$Z$1,0)-1,17,1),I$5,OFFSET(Source!$A$1,3,MATCH($A12,Source!$B$1:$Z$1,0),17,1)) -> 250.74 | ... X12: =SUMIF(OFFSET(Source!$A$1,3,MATCH($A12,Source!$B$1:$Z$1,0)-1,17,1),X$5,OFFSET(Source!$A$1,3,MATCH($A12,Source!$B$1:$Z$1,0),17,1)) -> 0
A13: =EDATE(A12,1) -> 42491 | B13: =SUMIF(OFFSET(Source!$A$1,3,MATCH($A13,Source!$B$1:$Z$1,0)-1,17,1),B$5,OFFSET(Source!$A$1,3,MATCH($A13,Source!$B$1:$Z$1,0),17,1)) -> 0 | C13: =SUMIF(OFFSET(Source!$A$1,3,MATCH($A13,Source!$B$1:$Z$1,0)-1,17,1),C$5,OFFSET(Source!$A$1,3,MATCH($A13,Source!$B$1:$Z$1,0),17,1)) -> 0 | D13: =SUMIF(OFFSET(Source!$A$1,3,MATCH($A13,Source!$B$1:$Z$1,0)-1,17,1),D$5,OFFSET(Source!$A$1,3,MATCH($A13,Source!$B$1:$Z$1,0),17,1)) -> 0 | E13: =SUMIF(OFFSET(Source!$A$1,3,MATCH($A13,Source!$B$1:$Z$1,0)-1,17,1),E$5,OFFSET(Source!$A$1,3,MATCH($A13,Source!$B$1:$Z$1,0),17,1)) -> 3970 | F13: =SUMIF(OFFSET(Source!$A$1,3,MATCH($A13,Source!$B$1:$Z$1,0)-1,17,1),F$5,OFFSET(Source!$A$1,3,MATCH($A13,Source!$B$1:$Z$1,0),17,1)) -> -183.29 | G13: =SUMIF(OFFSET(Source!$A$1,3,MATCH($A13,Source!$B$1:$Z$1,0)-1,17,1),G$5,OFFSET(Source!$A$1,3,MATCH($A13,Source!$B$1:$Z$1,0),17,1)) -> 183.29 | H13: =SUMIF(OFFSET(Source!$A$1,3,MATCH($A13,Source!$B$1:$Z$1,0)-1,17,1),H$5,OFFSET(Source!$A$1,3,MATCH($A13,Source!$B$1:$Z$1,0),17,1)) -> -366.57 | I13: =SUMIF(OFFSET(Source!$A$1,3,MATCH($A13,Source!$B$1:$Z$1,0)-1,17,1),I$5,OFFSET(Source!$A$1,3,MATCH($A13,Source!$B$1:$Z$1,0),17,1)) -> 366.57 | ... X13: =SUMIF(OFFSET(Source!$A$1,3,MATCH($A13,Source!$B$1:$Z$1,0)-1,17,1),X$5,OFFSET(Source!$A$1,3,MATCH($A13,Source!$B$1:$Z$1,0),17,1)) -> 0
A14: =EDATE(A13,1) -> 42522 | B14: =SUMIF(OFFSET(Source!$A$1,3,MATCH($A14,Source!$B$1:$Z$1,0)-1,17,1),B$5,OFFSET(Source!$A$1,3,MATCH($A14,Source!$B$1:$Z$1,0),17,1)) -> 0 | C14: =SUMIF(OFFSET(Source!$A$1,3,MATCH($A14,Source!$B$1:$Z$1,0)-1,17,1),C$5,OFFSET(Source!$A$1,3,MATCH($A14,Source!$B$1:$Z$1,0),17,1)) -> 250.74 | D14: =SUMIF(OFFSET(Source!$A$1,3,MATCH($A14,Source!$B$1:$Z$1,0)-1,17,1),D$5,OFFSET(Source!$A$1,3,MATCH($A14,Source!$B$1:$Z$1,0),17,1)) -> 62.22 | E14: =SUMIF(OFFSET(Source!$A$1,3,MATCH($A14,Source!$B$1:$Z$1,0)-1,17,1),E$5,OFFSET(Source!$A$1,3,MATCH($A14,Source!$B$1:$Z$1,0),17,1)) -> 0 | F14: =SUMIF(OFFSET(Source!$A$1,3,MATCH($A14,Source!$B$1:$Z$1,0)-1,17,1),F$5,OFFSET(Source!$A$1,3,MATCH($A14,Source!$B$1:$Z$1,0),17,1)) -> 0 | G14: =SUMIF(OFFSET(Source!$A$1,3,MATCH($A14,Source!$B$1:$Z$1,0)-1,17,1),G$5,OFFSET(Source!$A$1,3,MATCH($A14,Source!$B$1:$Z$1,0),17,1)) -> 0 | H14: =SUMIF(OFFSET(Source!$A$1,3,MATCH($A14,Source!$B$1:$Z$1,0)-1,17,1),H$5,OFFSET(Source!$A$1,3,MATCH($A14,Source!$B$1:$Z$1,0),17,1)) -> 3970 | I14: =SUMIF(OFFSET(Source!$A$1,3,MATCH($A14,Source!$B$1:$Z$1,0)-1,17,1),I$5,OFFSET(Source!$A$1,3,MATCH($A14,Source!$B$1:$Z$1,0),17,1)) -> -183.23 | ... X14: =SUMIF(OFFSET(Source!$A$1,3,MATCH($A14,Source!$B$1:$Z$1,0)-1,17,1),X$5,OFFSET(Source!$A$1,3,MATCH($A14,Source!$B$1:$Z$1,0),17,1)) -> 0
A15: =EDATE(A14,1) -> 42552 | B15: =SUMIF(OFFSET(Source!$A$1,3,MATCH($A15,Source!$B$1:$Z$1,0)-1,17,1),B$5,OFFSET(Source!$A$1,3,MATCH($A15,Source!$B$1:$Z$1,0),17,1)) -> 3970 | C15: =SUMIF(OFFSET(Source!$A$1,3,MATCH($A15,Source!$B$1:$Z$1,0)-1,17,1),C$5,OFFSET(Source!$A$1,3,MATCH($A15,Source!$B$1:$Z$1,0),17,1)) -> 250.74 | D15: =SUMIF(OFFSET(Source!$A$1,3,MATCH($A15,Source!$B$1:$Z$1,0)-1,17,1),D$5,OFFSET(Source!$A$1,3,MATCH($A15,Source!$B$1:$Z$1,0),17,1)) -> 62.22 | E15: =SUMIF(OFFSET(Source!$A$1,3,MATCH($A15,Source!$B$1:$Z$1,0)-1,17,1),E$5,OFFSET(Source!$A$1,3,MATCH($A15,Source!$B$1:$Z$1,0),17,1)) -> 0 | F15: =SUMIF(OFFSET(Source!$A$1,3,MATCH($A15,Source!$B$1:$Z$1,0)-1,17,1),F$5,OFFSET(Source!$A$1,3,MATCH($A15,Source!$B$1:$Z$1,0),17,1)) -> 0 | G15: =SUMIF(OFFSET(Source!$A$1,3,MATCH($A15,Source!$B$1:$Z$1,0)-1,17,1),G$5,OFFSET(Source!$A$1,3,MATCH($A15,Source!$B$1:$Z$1,0),17,1)) -> 0 | H15: =SUMIF(OFFSET(Source!$A$1,3,MATCH($A15,Source!$B$1:$Z$1,0)-1,17,1),H$5,OFFSET(Source!$A$1,3,MATCH($A15,Source!$B$1:$Z$1,0),17,1)) -> 0 | I15: =SUMIF(OFFSET(Source!$A$1,3,MATCH($A15,Source!$B$1:$Z$1,0)-1,17,1),I$5,OFFSET(Source!$A$1,3,MATCH($A15,Source!$B$1:$Z$1,0),17,1)) -> 0 | ... X15: =SUMIF(OFFSET(Source!$A$1,3,MATCH($A15,Source!$B$1:$Z$1,0)-1,17,1),X$5,OFFSET(Source!$A$1,3,MATCH($A15,Source!$B$1:$Z$1,0),17,1)) -> 0
A16: =EDATE(A15,1) -> 42583 | B16: =SUMIF(OFFSET(Source!$A$1,3,MATCH($A16,Source!$B$1:$Z$1,0)-1,17,1),B$5,OFFSET(Source!$A$1,3,MATCH($A16,Source!$B$1:$Z$1,0),17,1)) -> 0 | C16: =SUMIF(OFFSET(Source!$A$1,3,MATCH($A16,Source!$B$1:$Z$1,0)-1,17,1),C$5,OFFSET(Source!$A$1,3,MATCH($A16,Source!$B$1:$Z$1,0),17,1)) -> 0 | D16: =SUMIF(OFFSET(Source!$A$1,3,MATCH($A16,Source!$B$1:$Z$1,0)-1,17,1),D$5,OFFSET(Source!$A$1,3,MATCH($A16,Source!$B$1:$Z$1,0),17,1)) -> 0 | E16: =SUMIF(OFFSET(Source!$A$1,3,MATCH($A16,Source!$B$1:$Z$1,0)-1,17,1),E$5,OFFSET(Source!$A$1,3,MATCH($A16,Source!$B$1:$Z$1,0),17,1)) -> 0 | F16: =SUMIF(OFFSET(Source!$A$1,3,MATCH($A16,Source!$B$1:$Z$1,0)-1,17,1),F$5,OFFSET(Source!$A$1,3,MATCH($A16,Source!$B$1:$Z$1,0),17,1)) -> 0 | G16: =SUMIF(OFFSET(Source!$A$1,3,MATCH($A16,Source!$B$1:$Z$1,0)-1,17,1),G$5,OFFSET(Source!$A$1,3,MATCH($A16,Source!$B$1:$Z$1,0),17,1)) -> 3970 | H16: =SUMIF(OFFSET(Source!$A$1,3,MATCH($A16,Source!$B$1:$Z$1,0)-1,17,1),H$5,OFFSET(Source!$A$1,3,MATCH($A16,Source!$B$1:$Z$1,0),17,1)) -> -183.23 | I16: =SUMIF(OFFSET(Source!$A$1,3,MATCH($A16,Source!$B$1:$Z$1,0)-1,17,1),I$5,OFFSET(Source!$A$1,3,MATCH($A16,Source!$B$1:$Z$1,0),17,1)) -> 183.23 | ... X16: =SUMIF(OFFSET(Source!$A$1,3,MATCH($A16,Source!$B$1:$Z$1,0)-1,17,1),X$5,OFFSET(Source!$A$1,3,MATCH($A16,Source!$B$1:$Z$1,0),17,1)) -> 0
A17: =EDATE(A16,1) -> 42614 | B17: =SUMIF(OFFSET(Source!$A$1,3,MATCH($A17,Source!$B$1:$Z$1,0)-1,17,1),B$5,OFFSET(Source!$A$1,3,MATCH($A17,Source!$B$1:$Z$1,0),17,1)) -> 0 | C17: =SUMIF(OFFSET(Source!$A$1,3,MATCH($A17,Source!$B$1:$Z$1,0)-1,17,1),C$5,OFFSET(Source!$A$1,3,MATCH($A17,Source!$B$1:$Z$1,0),17,1)) -> 0 | D17: =SUMIF(OFFSET(Source!$A$1,3,MATCH($A17,Source!$B$1:$Z$1,0)-1,17,1),D$5,OFFSET(Source!$A$1,3,MATCH($A17,Source!$B$1:$Z$1,0),17,1)) -> 0 | E17: =SUMIF(OFFSET(Source!$A$1,3,MATCH($A17,Source!$B$1:$Z$1,0)-1,17,1),E$5,OFFSET(Source!$A$1,3,MATCH($A17,Source!$B$1:$Z$1,0),17,1)) -> 640 | F17: =SUMIF(OFFSET(Source!$A$1,3,MATCH($A17,Source!$B$1:$Z$1,0)-1,17,1),F$5,OFFSET(Source!$A$1,3,MATCH($A17,Source!$B$1:$Z$1,0),17,1)) -> -183.23 | G17: =SUMIF(OFFSET(Source!$A$1,3,MATCH($A17,Source!$B$1:$Z$1,0)-1,17,1),G$5,OFFSET(Source!$A$1,3,MATCH($A17,Source!$B$1:$Z$1,0),17,1)) -> 0 | H17: =SUMIF(OFFSET(Source!$A$1,3,MATCH($A17,Source!$B$1:$Z$1,0)-1,17,1),H$5,OFFSET(Source!$A$1,3,MATCH($A17,Source!$B$1:$Z$1,0),17,1)) -> 4050 | I17: =SUMIF(OFFSET(Source!$A$1,3,MATCH($A17,Source!$B$1:$Z$1,0)-1,17,1),I$5,OFFSET(Source!$A$1,3,MATCH($A17,Source!$B$1:$Z$1,0),17,1)) -> 0 | ... X17: =SUMIF(OFFSET(Source!$A$1,3,MATCH($A17,Source!$B$1:$Z$1,0)-1,17,1),X$5,OFFSET(Source!$A$1,3,MATCH($A17,Source!$B$1:$Z$1,0),17,1)) -> 0
A18: =EDATE(A17,1) -> 42644 | B18: =SUMIF(OFFSET(Source!$A$1,3,MATCH($A18,Source!$B$1:$Z$1,0)-1,17,1),B$5,OFFSET(Source!$A$1,3,MATCH($A18,Source!$B$1:$Z$1,0),17,1)) -> 6050 | C18: =SUMIF(OFFSET(Source!$A$1,3,MATCH($A18,Source!$B$1:$Z$1,0)-1,17,1),C$5,OFFSET(Source!$A$1,3,MATCH($A18,Source!$B$1:$Z$1,0),17,1)) -> -203.21 | D18: =SUMIF(OFFSET(Source!$A$1,3,MATCH($A18,Source!$B$1:$Z$1,0)-1,17,1),D$5,OFFSET(Source!$A$1,3,MATCH($A18,Source!$B$1:$Z$1,0),17,1)) -> 203.21 | E18: =SUMIF(OFFSET(Source!$A$1,3,MATCH($A18,Source!$B$1:$Z$1,0)-1,17,1),E$5,OFFSET(Source!$A$1,3,MATCH($A18,Source!$B$1:$Z$1,0),17,1)) -> -186.98 | F18: =SUMIF(OFFSET(Source!$A$1,3,MATCH($A18,Source!$B$1:$Z$1,0)-1,17,1),F$5,OFFSET(Source!$A$1,3,MATCH($A18,Source!$B$1:$Z$1,0),17,1)) -> 186.98 | G18: =SUMIF(OFFSET(Source!$A$1,3,MATCH($A18,Source!$B$1:$Z$1,0)-1,17,1),G$5,OFFSET(Source!$A$1,3,MATCH($A18,Source!$B$1:$Z$1,0),17,1)) -> 250.74 | H18: =SUMIF(OFFSET(Source!$A$1,3,MATCH($A18,Source!$B$1:$Z$1,0)-1,17,1),H$5,OFFSET(Source!$A$1,3,MATCH($A18,Source!$B$1:$Z$1,0),17,1)) -> 50 | I18: =SUMIF(OFFSET(Source!$A$1,3,MATCH($A18,Source!$B$1:$Z$1,0)-1,17,1),I$5,OFFSET(Source!$A$1,3,MATCH($A18,Source!$B$1:$Z$1,0),17,1)) -> 41.48 | ... X18: =SUMIF(OFFSET(Source!$A$1,3,MATCH($A18,Source!$B$1:$Z$1,0)-1,17,1),X$5,OFFSET(Source!$A$1,3,MATCH($A18,Source!$B$1:$Z$1,0),17,1)) -> 0
