Workbook

Sheet Données
A1: Domicile | B1: Extérieur | C1: Score Perso | D1: Cote 1 | E1: Cote 2 | F1: Cote 3 | G1: Résultat Analyse | H1: Résultat réel
A2: Eibar | B2: Espanyol | C2: 1-0 | D2: 1.83 | E2: 3.65 | F2: 4.65 | G2: =INDEX(Pred!$B$3:$AE$18,MATCH(Données!C2,Pred!$A$3:$A$18,0),MATCH(Données!D2,Pred!$B$2:$AE$2,1)) -> 0 | H2: 3-0
A3: Juventus | B3: Chievo | C3: 2-0 | D3: 1.09 | E3: 9.5 | F3: 29 | G3: =INDEX(Pred!$B$3:$AE$18,MATCH(Données!C3,Pred!$A$3:$A$18,0),MATCH(Données!D3,Pred!$B$2:$AE$2,1)) -> 0 | H3: 3-0
A4: Genoa | B4: Ac Milan | C4: 0-2 | D4: 3.15 | E4: 3.15 | F4: 2.4 | G4: =INDEX(Pred!$B$3:$AE$18,MATCH(Données!C4,Pred!$A$3:$A$18,0),MATCH(Données!D4,Pred!$B$2:$AE$2,1)) -> 0 | H4: 0-2
A5: Bolton | B5: West BromWich | C5: 1-2 | D5: 5.1 | E5: 3.8 | F5: 1.72 | G5: =INDEX(Pred!$B$3:$AE$18,MATCH(Données!C5,Pred!$A$3:$A$18,0),MATCH(Données!D5,Pred!$B$2:$AE$2,1)) -> 0 | H5: 0-2
A6: Getafe | B6: Valence | C6: 1-0 | D6: 2.45 | E6: 3 | F6: 3.25 | G6: =INDEX(Pred!$B$3:$AE$18,MATCH(Données!C6,Pred!$A$3:$A$18,0),MATCH(Données!D6,Pred!$B$2:$AE$2,1)) -> 0 | H6: 1-0
A7: Psg | B7: Strasbourg | C7: 3-1 | D7: 1.08 | E7: 10.5 | F7: 19 | G7: =INDEX(Pred!$B$3:$AE$18,MATCH(Données!C7,Pred!$A$3:$A$18,0),MATCH(Données!D7,Pred!$B$2:$AE$2,1)) -> 0 | H7: 2-0
A8: Nancy | B8: Guingamp | C8: 0-0 | D8: 3.7 | E8: 3.25 | F8: 2 | G8: =INDEX(Pred!$B$3:$AE$18,MATCH(Données!C8,Pred!$A$3:$A$18,0),MATCH(Données!D8,Pred!$B$2:$AE$2,1)) -> 0 | H8: 1-1
A9: Toulouse | B9: Reims | C9: 2-0 | D9: 2.55 | E9: 3.15 | F9: 2.7 | G9: =INDEX(Pred!$B$3:$AE$18,MATCH(Données!C9,Pred!$A$3:$A$18,0),MATCH(Données!D9,Pred!$B$2:$AE$2,1)) -> 0 | H9: 3-3
A10: Monaco | B10: Metz | C10: 1-0 | D10: 1.84 | E10: 3.45 | F10: 4.1 | G10: =INDEX(Pred!$B$3:$AE$18,MATCH(Données!C10,Pred!$A$3:$A$18,0),MATCH(Données!D10,Pred!$B$2:$AE$2,1)) -> 0 | H10: 1-3
A11: Sete | B11: Lille | C11: 0-1 | D11: 9 | E11: 6.25 | F11: 1.22 | G11: =INDEX(Pred!$B$3:$AE$18,MATCH(Données!C11,Pred!$A$3:$A$18,0),MATCH(Données!D11,Pred!$B$2:$AE$2,1)) -> 0 | H11: 0-1
A12: Real Sociedad | B12: Real Betis | C12: 1-1 | D12: 2.25 | E12: 3.3 | F12: 3.3 | G12: =INDEX(Pred!$B$3:$AE$18,MATCH(Données!C12,Pred!$A$3:$A$18,0),MATCH(Données!D12,Pred!$B$2:$AE$2,1)) -> Domicile ou Nul | H12: 2-2
A13: Espanyol | B13: Villareal | C13: 1-1 | D13: 2.1 | E13: 3.4 | F13: 3.45 | G13: =INDEX(Pred!$B$3:$AE$18,MATCH(Données!C13,Pred!$A$3:$A$18,0),MATCH(Données!D13,Pred!$B$2:$AE$2,1)) -> 0 | H13: 3-1
... A60: Bracelone | B60: Leganes | C60: 2-1 | D60: 1.22 | E60: 6.5 | F60: 15 | G60: =INDEX(Pred!$B$3:$AE$18,MATCH(Données!C60,Pred!$A$3:$A$18,0),MATCH(Données!D60,Pred!$B$2:$AE$2,1)) -> 0 | H60: 3-1

Sheet Prediction
D1: Score perso
D2: 0-0 | F2: 1-1 | H2: 2-2 | J2: 3-3 | L2: 1-0 | N2: 2-0 | P2: 2-1 | R2: 3-0 | T2: 3-1 | V2: 3-2 | X2: 0-1 | Z2: 0-2 | AB2: 1-2 | AD2: 0-3 | AF2: 1-3 | AH2: 2-3
A3: Cote | B3: 1 | C3: 1.2
B4: 1.2 | C4: 1.4
B5: 1.4 | C5: 1.6 | F5: Domicile | G5: Victoire domicile
B6: 1.6 | C6: 1.8
B7: 1.8 | C7: 2 | F7: Domicile | G7: Victoire domicile
B8: 2 | C8: 2.2
B9: 2.2 | C9: 2.4 | F9: Domicile | G9: Double Chance 1X
B10: 2.4 | C10: 2.6 | D10: Domicile | E10: Victoire domicile
B11: 2.6 | C11: 2.8 | F11: Domicile | G11: Double Chance 1X
B12: 2.8 | C12: 3 | D12: Domicile | E12: Victoire domicile / BTTS Non
B13: 3 | C13: 3.2
B14: 3.2 | C14: 3.4 | F14: Domicile | G14: Double Chance X2
B15: 3.4 | C15: 3.6
B16: 3.6 | C16: 3.8
B17: 3.8 | C17: 4

Sheet Pred
A1: Score Perso | B1: Intervalle de cote
B2: 1 | C2: =B2+0.2 -> 1.2 | D2: =C2 -> 1.2 | E2: =D2+0.2 -> 1.4 | F2: =E2 -> 1.4 | G2: =F2+0.2 -> 1.6 | H2: =G2 -> 1.6 | I2: =H2+0.2 -> 1.8 | J2: =I2 -> 1.8 | K2: =J2+0.2 -> 2 | L2: =K2 -> 2 | M2: =L2+0.2 -> 2.2 | N2: =M2 -> 2.2 | O2: =N2+0.2 -> 2.4 | P2: =O2 -> 2.4 | Q2: =P2+0.2 -> 2.6 | R2: =Q2 -> 2.6 | S2: =R2+0.2 -> 2.8 | T2: =S2 -> 2.8 | U2: =T2+0.2 -> 3 | V2: =U2 -> 3 | W2: =V2+0.2 -> 3.2 | X2: =W2 -> 3.2 | Y2: =X2+0.2 -> 3.4 | Z2: =Y2 -> 3.4 | AA2: =Z2+0.2 -> 3.6 | AB2: =AA2 -> 3.6 | AC2: =AB2+0.2 -> 3.8 | AD2: =AC2 -> 3.8 | AE2: =AD2+0.2 -> 4
A3: 0-0 | P3: Domicile | T3: Domicile / NoBTTS
A4: 1-1 | F4: Domicile | J4: Domicile | N4: Domicile ou Nul | R4: Domicile ou Nul | X4: Nul ou Extérieur
A5: 2-2
A6: 3-3
A7: 1-0
A8: 2-0
A9: 2-1
A10: 3-0
A11: 3-1
A12: 3-2
A13: 0-1
A14: 0-2
A15: 1-2
A16: 0-3
... A18: 2-3
F21: =INDEX(Pred!$B$3:$AE$18,MATCH(Données!C2,Pred!$A$3:$A$18,0),MATCH(Données!D2,Pred!$B$2:$AE$2,1)) -> 0
D22: =MATCH(1.87,B2:K2,1) -> 9
