Workbook

Sheet SOURCE DispoCockpit
A1: Material | B1: Description | C1: Purchase Group | D1: Material Group | E1: Procurement Type | F1: MRP Group | G1: MRP Type | H1: MRP Controller | I1: Base Unit | J1: Vendor | K1: AllVendors | L1: Vendor Name | M1: Movement Average Price | N1: Currency | O1: Total Stock | P1: Safety Stock | Q1: Total Value | R1: Storage Location | S1: Consumption 12 mth | T1: Consumption 6 mth | U1: Consumption 3 mth | V1: Consumption Current mth | W1: Consumption/day | X1: Requirement/day | Y1: Requirement next 3 mth | Z1: CG | AA1: Bulk Material | AB1: Minimum Lot Size | AC1: Fixed Lot Size | AD1: Lot Size | AE1: Planned Delivery Time | AF1: Minimum Stock | AG1: Maximum Stock | AH1: Minimum PO qty | AI1: ABC
A2: 1286530677
A3: 4260580127
A4: 4260580227
A5: 4262566625
A6: 4288030692
A7: 4288031092
A8: 4343063822
A9: 4347260036
A10: 4812084925
A11: 4812086208
A12: 4812086212
A13: 4812086830
... A87: 5106114629

Sheet DATA DispoCockpit
A1: Material | B1: Consumption 3 mth | C1: Requirement next 3 mth | D1: VIDE | E1: Conso 3mois | F1: Prevision 3 mois | G1: Ecart Conso Prévi | H1: VIDE1 | I1: Supplier ID 1 | J1: Supplier Name 1 | K1: Contract 1 | L1: Poste 1 | M1: Price 1 | N1: Currency 1 | O1: Supplier ID 2 | P1: Supplier Name 2 | Q1: Contract 2 | R1: Poste 2 | S1: Price 2 | T1: Currency 2 | U1: Supplier ID 3 | V1: Supplier Name 3 | W1: Contract 3 | X1: Poste 3 | Y1: Price 3 | Z1: Currency 3
A2: =IF(ISBLANK('SOURCE DispoCockpit'!A2),"",('SOURCE DispoCockpit'!A2)) -> 1286530677 | B2: =IF(ISBLANK('SOURCE DispoCockpit'!U2),"",('SOURCE DispoCockpit'!U2)) | C2: =IF(ISBLANK('SOURCE DispoCockpit'!Y2),"",('SOURCE DispoCockpit'!Y2)) | E2: =IF(ISBLANK('SOURCE DispoCockpit'!U2),"",('SOURCE DispoCockpit'!U2)) | F2: =IF(ISBLANK('SOURCE DispoCockpit'!Y2),"",('SOURCE DispoCockpit'!Y2)) | G2: =IF(E2="","",IF(F2=0,((E2/100)),((E2-F2)/F2))) | I2: {=IFERROR(INDEX('[1]DATA EORD'!$B$2:$B$89,SMALL(IF('[1]DATA EORD'!$A$2:$A$89=$A2,ROW('[1]DATA EORD'!$B$2:$B$89)-1),1)),"")} -> 100008 | J2: =IF(I2="","",(VLOOKUP(I2,'[2]Liste Fournisseur'!$A:$B,2,FALSE))) -> #N/A | K2: =IF(A2="","",_xlfn.IFNA((VLOOKUP(A2&I2,'[1]DATA EORD'!$E:$H,3,)),"NO CONTRACT")) -> 4800000728 | P2: =IF(O2="","",(VLOOKUP(O2,'[2]Liste Fournisseur'!$A:$B,2,FALSE))) | V2: =IF(U2="","",(VLOOKUP(U2,'[2]Liste Fournisseur'!$A:$B,2,FALSE)))
A3: =IF(ISBLANK('SOURCE DispoCockpit'!A3),"",('SOURCE DispoCockpit'!A3)) -> 4260580127 | B3: =IF(ISBLANK('SOURCE DispoCockpit'!U3),"",('SOURCE DispoCockpit'!U3)) | C3: =IF(ISBLANK('SOURCE DispoCockpit'!Y3),"",('SOURCE DispoCockpit'!Y3)) | E3: =IF(ISBLANK('SOURCE DispoCockpit'!U3),"",('SOURCE DispoCockpit'!U3)) | F3: =IF(ISBLANK('SOURCE DispoCockpit'!Y3),"",('SOURCE DispoCockpit'!Y3)) | G3: =IF(E3="","",IF(F3=0,((E3/100)),((E3-F3)/F3))) | I3: {=IFERROR(INDEX('[1]DATA EORD'!$B$2:$B$89,SMALL(IF('[1]DATA EORD'!$A$2:$A$89=$A3,ROW('[1]DATA EORD'!$B$2:$B$89)-1),1)),"")} -> 100012 | K3: =IF(A3="","",_xlfn.IFNA((VLOOKUP(A3&I3,'[1]DATA EORD'!$E:$H,3,)),"NO CONTRACT")) -> 4600020053 | P3: =IF(O3="","",(VLOOKUP(O3,'[2]Liste Fournisseur'!$A:$B,2,FALSE))) | V3: =IF(U3="","",(VLOOKUP(U3,'[2]Liste Fournisseur'!$A:$B,2,FALSE)))
A4: =IF(ISBLANK('SOURCE DispoCockpit'!A4),"",('SOURCE DispoCockpit'!A4)) -> 4260580227 | B4: =IF(ISBLANK('SOURCE DispoCockpit'!U4),"",('SOURCE DispoCockpit'!U4)) | C4: =IF(ISBLANK('SOURCE DispoCockpit'!Y4),"",('SOURCE DispoCockpit'!Y4)) | E4: =IF(ISBLANK('SOURCE DispoCockpit'!U4),"",('SOURCE DispoCockpit'!U4)) | F4: =IF(ISBLANK('SOURCE DispoCockpit'!Y4),"",('SOURCE DispoCockpit'!Y4)) | G4: =IF(E4="","",IF(F4=0,((E4/100)),((E4-F4)/F4))) | I4: {=IFERROR(INDEX('[1]DATA EORD'!$B$2:$B$89,SMALL(IF('[1]DATA EORD'!$A$2:$A$89=$A4,ROW('[1]DATA EORD'!$B$2:$B$89)-1),1)),"")} -> 100012 | K4: =IF(A4="","",_xlfn.IFNA((VLOOKUP(A4&I4,'[1]DATA EORD'!$E:$H,3,)),"NO CONTRACT")) -> 4600020053 | P4: =IF(O4="","",(VLOOKUP(O4,'[2]Liste Fournisseur'!$A:$B,2,FALSE))) | V4: =IF(U4="","",(VLOOKUP(U4,'[2]Liste Fournisseur'!$A:$B,2,FALSE)))
A5: =IF(ISBLANK('SOURCE DispoCockpit'!A5),"",('SOURCE DispoCockpit'!A5)) -> 4262566625 | B5: =IF(ISBLANK('SOURCE DispoCockpit'!U5),"",('SOURCE DispoCockpit'!U5)) | C5: =IF(ISBLANK('SOURCE DispoCockpit'!Y5),"",('SOURCE DispoCockpit'!Y5)) | E5: =IF(ISBLANK('SOURCE DispoCockpit'!U5),"",('SOURCE DispoCockpit'!U5)) | F5: =IF(ISBLANK('SOURCE DispoCockpit'!Y5),"",('SOURCE DispoCockpit'!Y5)) | G5: =IF(E5="","",IF(F5=0,((E5/100)),((E5-F5)/F5))) | I5: {=IFERROR(INDEX('[1]DATA EORD'!$B$2:$B$89,SMALL(IF('[1]DATA EORD'!$A$2:$A$89=$A5,ROW('[1]DATA EORD'!$B$2:$B$89)-1),1)),"")} -> 100003 | K5: =IF(A5="","",_xlfn.IFNA((VLOOKUP(A5&I5,'[1]DATA EORD'!$E:$H,3,)),"NO CONTRACT")) -> 4800005205 | P5: =IF(O5="","",(VLOOKUP(O5,'[2]Liste Fournisseur'!$A:$B,2,FALSE))) | V5: =IF(U5="","",(VLOOKUP(U5,'[2]Liste Fournisseur'!$A:$B,2,FALSE)))
A6: =IF(ISBLANK('SOURCE DispoCockpit'!A6),"",('SOURCE DispoCockpit'!A6)) -> 4288030692 | B6: =IF(ISBLANK('SOURCE DispoCockpit'!U6),"",('SOURCE DispoCockpit'!U6)) | C6: =IF(ISBLANK('SOURCE DispoCockpit'!Y6),"",('SOURCE DispoCockpit'!Y6)) | E6: =IF(ISBLANK('SOURCE DispoCockpit'!U6),"",('SOURCE DispoCockpit'!U6)) | F6: =IF(ISBLANK('SOURCE DispoCockpit'!Y6),"",('SOURCE DispoCockpit'!Y6)) | G6: =IF(E6="","",IF(F6=0,((E6/100)),((E6-F6)/F6))) | I6: {=IFERROR(INDEX('[1]DATA EORD'!$B$2:$B$89,SMALL(IF('[1]DATA EORD'!$A$2:$A$89=$A6,ROW('[1]DATA EORD'!$B$2:$B$89)-1),1)),"")} -> 100012 | K6: =IF(A6="","",_xlfn.IFNA((VLOOKUP(A6&I6,'[1]DATA EORD'!$E:$H,3,)),"NO CONTRACT")) -> 4600020053 | P6: =IF(O6="","",(VLOOKUP(O6,'[2]Liste Fournisseur'!$A:$B,2,FALSE))) | V6: =IF(U6="","",(VLOOKUP(U6,'[2]Liste Fournisseur'!$A:$B,2,FALSE)))
A7: =IF(ISBLANK('SOURCE DispoCockpit'!A7),"",('SOURCE DispoCockpit'!A7)) -> 4288031092 | B7: =IF(ISBLANK('SOURCE DispoCockpit'!U7),"",('SOURCE DispoCockpit'!U7)) | C7: =IF(ISBLANK('SOURCE DispoCockpit'!Y7),"",('SOURCE DispoCockpit'!Y7)) | E7: =IF(ISBLANK('SOURCE DispoCockpit'!U7),"",('SOURCE DispoCockpit'!U7)) | F7: =IF(ISBLANK('SOURCE DispoCockpit'!Y7),"",('SOURCE DispoCockpit'!Y7)) | G7: =IF(E7="","",IF(F7=0,((E7/100)),((E7-F7)/F7))) | I7: {=IFERROR(INDEX('[1]DATA EORD'!$B$2:$B$89,SMALL(IF('[1]DATA EORD'!$A$2:$A$89=$A7,ROW('[1]DATA EORD'!$B$2:$B$89)-1),1)),"")} -> 100012 | K7: =IF(A7="","",_xlfn.IFNA((VLOOKUP(A7&I7,'[1]DATA EORD'!$E:$H,3,)),"NO CONTRACT")) -> 4600020053 | P7: =IF(O7="","",(VLOOKUP(O7,'[2]Liste Fournisseur'!$A:$B,2,FALSE))) | V7: =IF(U7="","",(VLOOKUP(U7,'[2]Liste Fournisseur'!$A:$B,2,FALSE)))
A8: =IF(ISBLANK('SOURCE DispoCockpit'!A8),"",('SOURCE DispoCockpit'!A8)) -> 4343063822 | B8: =IF(ISBLANK('SOURCE DispoCockpit'!U8),"",('SOURCE DispoCockpit'!U8)) | C8: =IF(ISBLANK('SOURCE DispoCockpit'!Y8),"",('SOURCE DispoCockpit'!Y8)) | E8: =IF(ISBLANK('SOURCE DispoCockpit'!U8),"",('SOURCE DispoCockpit'!U8)) | F8: =IF(ISBLANK('SOURCE DispoCockpit'!Y8),"",('SOURCE DispoCockpit'!Y8)) | G8: =IF(E8="","",IF(F8=0,((E8/100)),((E8-F8)/F8))) | I8: {=IFERROR(INDEX('[1]DATA EORD'!$B$2:$B$89,SMALL(IF('[1]DATA EORD'!$A$2:$A$89=$A8,ROW('[1]DATA EORD'!$B$2:$B$89)-1),1)),"")} -> 100007 | K8: =IF(A8="","",_xlfn.IFNA((VLOOKUP(A8&I8,'[1]DATA EORD'!$E:$H,3,)),"NO CONTRACT")) -> 4800000546 | P8: =IF(O8="","",(VLOOKUP(O8,'[2]Liste Fournisseur'!$A:$B,2,FALSE))) | V8: =IF(U8="","",(VLOOKUP(U8,'[2]Liste Fournisseur'!$A:$B,2,FALSE)))
A9: =IF(ISBLANK('SOURCE DispoCockpit'!A9),"",('SOURCE DispoCockpit'!A9)) -> 4347260036 | B9: =IF(ISBLANK('SOURCE DispoCockpit'!U9),"",('SOURCE DispoCockpit'!U9)) | C9: =IF(ISBLANK('SOURCE DispoCockpit'!Y9),"",('SOURCE DispoCockpit'!Y9)) | E9: =IF(ISBLANK('SOURCE DispoCockpit'!U9),"",('SOURCE DispoCockpit'!U9)) | F9: =IF(ISBLANK('SOURCE DispoCockpit'!Y9),"",('SOURCE DispoCockpit'!Y9)) | G9: =IF(E9="","",IF(F9=0,((E9/100)),((E9-F9)/F9))) | I9: {=IFERROR(INDEX('[1]DATA EORD'!$B$2:$B$89,SMALL(IF('[1]DATA EORD'!$A$2:$A$89=$A9,ROW('[1]DATA EORD'!$B$2:$B$89)-1),1)),"")} -> 100007 | K9: =IF(A9="","",_xlfn.IFNA((VLOOKUP(A9&I9,'[1]DATA EORD'!$E:$H,3,)),"NO CONTRACT")) -> 4800000546 | P9: =IF(O9="","",(VLOOKUP(O9,'[2]Liste Fournisseur'!$A:$B,2,FALSE))) | V9: =IF(U9="","",(VLOOKUP(U9,'[2]Liste Fournisseur'!$A:$B,2,FALSE)))
A10: =IF(ISBLANK('SOURCE DispoCockpit'!A10),"",('SOURCE DispoCockpit'!A10)) -> 4812084925 | B10: =IF(ISBLANK('SOURCE DispoCockpit'!U10),"",('SOURCE DispoCockpit'!U10)) | C10: =IF(ISBLANK('SOURCE DispoCockpit'!Y10),"",('SOURCE DispoCockpit'!Y10)) | E10: =IF(ISBLANK('SOURCE DispoCockpit'!U10),"",('SOURCE DispoCockpit'!U10)) | F10: =IF(ISBLANK('SOURCE DispoCockpit'!Y10),"",('SOURCE DispoCockpit'!Y10)) | G10: =IF(E10="","",IF(F10=0,((E10/100)),((E10-F10)/F10))) | I10: {=IFERROR(INDEX('[1]DATA EORD'!$B$2:$B$89,SMALL(IF('[1]DATA EORD'!$A$2:$A$89=$A10,ROW('[1]DATA EORD'!$B$2:$B$89)-1),1)),"")} -> 100012 | K10: =IF(A10="","",_xlfn.IFNA((VLOOKUP(A10&I10,'[1]DATA EORD'!$E:$H,3,)),"NO CONTRACT")) -> 4600020053 | P10: =IF(O10="","",(VLOOKUP(O10,'[2]Liste Fournisseur'!$A:$B,2,FALSE))) | V10: =IF(U10="","",(VLOOKUP(U10,'[2]Liste Fournisseur'!$A:$B,2,FALSE)))
A11: =IF(ISBLANK('SOURCE DispoCockpit'!A11),"",('SOURCE DispoCockpit'!A11)) -> 4812086208 | B11: =IF(ISBLANK('SOURCE DispoCockpit'!U11),"",('SOURCE DispoCockpit'!U11)) | C11: =IF(ISBLANK('SOURCE DispoCockpit'!Y11),"",('SOURCE DispoCockpit'!Y11)) | E11: =IF(ISBLANK('SOURCE DispoCockpit'!U11),"",('SOURCE DispoCockpit'!U11)) | F11: =IF(ISBLANK('SOURCE DispoCockpit'!Y11),"",('SOURCE DispoCockpit'!Y11)) | G11: =IF(E11="","",IF(F11=0,((E11/100)),((E11-F11)/F11))) | I11: {=IFERROR(INDEX('[1]DATA EORD'!$B$2:$B$89,SMALL(IF('[1]DATA EORD'!$A$2:$A$89=$A11,ROW('[1]DATA EORD'!$B$2:$B$89)-1),1)),"")} -> 100004 | K11: =IF(A11="","",_xlfn.IFNA((VLOOKUP(A11&I11,'[1]DATA EORD'!$E:$H,3,)),"NO CONTRACT")) -> 4800005508 | P11: =IF(O11="","",(VLOOKUP(O11,'[2]Liste Fournisseur'!$A:$B,2,FALSE))) | V11: =IF(U11="","",(VLOOKUP(U11,'[2]Liste Fournisseur'!$A:$B,2,FALSE)))
A12: =IF(ISBLANK('SOURCE DispoCockpit'!A12),"",('SOURCE DispoCockpit'!A12)) -> 4812086212 | B12: =IF(ISBLANK('SOURCE DispoCockpit'!U12),"",('SOURCE DispoCockpit'!U12)) | C12: =IF(ISBLANK('SOURCE DispoCockpit'!Y12),"",('SOURCE DispoCockpit'!Y12)) | E12: =IF(ISBLANK('SOURCE DispoCockpit'!U12),"",('SOURCE DispoCockpit'!U12)) | F12: =IF(ISBLANK('SOURCE DispoCockpit'!Y12),"",('SOURCE DispoCockpit'!Y12)) | G12: =IF(E12="","",IF(F12=0,((E12/100)),((E12-F12)/F12))) | I12: {=IFERROR(INDEX('[1]DATA EORD'!$B$2:$B$89,SMALL(IF('[1]DATA EORD'!$A$2:$A$89=$A12,ROW('[1]DATA EORD'!$B$2:$B$89)-1),1)),"")} -> 100004 | K12: =IF(A12="","",_xlfn.IFNA((VLOOKUP(A12&I12,'[1]DATA EORD'!$E:$H,3,)),"NO CONTRACT")) -> 4800005508 | P12: =IF(O12="","",(VLOOKUP(O12,'[2]Liste Fournisseur'!$A:$B,2,FALSE))) | V12: =IF(U12="","",(VLOOKUP(U12,'[2]Liste Fournisseur'!$A:$B,2,FALSE)))
A13: =IF(ISBLANK('SOURCE DispoCockpit'!A13),"",('SOURCE DispoCockpit'!A13)) -> 4812086830 | B13: =IF(ISBLANK('SOURCE DispoCockpit'!U13),"",('SOURCE DispoCockpit'!U13)) | C13: =IF(ISBLANK('SOURCE DispoCockpit'!Y13),"",('SOURCE DispoCockpit'!Y13)) | E13: =IF(ISBLANK('SOURCE DispoCockpit'!U13),"",('SOURCE DispoCockpit'!U13)) | F13: =IF(ISBLANK('SOURCE DispoCockpit'!Y13),"",('SOURCE DispoCockpit'!Y13)) | G13: =IF(E13="","",IF(F13=0,((E13/100)),((E13-F13)/F13))) | I13: {=IFERROR(INDEX('[1]DATA EORD'!$B$2:$B$89,SMALL(IF('[1]DATA EORD'!$A$2:$A$89=$A13,ROW('[1]DATA EORD'!$B$2:$B$89)-1),1)),"")} -> 100004 | K13: =IF(A13="","",_xlfn.IFNA((VLOOKUP(A13&I13,'[1]DATA EORD'!$E:$H,3,)),"NO CONTRACT")) -> 4800005508 | P13: =IF(O13="","",(VLOOKUP(O13,'[2]Liste Fournisseur'!$A:$B,2,FALSE))) | V13: =IF(U13="","",(VLOOKUP(U13,'[2]Liste Fournisseur'!$A:$B,2,FALSE)))
A14: =IF(ISBLANK('SOURCE DispoCockpit'!A14),"",('SOURCE DispoCockpit'!A14)) -> 4852130008 | B14: =IF(ISBLANK('SOURCE DispoCockpit'!U14),"",('SOURCE DispoCockpit'!U14)) | C14: =IF(ISBLANK('SOURCE DispoCockpit'!Y14),"",('SOURCE DispoCockpit'!Y14)) | E14: =IF(ISBLANK('SOURCE DispoCockpit'!U14),"",('SOURCE DispoCockpit'!U14)) | F14: =IF(ISBLANK('SOURCE DispoCockpit'!Y14),"",('SOURCE DispoCockpit'!Y14)) | G14: =IF(E14="","",IF(F14=0,((E14/100)),((E14-F14)/F14))) | I14: {=IFERROR(INDEX('[1]DATA EORD'!$B$2:$B$89,SMALL(IF('[1]DATA EORD'!$A$2:$A$89=$A14,ROW('[1]DATA EORD'!$B$2:$B$89)-1),1)),"")} -> 100012 | K14: =IF(A14="","",_xlfn.IFNA((VLOOKUP(A14&I14,'[1]DATA EORD'!$E:$H,3,)),"NO CONTRACT")) -> 4600020053 | P14: =IF(O14="","",(VLOOKUP(O14,'[2]Liste Fournisseur'!$A:$B,2,FALSE))) | V14: =IF(U14="","",(VLOOKUP(U14,'[2]Liste Fournisseur'!$A:$B,2,FALSE)))
... A99: =IF(ISBLANK('SOURCE DispoCockpit'!A99),"",('SOURCE DispoCockpit'!A99)) | B99: =IF(ISBLANK('SOURCE DispoCockpit'!U99),"",('SOURCE DispoCockpit'!U99)) | C99: =IF(ISBLANK('SOURCE DispoCockpit'!Y99),"",('SOURCE DispoCockpit'!Y99)) | E99: =IF(ISBLANK('SOURCE DispoCockpit'!U99),"",('SOURCE DispoCockpit'!U99)) | F99: =IF(ISBLANK('SOURCE DispoCockpit'!Y99),"",('SOURCE DispoCockpit'!Y99)) | G99: =IF(E99="","",IF(F99=0,((E99/100)),((E99-F99)/F99))) | I99: {=IFERROR(INDEX('[1]DATA EORD'!$B$2:$B$89,SMALL(IF('[1]DATA EORD'!$A$2:$A$89=$A99,ROW('[1]DATA EORD'!$B$2:$B$89)-1),1)),"")} | K99: =IF(A99="","",_xlfn.IFNA((VLOOKUP(A99&I99,'[1]DATA EORD'!$E:$H,3,)),"NO CONTRACT")) | P99: =IF(O99="","",(VLOOKUP(O99,'[2]Liste Fournisseur'!$A:$B,2,FALSE))) | V99: =IF(U99="","",(VLOOKUP(U99,'[2]Liste Fournisseur'!$A:$B,2,FALSE)))
A100: =IF(ISBLANK('SOURCE DispoCockpit'!#REF!),"",('SOURCE DispoCockpit'!#REF!)) -> #REF! | B100: =IF(ISBLANK('SOURCE DispoCockpit'!#REF!),"",('SOURCE DispoCockpit'!#REF!)) -> #REF! | C100: =IF(ISBLANK('SOURCE DispoCockpit'!#REF!),"",('SOURCE DispoCockpit'!#REF!)) -> #REF! | E100: =IF(ISBLANK('SOURCE DispoCockpit'!#REF!),"",('SOURCE DispoCockpit'!#REF!)) -> #REF! | F100: =IF(ISBLANK('SOURCE DispoCockpit'!#REF!),"",('SOURCE DispoCockpit'!#REF!)) -> #REF! | G100: =IF(E100="","",IF(F100=0,((E100/100)),((E100-F100)/F100))) -> #REF! | I100: {=IFERROR(INDEX('[1]DATA EORD'!$B$2:$B$89,SMALL(IF('[1]DATA EORD'!$A$2:$A$89=$A100,ROW('[1]DATA EORD'!$B$2:$B$89)-1),1)),"")} | K100: =IF(A100="","",_xlfn.IFNA((VLOOKUP(A100&I100,'[1]DATA EORD'!$E:$H,3,)),"NO CONTRACT")) -> #REF! | P100: =IF(O100="","",(VLOOKUP(O100,'[2]Liste Fournisseur'!$A:$B,2,FALSE))) | V100: =IF(U100="","",(VLOOKUP(U100,'[2]Liste Fournisseur'!$A:$B,2,FALSE)))
A101: =IF(ISBLANK('SOURCE DispoCockpit'!#REF!),"",('SOURCE DispoCockpit'!#REF!)) -> #REF! | B101: =IF(ISBLANK('SOURCE DispoCockpit'!#REF!),"",('SOURCE DispoCockpit'!#REF!)) -> #REF! | C101: =IF(ISBLANK('SOURCE DispoCockpit'!#REF!),"",('SOURCE DispoCockpit'!#REF!)) -> #REF! | E101: =IF(ISBLANK('SOURCE DispoCockpit'!#REF!),"",('SOURCE DispoCockpit'!#REF!)) -> #REF! | F101: =IF(ISBLANK('SOURCE DispoCockpit'!#REF!),"",('SOURCE DispoCockpit'!#REF!)) -> #REF! | G101: =IF(E101="","",IF(F101=0,((E101/100)),((E101-F101)/F101))) -> #REF! | I101: {=IFERROR(INDEX('[1]DATA EORD'!$B$2:$B$89,SMALL(IF('[1]DATA EORD'!$A$2:$A$89=$A101,ROW('[1]DATA EORD'!$B$2:$B$89)-1),1)),"")} | K101: =IF(A101="","",_xlfn.IFNA((VLOOKUP(A101&I101,'[1]DATA EORD'!$E:$H,3,)),"NO CONTRACT")) -> #REF! | P101: =IF(O101="","",(VLOOKUP(O101,'[2]Liste Fournisseur'!$A:$B,2,FALSE))) | V101: =IF(U101="","",(VLOOKUP(U101,'[2]Liste Fournisseur'!$A:$B,2,FALSE)))
A102: =IF(ISBLANK('SOURCE DispoCockpit'!#REF!),"",('SOURCE DispoCockpit'!#REF!)) -> #REF! | B102: =IF(ISBLANK('SOURCE DispoCockpit'!#REF!),"",('SOURCE DispoCockpit'!#REF!)) -> #REF! | C102: =IF(ISBLANK('SOURCE DispoCockpit'!#REF!),"",('SOURCE DispoCockpit'!#REF!)) -> #REF! | E102: =IF(ISBLANK('SOURCE DispoCockpit'!#REF!),"",('SOURCE DispoCockpit'!#REF!)) -> #REF! | F102: =IF(ISBLANK('SOURCE DispoCockpit'!#REF!),"",('SOURCE DispoCockpit'!#REF!)) -> #REF! | G102: =IF(E102="","",IF(F102=0,((E102/100)),((E102-F102)/F102))) -> #REF! | I102: {=IFERROR(INDEX('[1]DATA EORD'!$B$2:$B$89,SMALL(IF('[1]DATA EORD'!$A$2:$A$89=$A102,ROW('[1]DATA EORD'!$B$2:$B$89)-1),1)),"")} | K102: =IF(A102="","",_xlfn.IFNA((VLOOKUP(A102&I102,'[1]DATA EORD'!$E:$H,3,)),"NO CONTRACT")) -> #REF! | P102: =IF(O102="","",(VLOOKUP(O102,'[2]Liste Fournisseur'!$A:$B,2,FALSE))) | V102: =IF(U102="","",(VLOOKUP(U102,'[2]Liste Fournisseur'!$A:$B,2,FALSE)))
A103: =IF(ISBLANK('SOURCE DispoCockpit'!#REF!),"",('SOURCE DispoCockpit'!#REF!)) -> #REF! | B103: =IF(ISBLANK('SOURCE DispoCockpit'!#REF!),"",('SOURCE DispoCockpit'!#REF!)) -> #REF! | C103: =IF(ISBLANK('SOURCE DispoCockpit'!#REF!),"",('SOURCE DispoCockpit'!#REF!)) -> #REF! | E103: =IF(ISBLANK('SOURCE DispoCockpit'!#REF!),"",('SOURCE DispoCockpit'!#REF!)) -> #REF! | F103: =IF(ISBLANK('SOURCE DispoCockpit'!#REF!),"",('SOURCE DispoCockpit'!#REF!)) -> #REF! | G103: =IF(E103="","",IF(F103=0,((E103/100)),((E103-F103)/F103))) -> #REF! | I103: {=IFERROR(INDEX('[1]DATA EORD'!$B$2:$B$89,SMALL(IF('[1]DATA EORD'!$A$2:$A$89=$A103,ROW('[1]DATA EORD'!$B$2:$B$89)-1),1)),"")} | K103: =IF(A103="","",_xlfn.IFNA((VLOOKUP(A103&I103,'[1]DATA EORD'!$E:$H,3,)),"NO CONTRACT")) -> #REF! | P103: =IF(O103="","",(VLOOKUP(O103,'[2]Liste Fournisseur'!$A:$B,2,FALSE))) | V103: =IF(U103="","",(VLOOKUP(U103,'[2]Liste Fournisseur'!$A:$B,2,FALSE)))
A104: =IF(ISBLANK('SOURCE DispoCockpit'!#REF!),"",('SOURCE DispoCockpit'!#REF!)) -> #REF! | B104: =IF(ISBLANK('SOURCE DispoCockpit'!#REF!),"",('SOURCE DispoCockpit'!#REF!)) -> #REF! | C104: =IF(ISBLANK('SOURCE DispoCockpit'!#REF!),"",('SOURCE DispoCockpit'!#REF!)) -> #REF! | E104: =IF(ISBLANK('SOURCE DispoCockpit'!#REF!),"",('SOURCE DispoCockpit'!#REF!)) -> #REF! | F104: =IF(ISBLANK('SOURCE DispoCockpit'!#REF!),"",('SOURCE DispoCockpit'!#REF!)) -> #REF! | G104: =IF(E104="","",IF(F104=0,((E104/100)),((E104-F104)/F104))) -> #REF! | I104: {=IFERROR(INDEX('[1]DATA EORD'!$B$2:$B$89,SMALL(IF('[1]DATA EORD'!$A$2:$A$89=$A104,ROW('[1]DATA EORD'!$B$2:$B$89)-1),1)),"")} | K104: =IF(A104="","",_xlfn.IFNA((VLOOKUP(A104&I104,'[1]DATA EORD'!$E:$H,3,)),"NO CONTRACT")) -> #REF! | P104: =IF(O104="","",(VLOOKUP(O104,'[2]Liste Fournisseur'!$A:$B,2,FALSE))) | V104: =IF(U104="","",(VLOOKUP(U104,'[2]Liste Fournisseur'!$A:$B,2,FALSE)))
A105: =IF(ISBLANK('SOURCE DispoCockpit'!#REF!),"",('SOURCE DispoCockpit'!#REF!)) -> #REF! | B105: =IF(ISBLANK('SOURCE DispoCockpit'!#REF!),"",('SOURCE DispoCockpit'!#REF!)) -> #REF! | C105: =IF(ISBLANK('SOURCE DispoCockpit'!#REF!),"",('SOURCE DispoCockpit'!#REF!)) -> #REF! | E105: =IF(ISBLANK('SOURCE DispoCockpit'!#REF!),"",('SOURCE DispoCockpit'!#REF!)) -> #REF! | F105: =IF(ISBLANK('SOURCE DispoCockpit'!#REF!),"",('SOURCE DispoCockpit'!#REF!)) -> #REF! | G105: =IF(E105="","",IF(F105=0,((E105/100)),((E105-F105)/F105))) -> #REF! | I105: {=IFERROR(INDEX('[1]DATA EORD'!$B$2:$B$89,SMALL(IF('[1]DATA EORD'!$A$2:$A$89=$A105,ROW('[1]DATA EORD'!$B$2:$B$89)-1),1)),"")} | K105: =IF(A105="","",_xlfn.IFNA((VLOOKUP(A105&I105,'[1]DATA EORD'!$E:$H,3,)),"NO CONTRACT")) -> #REF! | P105: =IF(O105="","",(VLOOKUP(O105,'[2]Liste Fournisseur'!$A:$B,2,FALSE))) | V105: =IF(U105="","",(VLOOKUP(U105,'[2]Liste Fournisseur'!$A:$B,2,FALSE)))
A106: =IF(ISBLANK('SOURCE DispoCockpit'!#REF!),"",('SOURCE DispoCockpit'!#REF!)) -> #REF! | B106: =IF(ISBLANK('SOURCE DispoCockpit'!#REF!),"",('SOURCE DispoCockpit'!#REF!)) -> #REF! | C106: =IF(ISBLANK('SOURCE DispoCockpit'!#REF!),"",('SOURCE DispoCockpit'!#REF!)) -> #REF! | E106: =IF(ISBLANK('SOURCE DispoCockpit'!#REF!),"",('SOURCE DispoCockpit'!#REF!)) -> #REF! | F106: =IF(ISBLANK('SOURCE DispoCockpit'!#REF!),"",('SOURCE DispoCockpit'!#REF!)) -> #REF! | G106: =IF(E106="","",IF(F106=0,((E106/100)),((E106-F106)/F106))) -> #REF! | I106: {=IFERROR(INDEX('[1]DATA EORD'!$B$2:$B$89,SMALL(IF('[1]DATA EORD'!$A$2:$A$89=$A106,ROW('[1]DATA EORD'!$B$2:$B$89)-1),1)),"")} | K106: =IF(A106="","",_xlfn.IFNA((VLOOKUP(A106&I106,'[1]DATA EORD'!$E:$H,3,)),"NO CONTRACT")) -> #REF! | P106: =IF(O106="","",(VLOOKUP(O106,'[2]Liste Fournisseur'!$A:$B,2,FALSE))) | V106: =IF(U106="","",(VLOOKUP(U106,'[2]Liste Fournisseur'!$A:$B,2,FALSE)))
A107: =IF(ISBLANK('SOURCE DispoCockpit'!#REF!),"",('SOURCE DispoCockpit'!#REF!)) -> #REF! | B107: =IF(ISBLANK('SOURCE DispoCockpit'!#REF!),"",('SOURCE DispoCockpit'!#REF!)) -> #REF! | C107: =IF(ISBLANK('SOURCE DispoCockpit'!#REF!),"",('SOURCE DispoCockpit'!#REF!)) -> #REF! | E107: =IF(ISBLANK('SOURCE DispoCockpit'!#REF!),"",('SOURCE DispoCockpit'!#REF!)) -> #REF! | F107: =IF(ISBLANK('SOURCE DispoCockpit'!#REF!),"",('SOURCE DispoCockpit'!#REF!)) -> #REF! | G107: =IF(E107="","",IF(F107=0,((E107/100)),((E107-F107)/F107))) -> #REF! | I107: {=IFERROR(INDEX('[1]DATA EORD'!$B$2:$B$89,SMALL(IF('[1]DATA EORD'!$A$2:$A$89=$A107,ROW('[1]DATA EORD'!$B$2:$B$89)-1),1)),"")} | K107: =IF(A107="","",_xlfn.IFNA((VLOOKUP(A107&I107,'[1]DATA EORD'!$E:$H,3,)),"NO CONTRACT")) -> #REF! | P107: =IF(O107="","",(VLOOKUP(O107,'[2]Liste Fournisseur'!$A:$B,2,FALSE))) | V107: =IF(U107="","",(VLOOKUP(U107,'[2]Liste Fournisseur'!$A:$B,2,FALSE)))
A108: =IF(ISBLANK('SOURCE DispoCockpit'!#REF!),"",('SOURCE DispoCockpit'!#REF!)) -> #REF! | B108: =IF(ISBLANK('SOURCE DispoCockpit'!#REF!),"",('SOURCE DispoCockpit'!#REF!)) -> #REF! | C108: =IF(ISBLANK('SOURCE DispoCockpit'!#REF!),"",('SOURCE DispoCockpit'!#REF!)) -> #REF! | E108: =IF(ISBLANK('SOURCE DispoCockpit'!#REF!),"",('SOURCE DispoCockpit'!#REF!)) -> #REF! | F108: =IF(ISBLANK('SOURCE DispoCockpit'!#REF!),"",('SOURCE DispoCockpit'!#REF!)) -> #REF! | G108: =IF(E108="","",IF(F108=0,((E108/100)),((E108-F108)/F108))) -> #REF! | I108: {=IFERROR(INDEX('[1]DATA EORD'!$B$2:$B$89,SMALL(IF('[1]DATA EORD'!$A$2:$A$89=$A108,ROW('[1]DATA EORD'!$B$2:$B$89)-1),1)),"")} | K108: =IF(A108="","",_xlfn.IFNA((VLOOKUP(A108&I108,'[1]DATA EORD'!$E:$H,3,)),"NO CONTRACT")) -> #REF! | P108: =IF(O108="","",(VLOOKUP(O108,'[2]Liste Fournisseur'!$A:$B,2,FALSE))) | V108: =IF(U108="","",(VLOOKUP(U108,'[2]Liste Fournisseur'!$A:$B,2,FALSE)))
A109: =IF(ISBLANK('SOURCE DispoCockpit'!#REF!),"",('SOURCE DispoCockpit'!#REF!)) -> #REF! | B109: =IF(ISBLANK('SOURCE DispoCockpit'!#REF!),"",('SOURCE DispoCockpit'!#REF!)) -> #REF! | C109: =IF(ISBLANK('SOURCE DispoCockpit'!#REF!),"",('SOURCE DispoCockpit'!#REF!)) -> #REF! | E109: =IF(ISBLANK('SOURCE DispoCockpit'!#REF!),"",('SOURCE DispoCockpit'!#REF!)) -> #REF! | F109: =IF(ISBLANK('SOURCE DispoCockpit'!#REF!),"",('SOURCE DispoCockpit'!#REF!)) -> #REF! | G109: =IF(E109="","",IF(F109=0,((E109/100)),((E109-F109)/F109))) -> #REF! | I109: {=IFERROR(INDEX('[1]DATA EORD'!$B$2:$B$89,SMALL(IF('[1]DATA EORD'!$A$2:$A$89=$A109,ROW('[1]DATA EORD'!$B$2:$B$89)-1),1)),"")} | K109: =IF(A109="","",_xlfn.IFNA((VLOOKUP(A109&I109,'[1]DATA EORD'!$E:$H,3,)),"NO CONTRACT")) -> #REF! | P109: =IF(O109="","",(VLOOKUP(O109,'[2]Liste Fournisseur'!$A:$B,2,FALSE))) | V109: =IF(U109="","",(VLOOKUP(U109,'[2]Liste Fournisseur'!$A:$B,2,FALSE)))
A110: =IF(ISBLANK('SOURCE DispoCockpit'!#REF!),"",('SOURCE DispoCockpit'!#REF!)) -> #REF! | B110: =IF(ISBLANK('SOURCE DispoCockpit'!#REF!),"",('SOURCE DispoCockpit'!#REF!)) -> #REF! | C110: =IF(ISBLANK('SOURCE DispoCockpit'!#REF!),"",('SOURCE DispoCockpit'!#REF!)) -> #REF! | E110: =IF(ISBLANK('SOURCE DispoCockpit'!#REF!),"",('SOURCE DispoCockpit'!#REF!)) -> #REF! | F110: =IF(ISBLANK('SOURCE DispoCockpit'!#REF!),"",('SOURCE DispoCockpit'!#REF!)) -> #REF! | G110: =IF(E110="","",IF(F110=0,((E110/100)),((E110-F110)/F110))) -> #REF! | I110: {=IFERROR(INDEX('[1]DATA EORD'!$B$2:$B$89,SMALL(IF('[1]DATA EORD'!$A$2:$A$89=$A110,ROW('[1]DATA EORD'!$B$2:$B$89)-1),1)),"")} | K110: =IF(A110="","",_xlfn.IFNA((VLOOKUP(A110&I110,'[1]DATA EORD'!$E:$H,3,)),"NO CONTRACT")) -> #REF! | P110: =IF(O110="","",(VLOOKUP(O110,'[2]Liste Fournisseur'!$A:$B,2,FALSE))) | V110: =IF(U110="","",(VLOOKUP(U110,'[2]Liste Fournisseur'!$A:$B,2,FALSE)))
A111: =IF(ISBLANK('SOURCE DispoCockpit'!#REF!),"",('SOURCE DispoCockpit'!#REF!)) -> #REF! | B111: =IF(ISBLANK('SOURCE DispoCockpit'!#REF!),"",('SOURCE DispoCockpit'!#REF!)) -> #REF! | C111: =IF(ISBLANK('SOURCE DispoCockpit'!#REF!),"",('SOURCE DispoCockpit'!#REF!)) -> #REF! | E111: =IF(ISBLANK('SOURCE DispoCockpit'!#REF!),"",('SOURCE DispoCockpit'!#REF!)) -> #REF! | F111: =IF(ISBLANK('SOURCE DispoCockpit'!#REF!),"",('SOURCE DispoCockpit'!#REF!)) -> #REF! | G111: =IF(E111="","",IF(F111=0,((E111/100)),((E111-F111)/F111))) -> #REF! | I111: {=IFERROR(INDEX('[1]DATA EORD'!$B$2:$B$89,SMALL(IF('[1]DATA EORD'!$A$2:$A$89=$A111,ROW('[1]DATA EORD'!$B$2:$B$89)-1),1)),"")} | K111: =IF(A111="","",_xlfn.IFNA((VLOOKUP(A111&I111,'[1]DATA EORD'!$E:$H,3,)),"NO CONTRACT")) -> #REF! | P111: =IF(O111="","",(VLOOKUP(O111,'[2]Liste Fournisseur'!$A:$B,2,FALSE))) | V111: =IF(U111="","",(VLOOKUP(U111,'[2]Liste Fournisseur'!$A:$B,2,FALSE)))
... A4119: =IF(ISBLANK('SOURCE DispoCockpit'!#REF!),"",('SOURCE DispoCockpit'!#REF!)) -> #REF! | B4119: =IF(ISBLANK('SOURCE DispoCockpit'!#REF!),"",('SOURCE DispoCockpit'!#REF!)) -> #REF! | C4119: =IF(ISBLANK('SOURCE DispoCockpit'!#REF!),"",('SOURCE DispoCockpit'!#REF!)) -> #REF! | E4119: =IF(ISBLANK('SOURCE DispoCockpit'!#REF!),"",('SOURCE DispoCockpit'!#REF!)) -> #REF! | F4119: =IF(ISBLANK('SOURCE DispoCockpit'!#REF!),"",('SOURCE DispoCockpit'!#REF!)) -> #REF! | G4119: =IF(E4119="","",IF(F4119=0,((E4119/100)),((E4119-F4119)/F4119))) -> #REF! | I4119: {=IFERROR(INDEX('[1]DATA EORD'!$B$2:$B$89,SMALL(IF('[1]DATA EORD'!$A$2:$A$89=$A4119,ROW('[1]DATA EORD'!$B$2:$B$89)-1),1)),"")} | K4119: =IF(A4119="","",_xlfn.IFNA((VLOOKUP(A4119&I4119,'[1]DATA EORD'!$E:$H,3,)),"NO CONTRACT")) -> #REF! | P4119: =IF(O4119="","",(VLOOKUP(O4119,'[2]Liste Fournisseur'!$A:$B,2,FALSE))) | V4119: =IF(U4119="","",(VLOOKUP(U4119,'[2]Liste Fournisseur'!$A:$B,2,FALSE)))
A4120: =IF(ISBLANK('SOURCE DispoCockpit'!A100),"",('SOURCE DispoCockpit'!A100)) | B4120: =IF(ISBLANK('SOURCE DispoCockpit'!U100),"",('SOURCE DispoCockpit'!U100)) | C4120: =IF(ISBLANK('SOURCE DispoCockpit'!Y100),"",('SOURCE DispoCockpit'!Y100)) | E4120: =IF(ISBLANK('SOURCE DispoCockpit'!U100),"",('SOURCE DispoCockpit'!U100)) | F4120: =IF(ISBLANK('SOURCE DispoCockpit'!Y100),"",('SOURCE DispoCockpit'!Y100)) | G4120: =IF(E4120="","",IF(F4120=0,((E4120/100)),((E4120-F4120)/F4120))) | I4120: {=IFERROR(INDEX('[1]DATA EORD'!$B$2:$B$89,SMALL(IF('[1]DATA EORD'!$A$2:$A$89=$A4120,ROW('[1]DATA EORD'!$B$2:$B$89)-1),1)),"")} | K4120: =IF(A4120="","",_xlfn.IFNA((VLOOKUP(A4120&I4120,'[1]DATA EORD'!$E:$H,3,)),"NO CONTRACT")) | P4120: =IF(O4120="","",(VLOOKUP(O4120,'[2]Liste Fournisseur'!$A:$B,2,FALSE))) | V4120: =IF(U4120="","",(VLOOKUP(U4120,'[2]Liste Fournisseur'!$A:$B,2,FALSE)))
A4121: =IF(ISBLANK('SOURCE DispoCockpit'!A101),"",('SOURCE DispoCockpit'!A101)) | B4121: =IF(ISBLANK('SOURCE DispoCockpit'!U101),"",('SOURCE DispoCockpit'!U101)) | C4121: =IF(ISBLANK('SOURCE DispoCockpit'!Y101),"",('SOURCE DispoCockpit'!Y101)) | E4121: =IF(ISBLANK('SOURCE DispoCockpit'!U101),"",('SOURCE DispoCockpit'!U101)) | F4121: =IF(ISBLANK('SOURCE DispoCockpit'!Y101),"",('SOURCE DispoCockpit'!Y101)) | G4121: =IF(E4121="","",IF(F4121=0,((E4121/100)),((E4121-F4121)/F4121))) | I4121: {=IFERROR(INDEX('[1]DATA EORD'!$B$2:$B$89,SMALL(IF('[1]DATA EORD'!$A$2:$A$89=$A4121,ROW('[1]DATA EORD'!$B$2:$B$89)-1),1)),"")} | K4121: =IF(A4121="","",_xlfn.IFNA((VLOOKUP(A4121&I4121,'[1]DATA EORD'!$E:$H,3,)),"NO CONTRACT")) | P4121: =IF(O4121="","",(VLOOKUP(O4121,'[2]Liste Fournisseur'!$A:$B,2,FALSE))) | V4121: =IF(U4121="","",(VLOOKUP(U4121,'[2]Liste Fournisseur'!$A:$B,2,FALSE)))
A4122: =IF(ISBLANK('SOURCE DispoCockpit'!A102),"",('SOURCE DispoCockpit'!A102)) | B4122: =IF(ISBLANK('SOURCE DispoCockpit'!U102),"",('SOURCE DispoCockpit'!U102)) | C4122: =IF(ISBLANK('SOURCE DispoCockpit'!Y102),"",('SOURCE DispoCockpit'!Y102)) | E4122: =IF(ISBLANK('SOURCE DispoCockpit'!U102),"",('SOURCE DispoCockpit'!U102)) | F4122: =IF(ISBLANK('SOURCE DispoCockpit'!Y102),"",('SOURCE DispoCockpit'!Y102)) | G4122: =IF(E4122="","",IF(F4122=0,((E4122/100)),((E4122-F4122)/F4122))) | I4122: {=IFERROR(INDEX('[1]DATA EORD'!$B$2:$B$89,SMALL(IF('[1]DATA EORD'!$A$2:$A$89=$A4122,ROW('[1]DATA EORD'!$B$2:$B$89)-1),1)),"")} | K4122: =IF(A4122="","",_xlfn.IFNA((VLOOKUP(A4122&I4122,'[1]DATA EORD'!$E:$H,3,)),"NO CONTRACT")) | P4122: =IF(O4122="","",(VLOOKUP(O4122,'[2]Liste Fournisseur'!$A:$B,2,FALSE))) | V4122: =IF(U4122="","",(VLOOKUP(U4122,'[2]Liste Fournisseur'!$A:$B,2,FALSE)))
A4123: =IF(ISBLANK('SOURCE DispoCockpit'!A103),"",('SOURCE DispoCockpit'!A103)) | B4123: =IF(ISBLANK('SOURCE DispoCockpit'!U103),"",('SOURCE DispoCockpit'!U103)) | C4123: =IF(ISBLANK('SOURCE DispoCockpit'!Y103),"",('SOURCE DispoCockpit'!Y103)) | E4123: =IF(ISBLANK('SOURCE DispoCockpit'!U103),"",('SOURCE DispoCockpit'!U103)) | F4123: =IF(ISBLANK('SOURCE DispoCockpit'!Y103),"",('SOURCE DispoCockpit'!Y103)) | G4123: =IF(E4123="","",IF(F4123=0,((E4123/100)),((E4123-F4123)/F4123))) | I4123: {=IFERROR(INDEX('[1]DATA EORD'!$B$2:$B$89,SMALL(IF('[1]DATA EORD'!$A$2:$A$89=$A4123,ROW('[1]DATA EORD'!$B$2:$B$89)-1),1)),"")} | K4123: =IF(A4123="","",_xlfn.IFNA((VLOOKUP(A4123&I4123,'[1]DATA EORD'!$E:$H,3,)),"NO CONTRACT")) | P4123: =IF(O4123="","",(VLOOKUP(O4123,'[2]Liste Fournisseur'!$A:$B,2,FALSE))) | V4123: =IF(U4123="","",(VLOOKUP(U4123,'[2]Liste Fournisseur'!$A:$B,2,FALSE)))
A4124: =IF(ISBLANK('SOURCE DispoCockpit'!A104),"",('SOURCE DispoCockpit'!A104)) | B4124: =IF(ISBLANK('SOURCE DispoCockpit'!U104),"",('SOURCE DispoCockpit'!U104)) | C4124: =IF(ISBLANK('SOURCE DispoCockpit'!Y104),"",('SOURCE DispoCockpit'!Y104)) | E4124: =IF(ISBLANK('SOURCE DispoCockpit'!U104),"",('SOURCE DispoCockpit'!U104)) | F4124: =IF(ISBLANK('SOURCE DispoCockpit'!Y104),"",('SOURCE DispoCockpit'!Y104)) | G4124: =IF(E4124="","",IF(F4124=0,((E4124/100)),((E4124-F4124)/F4124))) | I4124: {=IFERROR(INDEX('[1]DATA EORD'!$B$2:$B$89,SMALL(IF('[1]DATA EORD'!$A$2:$A$89=$A4124,ROW('[1]DATA EORD'!$B$2:$B$89)-1),1)),"")} | K4124: =IF(A4124="","",_xlfn.IFNA((VLOOKUP(A4124&I4124,'[1]DATA EORD'!$E:$H,3,)),"NO CONTRACT")) | P4124: =IF(O4124="","",(VLOOKUP(O4124,'[2]Liste Fournisseur'!$A:$B,2,FALSE))) | V4124: =IF(U4124="","",(VLOOKUP(U4124,'[2]Liste Fournisseur'!$A:$B,2,FALSE)))
A4125: =IF(ISBLANK('SOURCE DispoCockpit'!A105),"",('SOURCE DispoCockpit'!A105)) | B4125: =IF(ISBLANK('SOURCE DispoCockpit'!U105),"",('SOURCE DispoCockpit'!U105)) | C4125: =IF(ISBLANK('SOURCE DispoCockpit'!Y105),"",('SOURCE DispoCockpit'!Y105)) | E4125: =IF(ISBLANK('SOURCE DispoCockpit'!U105),"",('SOURCE DispoCockpit'!U105)) | F4125: =IF(ISBLANK('SOURCE DispoCockpit'!Y105),"",('SOURCE DispoCockpit'!Y105)) | G4125: =IF(E4125="","",IF(F4125=0,((E4125/100)),((E4125-F4125)/F4125))) | I4125: {=IFERROR(INDEX('[1]DATA EORD'!$B$2:$B$89,SMALL(IF('[1]DATA EORD'!$A$2:$A$89=$A4125,ROW('[1]DATA EORD'!$B$2:$B$89)-1),1)),"")} | K4125: =IF(A4125="","",_xlfn.IFNA((VLOOKUP(A4125&I4125,'[1]DATA EORD'!$E:$H,3,)),"NO CONTRACT")) | P4125: =IF(O4125="","",(VLOOKUP(O4125,'[2]Liste Fournisseur'!$A:$B,2,FALSE))) | V4125: =IF(U4125="","",(VLOOKUP(U4125,'[2]Liste Fournisseur'!$A:$B,2,FALSE)))
A4126: =IF(ISBLANK('SOURCE DispoCockpit'!A106),"",('SOURCE DispoCockpit'!A106)) | B4126: =IF(ISBLANK('SOURCE DispoCockpit'!U106),"",('SOURCE DispoCockpit'!U106)) | C4126: =IF(ISBLANK('SOURCE DispoCockpit'!Y106),"",('SOURCE DispoCockpit'!Y106)) | E4126: =IF(ISBLANK('SOURCE DispoCockpit'!U106),"",('SOURCE DispoCockpit'!U106)) | F4126: =IF(ISBLANK('SOURCE DispoCockpit'!Y106),"",('SOURCE DispoCockpit'!Y106)) | G4126: =IF(E4126="","",IF(F4126=0,((E4126/100)),((E4126-F4126)/F4126))) | I4126: {=IFERROR(INDEX('[1]DATA EORD'!$B$2:$B$89,SMALL(IF('[1]DATA EORD'!$A$2:$A$89=$A4126,ROW('[1]DATA EORD'!$B$2:$B$89)-1),1)),"")} | K4126: =IF(A4126="","",_xlfn.IFNA((VLOOKUP(A4126&I4126,'[1]DATA EORD'!$E:$H,3,)),"NO CONTRACT")) | P4126: =IF(O4126="","",(VLOOKUP(O4126,'[2]Liste Fournisseur'!$A:$B,2,FALSE))) | V4126: =IF(U4126="","",(VLOOKUP(U4126,'[2]Liste Fournisseur'!$A:$B,2,FALSE)))
A4127: =IF(ISBLANK('SOURCE DispoCockpit'!A107),"",('SOURCE DispoCockpit'!A107)) | B4127: =IF(ISBLANK('SOURCE DispoCockpit'!U107),"",('SOURCE DispoCockpit'!U107)) | C4127: =IF(ISBLANK('SOURCE DispoCockpit'!Y107),"",('SOURCE DispoCockpit'!Y107)) | E4127: =IF(ISBLANK('SOURCE DispoCockpit'!U107),"",('SOURCE DispoCockpit'!U107)) | F4127: =IF(ISBLANK('SOURCE DispoCockpit'!Y107),"",('SOURCE DispoCockpit'!Y107)) | G4127: =IF(E4127="","",IF(F4127=0,((E4127/100)),((E4127-F4127)/F4127))) | I4127: {=IFERROR(INDEX('[1]DATA EORD'!$B$2:$B$89,SMALL(IF('[1]DATA EORD'!$A$2:$A$89=$A4127,ROW('[1]DATA EORD'!$B$2:$B$89)-1),1)),"")} | K4127: =IF(A4127="","",_xlfn.IFNA((VLOOKUP(A4127&I4127,'[1]DATA EORD'!$E:$H,3,)),"NO CONTRACT")) | P4127: =IF(O4127="","",(VLOOKUP(O4127,'[2]Liste Fournisseur'!$A:$B,2,FALSE))) | V4127: =IF(U4127="","",(VLOOKUP(U4127,'[2]Liste Fournisseur'!$A:$B,2,FALSE)))
A4128: =IF(ISBLANK('SOURCE DispoCockpit'!A108),"",('SOURCE DispoCockpit'!A108)) | B4128: =IF(ISBLANK('SOURCE DispoCockpit'!U108),"",('SOURCE DispoCockpit'!U108)) | C4128: =IF(ISBLANK('SOURCE DispoCockpit'!Y108),"",('SOURCE DispoCockpit'!Y108)) | E4128: =IF(ISBLANK('SOURCE DispoCockpit'!U108),"",('SOURCE DispoCockpit'!U108)) | F4128: =IF(ISBLANK('SOURCE DispoCockpit'!Y108),"",('SOURCE DispoCockpit'!Y108)) | G4128: =IF(E4128="","",IF(F4128=0,((E4128/100)),((E4128-F4128)/F4128))) | I4128: {=IFERROR(INDEX('[1]DATA EORD'!$B$2:$B$89,SMALL(IF('[1]DATA EORD'!$A$2:$A$89=$A4128,ROW('[1]DATA EORD'!$B$2:$B$89)-1),1)),"")} | K4128: =IF(A4128="","",_xlfn.IFNA((VLOOKUP(A4128&I4128,'[1]DATA EORD'!$E:$H,3,)),"NO CONTRACT")) | P4128: =IF(O4128="","",(VLOOKUP(O4128,'[2]Liste Fournisseur'!$A:$B,2,FALSE))) | V4128: =IF(U4128="","",(VLOOKUP(U4128,'[2]Liste Fournisseur'!$A:$B,2,FALSE)))
A4129: =IF(ISBLANK('SOURCE DispoCockpit'!A109),"",('SOURCE DispoCockpit'!A109)) | B4129: =IF(ISBLANK('SOURCE DispoCockpit'!U109),"",('SOURCE DispoCockpit'!U109)) | C4129: =IF(ISBLANK('SOURCE DispoCockpit'!Y109),"",('SOURCE DispoCockpit'!Y109)) | E4129: =IF(ISBLANK('SOURCE DispoCockpit'!U109),"",('SOURCE DispoCockpit'!U109)) | F4129: =IF(ISBLANK('SOURCE DispoCockpit'!Y109),"",('SOURCE DispoCockpit'!Y109)) | G4129: =IF(E4129="","",IF(F4129=0,((E4129/100)),((E4129-F4129)/F4129))) | I4129: {=IFERROR(INDEX('[1]DATA EORD'!$B$2:$B$89,SMALL(IF('[1]DATA EORD'!$A$2:$A$89=$A4129,ROW('[1]DATA EORD'!$B$2:$B$89)-1),1)),"")} | K4129: =IF(A4129="","",_xlfn.IFNA((VLOOKUP(A4129&I4129,'[1]DATA EORD'!$E:$H,3,)),"NO CONTRACT")) | P4129: =IF(O4129="","",(VLOOKUP(O4129,'[2]Liste Fournisseur'!$A:$B,2,FALSE))) | V4129: =IF(U4129="","",(VLOOKUP(U4129,'[2]Liste Fournisseur'!$A:$B,2,FALSE)))
A4130: =IF(ISBLANK('SOURCE DispoCockpit'!A110),"",('SOURCE DispoCockpit'!A110)) | B4130: =IF(ISBLANK('SOURCE DispoCockpit'!U110),"",('SOURCE DispoCockpit'!U110)) | C4130: =IF(ISBLANK('SOURCE DispoCockpit'!Y110),"",('SOURCE DispoCockpit'!Y110)) | E4130: =IF(ISBLANK('SOURCE DispoCockpit'!U110),"",('SOURCE DispoCockpit'!U110)) | F4130: =IF(ISBLANK('SOURCE DispoCockpit'!Y110),"",('SOURCE DispoCockpit'!Y110)) | G4130: =IF(E4130="","",IF(F4130=0,((E4130/100)),((E4130-F4130)/F4130))) | I4130: {=IFERROR(INDEX('[1]DATA EORD'!$B$2:$B$89,SMALL(IF('[1]DATA EORD'!$A$2:$A$89=$A4130,ROW('[1]DATA EORD'!$B$2:$B$89)-1),1)),"")} | K4130: =IF(A4130="","",_xlfn.IFNA((VLOOKUP(A4130&I4130,'[1]DATA EORD'!$E:$H,3,)),"NO CONTRACT")) | P4130: =IF(O4130="","",(VLOOKUP(O4130,'[2]Liste Fournisseur'!$A:$B,2,FALSE))) | V4130: =IF(U4130="","",(VLOOKUP(U4130,'[2]Liste Fournisseur'!$A:$B,2,FALSE)))
A4131: =IF(ISBLANK('SOURCE DispoCockpit'!A111),"",('SOURCE DispoCockpit'!A111)) | B4131: =IF(ISBLANK('SOURCE DispoCockpit'!U111),"",('SOURCE DispoCockpit'!U111)) | C4131: =IF(ISBLANK('SOURCE DispoCockpit'!Y111),"",('SOURCE DispoCockpit'!Y111)) | E4131: =IF(ISBLANK('SOURCE DispoCockpit'!U111),"",('SOURCE DispoCockpit'!U111)) | F4131: =IF(ISBLANK('SOURCE DispoCockpit'!Y111),"",('SOURCE DispoCockpit'!Y111)) | G4131: =IF(E4131="","",IF(F4131=0,((E4131/100)),((E4131-F4131)/F4131))) | I4131: {=IFERROR(INDEX('[1]DATA EORD'!$B$2:$B$89,SMALL(IF('[1]DATA EORD'!$A$2:$A$89=$A4131,ROW('[1]DATA EORD'!$B$2:$B$89)-1),1)),"")} | K4131: =IF(A4131="","",_xlfn.IFNA((VLOOKUP(A4131&I4131,'[1]DATA EORD'!$E:$H,3,)),"NO CONTRACT")) | P4131: =IF(O4131="","",(VLOOKUP(O4131,'[2]Liste Fournisseur'!$A:$B,2,FALSE))) | V4131: =IF(U4131="","",(VLOOKUP(U4131,'[2]Liste Fournisseur'!$A:$B,2,FALSE)))
...
