Workbook

Sheet Essais
A1: Découvrete | B1: apparition | C1: N° | D1: Lieu | E1: Type | F1: Code | G1: Equipe | H1: Grave | I1: code | J1: défaut | K1: Distant | L1: Observations | M1: Doublon
A2: 42381.149 | B2: 42381.149 | C2: 123456789 | D2: ABC | E2: L | F2: A | G2: B | H2: 1 | I2: M | J2: HS | K2: Oui | L2: RAS | M2: =IF(A2=A1,"Doublon","Ok") -> Ok
A3: 42382.185 | B3: 42382.185 | C3: 987654321 | D3: CBA | E3: M | F3: C | G3: D | H3: 2 | I3: L | J3: SH | K3: Non | L3: DI N°XXXX | M3: =IF(A3=A2,"Doublon","Ok") -> Ok
A4: 42383.149 | B4: 42383.149 | C4: 951357460 | D4: DEF | E4: S | F4: G | G4: T | H4: 1 | I4: E | J4: HJ | K4: Oui | L4: Bon | M4: =IF(A4=A3,"Doublon","Ok") -> Ok
A5: 42384.149 | B5: 42383.149 | C5: 222222222 | D5: kkk | E5: k | F5: k | G5: k | H5: 2 | I5: k | J5: kk | K5: non | L5: DI N°YYYY | M5: =IF(A5=A4,"Doublon","Ok") -> Ok
A6: 42385.149 | B6: 42383.149 | C6: 333222111 | D6: ùùù | E6: ù | F6: ù | G6: ù | H6: 1 | I6: ù | J6: ùù | K6: Oui | L6: DI N°wYYw | M6: =IF(A6=A5,"Doublon","Ok") -> Ok

Sheet test
A1: Découvrete | B1: apparition | C1: N° | D1: Lieu | E1: Type | F1: Code | G1: Equipe | H1: Grave | I1: code | J1: défaut | K1: Distant | L1: Observations
C2: {=IFERROR(INDEX(OFFSET(INDIRECT("Essais!$b$2:$b$"&COUNTA(Essais!$A:$A)),0,COLUMNS($A:A)),MATCH($L2,INDIRECT("Essais!$L$2:$L$"&COUNTA(Essais!$A:$A)))),"")} -> 951357460 | D2: {=IFERROR(INDEX(OFFSET(INDIRECT("Essais!$b$2:$b$"&COUNTA(Essais!$A:$A)),0,COLUMNS($A:B)),MATCH($L2,INDIRECT("Essais!$L$2:$L$"&COUNTA(Essais!$A:$A)))),"")} -> DEF | E2: {=IFERROR(INDEX(OFFSET(INDIRECT("Essais!$b$2:$b$"&COUNTA(Essais!$A:$A)),0,COLUMNS($A:C)),MATCH($L2,INDIRECT("Essais!$L$2:$L$"&COUNTA(Essais!$A:$A)))),"")} -> S | F2: {=IFERROR(INDEX(OFFSET(INDIRECT("Essais!$b$2:$b$"&COUNTA(Essais!$A:$A)),0,COLUMNS($A:D)),MATCH($L2,INDIRECT("Essais!$L$2:$L$"&COUNTA(Essais!$A:$A)))),"")} -> G | G2: {=IFERROR(INDEX(OFFSET(INDIRECT("Essais!$b$2:$b$"&COUNTA(Essais!$A:$A)),0,COLUMNS($A:E)),MATCH($L2,INDIRECT("Essais!$L$2:$L$"&COUNTA(Essais!$A:$A)))),"")} -> T | H2: {=IFERROR(INDEX(OFFSET(INDIRECT("Essais!$b$2:$b$"&COUNTA(Essais!$A:$A)),0,COLUMNS($A:F)),MATCH($L2,INDIRECT("Essais!$L$2:$L$"&COUNTA(Essais!$A:$A)))),"")} -> 1 | I2: {=IFERROR(INDEX(OFFSET(INDIRECT("Essais!$b$2:$b$"&COUNTA(Essais!$A:$A)),0,COLUMNS($A:G)),MATCH($L2,INDIRECT("Essais!$L$2:$L$"&COUNTA(Essais!$A:$A)))),"")} -> E | J2: {=IFERROR(INDEX(OFFSET(INDIRECT("Essais!$b$2:$b$"&COUNTA(Essais!$A:$A)),0,COLUMNS($A:H)),MATCH($L2,INDIRECT("Essais!$L$2:$L$"&COUNTA(Essais!$A:$A)))),"")} -> HJ | K2: {=IFERROR(INDEX(OFFSET(INDIRECT("Essais!$b$2:$b$"&COUNTA(Essais!$A:$A)),0,COLUMNS($A:I)),MATCH($L2,INDIRECT("Essais!$L$2:$L$"&COUNTA(Essais!$A:$A)))),"")} -> Oui | L2: {=IFERROR(INDEX(INDIRECT("Essais!$L$2:$L$"&COUNTA(Essais!$A:$A)),SMALL(IF(LEFT(INDIRECT("Essais!$L$2:$L$"&COUNTA(Essais!$A:$A)),2)="di",ROW(INDIRECT("$1:$"&COUNTA(Essais!$A:$A)-1))),ROWS($1:1))),"")} -> DI N°XXXX
C3: {=IFERROR(INDEX(OFFSET(INDIRECT("Essais!$b$2:$b$"&COUNTA(Essais!$A:$A)),0,COLUMNS($A:A)),MATCH($L3,INDIRECT("Essais!$L$2:$L$"&COUNTA(Essais!$A:$A)))),"")} -> 222222222 | D3: {=IFERROR(INDEX(OFFSET(INDIRECT("Essais!$b$2:$b$"&COUNTA(Essais!$A:$A)),0,COLUMNS($A:B)),MATCH($L3,INDIRECT("Essais!$L$2:$L$"&COUNTA(Essais!$A:$A)))),"")} -> kkk | E3: {=IFERROR(INDEX(OFFSET(INDIRECT("Essais!$b$2:$b$"&COUNTA(Essais!$A:$A)),0,COLUMNS($A:C)),MATCH($L3,INDIRECT("Essais!$L$2:$L$"&COUNTA(Essais!$A:$A)))),"")} -> k | F3: {=IFERROR(INDEX(OFFSET(INDIRECT("Essais!$b$2:$b$"&COUNTA(Essais!$A:$A)),0,COLUMNS($A:D)),MATCH($L3,INDIRECT("Essais!$L$2:$L$"&COUNTA(Essais!$A:$A)))),"")} -> k | G3: {=IFERROR(INDEX(OFFSET(INDIRECT("Essais!$b$2:$b$"&COUNTA(Essais!$A:$A)),0,COLUMNS($A:E)),MATCH($L3,INDIRECT("Essais!$L$2:$L$"&COUNTA(Essais!$A:$A)))),"")} -> k | H3: {=IFERROR(INDEX(OFFSET(INDIRECT("Essais!$b$2:$b$"&COUNTA(Essais!$A:$A)),0,COLUMNS($A:F)),MATCH($L3,INDIRECT("Essais!$L$2:$L$"&COUNTA(Essais!$A:$A)))),"")} -> 2 | I3: {=IFERROR(INDEX(OFFSET(INDIRECT("Essais!$b$2:$b$"&COUNTA(Essais!$A:$A)),0,COLUMNS($A:G)),MATCH($L3,INDIRECT("Essais!$L$2:$L$"&COUNTA(Essais!$A:$A)))),"")} -> k | J3: {=IFERROR(INDEX(OFFSET(INDIRECT("Essais!$b$2:$b$"&COUNTA(Essais!$A:$A)),0,COLUMNS($A:H)),MATCH($L3,INDIRECT("Essais!$L$2:$L$"&COUNTA(Essais!$A:$A)))),"")} -> kk | K3: {=IFERROR(INDEX(OFFSET(INDIRECT("Essais!$b$2:$b$"&COUNTA(Essais!$A:$A)),0,COLUMNS($A:I)),MATCH($L3,INDIRECT("Essais!$L$2:$L$"&COUNTA(Essais!$A:$A)))),"")} -> non | L3: {=IFERROR(INDEX(INDIRECT("Essais!$L$2:$L$"&COUNTA(Essais!$A:$A)),SMALL(IF(LEFT(INDIRECT("Essais!$L$2:$L$"&COUNTA(Essais!$A:$A)),2)="di",ROW(INDIRECT("$1:$"&COUNTA(Essais!$A:$A)-1))),ROWS($1:2))),"")} -> DI N°YYYY
C4: {=IFERROR(INDEX(OFFSET(INDIRECT("Essais!$b$2:$b$"&COUNTA(Essais!$A:$A)),0,COLUMNS($A:A)),MATCH($L4,INDIRECT("Essais!$L$2:$L$"&COUNTA(Essais!$A:$A)))),"")} -> 951357460 | D4: {=IFERROR(INDEX(OFFSET(INDIRECT("Essais!$b$2:$b$"&COUNTA(Essais!$A:$A)),0,COLUMNS($A:B)),MATCH($L4,INDIRECT("Essais!$L$2:$L$"&COUNTA(Essais!$A:$A)))),"")} -> DEF | E4: {=IFERROR(INDEX(OFFSET(INDIRECT("Essais!$b$2:$b$"&COUNTA(Essais!$A:$A)),0,COLUMNS($A:C)),MATCH($L4,INDIRECT("Essais!$L$2:$L$"&COUNTA(Essais!$A:$A)))),"")} -> S | F4: {=IFERROR(INDEX(OFFSET(INDIRECT("Essais!$b$2:$b$"&COUNTA(Essais!$A:$A)),0,COLUMNS($A:D)),MATCH($L4,INDIRECT("Essais!$L$2:$L$"&COUNTA(Essais!$A:$A)))),"")} -> G | G4: {=IFERROR(INDEX(OFFSET(INDIRECT("Essais!$b$2:$b$"&COUNTA(Essais!$A:$A)),0,COLUMNS($A:E)),MATCH($L4,INDIRECT("Essais!$L$2:$L$"&COUNTA(Essais!$A:$A)))),"")} -> T | H4: {=IFERROR(INDEX(OFFSET(INDIRECT("Essais!$b$2:$b$"&COUNTA(Essais!$A:$A)),0,COLUMNS($A:F)),MATCH($L4,INDIRECT("Essais!$L$2:$L$"&COUNTA(Essais!$A:$A)))),"")} -> 1 | I4: {=IFERROR(INDEX(OFFSET(INDIRECT("Essais!$b$2:$b$"&COUNTA(Essais!$A:$A)),0,COLUMNS($A:G)),MATCH($L4,INDIRECT("Essais!$L$2:$L$"&COUNTA(Essais!$A:$A)))),"")} -> E | J4: {=IFERROR(INDEX(OFFSET(INDIRECT("Essais!$b$2:$b$"&COUNTA(Essais!$A:$A)),0,COLUMNS($A:H)),MATCH($L4,INDIRECT("Essais!$L$2:$L$"&COUNTA(Essais!$A:$A)))),"")} -> HJ | K4: {=IFERROR(INDEX(OFFSET(INDIRECT("Essais!$b$2:$b$"&COUNTA(Essais!$A:$A)),0,COLUMNS($A:I)),MATCH($L4,INDIRECT("Essais!$L$2:$L$"&COUNTA(Essais!$A:$A)))),"")} -> Oui | L4: {=IFERROR(INDEX(INDIRECT("Essais!$L$2:$L$"&COUNTA(Essais!$A:$A)),SMALL(IF(LEFT(INDIRECT("Essais!$L$2:$L$"&COUNTA(Essais!$A:$A)),2)="di",ROW(INDIRECT("$1:$"&COUNTA(Essais!$A:$A)-1))),ROWS($1:3))),"")} -> DI N°wYYw
C5: {=IFERROR(INDEX(OFFSET(INDIRECT("Essais!$b$2:$b$"&COUNTA(Essais!$A:$A)),0,COLUMNS($A:A)),MATCH($L5,INDIRECT("Essais!$L$2:$L$"&COUNTA(Essais!$A:$A)))),"")} | D5: {=IFERROR(INDEX(OFFSET(INDIRECT("Essais!$b$2:$b$"&COUNTA(Essais!$A:$A)),0,COLUMNS($A:B)),MATCH($L5,INDIRECT("Essais!$L$2:$L$"&COUNTA(Essais!$A:$A)))),"")} | E5: {=IFERROR(INDEX(OFFSET(INDIRECT("Essais!$b$2:$b$"&COUNTA(Essais!$A:$A)),0,COLUMNS($A:C)),MATCH($L5,INDIRECT("Essais!$L$2:$L$"&COUNTA(Essais!$A:$A)))),"")} | F5: {=IFERROR(INDEX(OFFSET(INDIRECT("Essais!$b$2:$b$"&COUNTA(Essais!$A:$A)),0,COLUMNS($A:D)),MATCH($L5,INDIRECT("Essais!$L$2:$L$"&COUNTA(Essais!$A:$A)))),"")} | G5: {=IFERROR(INDEX(OFFSET(INDIRECT("Essais!$b$2:$b$"&COUNTA(Essais!$A:$A)),0,COLUMNS($A:E)),MATCH($L5,INDIRECT("Essais!$L$2:$L$"&COUNTA(Essais!$A:$A)))),"")} | H5: {=IFERROR(INDEX(OFFSET(INDIRECT("Essais!$b$2:$b$"&COUNTA(Essais!$A:$A)),0,COLUMNS($A:F)),MATCH($L5,INDIRECT("Essais!$L$2:$L$"&COUNTA(Essais!$A:$A)))),"")} | I5: {=IFERROR(INDEX(OFFSET(INDIRECT("Essais!$b$2:$b$"&COUNTA(Essais!$A:$A)),0,COLUMNS($A:G)),MATCH($L5,INDIRECT("Essais!$L$2:$L$"&COUNTA(Essais!$A:$A)))),"")} | J5: {=IFERROR(INDEX(OFFSET(INDIRECT("Essais!$b$2:$b$"&COUNTA(Essais!$A:$A)),0,COLUMNS($A:H)),MATCH($L5,INDIRECT("Essais!$L$2:$L$"&COUNTA(Essais!$A:$A)))),"")} | K5: {=IFERROR(INDEX(OFFSET(INDIRECT("Essais!$b$2:$b$"&COUNTA(Essais!$A:$A)),0,COLUMNS($A:I)),MATCH($L5,INDIRECT("Essais!$L$2:$L$"&COUNTA(Essais!$A:$A)))),"")} | L5: {=IFERROR(INDEX(INDIRECT("Essais!$L$2:$L$"&COUNTA(Essais!$A:$A)),SMALL(IF(LEFT(INDIRECT("Essais!$L$2:$L$"&COUNTA(Essais!$A:$A)),2)="di",ROW(INDIRECT("$1:$"&COUNTA(Essais!$A:$A)-1))),ROWS($1:4))),"")}
C6: {=IFERROR(INDEX(OFFSET(INDIRECT("Essais!$b$2:$b$"&COUNTA(Essais!$A:$A)),0,COLUMNS($A:A)),MATCH($L6,INDIRECT("Essais!$L$2:$L$"&COUNTA(Essais!$A:$A)))),"")} | D6: {=IFERROR(INDEX(OFFSET(INDIRECT("Essais!$b$2:$b$"&COUNTA(Essais!$A:$A)),0,COLUMNS($A:B)),MATCH($L6,INDIRECT("Essais!$L$2:$L$"&COUNTA(Essais!$A:$A)))),"")} | E6: {=IFERROR(INDEX(OFFSET(INDIRECT("Essais!$b$2:$b$"&COUNTA(Essais!$A:$A)),0,COLUMNS($A:C)),MATCH($L6,INDIRECT("Essais!$L$2:$L$"&COUNTA(Essais!$A:$A)))),"")} | F6: {=IFERROR(INDEX(OFFSET(INDIRECT("Essais!$b$2:$b$"&COUNTA(Essais!$A:$A)),0,COLUMNS($A:D)),MATCH($L6,INDIRECT("Essais!$L$2:$L$"&COUNTA(Essais!$A:$A)))),"")} | G6: {=IFERROR(INDEX(OFFSET(INDIRECT("Essais!$b$2:$b$"&COUNTA(Essais!$A:$A)),0,COLUMNS($A:E)),MATCH($L6,INDIRECT("Essais!$L$2:$L$"&COUNTA(Essais!$A:$A)))),"")} | H6: {=IFERROR(INDEX(OFFSET(INDIRECT("Essais!$b$2:$b$"&COUNTA(Essais!$A:$A)),0,COLUMNS($A:F)),MATCH($L6,INDIRECT("Essais!$L$2:$L$"&COUNTA(Essais!$A:$A)))),"")} | I6: {=IFERROR(INDEX(OFFSET(INDIRECT("Essais!$b$2:$b$"&COUNTA(Essais!$A:$A)),0,COLUMNS($A:G)),MATCH($L6,INDIRECT("Essais!$L$2:$L$"&COUNTA(Essais!$A:$A)))),"")} | J6: {=IFERROR(INDEX(OFFSET(INDIRECT("Essais!$b$2:$b$"&COUNTA(Essais!$A:$A)),0,COLUMNS($A:H)),MATCH($L6,INDIRECT("Essais!$L$2:$L$"&COUNTA(Essais!$A:$A)))),"")} | K6: {=IFERROR(INDEX(OFFSET(INDIRECT("Essais!$b$2:$b$"&COUNTA(Essais!$A:$A)),0,COLUMNS($A:I)),MATCH($L6,INDIRECT("Essais!$L$2:$L$"&COUNTA(Essais!$A:$A)))),"")} | L6: {=IFERROR(INDEX(INDIRECT("Essais!$L$2:$L$"&COUNTA(Essais!$A:$A)),SMALL(IF(LEFT(INDIRECT("Essais!$L$2:$L$"&COUNTA(Essais!$A:$A)),2)="di",ROW(INDIRECT("$1:$"&COUNTA(Essais!$A:$A)-1))),ROWS($1:5))),"")}
C7: {=IFERROR(INDEX(OFFSET(INDIRECT("Essais!$b$2:$b$"&COUNTA(Essais!$A:$A)),0,COLUMNS($A:A)),MATCH($L7,INDIRECT("Essais!$L$2:$L$"&COUNTA(Essais!$A:$A)))),"")} | D7: {=IFERROR(INDEX(OFFSET(INDIRECT("Essais!$b$2:$b$"&COUNTA(Essais!$A:$A)),0,COLUMNS($A:B)),MATCH($L7,INDIRECT("Essais!$L$2:$L$"&COUNTA(Essais!$A:$A)))),"")} | E7: {=IFERROR(INDEX(OFFSET(INDIRECT("Essais!$b$2:$b$"&COUNTA(Essais!$A:$A)),0,COLUMNS($A:C)),MATCH($L7,INDIRECT("Essais!$L$2:$L$"&COUNTA(Essais!$A:$A)))),"")} | F7: {=IFERROR(INDEX(OFFSET(INDIRECT("Essais!$b$2:$b$"&COUNTA(Essais!$A:$A)),0,COLUMNS($A:D)),MATCH($L7,INDIRECT("Essais!$L$2:$L$"&COUNTA(Essais!$A:$A)))),"")} | G7: {=IFERROR(INDEX(OFFSET(INDIRECT("Essais!$b$2:$b$"&COUNTA(Essais!$A:$A)),0,COLUMNS($A:E)),MATCH($L7,INDIRECT("Essais!$L$2:$L$"&COUNTA(Essais!$A:$A)))),"")} | H7: {=IFERROR(INDEX(OFFSET(INDIRECT("Essais!$b$2:$b$"&COUNTA(Essais!$A:$A)),0,COLUMNS($A:F)),MATCH($L7,INDIRECT("Essais!$L$2:$L$"&COUNTA(Essais!$A:$A)))),"")} | I7: {=IFERROR(INDEX(OFFSET(INDIRECT("Essais!$b$2:$b$"&COUNTA(Essais!$A:$A)),0,COLUMNS($A:G)),MATCH($L7,INDIRECT("Essais!$L$2:$L$"&COUNTA(Essais!$A:$A)))),"")} | J7: {=IFERROR(INDEX(OFFSET(INDIRECT("Essais!$b$2:$b$"&COUNTA(Essais!$A:$A)),0,COLUMNS($A:H)),MATCH($L7,INDIRECT("Essais!$L$2:$L$"&COUNTA(Essais!$A:$A)))),"")} | K7: {=IFERROR(INDEX(OFFSET(INDIRECT("Essais!$b$2:$b$"&COUNTA(Essais!$A:$A)),0,COLUMNS($A:I)),MATCH($L7,INDIRECT("Essais!$L$2:$L$"&COUNTA(Essais!$A:$A)))),"")} | L7: {=IFERROR(INDEX(INDIRECT("Essais!$L$2:$L$"&COUNTA(Essais!$A:$A)),SMALL(IF(LEFT(INDIRECT("Essais!$L$2:$L$"&COUNTA(Essais!$A:$A)),2)="di",ROW(INDIRECT("$1:$"&COUNTA(Essais!$A:$A)-1))),ROWS($1:6))),"")}
C8: {=IFERROR(INDEX(OFFSET(INDIRECT("Essais!$b$2:$b$"&COUNTA(Essais!$A:$A)),0,COLUMNS($A:A)),MATCH($L8,INDIRECT("Essais!$L$2:$L$"&COUNTA(Essais!$A:$A)))),"")} | D8: {=IFERROR(INDEX(OFFSET(INDIRECT("Essais!$b$2:$b$"&COUNTA(Essais!$A:$A)),0,COLUMNS($A:B)),MATCH($L8,INDIRECT("Essais!$L$2:$L$"&COUNTA(Essais!$A:$A)))),"")} | E8: {=IFERROR(INDEX(OFFSET(INDIRECT("Essais!$b$2:$b$"&COUNTA(Essais!$A:$A)),0,COLUMNS($A:C)),MATCH($L8,INDIRECT("Essais!$L$2:$L$"&COUNTA(Essais!$A:$A)))),"")} | F8: {=IFERROR(INDEX(OFFSET(INDIRECT("Essais!$b$2:$b$"&COUNTA(Essais!$A:$A)),0,COLUMNS($A:D)),MATCH($L8,INDIRECT("Essais!$L$2:$L$"&COUNTA(Essais!$A:$A)))),"")} | G8: {=IFERROR(INDEX(OFFSET(INDIRECT("Essais!$b$2:$b$"&COUNTA(Essais!$A:$A)),0,COLUMNS($A:E)),MATCH($L8,INDIRECT("Essais!$L$2:$L$"&COUNTA(Essais!$A:$A)))),"")} | H8: {=IFERROR(INDEX(OFFSET(INDIRECT("Essais!$b$2:$b$"&COUNTA(Essais!$A:$A)),0,COLUMNS($A:F)),MATCH($L8,INDIRECT("Essais!$L$2:$L$"&COUNTA(Essais!$A:$A)))),"")} | I8: {=IFERROR(INDEX(OFFSET(INDIRECT("Essais!$b$2:$b$"&COUNTA(Essais!$A:$A)),0,COLUMNS($A:G)),MATCH($L8,INDIRECT("Essais!$L$2:$L$"&COUNTA(Essais!$A:$A)))),"")} | J8: {=IFERROR(INDEX(OFFSET(INDIRECT("Essais!$b$2:$b$"&COUNTA(Essais!$A:$A)),0,COLUMNS($A:H)),MATCH($L8,INDIRECT("Essais!$L$2:$L$"&COUNTA(Essais!$A:$A)))),"")} | K8: {=IFERROR(INDEX(OFFSET(INDIRECT("Essais!$b$2:$b$"&COUNTA(Essais!$A:$A)),0,COLUMNS($A:I)),MATCH($L8,INDIRECT("Essais!$L$2:$L$"&COUNTA(Essais!$A:$A)))),"")} | L8: {=IFERROR(INDEX(INDIRECT("Essais!$L$2:$L$"&COUNTA(Essais!$A:$A)),SMALL(IF(LEFT(INDIRECT("Essais!$L$2:$L$"&COUNTA(Essais!$A:$A)),2)="di",ROW(INDIRECT("$1:$"&COUNTA(Essais!$A:$A)-1))),ROWS($1:7))),"")}
C9: {=IFERROR(INDEX(OFFSET(INDIRECT("Essais!$b$2:$b$"&COUNTA(Essais!$A:$A)),0,COLUMNS($A:A)),MATCH($L9,INDIRECT("Essais!$L$2:$L$"&COUNTA(Essais!$A:$A)))),"")} | D9: {=IFERROR(INDEX(OFFSET(INDIRECT("Essais!$b$2:$b$"&COUNTA(Essais!$A:$A)),0,COLUMNS($A:B)),MATCH($L9,INDIRECT("Essais!$L$2:$L$"&COUNTA(Essais!$A:$A)))),"")} | E9: {=IFERROR(INDEX(OFFSET(INDIRECT("Essais!$b$2:$b$"&COUNTA(Essais!$A:$A)),0,COLUMNS($A:C)),MATCH($L9,INDIRECT("Essais!$L$2:$L$"&COUNTA(Essais!$A:$A)))),"")} | F9: {=IFERROR(INDEX(OFFSET(INDIRECT("Essais!$b$2:$b$"&COUNTA(Essais!$A:$A)),0,COLUMNS($A:D)),MATCH($L9,INDIRECT("Essais!$L$2:$L$"&COUNTA(Essais!$A:$A)))),"")} | G9: {=IFERROR(INDEX(OFFSET(INDIRECT("Essais!$b$2:$b$"&COUNTA(Essais!$A:$A)),0,COLUMNS($A:E)),MATCH($L9,INDIRECT("Essais!$L$2:$L$"&COUNTA(Essais!$A:$A)))),"")} | H9: {=IFERROR(INDEX(OFFSET(INDIRECT("Essais!$b$2:$b$"&COUNTA(Essais!$A:$A)),0,COLUMNS($A:F)),MATCH($L9,INDIRECT("Essais!$L$2:$L$"&COUNTA(Essais!$A:$A)))),"")} | I9: {=IFERROR(INDEX(OFFSET(INDIRECT("Essais!$b$2:$b$"&COUNTA(Essais!$A:$A)),0,COLUMNS($A:G)),MATCH($L9,INDIRECT("Essais!$L$2:$L$"&COUNTA(Essais!$A:$A)))),"")} | J9: {=IFERROR(INDEX(OFFSET(INDIRECT("Essais!$b$2:$b$"&COUNTA(Essais!$A:$A)),0,COLUMNS($A:H)),MATCH($L9,INDIRECT("Essais!$L$2:$L$"&COUNTA(Essais!$A:$A)))),"")} | K9: {=IFERROR(INDEX(OFFSET(INDIRECT("Essais!$b$2:$b$"&COUNTA(Essais!$A:$A)),0,COLUMNS($A:I)),MATCH($L9,INDIRECT("Essais!$L$2:$L$"&COUNTA(Essais!$A:$A)))),"")} | L9: {=IFERROR(INDEX(INDIRECT("Essais!$L$2:$L$"&COUNTA(Essais!$A:$A)),SMALL(IF(LEFT(INDIRECT("Essais!$L$2:$L$"&COUNTA(Essais!$A:$A)),2)="di",ROW(INDIRECT("$1:$"&COUNTA(Essais!$A:$A)-1))),ROWS($1:8))),"")}
C10: {=IFERROR(INDEX(OFFSET(INDIRECT("Essais!$b$2:$b$"&COUNTA(Essais!$A:$A)),0,COLUMNS($A:A)),MATCH($L10,INDIRECT("Essais!$L$2:$L$"&COUNTA(Essais!$A:$A)))),"")} | D10: {=IFERROR(INDEX(OFFSET(INDIRECT("Essais!$b$2:$b$"&COUNTA(Essais!$A:$A)),0,COLUMNS($A:B)),MATCH($L10,INDIRECT("Essais!$L$2:$L$"&COUNTA(Essais!$A:$A)))),"")} | E10: {=IFERROR(INDEX(OFFSET(INDIRECT("Essais!$b$2:$b$"&COUNTA(Essais!$A:$A)),0,COLUMNS($A:C)),MATCH($L10,INDIRECT("Essais!$L$2:$L$"&COUNTA(Essais!$A:$A)))),"")} | F10: {=IFERROR(INDEX(OFFSET(INDIRECT("Essais!$b$2:$b$"&COUNTA(Essais!$A:$A)),0,COLUMNS($A:D)),MATCH($L10,INDIRECT("Essais!$L$2:$L$"&COUNTA(Essais!$A:$A)))),"")} | G10: {=IFERROR(INDEX(OFFSET(INDIRECT("Essais!$b$2:$b$"&COUNTA(Essais!$A:$A)),0,COLUMNS($A:E)),MATCH($L10,INDIRECT("Essais!$L$2:$L$"&COUNTA(Essais!$A:$A)))),"")} | H10: {=IFERROR(INDEX(OFFSET(INDIRECT("Essais!$b$2:$b$"&COUNTA(Essais!$A:$A)),0,COLUMNS($A:F)),MATCH($L10,INDIRECT("Essais!$L$2:$L$"&COUNTA(Essais!$A:$A)))),"")} | I10: {=IFERROR(INDEX(OFFSET(INDIRECT("Essais!$b$2:$b$"&COUNTA(Essais!$A:$A)),0,COLUMNS($A:G)),MATCH($L10,INDIRECT("Essais!$L$2:$L$"&COUNTA(Essais!$A:$A)))),"")} | J10: {=IFERROR(INDEX(OFFSET(INDIRECT("Essais!$b$2:$b$"&COUNTA(Essais!$A:$A)),0,COLUMNS($A:H)),MATCH($L10,INDIRECT("Essais!$L$2:$L$"&COUNTA(Essais!$A:$A)))),"")} | K10: {=IFERROR(INDEX(OFFSET(INDIRECT("Essais!$b$2:$b$"&COUNTA(Essais!$A:$A)),0,COLUMNS($A:I)),MATCH($L10,INDIRECT("Essais!$L$2:$L$"&COUNTA(Essais!$A:$A)))),"")} | L10: {=IFERROR(INDEX(INDIRECT("Essais!$L$2:$L$"&COUNTA(Essais!$A:$A)),SMALL(IF(LEFT(INDIRECT("Essais!$L$2:$L$"&COUNTA(Essais!$A:$A)),2)="di",ROW(INDIRECT("$1:$"&COUNTA(Essais!$A:$A)-1))),ROWS($1:9))),"")}
C11: {=IFERROR(INDEX(OFFSET(INDIRECT("Essais!$b$2:$b$"&COUNTA(Essais!$A:$A)),0,COLUMNS($A:A)),MATCH($L11,INDIRECT("Essais!$L$2:$L$"&COUNTA(Essais!$A:$A)))),"")} | D11: {=IFERROR(INDEX(OFFSET(INDIRECT("Essais!$b$2:$b$"&COUNTA(Essais!$A:$A)),0,COLUMNS($A:B)),MATCH($L11,INDIRECT("Essais!$L$2:$L$"&COUNTA(Essais!$A:$A)))),"")} | E11: {=IFERROR(INDEX(OFFSET(INDIRECT("Essais!$b$2:$b$"&COUNTA(Essais!$A:$A)),0,COLUMNS($A:C)),MATCH($L11,INDIRECT("Essais!$L$2:$L$"&COUNTA(Essais!$A:$A)))),"")} | F11: {=IFERROR(INDEX(OFFSET(INDIRECT("Essais!$b$2:$b$"&COUNTA(Essais!$A:$A)),0,COLUMNS($A:D)),MATCH($L11,INDIRECT("Essais!$L$2:$L$"&COUNTA(Essais!$A:$A)))),"")} | G11: {=IFERROR(INDEX(OFFSET(INDIRECT("Essais!$b$2:$b$"&COUNTA(Essais!$A:$A)),0,COLUMNS($A:E)),MATCH($L11,INDIRECT("Essais!$L$2:$L$"&COUNTA(Essais!$A:$A)))),"")} | H11: {=IFERROR(INDEX(OFFSET(INDIRECT("Essais!$b$2:$b$"&COUNTA(Essais!$A:$A)),0,COLUMNS($A:F)),MATCH($L11,INDIRECT("Essais!$L$2:$L$"&COUNTA(Essais!$A:$A)))),"")} | I11: {=IFERROR(INDEX(OFFSET(INDIRECT("Essais!$b$2:$b$"&COUNTA(Essais!$A:$A)),0,COLUMNS($A:G)),MATCH($L11,INDIRECT("Essais!$L$2:$L$"&COUNTA(Essais!$A:$A)))),"")} | J11: {=IFERROR(INDEX(OFFSET(INDIRECT("Essais!$b$2:$b$"&COUNTA(Essais!$A:$A)),0,COLUMNS($A:H)),MATCH($L11,INDIRECT("Essais!$L$2:$L$"&COUNTA(Essais!$A:$A)))),"")} | K11: {=IFERROR(INDEX(OFFSET(INDIRECT("Essais!$b$2:$b$"&COUNTA(Essais!$A:$A)),0,COLUMNS($A:I)),MATCH($L11,INDIRECT("Essais!$L$2:$L$"&COUNTA(Essais!$A:$A)))),"")} | L11: {=IFERROR(INDEX(INDIRECT("Essais!$L$2:$L$"&COUNTA(Essais!$A:$A)),SMALL(IF(LEFT(INDIRECT("Essais!$L$2:$L$"&COUNTA(Essais!$A:$A)),2)="di",ROW(INDIRECT("$1:$"&COUNTA(Essais!$A:$A)-1))),ROWS($1:10))),"")}
C12: {=IFERROR(INDEX(OFFSET(INDIRECT("Essais!$b$2:$b$"&COUNTA(Essais!$A:$A)),0,COLUMNS($A:A)),MATCH($L12,INDIRECT("Essais!$L$2:$L$"&COUNTA(Essais!$A:$A)))),"")} | D12: {=IFERROR(INDEX(OFFSET(INDIRECT("Essais!$b$2:$b$"&COUNTA(Essais!$A:$A)),0,COLUMNS($A:B)),MATCH($L12,INDIRECT("Essais!$L$2:$L$"&COUNTA(Essais!$A:$A)))),"")} | E12: {=IFERROR(INDEX(OFFSET(INDIRECT("Essais!$b$2:$b$"&COUNTA(Essais!$A:$A)),0,COLUMNS($A:C)),MATCH($L12,INDIRECT("Essais!$L$2:$L$"&COUNTA(Essais!$A:$A)))),"")} | F12: {=IFERROR(INDEX(OFFSET(INDIRECT("Essais!$b$2:$b$"&COUNTA(Essais!$A:$A)),0,COLUMNS($A:D)),MATCH($L12,INDIRECT("Essais!$L$2:$L$"&COUNTA(Essais!$A:$A)))),"")} | G12: {=IFERROR(INDEX(OFFSET(INDIRECT("Essais!$b$2:$b$"&COUNTA(Essais!$A:$A)),0,COLUMNS($A:E)),MATCH($L12,INDIRECT("Essais!$L$2:$L$"&COUNTA(Essais!$A:$A)))),"")} | H12: {=IFERROR(INDEX(OFFSET(INDIRECT("Essais!$b$2:$b$"&COUNTA(Essais!$A:$A)),0,COLUMNS($A:F)),MATCH($L12,INDIRECT("Essais!$L$2:$L$"&COUNTA(Essais!$A:$A)))),"")} | I12: {=IFERROR(INDEX(OFFSET(INDIRECT("Essais!$b$2:$b$"&COUNTA(Essais!$A:$A)),0,COLUMNS($A:G)),MATCH($L12,INDIRECT("Essais!$L$2:$L$"&COUNTA(Essais!$A:$A)))),"")} | J12: {=IFERROR(INDEX(OFFSET(INDIRECT("Essais!$b$2:$b$"&COUNTA(Essais!$A:$A)),0,COLUMNS($A:H)),MATCH($L12,INDIRECT("Essais!$L$2:$L$"&COUNTA(Essais!$A:$A)))),"")} | K12: {=IFERROR(INDEX(OFFSET(INDIRECT("Essais!$b$2:$b$"&COUNTA(Essais!$A:$A)),0,COLUMNS($A:I)),MATCH($L12,INDIRECT("Essais!$L$2:$L$"&COUNTA(Essais!$A:$A)))),"")} | L12: {=IFERROR(INDEX(INDIRECT("Essais!$L$2:$L$"&COUNTA(Essais!$A:$A)),SMALL(IF(LEFT(INDIRECT("Essais!$L$2:$L$"&COUNTA(Essais!$A:$A)),2)="di",ROW(INDIRECT("$1:$"&COUNTA(Essais!$A:$A)-1))),ROWS($1:11))),"")}
C13: {=IFERROR(INDEX(OFFSET(INDIRECT("Essais!$b$2:$b$"&COUNTA(Essais!$A:$A)),0,COLUMNS($A:A)),MATCH($L13,INDIRECT("Essais!$L$2:$L$"&COUNTA(Essais!$A:$A)))),"")} | D13: {=IFERROR(INDEX(OFFSET(INDIRECT("Essais!$b$2:$b$"&COUNTA(Essais!$A:$A)),0,COLUMNS($A:B)),MATCH($L13,INDIRECT("Essais!$L$2:$L$"&COUNTA(Essais!$A:$A)))),"")} | E13: {=IFERROR(INDEX(OFFSET(INDIRECT("Essais!$b$2:$b$"&COUNTA(Essais!$A:$A)),0,COLUMNS($A:C)),MATCH($L13,INDIRECT("Essais!$L$2:$L$"&COUNTA(Essais!$A:$A)))),"")} | F13: {=IFERROR(INDEX(OFFSET(INDIRECT("Essais!$b$2:$b$"&COUNTA(Essais!$A:$A)),0,COLUMNS($A:D)),MATCH($L13,INDIRECT("Essais!$L$2:$L$"&COUNTA(Essais!$A:$A)))),"")} | G13: {=IFERROR(INDEX(OFFSET(INDIRECT("Essais!$b$2:$b$"&COUNTA(Essais!$A:$A)),0,COLUMNS($A:E)),MATCH($L13,INDIRECT("Essais!$L$2:$L$"&COUNTA(Essais!$A:$A)))),"")} | H13: {=IFERROR(INDEX(OFFSET(INDIRECT("Essais!$b$2:$b$"&COUNTA(Essais!$A:$A)),0,COLUMNS($A:F)),MATCH($L13,INDIRECT("Essais!$L$2:$L$"&COUNTA(Essais!$A:$A)))),"")} | I13: {=IFERROR(INDEX(OFFSET(INDIRECT("Essais!$b$2:$b$"&COUNTA(Essais!$A:$A)),0,COLUMNS($A:G)),MATCH($L13,INDIRECT("Essais!$L$2:$L$"&COUNTA(Essais!$A:$A)))),"")} | J13: {=IFERROR(INDEX(OFFSET(INDIRECT("Essais!$b$2:$b$"&COUNTA(Essais!$A:$A)),0,COLUMNS($A:H)),MATCH($L13,INDIRECT("Essais!$L$2:$L$"&COUNTA(Essais!$A:$A)))),"")} | K13: {=IFERROR(INDEX(OFFSET(INDIRECT("Essais!$b$2:$b$"&COUNTA(Essais!$A:$A)),0,COLUMNS($A:I)),MATCH($L13,INDIRECT("Essais!$L$2:$L$"&COUNTA(Essais!$A:$A)))),"")} | L13: {=IFERROR(INDEX(INDIRECT("Essais!$L$2:$L$"&COUNTA(Essais!$A:$A)),SMALL(IF(LEFT(INDIRECT("Essais!$L$2:$L$"&COUNTA(Essais!$A:$A)),2)="di",ROW(INDIRECT("$1:$"&COUNTA(Essais!$A:$A)-1))),ROWS($1:12))),"")}
C14: {=IFERROR(INDEX(OFFSET(INDIRECT("Essais!$b$2:$b$"&COUNTA(Essais!$A:$A)),0,COLUMNS($A:A)),MATCH($L14,INDIRECT("Essais!$L$2:$L$"&COUNTA(Essais!$A:$A)))),"")} | D14: {=IFERROR(INDEX(OFFSET(INDIRECT("Essais!$b$2:$b$"&COUNTA(Essais!$A:$A)),0,COLUMNS($A:B)),MATCH($L14,INDIRECT("Essais!$L$2:$L$"&COUNTA(Essais!$A:$A)))),"")} | E14: {=IFERROR(INDEX(OFFSET(INDIRECT("Essais!$b$2:$b$"&COUNTA(Essais!$A:$A)),0,COLUMNS($A:C)),MATCH($L14,INDIRECT("Essais!$L$2:$L$"&COUNTA(Essais!$A:$A)))),"")} | F14: {=IFERROR(INDEX(OFFSET(INDIRECT("Essais!$b$2:$b$"&COUNTA(Essais!$A:$A)),0,COLUMNS($A:D)),MATCH($L14,INDIRECT("Essais!$L$2:$L$"&COUNTA(Essais!$A:$A)))),"")} | G14: {=IFERROR(INDEX(OFFSET(INDIRECT("Essais!$b$2:$b$"&COUNTA(Essais!$A:$A)),0,COLUMNS($A:E)),MATCH($L14,INDIRECT("Essais!$L$2:$L$"&COUNTA(Essais!$A:$A)))),"")} | H14: {=IFERROR(INDEX(OFFSET(INDIRECT("Essais!$b$2:$b$"&COUNTA(Essais!$A:$A)),0,COLUMNS($A:F)),MATCH($L14,INDIRECT("Essais!$L$2:$L$"&COUNTA(Essais!$A:$A)))),"")} | I14: {=IFERROR(INDEX(OFFSET(INDIRECT("Essais!$b$2:$b$"&COUNTA(Essais!$A:$A)),0,COLUMNS($A:G)),MATCH($L14,INDIRECT("Essais!$L$2:$L$"&COUNTA(Essais!$A:$A)))),"")} | J14: {=IFERROR(INDEX(OFFSET(INDIRECT("Essais!$b$2:$b$"&COUNTA(Essais!$A:$A)),0,COLUMNS($A:H)),MATCH($L14,INDIRECT("Essais!$L$2:$L$"&COUNTA(Essais!$A:$A)))),"")} | K14: {=IFERROR(INDEX(OFFSET(INDIRECT("Essais!$b$2:$b$"&COUNTA(Essais!$A:$A)),0,COLUMNS($A:I)),MATCH($L14,INDIRECT("Essais!$L$2:$L$"&COUNTA(Essais!$A:$A)))),"")} | L14: {=IFERROR(INDEX(INDIRECT("Essais!$L$2:$L$"&COUNTA(Essais!$A:$A)),SMALL(IF(LEFT(INDIRECT("Essais!$L$2:$L$"&COUNTA(Essais!$A:$A)),2)="di",ROW(INDIRECT("$1:$"&COUNTA(Essais!$A:$A)-1))),ROWS($1:13))),"")}
C15: {=IFERROR(INDEX(OFFSET(INDIRECT("Essais!$b$2:$b$"&COUNTA(Essais!$A:$A)),0,COLUMNS($A:A)),MATCH($L15,INDIRECT("Essais!$L$2:$L$"&COUNTA(Essais!$A:$A)))),"")} | D15: {=IFERROR(INDEX(OFFSET(INDIRECT("Essais!$b$2:$b$"&COUNTA(Essais!$A:$A)),0,COLUMNS($A:B)),MATCH($L15,INDIRECT("Essais!$L$2:$L$"&COUNTA(Essais!$A:$A)))),"")} | E15: {=IFERROR(INDEX(OFFSET(INDIRECT("Essais!$b$2:$b$"&COUNTA(Essais!$A:$A)),0,COLUMNS($A:C)),MATCH($L15,INDIRECT("Essais!$L$2:$L$"&COUNTA(Essais!$A:$A)))),"")} | F15: {=IFERROR(INDEX(OFFSET(INDIRECT("Essais!$b$2:$b$"&COUNTA(Essais!$A:$A)),0,COLUMNS($A:D)),MATCH($L15,INDIRECT("Essais!$L$2:$L$"&COUNTA(Essais!$A:$A)))),"")} | G15: {=IFERROR(INDEX(OFFSET(INDIRECT("Essais!$b$2:$b$"&COUNTA(Essais!$A:$A)),0,COLUMNS($A:E)),MATCH($L15,INDIRECT("Essais!$L$2:$L$"&COUNTA(Essais!$A:$A)))),"")} | H15: {=IFERROR(INDEX(OFFSET(INDIRECT("Essais!$b$2:$b$"&COUNTA(Essais!$A:$A)),0,COLUMNS($A:F)),MATCH($L15,INDIRECT("Essais!$L$2:$L$"&COUNTA(Essais!$A:$A)))),"")} | I15: {=IFERROR(INDEX(OFFSET(INDIRECT("Essais!$b$2:$b$"&COUNTA(Essais!$A:$A)),0,COLUMNS($A:G)),MATCH($L15,INDIRECT("Essais!$L$2:$L$"&COUNTA(Essais!$A:$A)))),"")} | J15: {=IFERROR(INDEX(OFFSET(INDIRECT("Essais!$b$2:$b$"&COUNTA(Essais!$A:$A)),0,COLUMNS($A:H)),MATCH($L15,INDIRECT("Essais!$L$2:$L$"&COUNTA(Essais!$A:$A)))),"")} | K15: {=IFERROR(INDEX(OFFSET(INDIRECT("Essais!$b$2:$b$"&COUNTA(Essais!$A:$A)),0,COLUMNS($A:I)),MATCH($L15,INDIRECT("Essais!$L$2:$L$"&COUNTA(Essais!$A:$A)))),"")} | L15: {=IFERROR(INDEX(INDIRECT("Essais!$L$2:$L$"&COUNTA(Essais!$A:$A)),SMALL(IF(LEFT(INDIRECT("Essais!$L$2:$L$"&COUNTA(Essais!$A:$A)),2)="di",ROW(INDIRECT("$1:$"&COUNTA(Essais!$A:$A)-1))),ROWS($1:14))),"")}
C16: {=IFERROR(INDEX(OFFSET(INDIRECT("Essais!$b$2:$b$"&COUNTA(Essais!$A:$A)),0,COLUMNS($A:A)),MATCH($L16,INDIRECT("Essais!$L$2:$L$"&COUNTA(Essais!$A:$A)))),"")} | D16: {=IFERROR(INDEX(OFFSET(INDIRECT("Essais!$b$2:$b$"&COUNTA(Essais!$A:$A)),0,COLUMNS($A:B)),MATCH($L16,INDIRECT("Essais!$L$2:$L$"&COUNTA(Essais!$A:$A)))),"")} | E16: {=IFERROR(INDEX(OFFSET(INDIRECT("Essais!$b$2:$b$"&COUNTA(Essais!$A:$A)),0,COLUMNS($A:C)),MATCH($L16,INDIRECT("Essais!$L$2:$L$"&COUNTA(Essais!$A:$A)))),"")} | F16: {=IFERROR(INDEX(OFFSET(INDIRECT("Essais!$b$2:$b$"&COUNTA(Essais!$A:$A)),0,COLUMNS($A:D)),MATCH($L16,INDIRECT("Essais!$L$2:$L$"&COUNTA(Essais!$A:$A)))),"")} | G16: {=IFERROR(INDEX(OFFSET(INDIRECT("Essais!$b$2:$b$"&COUNTA(Essais!$A:$A)),0,COLUMNS($A:E)),MATCH($L16,INDIRECT("Essais!$L$2:$L$"&COUNTA(Essais!$A:$A)))),"")} | H16: {=IFERROR(INDEX(OFFSET(INDIRECT("Essais!$b$2:$b$"&COUNTA(Essais!$A:$A)),0,COLUMNS($A:F)),MATCH($L16,INDIRECT("Essais!$L$2:$L$"&COUNTA(Essais!$A:$A)))),"")} | I16: {=IFERROR(INDEX(OFFSET(INDIRECT("Essais!$b$2:$b$"&COUNTA(Essais!$A:$A)),0,COLUMNS($A:G)),MATCH($L16,INDIRECT("Essais!$L$2:$L$"&COUNTA(Essais!$A:$A)))),"")} | J16: {=IFERROR(INDEX(OFFSET(INDIRECT("Essais!$b$2:$b$"&COUNTA(Essais!$A:$A)),0,COLUMNS($A:H)),MATCH($L16,INDIRECT("Essais!$L$2:$L$"&COUNTA(Essais!$A:$A)))),"")} | K16: {=IFERROR(INDEX(OFFSET(INDIRECT("Essais!$b$2:$b$"&COUNTA(Essais!$A:$A)),0,COLUMNS($A:I)),MATCH($L16,INDIRECT("Essais!$L$2:$L$"&COUNTA(Essais!$A:$A)))),"")} | L16: {=IFERROR(INDEX(INDIRECT("Essais!$L$2:$L$"&COUNTA(Essais!$A:$A)),SMALL(IF(LEFT(INDIRECT("Essais!$L$2:$L$"&COUNTA(Essais!$A:$A)),2)="di",ROW(INDIRECT("$1:$"&COUNTA(Essais!$A:$A)-1))),ROWS($1:15))),"")}
C17: {=IFERROR(INDEX(OFFSET(INDIRECT("Essais!$b$2:$b$"&COUNTA(Essais!$A:$A)),0,COLUMNS($A:A)),MATCH($L17,INDIRECT("Essais!$L$2:$L$"&COUNTA(Essais!$A:$A)))),"")} | D17: {=IFERROR(INDEX(OFFSET(INDIRECT("Essais!$b$2:$b$"&COUNTA(Essais!$A:$A)),0,COLUMNS($A:B)),MATCH($L17,INDIRECT("Essais!$L$2:$L$"&COUNTA(Essais!$A:$A)))),"")} | E17: {=IFERROR(INDEX(OFFSET(INDIRECT("Essais!$b$2:$b$"&COUNTA(Essais!$A:$A)),0,COLUMNS($A:C)),MATCH($L17,INDIRECT("Essais!$L$2:$L$"&COUNTA(Essais!$A:$A)))),"")} | F17: {=IFERROR(INDEX(OFFSET(INDIRECT("Essais!$b$2:$b$"&COUNTA(Essais!$A:$A)),0,COLUMNS($A:D)),MATCH($L17,INDIRECT("Essais!$L$2:$L$"&COUNTA(Essais!$A:$A)))),"")} | G17: {=IFERROR(INDEX(OFFSET(INDIRECT("Essais!$b$2:$b$"&COUNTA(Essais!$A:$A)),0,COLUMNS($A:E)),MATCH($L17,INDIRECT("Essais!$L$2:$L$"&COUNTA(Essais!$A:$A)))),"")} | H17: {=IFERROR(INDEX(OFFSET(INDIRECT("Essais!$b$2:$b$"&COUNTA(Essais!$A:$A)),0,COLUMNS($A:F)),MATCH($L17,INDIRECT("Essais!$L$2:$L$"&COUNTA(Essais!$A:$A)))),"")} | I17: {=IFERROR(INDEX(OFFSET(INDIRECT("Essais!$b$2:$b$"&COUNTA(Essais!$A:$A)),0,COLUMNS($A:G)),MATCH($L17,INDIRECT("Essais!$L$2:$L$"&COUNTA(Essais!$A:$A)))),"")} | J17: {=IFERROR(INDEX(OFFSET(INDIRECT("Essais!$b$2:$b$"&COUNTA(Essais!$A:$A)),0,COLUMNS($A:H)),MATCH($L17,INDIRECT("Essais!$L$2:$L$"&COUNTA(Essais!$A:$A)))),"")} | K17: {=IFERROR(INDEX(OFFSET(INDIRECT("Essais!$b$2:$b$"&COUNTA(Essais!$A:$A)),0,COLUMNS($A:I)),MATCH($L17,INDIRECT("Essais!$L$2:$L$"&COUNTA(Essais!$A:$A)))),"")} | L17: {=IFERROR(INDEX(INDIRECT("Essais!$L$2:$L$"&COUNTA(Essais!$A:$A)),SMALL(IF(LEFT(INDIRECT("Essais!$L$2:$L$"&COUNTA(Essais!$A:$A)),2)="di",ROW(INDIRECT("$1:$"&COUNTA(Essais!$A:$A)-1))),ROWS($1:16))),"")}
C18: {=IFERROR(INDEX(OFFSET(INDIRECT("Essais!$b$2:$b$"&COUNTA(Essais!$A:$A)),0,COLUMNS($A:A)),MATCH($L18,INDIRECT("Essais!$L$2:$L$"&COUNTA(Essais!$A:$A)))),"")} | D18: {=IFERROR(INDEX(OFFSET(INDIRECT("Essais!$b$2:$b$"&COUNTA(Essais!$A:$A)),0,COLUMNS($A:B)),MATCH($L18,INDIRECT("Essais!$L$2:$L$"&COUNTA(Essais!$A:$A)))),"")} | E18: {=IFERROR(INDEX(OFFSET(INDIRECT("Essais!$b$2:$b$"&COUNTA(Essais!$A:$A)),0,COLUMNS($A:C)),MATCH($L18,INDIRECT("Essais!$L$2:$L$"&COUNTA(Essais!$A:$A)))),"")} | F18: {=IFERROR(INDEX(OFFSET(INDIRECT("Essais!$b$2:$b$"&COUNTA(Essais!$A:$A)),0,COLUMNS($A:D)),MATCH($L18,INDIRECT("Essais!$L$2:$L$"&COUNTA(Essais!$A:$A)))),"")} | G18: {=IFERROR(INDEX(OFFSET(INDIRECT("Essais!$b$2:$b$"&COUNTA(Essais!$A:$A)),0,COLUMNS($A:E)),MATCH($L18,INDIRECT("Essais!$L$2:$L$"&COUNTA(Essais!$A:$A)))),"")} | H18: {=IFERROR(INDEX(OFFSET(INDIRECT("Essais!$b$2:$b$"&COUNTA(Essais!$A:$A)),0,COLUMNS($A:F)),MATCH($L18,INDIRECT("Essais!$L$2:$L$"&COUNTA(Essais!$A:$A)))),"")} | I18: {=IFERROR(INDEX(OFFSET(INDIRECT("Essais!$b$2:$b$"&COUNTA(Essais!$A:$A)),0,COLUMNS($A:G)),MATCH($L18,INDIRECT("Essais!$L$2:$L$"&COUNTA(Essais!$A:$A)))),"")} | J18: {=IFERROR(INDEX(OFFSET(INDIRECT("Essais!$b$2:$b$"&COUNTA(Essais!$A:$A)),0,COLUMNS($A:H)),MATCH($L18,INDIRECT("Essais!$L$2:$L$"&COUNTA(Essais!$A:$A)))),"")} | K18: {=IFERROR(INDEX(OFFSET(INDIRECT("Essais!$b$2:$b$"&COUNTA(Essais!$A:$A)),0,COLUMNS($A:I)),MATCH($L18,INDIRECT("Essais!$L$2:$L$"&COUNTA(Essais!$A:$A)))),"")} | L18: {=IFERROR(INDEX(INDIRECT("Essais!$L$2:$L$"&COUNTA(Essais!$A:$A)),SMALL(IF(LEFT(INDIRECT("Essais!$L$2:$L$"&COUNTA(Essais!$A:$A)),2)="di",ROW(INDIRECT("$1:$"&COUNTA(Essais!$A:$A)-1))),ROWS($1:17))),"")}
C19: {=IFERROR(INDEX(OFFSET(INDIRECT("Essais!$b$2:$b$"&COUNTA(Essais!$A:$A)),0,COLUMNS($A:A)),MATCH($L19,INDIRECT("Essais!$L$2:$L$"&COUNTA(Essais!$A:$A)))),"")} | D19: {=IFERROR(INDEX(OFFSET(INDIRECT("Essais!$b$2:$b$"&COUNTA(Essais!$A:$A)),0,COLUMNS($A:B)),MATCH($L19,INDIRECT("Essais!$L$2:$L$"&COUNTA(Essais!$A:$A)))),"")} | E19: {=IFERROR(INDEX(OFFSET(INDIRECT("Essais!$b$2:$b$"&COUNTA(Essais!$A:$A)),0,COLUMNS($A:C)),MATCH($L19,INDIRECT("Essais!$L$2:$L$"&COUNTA(Essais!$A:$A)))),"")} | F19: {=IFERROR(INDEX(OFFSET(INDIRECT("Essais!$b$2:$b$"&COUNTA(Essais!$A:$A)),0,COLUMNS($A:D)),MATCH($L19,INDIRECT("Essais!$L$2:$L$"&COUNTA(Essais!$A:$A)))),"")} | G19: {=IFERROR(INDEX(OFFSET(INDIRECT("Essais!$b$2:$b$"&COUNTA(Essais!$A:$A)),0,COLUMNS($A:E)),MATCH($L19,INDIRECT("Essais!$L$2:$L$"&COUNTA(Essais!$A:$A)))),"")} | H19: {=IFERROR(INDEX(OFFSET(INDIRECT("Essais!$b$2:$b$"&COUNTA(Essais!$A:$A)),0,COLUMNS($A:F)),MATCH($L19,INDIRECT("Essais!$L$2:$L$"&COUNTA(Essais!$A:$A)))),"")} | I19: {=IFERROR(INDEX(OFFSET(INDIRECT("Essais!$b$2:$b$"&COUNTA(Essais!$A:$A)),0,COLUMNS($A:G)),MATCH($L19,INDIRECT("Essais!$L$2:$L$"&COUNTA(Essais!$A:$A)))),"")} | J19: {=IFERROR(INDEX(OFFSET(INDIRECT("Essais!$b$2:$b$"&COUNTA(Essais!$A:$A)),0,COLUMNS($A:H)),MATCH($L19,INDIRECT("Essais!$L$2:$L$"&COUNTA(Essais!$A:$A)))),"")} | K19: {=IFERROR(INDEX(OFFSET(INDIRECT("Essais!$b$2:$b$"&COUNTA(Essais!$A:$A)),0,COLUMNS($A:I)),MATCH($L19,INDIRECT("Essais!$L$2:$L$"&COUNTA(Essais!$A:$A)))),"")} | L19: {=IFERROR(INDEX(INDIRECT("Essais!$L$2:$L$"&COUNTA(Essais!$A:$A)),SMALL(IF(LEFT(INDIRECT("Essais!$L$2:$L$"&COUNTA(Essais!$A:$A)),2)="di",ROW(INDIRECT("$1:$"&COUNTA(Essais!$A:$A)-1))),ROWS($1:18))),"")}
C20: {=IFERROR(INDEX(OFFSET(INDIRECT("Essais!$b$2:$b$"&COUNTA(Essais!$A:$A)),0,COLUMNS($A:A)),MATCH($L20,INDIRECT("Essais!$L$2:$L$"&COUNTA(Essais!$A:$A)))),"")} | D20: {=IFERROR(INDEX(OFFSET(INDIRECT("Essais!$b$2:$b$"&COUNTA(Essais!$A:$A)),0,COLUMNS($A:B)),MATCH($L20,INDIRECT("Essais!$L$2:$L$"&COUNTA(Essais!$A:$A)))),"")} | E20: {=IFERROR(INDEX(OFFSET(INDIRECT("Essais!$b$2:$b$"&COUNTA(Essais!$A:$A)),0,COLUMNS($A:C)),MATCH($L20,INDIRECT("Essais!$L$2:$L$"&COUNTA(Essais!$A:$A)))),"")} | F20: {=IFERROR(INDEX(OFFSET(INDIRECT("Essais!$b$2:$b$"&COUNTA(Essais!$A:$A)),0,COLUMNS($A:D)),MATCH($L20,INDIRECT("Essais!$L$2:$L$"&COUNTA(Essais!$A:$A)))),"")} | G20: {=IFERROR(INDEX(OFFSET(INDIRECT("Essais!$b$2:$b$"&COUNTA(Essais!$A:$A)),0,COLUMNS($A:E)),MATCH($L20,INDIRECT("Essais!$L$2:$L$"&COUNTA(Essais!$A:$A)))),"")} | H20: {=IFERROR(INDEX(OFFSET(INDIRECT("Essais!$b$2:$b$"&COUNTA(Essais!$A:$A)),0,COLUMNS($A:F)),MATCH($L20,INDIRECT("Essais!$L$2:$L$"&COUNTA(Essais!$A:$A)))),"")} | I20: {=IFERROR(INDEX(OFFSET(INDIRECT("Essais!$b$2:$b$"&COUNTA(Essais!$A:$A)),0,COLUMNS($A:G)),MATCH($L20,INDIRECT("Essais!$L$2:$L$"&COUNTA(Essais!$A:$A)))),"")} | J20: {=IFERROR(INDEX(OFFSET(INDIRECT("Essais!$b$2:$b$"&COUNTA(Essais!$A:$A)),0,COLUMNS($A:H)),MATCH($L20,INDIRECT("Essais!$L$2:$L$"&COUNTA(Essais!$A:$A)))),"")} | K20: {=IFERROR(INDEX(OFFSET(INDIRECT("Essais!$b$2:$b$"&COUNTA(Essais!$A:$A)),0,COLUMNS($A:I)),MATCH($L20,INDIRECT("Essais!$L$2:$L$"&COUNTA(Essais!$A:$A)))),"")} | L20: {=IFERROR(INDEX(INDIRECT("Essais!$L$2:$L$"&COUNTA(Essais!$A:$A)),SMALL(IF(LEFT(INDIRECT("Essais!$L$2:$L$"&COUNTA(Essais!$A:$A)),2)="di",ROW(INDIRECT("$1:$"&COUNTA(Essais!$A:$A)-1))),ROWS($1:19))),"")}
C21: {=IFERROR(INDEX(OFFSET(INDIRECT("Essais!$b$2:$b$"&COUNTA(Essais!$A:$A)),0,COLUMNS($A:A)),MATCH($L21,INDIRECT("Essais!$L$2:$L$"&COUNTA(Essais!$A:$A)))),"")} | D21: {=IFERROR(INDEX(OFFSET(INDIRECT("Essais!$b$2:$b$"&COUNTA(Essais!$A:$A)),0,COLUMNS($A:B)),MATCH($L21,INDIRECT("Essais!$L$2:$L$"&COUNTA(Essais!$A:$A)))),"")} | E21: {=IFERROR(INDEX(OFFSET(INDIRECT("Essais!$b$2:$b$"&COUNTA(Essais!$A:$A)),0,COLUMNS($A:C)),MATCH($L21,INDIRECT("Essais!$L$2:$L$"&COUNTA(Essais!$A:$A)))),"")} | F21: {=IFERROR(INDEX(OFFSET(INDIRECT("Essais!$b$2:$b$"&COUNTA(Essais!$A:$A)),0,COLUMNS($A:D)),MATCH($L21,INDIRECT("Essais!$L$2:$L$"&COUNTA(Essais!$A:$A)))),"")} | G21: {=IFERROR(INDEX(OFFSET(INDIRECT("Essais!$b$2:$b$"&COUNTA(Essais!$A:$A)),0,COLUMNS($A:E)),MATCH($L21,INDIRECT("Essais!$L$2:$L$"&COUNTA(Essais!$A:$A)))),"")} | H21: {=IFERROR(INDEX(OFFSET(INDIRECT("Essais!$b$2:$b$"&COUNTA(Essais!$A:$A)),0,COLUMNS($A:F)),MATCH($L21,INDIRECT("Essais!$L$2:$L$"&COUNTA(Essais!$A:$A)))),"")} | I21: {=IFERROR(INDEX(OFFSET(INDIRECT("Essais!$b$2:$b$"&COUNTA(Essais!$A:$A)),0,COLUMNS($A:G)),MATCH($L21,INDIRECT("Essais!$L$2:$L$"&COUNTA(Essais!$A:$A)))),"")} | J21: {=IFERROR(INDEX(OFFSET(INDIRECT("Essais!$b$2:$b$"&COUNTA(Essais!$A:$A)),0,COLUMNS($A:H)),MATCH($L21,INDIRECT("Essais!$L$2:$L$"&COUNTA(Essais!$A:$A)))),"")} | K21: {=IFERROR(INDEX(OFFSET(INDIRECT("Essais!$b$2:$b$"&COUNTA(Essais!$A:$A)),0,COLUMNS($A:I)),MATCH($L21,INDIRECT("Essais!$L$2:$L$"&COUNTA(Essais!$A:$A)))),"")} | L21: {=IFERROR(INDEX(INDIRECT("Essais!$L$2:$L$"&COUNTA(Essais!$A:$A)),SMALL(IF(LEFT(INDIRECT("Essais!$L$2:$L$"&COUNTA(Essais!$A:$A)),2)="di",ROW(INDIRECT("$1:$"&COUNTA(Essais!$A:$A)-1))),ROWS($1:20))),"")}
C22: {=IFERROR(INDEX(OFFSET(INDIRECT("Essais!$b$2:$b$"&COUNTA(Essais!$A:$A)),0,COLUMNS($A:A)),MATCH($L22,INDIRECT("Essais!$L$2:$L$"&COUNTA(Essais!$A:$A)))),"")} | D22: {=IFERROR(INDEX(OFFSET(INDIRECT("Essais!$b$2:$b$"&COUNTA(Essais!$A:$A)),0,COLUMNS($A:B)),MATCH($L22,INDIRECT("Essais!$L$2:$L$"&COUNTA(Essais!$A:$A)))),"")} | E22: {=IFERROR(INDEX(OFFSET(INDIRECT("Essais!$b$2:$b$"&COUNTA(Essais!$A:$A)),0,COLUMNS($A:C)),MATCH($L22,INDIRECT("Essais!$L$2:$L$"&COUNTA(Essais!$A:$A)))),"")} | F22: {=IFERROR(INDEX(OFFSET(INDIRECT("Essais!$b$2:$b$"&COUNTA(Essais!$A:$A)),0,COLUMNS($A:D)),MATCH($L22,INDIRECT("Essais!$L$2:$L$"&COUNTA(Essais!$A:$A)))),"")} | G22: {=IFERROR(INDEX(OFFSET(INDIRECT("Essais!$b$2:$b$"&COUNTA(Essais!$A:$A)),0,COLUMNS($A:E)),MATCH($L22,INDIRECT("Essais!$L$2:$L$"&COUNTA(Essais!$A:$A)))),"")} | H22: {=IFERROR(INDEX(OFFSET(INDIRECT("Essais!$b$2:$b$"&COUNTA(Essais!$A:$A)),0,COLUMNS($A:F)),MATCH($L22,INDIRECT("Essais!$L$2:$L$"&COUNTA(Essais!$A:$A)))),"")} | I22: {=IFERROR(INDEX(OFFSET(INDIRECT("Essais!$b$2:$b$"&COUNTA(Essais!$A:$A)),0,COLUMNS($A:G)),MATCH($L22,INDIRECT("Essais!$L$2:$L$"&COUNTA(Essais!$A:$A)))),"")} | J22: {=IFERROR(INDEX(OFFSET(INDIRECT("Essais!$b$2:$b$"&COUNTA(Essais!$A:$A)),0,COLUMNS($A:H)),MATCH($L22,INDIRECT("Essais!$L$2:$L$"&COUNTA(Essais!$A:$A)))),"")} | K22: {=IFERROR(INDEX(OFFSET(INDIRECT("Essais!$b$2:$b$"&COUNTA(Essais!$A:$A)),0,COLUMNS($A:I)),MATCH($L22,INDIRECT("Essais!$L$2:$L$"&COUNTA(Essais!$A:$A)))),"")} | L22: {=IFERROR(INDEX(INDIRECT("Essais!$L$2:$L$"&COUNTA(Essais!$A:$A)),SMALL(IF(LEFT(INDIRECT("Essais!$L$2:$L$"&COUNTA(Essais!$A:$A)),2)="di",ROW(INDIRECT("$1:$"&COUNTA(Essais!$A:$A)-1))),ROWS($1:21))),"")}
C23: {=IFERROR(INDEX(OFFSET(INDIRECT("Essais!$b$2:$b$"&COUNTA(Essais!$A:$A)),0,COLUMNS($A:A)),MATCH($L23,INDIRECT("Essais!$L$2:$L$"&COUNTA(Essais!$A:$A)))),"")} | D23: {=IFERROR(INDEX(OFFSET(INDIRECT("Essais!$b$2:$b$"&COUNTA(Essais!$A:$A)),0,COLUMNS($A:B)),MATCH($L23,INDIRECT("Essais!$L$2:$L$"&COUNTA(Essais!$A:$A)))),"")} | E23: {=IFERROR(INDEX(OFFSET(INDIRECT("Essais!$b$2:$b$"&COUNTA(Essais!$A:$A)),0,COLUMNS($A:C)),MATCH($L23,INDIRECT("Essais!$L$2:$L$"&COUNTA(Essais!$A:$A)))),"")} | F23: {=IFERROR(INDEX(OFFSET(INDIRECT("Essais!$b$2:$b$"&COUNTA(Essais!$A:$A)),0,COLUMNS($A:D)),MATCH($L23,INDIRECT("Essais!$L$2:$L$"&COUNTA(Essais!$A:$A)))),"")} | G23: {=IFERROR(INDEX(OFFSET(INDIRECT("Essais!$b$2:$b$"&COUNTA(Essais!$A:$A)),0,COLUMNS($A:E)),MATCH($L23,INDIRECT("Essais!$L$2:$L$"&COUNTA(Essais!$A:$A)))),"")} | H23: {=IFERROR(INDEX(OFFSET(INDIRECT("Essais!$b$2:$b$"&COUNTA(Essais!$A:$A)),0,COLUMNS($A:F)),MATCH($L23,INDIRECT("Essais!$L$2:$L$"&COUNTA(Essais!$A:$A)))),"")} | I23: {=IFERROR(INDEX(OFFSET(INDIRECT("Essais!$b$2:$b$"&COUNTA(Essais!$A:$A)),0,COLUMNS($A:G)),MATCH($L23,INDIRECT("Essais!$L$2:$L$"&COUNTA(Essais!$A:$A)))),"")} | J23: {=IFERROR(INDEX(OFFSET(INDIRECT("Essais!$b$2:$b$"&COUNTA(Essais!$A:$A)),0,COLUMNS($A:H)),MATCH($L23,INDIRECT("Essais!$L$2:$L$"&COUNTA(Essais!$A:$A)))),"")} | K23: {=IFERROR(INDEX(OFFSET(INDIRECT("Essais!$b$2:$b$"&COUNTA(Essais!$A:$A)),0,COLUMNS($A:I)),MATCH($L23,INDIRECT("Essais!$L$2:$L$"&COUNTA(Essais!$A:$A)))),"")} | L23: {=IFERROR(INDEX(INDIRECT("Essais!$L$2:$L$"&COUNTA(Essais!$A:$A)),SMALL(IF(LEFT(INDIRECT("Essais!$L$2:$L$"&COUNTA(Essais!$A:$A)),2)="di",ROW(INDIRECT("$1:$"&COUNTA(Essais!$A:$A)-1))),ROWS($1:22))),"")}
C24: {=IFERROR(INDEX(OFFSET(INDIRECT("Essais!$b$2:$b$"&COUNTA(Essais!$A:$A)),0,COLUMNS($A:A)),MATCH($L24,INDIRECT("Essais!$L$2:$L$"&COUNTA(Essais!$A:$A)))),"")} | D24: {=IFERROR(INDEX(OFFSET(INDIRECT("Essais!$b$2:$b$"&COUNTA(Essais!$A:$A)),0,COLUMNS($A:B)),MATCH($L24,INDIRECT("Essais!$L$2:$L$"&COUNTA(Essais!$A:$A)))),"")} | E24: {=IFERROR(INDEX(OFFSET(INDIRECT("Essais!$b$2:$b$"&COUNTA(Essais!$A:$A)),0,COLUMNS($A:C)),MATCH($L24,INDIRECT("Essais!$L$2:$L$"&COUNTA(Essais!$A:$A)))),"")} | F24: {=IFERROR(INDEX(OFFSET(INDIRECT("Essais!$b$2:$b$"&COUNTA(Essais!$A:$A)),0,COLUMNS($A:D)),MATCH($L24,INDIRECT("Essais!$L$2:$L$"&COUNTA(Essais!$A:$A)))),"")} | G24: {=IFERROR(INDEX(OFFSET(INDIRECT("Essais!$b$2:$b$"&COUNTA(Essais!$A:$A)),0,COLUMNS($A:E)),MATCH($L24,INDIRECT("Essais!$L$2:$L$"&COUNTA(Essais!$A:$A)))),"")} | H24: {=IFERROR(INDEX(OFFSET(INDIRECT("Essais!$b$2:$b$"&COUNTA(Essais!$A:$A)),0,COLUMNS($A:F)),MATCH($L24,INDIRECT("Essais!$L$2:$L$"&COUNTA(Essais!$A:$A)))),"")} | I24: {=IFERROR(INDEX(OFFSET(INDIRECT("Essais!$b$2:$b$"&COUNTA(Essais!$A:$A)),0,COLUMNS($A:G)),MATCH($L24,INDIRECT("Essais!$L$2:$L$"&COUNTA(Essais!$A:$A)))),"")} | J24: {=IFERROR(INDEX(OFFSET(INDIRECT("Essais!$b$2:$b$"&COUNTA(Essais!$A:$A)),0,COLUMNS($A:H)),MATCH($L24,INDIRECT("Essais!$L$2:$L$"&COUNTA(Essais!$A:$A)))),"")} | K24: {=IFERROR(INDEX(OFFSET(INDIRECT("Essais!$b$2:$b$"&COUNTA(Essais!$A:$A)),0,COLUMNS($A:I)),MATCH($L24,INDIRECT("Essais!$L$2:$L$"&COUNTA(Essais!$A:$A)))),"")} | L24: {=IFERROR(INDEX(INDIRECT("Essais!$L$2:$L$"&COUNTA(Essais!$A:$A)),SMALL(IF(LEFT(INDIRECT("Essais!$L$2:$L$"&COUNTA(Essais!$A:$A)),2)="di",ROW(INDIRECT("$1:$"&COUNTA(Essais!$A:$A)-1))),ROWS($1:23))),"")}
C25: {=IFERROR(INDEX(OFFSET(INDIRECT("Essais!$b$2:$b$"&COUNTA(Essais!$A:$A)),0,COLUMNS($A:A)),MATCH($L25,INDIRECT("Essais!$L$2:$L$"&COUNTA(Essais!$A:$A)))),"")} | D25: {=IFERROR(INDEX(OFFSET(INDIRECT("Essais!$b$2:$b$"&COUNTA(Essais!$A:$A)),0,COLUMNS($A:B)),MATCH($L25,INDIRECT("Essais!$L$2:$L$"&COUNTA(Essais!$A:$A)))),"")} | E25: {=IFERROR(INDEX(OFFSET(INDIRECT("Essais!$b$2:$b$"&COUNTA(Essais!$A:$A)),0,COLUMNS($A:C)),MATCH($L25,INDIRECT("Essais!$L$2:$L$"&COUNTA(Essais!$A:$A)))),"")} | F25: {=IFERROR(INDEX(OFFSET(INDIRECT("Essais!$b$2:$b$"&COUNTA(Essais!$A:$A)),0,COLUMNS($A:D)),MATCH($L25,INDIRECT("Essais!$L$2:$L$"&COUNTA(Essais!$A:$A)))),"")} | G25: {=IFERROR(INDEX(OFFSET(INDIRECT("Essais!$b$2:$b$"&COUNTA(Essais!$A:$A)),0,COLUMNS($A:E)),MATCH($L25,INDIRECT("Essais!$L$2:$L$"&COUNTA(Essais!$A:$A)))),"")} | H25: {=IFERROR(INDEX(OFFSET(INDIRECT("Essais!$b$2:$b$"&COUNTA(Essais!$A:$A)),0,COLUMNS($A:F)),MATCH($L25,INDIRECT("Essais!$L$2:$L$"&COUNTA(Essais!$A:$A)))),"")} | I25: {=IFERROR(INDEX(OFFSET(INDIRECT("Essais!$b$2:$b$"&COUNTA(Essais!$A:$A)),0,COLUMNS($A:G)),MATCH($L25,INDIRECT("Essais!$L$2:$L$"&COUNTA(Essais!$A:$A)))),"")} | J25: {=IFERROR(INDEX(OFFSET(INDIRECT("Essais!$b$2:$b$"&COUNTA(Essais!$A:$A)),0,COLUMNS($A:H)),MATCH($L25,INDIRECT("Essais!$L$2:$L$"&COUNTA(Essais!$A:$A)))),"")} | K25: {=IFERROR(INDEX(OFFSET(INDIRECT("Essais!$b$2:$b$"&COUNTA(Essais!$A:$A)),0,COLUMNS($A:I)),MATCH($L25,INDIRECT("Essais!$L$2:$L$"&COUNTA(Essais!$A:$A)))),"")} | L25: {=IFERROR(INDEX(INDIRECT("Essais!$L$2:$L$"&COUNTA(Essais!$A:$A)),SMALL(IF(LEFT(INDIRECT("Essais!$L$2:$L$"&COUNTA(Essais!$A:$A)),2)="di",ROW(INDIRECT("$1:$"&COUNTA(Essais!$A:$A)-1))),ROWS($1:24))),"")}
C26: {=IFERROR(INDEX(OFFSET(INDIRECT("Essais!$b$2:$b$"&COUNTA(Essais!$A:$A)),0,COLUMNS($A:A)),MATCH($L26,INDIRECT("Essais!$L$2:$L$"&COUNTA(Essais!$A:$A)))),"")} | D26: {=IFERROR(INDEX(OFFSET(INDIRECT("Essais!$b$2:$b$"&COUNTA(Essais!$A:$A)),0,COLUMNS($A:B)),MATCH($L26,INDIRECT("Essais!$L$2:$L$"&COUNTA(Essais!$A:$A)))),"")} | E26: {=IFERROR(INDEX(OFFSET(INDIRECT("Essais!$b$2:$b$"&COUNTA(Essais!$A:$A)),0,COLUMNS($A:C)),MATCH($L26,INDIRECT("Essais!$L$2:$L$"&COUNTA(Essais!$A:$A)))),"")} | F26: {=IFERROR(INDEX(OFFSET(INDIRECT("Essais!$b$2:$b$"&COUNTA(Essais!$A:$A)),0,COLUMNS($A:D)),MATCH($L26,INDIRECT("Essais!$L$2:$L$"&COUNTA(Essais!$A:$A)))),"")} | G26: {=IFERROR(INDEX(OFFSET(INDIRECT("Essais!$b$2:$b$"&COUNTA(Essais!$A:$A)),0,COLUMNS($A:E)),MATCH($L26,INDIRECT("Essais!$L$2:$L$"&COUNTA(Essais!$A:$A)))),"")} | H26: {=IFERROR(INDEX(OFFSET(INDIRECT("Essais!$b$2:$b$"&COUNTA(Essais!$A:$A)),0,COLUMNS($A:F)),MATCH($L26,INDIRECT("Essais!$L$2:$L$"&COUNTA(Essais!$A:$A)))),"")} | I26: {=IFERROR(INDEX(OFFSET(INDIRECT("Essais!$b$2:$b$"&COUNTA(Essais!$A:$A)),0,COLUMNS($A:G)),MATCH($L26,INDIRECT("Essais!$L$2:$L$"&COUNTA(Essais!$A:$A)))),"")} | J26: {=IFERROR(INDEX(OFFSET(INDIRECT("Essais!$b$2:$b$"&COUNTA(Essais!$A:$A)),0,COLUMNS($A:H)),MATCH($L26,INDIRECT("Essais!$L$2:$L$"&COUNTA(Essais!$A:$A)))),"")} | K26: {=IFERROR(INDEX(OFFSET(INDIRECT("Essais!$b$2:$b$"&COUNTA(Essais!$A:$A)),0,COLUMNS($A:I)),MATCH($L26,INDIRECT("Essais!$L$2:$L$"&COUNTA(Essais!$A:$A)))),"")} | L26: {=IFERROR(INDEX(INDIRECT("Essais!$L$2:$L$"&COUNTA(Essais!$A:$A)),SMALL(IF(LEFT(INDIRECT("Essais!$L$2:$L$"&COUNTA(Essais!$A:$A)),2)="di",ROW(INDIRECT("$1:$"&COUNTA(Essais!$A:$A)-1))),ROWS($1:25))),"")}
C27: {=IFERROR(INDEX(OFFSET(INDIRECT("Essais!$b$2:$b$"&COUNTA(Essais!$A:$A)),0,COLUMNS($A:A)),MATCH($L27,INDIRECT("Essais!$L$2:$L$"&COUNTA(Essais!$A:$A)))),"")} | D27: {=IFERROR(INDEX(OFFSET(INDIRECT("Essais!$b$2:$b$"&COUNTA(Essais!$A:$A)),0,COLUMNS($A:B)),MATCH($L27,INDIRECT("Essais!$L$2:$L$"&COUNTA(Essais!$A:$A)))),"")} | E27: {=IFERROR(INDEX(OFFSET(INDIRECT("Essais!$b$2:$b$"&COUNTA(Essais!$A:$A)),0,COLUMNS($A:C)),MATCH($L27,INDIRECT("Essais!$L$2:$L$"&COUNTA(Essais!$A:$A)))),"")} | F27: {=IFERROR(INDEX(OFFSET(INDIRECT("Essais!$b$2:$b$"&COUNTA(Essais!$A:$A)),0,COLUMNS($A:D)),MATCH($L27,INDIRECT("Essais!$L$2:$L$"&COUNTA(Essais!$A:$A)))),"")} | G27: {=IFERROR(INDEX(OFFSET(INDIRECT("Essais!$b$2:$b$"&COUNTA(Essais!$A:$A)),0,COLUMNS($A:E)),MATCH($L27,INDIRECT("Essais!$L$2:$L$"&COUNTA(Essais!$A:$A)))),"")} | H27: {=IFERROR(INDEX(OFFSET(INDIRECT("Essais!$b$2:$b$"&COUNTA(Essais!$A:$A)),0,COLUMNS($A:F)),MATCH($L27,INDIRECT("Essais!$L$2:$L$"&COUNTA(Essais!$A:$A)))),"")} | I27: {=IFERROR(INDEX(OFFSET(INDIRECT("Essais!$b$2:$b$"&COUNTA(Essais!$A:$A)),0,COLUMNS($A:G)),MATCH($L27,INDIRECT("Essais!$L$2:$L$"&COUNTA(Essais!$A:$A)))),"")} | J27: {=IFERROR(INDEX(OFFSET(INDIRECT("Essais!$b$2:$b$"&COUNTA(Essais!$A:$A)),0,COLUMNS($A:H)),MATCH($L27,INDIRECT("Essais!$L$2:$L$"&COUNTA(Essais!$A:$A)))),"")} | K27: {=IFERROR(INDEX(OFFSET(INDIRECT("Essais!$b$2:$b$"&COUNTA(Essais!$A:$A)),0,COLUMNS($A:I)),MATCH($L27,INDIRECT("Essais!$L$2:$L$"&COUNTA(Essais!$A:$A)))),"")} | L27: {=IFERROR(INDEX(INDIRECT("Essais!$L$2:$L$"&COUNTA(Essais!$A:$A)),SMALL(IF(LEFT(INDIRECT("Essais!$L$2:$L$"&COUNTA(Essais!$A:$A)),2)="di",ROW(INDIRECT("$1:$"&COUNTA(Essais!$A:$A)-1))),ROWS($1:26))),"")}
C28: {=IFERROR(INDEX(OFFSET(INDIRECT("Essais!$b$2:$b$"&COUNTA(Essais!$A:$A)),0,COLUMNS($A:A)),MATCH($L28,INDIRECT("Essais!$L$2:$L$"&COUNTA(Essais!$A:$A)))),"")} | D28: {=IFERROR(INDEX(OFFSET(INDIRECT("Essais!$b$2:$b$"&COUNTA(Essais!$A:$A)),0,COLUMNS($A:B)),MATCH($L28,INDIRECT("Essais!$L$2:$L$"&COUNTA(Essais!$A:$A)))),"")} | E28: {=IFERROR(INDEX(OFFSET(INDIRECT("Essais!$b$2:$b$"&COUNTA(Essais!$A:$A)),0,COLUMNS($A:C)),MATCH($L28,INDIRECT("Essais!$L$2:$L$"&COUNTA(Essais!$A:$A)))),"")} | F28: {=IFERROR(INDEX(OFFSET(INDIRECT("Essais!$b$2:$b$"&COUNTA(Essais!$A:$A)),0,COLUMNS($A:D)),MATCH($L28,INDIRECT("Essais!$L$2:$L$"&COUNTA(Essais!$A:$A)))),"")} | G28: {=IFERROR(INDEX(OFFSET(INDIRECT("Essais!$b$2:$b$"&COUNTA(Essais!$A:$A)),0,COLUMNS($A:E)),MATCH($L28,INDIRECT("Essais!$L$2:$L$"&COUNTA(Essais!$A:$A)))),"")} | H28: {=IFERROR(INDEX(OFFSET(INDIRECT("Essais!$b$2:$b$"&COUNTA(Essais!$A:$A)),0,COLUMNS($A:F)),MATCH($L28,INDIRECT("Essais!$L$2:$L$"&COUNTA(Essais!$A:$A)))),"")} | I28: {=IFERROR(INDEX(OFFSET(INDIRECT("Essais!$b$2:$b$"&COUNTA(Essais!$A:$A)),0,COLUMNS($A:G)),MATCH($L28,INDIRECT("Essais!$L$2:$L$"&COUNTA(Essais!$A:$A)))),"")} | J28: {=IFERROR(INDEX(OFFSET(INDIRECT("Essais!$b$2:$b$"&COUNTA(Essais!$A:$A)),0,COLUMNS($A:H)),MATCH($L28,INDIRECT("Essais!$L$2:$L$"&COUNTA(Essais!$A:$A)))),"")} | K28: {=IFERROR(INDEX(OFFSET(INDIRECT("Essais!$b$2:$b$"&COUNTA(Essais!$A:$A)),0,COLUMNS($A:I)),MATCH($L28,INDIRECT("Essais!$L$2:$L$"&COUNTA(Essais!$A:$A)))),"")} | L28: {=IFERROR(INDEX(INDIRECT("Essais!$L$2:$L$"&COUNTA(Essais!$A:$A)),SMALL(IF(LEFT(INDIRECT("Essais!$L$2:$L$"&COUNTA(Essais!$A:$A)),2)="di",ROW(INDIRECT("$1:$"&COUNTA(Essais!$A:$A)-1))),ROWS($1:27))),"")}
C29: {=IFERROR(INDEX(OFFSET(INDIRECT("Essais!$b$2:$b$"&COUNTA(Essais!$A:$A)),0,COLUMNS($A:A)),MATCH($L29,INDIRECT("Essais!$L$2:$L$"&COUNTA(Essais!$A:$A)))),"")} | D29: {=IFERROR(INDEX(OFFSET(INDIRECT("Essais!$b$2:$b$"&COUNTA(Essais!$A:$A)),0,COLUMNS($A:B)),MATCH($L29,INDIRECT("Essais!$L$2:$L$"&COUNTA(Essais!$A:$A)))),"")} | E29: {=IFERROR(INDEX(OFFSET(INDIRECT("Essais!$b$2:$b$"&COUNTA(Essais!$A:$A)),0,COLUMNS($A:C)),MATCH($L29,INDIRECT("Essais!$L$2:$L$"&COUNTA(Essais!$A:$A)))),"")} | F29: {=IFERROR(INDEX(OFFSET(INDIRECT("Essais!$b$2:$b$"&COUNTA(Essais!$A:$A)),0,COLUMNS($A:D)),MATCH($L29,INDIRECT("Essais!$L$2:$L$"&COUNTA(Essais!$A:$A)))),"")} | G29: {=IFERROR(INDEX(OFFSET(INDIRECT("Essais!$b$2:$b$"&COUNTA(Essais!$A:$A)),0,COLUMNS($A:E)),MATCH($L29,INDIRECT("Essais!$L$2:$L$"&COUNTA(Essais!$A:$A)))),"")} | H29: {=IFERROR(INDEX(OFFSET(INDIRECT("Essais!$b$2:$b$"&COUNTA(Essais!$A:$A)),0,COLUMNS($A:F)),MATCH($L29,INDIRECT("Essais!$L$2:$L$"&COUNTA(Essais!$A:$A)))),"")} | I29: {=IFERROR(INDEX(OFFSET(INDIRECT("Essais!$b$2:$b$"&COUNTA(Essais!$A:$A)),0,COLUMNS($A:G)),MATCH($L29,INDIRECT("Essais!$L$2:$L$"&COUNTA(Essais!$A:$A)))),"")} | J29: {=IFERROR(INDEX(OFFSET(INDIRECT("Essais!$b$2:$b$"&COUNTA(Essais!$A:$A)),0,COLUMNS($A:H)),MATCH($L29,INDIRECT("Essais!$L$2:$L$"&COUNTA(Essais!$A:$A)))),"")} | K29: {=IFERROR(INDEX(OFFSET(INDIRECT("Essais!$b$2:$b$"&COUNTA(Essais!$A:$A)),0,COLUMNS($A:I)),MATCH($L29,INDIRECT("Essais!$L$2:$L$"&COUNTA(Essais!$A:$A)))),"")} | L29: {=IFERROR(INDEX(INDIRECT("Essais!$L$2:$L$"&COUNTA(Essais!$A:$A)),SMALL(IF(LEFT(INDIRECT("Essais!$L$2:$L$"&COUNTA(Essais!$A:$A)),2)="di",ROW(INDIRECT("$1:$"&COUNTA(Essais!$A:$A)-1))),ROWS($1:28))),"")}
C30: {=IFERROR(INDEX(OFFSET(INDIRECT("Essais!$b$2:$b$"&COUNTA(Essais!$A:$A)),0,COLUMNS($A:A)),MATCH($L30,INDIRECT("Essais!$L$2:$L$"&COUNTA(Essais!$A:$A)))),"")} | D30: {=IFERROR(INDEX(OFFSET(INDIRECT("Essais!$b$2:$b$"&COUNTA(Essais!$A:$A)),0,COLUMNS($A:B)),MATCH($L30,INDIRECT("Essais!$L$2:$L$"&COUNTA(Essais!$A:$A)))),"")} | E30: {=IFERROR(INDEX(OFFSET(INDIRECT("Essais!$b$2:$b$"&COUNTA(Essais!$A:$A)),0,COLUMNS($A:C)),MATCH($L30,INDIRECT("Essais!$L$2:$L$"&COUNTA(Essais!$A:$A)))),"")} | F30: {=IFERROR(INDEX(OFFSET(INDIRECT("Essais!$b$2:$b$"&COUNTA(Essais!$A:$A)),0,COLUMNS($A:D)),MATCH($L30,INDIRECT("Essais!$L$2:$L$"&COUNTA(Essais!$A:$A)))),"")} | G30: {=IFERROR(INDEX(OFFSET(INDIRECT("Essais!$b$2:$b$"&COUNTA(Essais!$A:$A)),0,COLUMNS($A:E)),MATCH($L30,INDIRECT("Essais!$L$2:$L$"&COUNTA(Essais!$A:$A)))),"")} | H30: {=IFERROR(INDEX(OFFSET(INDIRECT("Essais!$b$2:$b$"&COUNTA(Essais!$A:$A)),0,COLUMNS($A:F)),MATCH($L30,INDIRECT("Essais!$L$2:$L$"&COUNTA(Essais!$A:$A)))),"")} | I30: {=IFERROR(INDEX(OFFSET(INDIRECT("Essais!$b$2:$b$"&COUNTA(Essais!$A:$A)),0,COLUMNS($A:G)),MATCH($L30,INDIRECT("Essais!$L$2:$L$"&COUNTA(Essais!$A:$A)))),"")} | J30: {=IFERROR(INDEX(OFFSET(INDIRECT("Essais!$b$2:$b$"&COUNTA(Essais!$A:$A)),0,COLUMNS($A:H)),MATCH($L30,INDIRECT("Essais!$L$2:$L$"&COUNTA(Essais!$A:$A)))),"")} | K30: {=IFERROR(INDEX(OFFSET(INDIRECT("Essais!$b$2:$b$"&COUNTA(Essais!$A:$A)),0,COLUMNS($A:I)),MATCH($L30,INDIRECT("Essais!$L$2:$L$"&COUNTA(Essais!$A:$A)))),"")} | L30: {=IFERROR(INDEX(INDIRECT("Essais!$L$2:$L$"&COUNTA(Essais!$A:$A)),SMALL(IF(LEFT(INDIRECT("Essais!$L$2:$L$"&COUNTA(Essais!$A:$A)),2)="di",ROW(INDIRECT("$1:$"&COUNTA(Essais!$A:$A)-1))),ROWS($1:29))),"")}
C31: {=IFERROR(INDEX(OFFSET(INDIRECT("Essais!$b$2:$b$"&COUNTA(Essais!$A:$A)),0,COLUMNS($A:A)),MATCH($L31,INDIRECT("Essais!$L$2:$L$"&COUNTA(Essais!$A:$A)))),"")} | D31: {=IFERROR(INDEX(OFFSET(INDIRECT("Essais!$b$2:$b$"&COUNTA(Essais!$A:$A)),0,COLUMNS($A:B)),MATCH($L31,INDIRECT("Essais!$L$2:$L$"&COUNTA(Essais!$A:$A)))),"")} | E31: {=IFERROR(INDEX(OFFSET(INDIRECT("Essais!$b$2:$b$"&COUNTA(Essais!$A:$A)),0,COLUMNS($A:C)),MATCH($L31,INDIRECT("Essais!$L$2:$L$"&COUNTA(Essais!$A:$A)))),"")} | F31: {=IFERROR(INDEX(OFFSET(INDIRECT("Essais!$b$2:$b$"&COUNTA(Essais!$A:$A)),0,COLUMNS($A:D)),MATCH($L31,INDIRECT("Essais!$L$2:$L$"&COUNTA(Essais!$A:$A)))),"")} | G31: {=IFERROR(INDEX(OFFSET(INDIRECT("Essais!$b$2:$b$"&COUNTA(Essais!$A:$A)),0,COLUMNS($A:E)),MATCH($L31,INDIRECT("Essais!$L$2:$L$"&COUNTA(Essais!$A:$A)))),"")} | H31: {=IFERROR(INDEX(OFFSET(INDIRECT("Essais!$b$2:$b$"&COUNTA(Essais!$A:$A)),0,COLUMNS($A:F)),MATCH($L31,INDIRECT("Essais!$L$2:$L$"&COUNTA(Essais!$A:$A)))),"")} | I31: {=IFERROR(INDEX(OFFSET(INDIRECT("Essais!$b$2:$b$"&COUNTA(Essais!$A:$A)),0,COLUMNS($A:G)),MATCH($L31,INDIRECT("Essais!$L$2:$L$"&COUNTA(Essais!$A:$A)))),"")} | J31: {=IFERROR(INDEX(OFFSET(INDIRECT("Essais!$b$2:$b$"&COUNTA(Essais!$A:$A)),0,COLUMNS($A:H)),MATCH($L31,INDIRECT("Essais!$L$2:$L$"&COUNTA(Essais!$A:$A)))),"")} | K31: {=IFERROR(INDEX(OFFSET(INDIRECT("Essais!$b$2:$b$"&COUNTA(Essais!$A:$A)),0,COLUMNS($A:I)),MATCH($L31,INDIRECT("Essais!$L$2:$L$"&COUNTA(Essais!$A:$A)))),"")} | L31: {=IFERROR(INDEX(INDIRECT("Essais!$L$2:$L$"&COUNTA(Essais!$A:$A)),SMALL(IF(LEFT(INDIRECT("Essais!$L$2:$L$"&COUNTA(Essais!$A:$A)),2)="di",ROW(INDIRECT("$1:$"&COUNTA(Essais!$A:$A)-1))),ROWS($1:30))),"")}
C32: {=IFERROR(INDEX(OFFSET(INDIRECT("Essais!$b$2:$b$"&COUNTA(Essais!$A:$A)),0,COLUMNS($A:A)),MATCH($L32,INDIRECT("Essais!$L$2:$L$"&COUNTA(Essais!$A:$A)))),"")} | D32: {=IFERROR(INDEX(OFFSET(INDIRECT("Essais!$b$2:$b$"&COUNTA(Essais!$A:$A)),0,COLUMNS($A:B)),MATCH($L32,INDIRECT("Essais!$L$2:$L$"&COUNTA(Essais!$A:$A)))),"")} | E32: {=IFERROR(INDEX(OFFSET(INDIRECT("Essais!$b$2:$b$"&COUNTA(Essais!$A:$A)),0,COLUMNS($A:C)),MATCH($L32,INDIRECT("Essais!$L$2:$L$"&COUNTA(Essais!$A:$A)))),"")} | F32: {=IFERROR(INDEX(OFFSET(INDIRECT("Essais!$b$2:$b$"&COUNTA(Essais!$A:$A)),0,COLUMNS($A:D)),MATCH($L32,INDIRECT("Essais!$L$2:$L$"&COUNTA(Essais!$A:$A)))),"")} | G32: {=IFERROR(INDEX(OFFSET(INDIRECT("Essais!$b$2:$b$"&COUNTA(Essais!$A:$A)),0,COLUMNS($A:E)),MATCH($L32,INDIRECT("Essais!$L$2:$L$"&COUNTA(Essais!$A:$A)))),"")} | H32: {=IFERROR(INDEX(OFFSET(INDIRECT("Essais!$b$2:$b$"&COUNTA(Essais!$A:$A)),0,COLUMNS($A:F)),MATCH($L32,INDIRECT("Essais!$L$2:$L$"&COUNTA(Essais!$A:$A)))),"")} | I32: {=IFERROR(INDEX(OFFSET(INDIRECT("Essais!$b$2:$b$"&COUNTA(Essais!$A:$A)),0,COLUMNS($A:G)),MATCH($L32,INDIRECT("Essais!$L$2:$L$"&COUNTA(Essais!$A:$A)))),"")} | J32: {=IFERROR(INDEX(OFFSET(INDIRECT("Essais!$b$2:$b$"&COUNTA(Essais!$A:$A)),0,COLUMNS($A:H)),MATCH($L32,INDIRECT("Essais!$L$2:$L$"&COUNTA(Essais!$A:$A)))),"")} | K32: {=IFERROR(INDEX(OFFSET(INDIRECT("Essais!$b$2:$b$"&COUNTA(Essais!$A:$A)),0,COLUMNS($A:I)),MATCH($L32,INDIRECT("Essais!$L$2:$L$"&COUNTA(Essais!$A:$A)))),"")} | L32: {=IFERROR(INDEX(INDIRECT("Essais!$L$2:$L$"&COUNTA(Essais!$A:$A)),SMALL(IF(LEFT(INDIRECT("Essais!$L$2:$L$"&COUNTA(Essais!$A:$A)),2)="di",ROW(INDIRECT("$1:$"&COUNTA(Essais!$A:$A)-1))),ROWS($1:31))),"")}
C33: {=IFERROR(INDEX(OFFSET(INDIRECT("Essais!$b$2:$b$"&COUNTA(Essais!$A:$A)),0,COLUMNS($A:A)),MATCH($L33,INDIRECT("Essais!$L$2:$L$"&COUNTA(Essais!$A:$A)))),"")} | D33: {=IFERROR(INDEX(OFFSET(INDIRECT("Essais!$b$2:$b$"&COUNTA(Essais!$A:$A)),0,COLUMNS($A:B)),MATCH($L33,INDIRECT("Essais!$L$2:$L$"&COUNTA(Essais!$A:$A)))),"")} | E33: {=IFERROR(INDEX(OFFSET(INDIRECT("Essais!$b$2:$b$"&COUNTA(Essais!$A:$A)),0,COLUMNS($A:C)),MATCH($L33,INDIRECT("Essais!$L$2:$L$"&COUNTA(Essais!$A:$A)))),"")} | F33: {=IFERROR(INDEX(OFFSET(INDIRECT("Essais!$b$2:$b$"&COUNTA(Essais!$A:$A)),0,COLUMNS($A:D)),MATCH($L33,INDIRECT("Essais!$L$2:$L$"&COUNTA(Essais!$A:$A)))),"")} | G33: {=IFERROR(INDEX(OFFSET(INDIRECT("Essais!$b$2:$b$"&COUNTA(Essais!$A:$A)),0,COLUMNS($A:E)),MATCH($L33,INDIRECT("Essais!$L$2:$L$"&COUNTA(Essais!$A:$A)))),"")} | H33: {=IFERROR(INDEX(OFFSET(INDIRECT("Essais!$b$2:$b$"&COUNTA(Essais!$A:$A)),0,COLUMNS($A:F)),MATCH($L33,INDIRECT("Essais!$L$2:$L$"&COUNTA(Essais!$A:$A)))),"")} | I33: {=IFERROR(INDEX(OFFSET(INDIRECT("Essais!$b$2:$b$"&COUNTA(Essais!$A:$A)),0,COLUMNS($A:G)),MATCH($L33,INDIRECT("Essais!$L$2:$L$"&COUNTA(Essais!$A:$A)))),"")} | J33: {=IFERROR(INDEX(OFFSET(INDIRECT("Essais!$b$2:$b$"&COUNTA(Essais!$A:$A)),0,COLUMNS($A:H)),MATCH($L33,INDIRECT("Essais!$L$2:$L$"&COUNTA(Essais!$A:$A)))),"")} | K33: {=IFERROR(INDEX(OFFSET(INDIRECT("Essais!$b$2:$b$"&COUNTA(Essais!$A:$A)),0,COLUMNS($A:I)),MATCH($L33,INDIRECT("Essais!$L$2:$L$"&COUNTA(Essais!$A:$A)))),"")} | L33: {=IFERROR(INDEX(INDIRECT("Essais!$L$2:$L$"&COUNTA(Essais!$A:$A)),SMALL(IF(LEFT(INDIRECT("Essais!$L$2:$L$"&COUNTA(Essais!$A:$A)),2)="di",ROW(INDIRECT("$1:$"&COUNTA(Essais!$A:$A)-1))),ROWS($1:32))),"")}
C34: {=IFERROR(INDEX(OFFSET(INDIRECT("Essais!$b$2:$b$"&COUNTA(Essais!$A:$A)),0,COLUMNS($A:A)),MATCH($L34,INDIRECT("Essais!$L$2:$L$"&COUNTA(Essais!$A:$A)))),"")} | D34: {=IFERROR(INDEX(OFFSET(INDIRECT("Essais!$b$2:$b$"&COUNTA(Essais!$A:$A)),0,COLUMNS($A:B)),MATCH($L34,INDIRECT("Essais!$L$2:$L$"&COUNTA(Essais!$A:$A)))),"")} | E34: {=IFERROR(INDEX(OFFSET(INDIRECT("Essais!$b$2:$b$"&COUNTA(Essais!$A:$A)),0,COLUMNS($A:C)),MATCH($L34,INDIRECT("Essais!$L$2:$L$"&COUNTA(Essais!$A:$A)))),"")} | F34: {=IFERROR(INDEX(OFFSET(INDIRECT("Essais!$b$2:$b$"&COUNTA(Essais!$A:$A)),0,COLUMNS($A:D)),MATCH($L34,INDIRECT("Essais!$L$2:$L$"&COUNTA(Essais!$A:$A)))),"")} | G34: {=IFERROR(INDEX(OFFSET(INDIRECT("Essais!$b$2:$b$"&COUNTA(Essais!$A:$A)),0,COLUMNS($A:E)),MATCH($L34,INDIRECT("Essais!$L$2:$L$"&COUNTA(Essais!$A:$A)))),"")} | H34: {=IFERROR(INDEX(OFFSET(INDIRECT("Essais!$b$2:$b$"&COUNTA(Essais!$A:$A)),0,COLUMNS($A:F)),MATCH($L34,INDIRECT("Essais!$L$2:$L$"&COUNTA(Essais!$A:$A)))),"")} | I34: {=IFERROR(INDEX(OFFSET(INDIRECT("Essais!$b$2:$b$"&COUNTA(Essais!$A:$A)),0,COLUMNS($A:G)),MATCH($L34,INDIRECT("Essais!$L$2:$L$"&COUNTA(Essais!$A:$A)))),"")} | J34: {=IFERROR(INDEX(OFFSET(INDIRECT("Essais!$b$2:$b$"&COUNTA(Essais!$A:$A)),0,COLUMNS($A:H)),MATCH($L34,INDIRECT("Essais!$L$2:$L$"&COUNTA(Essais!$A:$A)))),"")} | K34: {=IFERROR(INDEX(OFFSET(INDIRECT("Essais!$b$2:$b$"&COUNTA(Essais!$A:$A)),0,COLUMNS($A:I)),MATCH($L34,INDIRECT("Essais!$L$2:$L$"&COUNTA(Essais!$A:$A)))),"")} | L34: {=IFERROR(INDEX(INDIRECT("Essais!$L$2:$L$"&COUNTA(Essais!$A:$A)),SMALL(IF(LEFT(INDIRECT("Essais!$L$2:$L$"&COUNTA(Essais!$A:$A)),2)="di",ROW(INDIRECT("$1:$"&COUNTA(Essais!$A:$A)-1))),ROWS($1:33))),"")}
C35: {=IFERROR(INDEX(OFFSET(INDIRECT("Essais!$b$2:$b$"&COUNTA(Essais!$A:$A)),0,COLUMNS($A:A)),MATCH($L35,INDIRECT("Essais!$L$2:$L$"&COUNTA(Essais!$A:$A)))),"")} | D35: {=IFERROR(INDEX(OFFSET(INDIRECT("Essais!$b$2:$b$"&COUNTA(Essais!$A:$A)),0,COLUMNS($A:B)),MATCH($L35,INDIRECT("Essais!$L$2:$L$"&COUNTA(Essais!$A:$A)))),"")} | E35: {=IFERROR(INDEX(OFFSET(INDIRECT("Essais!$b$2:$b$"&COUNTA(Essais!$A:$A)),0,COLUMNS($A:C)),MATCH($L35,INDIRECT("Essais!$L$2:$L$"&COUNTA(Essais!$A:$A)))),"")} | F35: {=IFERROR(INDEX(OFFSET(INDIRECT("Essais!$b$2:$b$"&COUNTA(Essais!$A:$A)),0,COLUMNS($A:D)),MATCH($L35,INDIRECT("Essais!$L$2:$L$"&COUNTA(Essais!$A:$A)))),"")} | G35: {=IFERROR(INDEX(OFFSET(INDIRECT("Essais!$b$2:$b$"&COUNTA(Essais!$A:$A)),0,COLUMNS($A:E)),MATCH($L35,INDIRECT("Essais!$L$2:$L$"&COUNTA(Essais!$A:$A)))),"")} | H35: {=IFERROR(INDEX(OFFSET(INDIRECT("Essais!$b$2:$b$"&COUNTA(Essais!$A:$A)),0,COLUMNS($A:F)),MATCH($L35,INDIRECT("Essais!$L$2:$L$"&COUNTA(Essais!$A:$A)))),"")} | I35: {=IFERROR(INDEX(OFFSET(INDIRECT("Essais!$b$2:$b$"&COUNTA(Essais!$A:$A)),0,COLUMNS($A:G)),MATCH($L35,INDIRECT("Essais!$L$2:$L$"&COUNTA(Essais!$A:$A)))),"")} | J35: {=IFERROR(INDEX(OFFSET(INDIRECT("Essais!$b$2:$b$"&COUNTA(Essais!$A:$A)),0,COLUMNS($A:H)),MATCH($L35,INDIRECT("Essais!$L$2:$L$"&COUNTA(Essais!$A:$A)))),"")} | K35: {=IFERROR(INDEX(OFFSET(INDIRECT("Essais!$b$2:$b$"&COUNTA(Essais!$A:$A)),0,COLUMNS($A:I)),MATCH($L35,INDIRECT("Essais!$L$2:$L$"&COUNTA(Essais!$A:$A)))),"")} | L35: {=IFERROR(INDEX(INDIRECT("Essais!$L$2:$L$"&COUNTA(Essais!$A:$A)),SMALL(IF(LEFT(INDIRECT("Essais!$L$2:$L$"&COUNTA(Essais!$A:$A)),2)="di",ROW(INDIRECT("$1:$"&COUNTA(Essais!$A:$A)-1))),ROWS($1:34))),"")}
C36: {=IFERROR(INDEX(OFFSET(INDIRECT("Essais!$b$2:$b$"&COUNTA(Essais!$A:$A)),0,COLUMNS($A:A)),MATCH($L36,INDIRECT("Essais!$L$2:$L$"&COUNTA(Essais!$A:$A)))),"")} | D36: {=IFERROR(INDEX(OFFSET(INDIRECT("Essais!$b$2:$b$"&COUNTA(Essais!$A:$A)),0,COLUMNS($A:B)),MATCH($L36,INDIRECT("Essais!$L$2:$L$"&COUNTA(Essais!$A:$A)))),"")} | E36: {=IFERROR(INDEX(OFFSET(INDIRECT("Essais!$b$2:$b$"&COUNTA(Essais!$A:$A)),0,COLUMNS($A:C)),MATCH($L36,INDIRECT("Essais!$L$2:$L$"&COUNTA(Essais!$A:$A)))),"")} | F36: {=IFERROR(INDEX(OFFSET(INDIRECT("Essais!$b$2:$b$"&COUNTA(Essais!$A:$A)),0,COLUMNS($A:D)),MATCH($L36,INDIRECT("Essais!$L$2:$L$"&COUNTA(Essais!$A:$A)))),"")} | G36: {=IFERROR(INDEX(OFFSET(INDIRECT("Essais!$b$2:$b$"&COUNTA(Essais!$A:$A)),0,COLUMNS($A:E)),MATCH($L36,INDIRECT("Essais!$L$2:$L$"&COUNTA(Essais!$A:$A)))),"")} | H36: {=IFERROR(INDEX(OFFSET(INDIRECT("Essais!$b$2:$b$"&COUNTA(Essais!$A:$A)),0,COLUMNS($A:F)),MATCH($L36,INDIRECT("Essais!$L$2:$L$"&COUNTA(Essais!$A:$A)))),"")} | I36: {=IFERROR(INDEX(OFFSET(INDIRECT("Essais!$b$2:$b$"&COUNTA(Essais!$A:$A)),0,COLUMNS($A:G)),MATCH($L36,INDIRECT("Essais!$L$2:$L$"&COUNTA(Essais!$A:$A)))),"")} | J36: {=IFERROR(INDEX(OFFSET(INDIRECT("Essais!$b$2:$b$"&COUNTA(Essais!$A:$A)),0,COLUMNS($A:H)),MATCH($L36,INDIRECT("Essais!$L$2:$L$"&COUNTA(Essais!$A:$A)))),"")} | K36: {=IFERROR(INDEX(OFFSET(INDIRECT("Essais!$b$2:$b$"&COUNTA(Essais!$A:$A)),0,COLUMNS($A:I)),MATCH($L36,INDIRECT("Essais!$L$2:$L$"&COUNTA(Essais!$A:$A)))),"")} | L36: {=IFERROR(INDEX(INDIRECT("Essais!$L$2:$L$"&COUNTA(Essais!$A:$A)),SMALL(IF(LEFT(INDIRECT("Essais!$L$2:$L$"&COUNTA(Essais!$A:$A)),2)="di",ROW(INDIRECT("$1:$"&COUNTA(Essais!$A:$A)-1))),ROWS($1:35))),"")}
