Workbook

Sheet Essais
A1: Découvrete | B1: apparition | C1: N° | D1: Lieu | E1: Type | F1: Code | G1: Equipe | H1: Grave | I1: code | J1: défaut | K1: Distant | L1: Observations | M1: Doublon
A2: 42381.149 | B2: 42381.149 | C2: 123456789 | D2: ABC | E2: L | F2: A | G2: B | H2: 1 | I2: M | J2: HS | K2: Oui | L2: RAS | M2: =IF(A2=A1,"Doublon","Ok") -> Ok
A3: 42382.185 | B3: 42382.185 | C3: 987654321 | D3: CBA | E3: M | F3: C | G3: D | H3: 2 | I3: L | J3: SH | K3: Non | L3: DI N°XXXX | M3: =IF(A3=A2,"Doublon","Ok") -> Ok
A4: 42383.149 | B4: 42383.149 | C4: 951357460 | D4: DEF | E4: S | F4: G | G4: T | H4: 1 | I4: E | J4: HJ | K4: Oui | L4: Bon | M4: =IF(A4=A3,"Doublon","Ok") -> Ok
A5: 42384.149 | B5: 42383.149 | C5: 222222222 | D5: kkk | E5: k | F5: k | G5: k | H5: 2 | I5: k | J5: kk | K5: non | L5: DI N°YYYY | M5: =IF(A5=A4,"Doublon","Ok") -> Ok
A6: 42385.149 | B6: 42383.149 | C6: 333222111 | D6: ùùù | E6: ù | F6: ù | G6: ù | H6: 1 | I6: ù | J6: ùù | K6: Oui | L6: DI N°wYYw | M6: =IF(A6=A5,"Doublon","Ok") -> Ok

Sheet test
A1: Découvrete | B1: apparition | C1: N° | D1: Lieu | E1: Type | F1: Code | G1: Equipe | H1: Grave | I1: code | J1: défaut | K1: Distant | L1: Observations
C2: {=IFERROR(INDEX(OFFSET(INDIRECT("Essais!$b$2:$b$"&COUNTA(Essais!$A:$A)),0,COLUMNS($A:A)),MATCH($L2,INDIRECT("Essais!$L$2:$L$"&COUNTA(Essais!$A:$A)))),"")} -> 951357460 | D2: {=IFERROR(INDEX(OFFSET(INDIRECT("Essais!$b$2:$b$"&COUNTA(Essais!$A:$A)),0,COLUMNS($A:B)),MATCH($L2,INDIRECT("Essais!$L$2:$L$"&COUNTA(Essais!$A:$A)))),"")} -> DEF | E2: {=IFERROR(INDEX(OFFSET(INDIRECT("Essais!$b$2:$b$"&COUNTA(Essais!$A:$A)),0,COLUMNS($A:C)),MATCH($L2,INDIRECT("Essais!$L$2:$L$"&COUNTA(Essais!$A:$A)))),"")} -> S | F2: {=IFERROR(INDEX(OFFSET(INDIRECT("Essais!$b$2:$b$"&COUNTA(Essais!$A:$A)),0,COLUMNS($A:D)),MATCH($L2,INDIRECT("Essais!$L$2:$L$"&COUNTA(Essais!$A:$A)))),"")} -> G | G2: {=IFERROR(INDEX(OFFSET(INDIRECT("Essais!$b$2:$b$"&COUNTA(Essais!$A:$A)),0,COLUMNS($A:E)),MATCH($L2,INDIRECT("Essais!$L$2:$L$"&COUNTA(Essais!$A:$A)))),"")} -> T | H2: {=IFERROR(INDEX(OFFSET(INDIRECT("Essais!$b$2:$b$"&COUNTA(Essais!$A:$A)),0,COLUMNS($A:F)),MATCH($L2,INDIRECT("Essais!$L$2:$L$"&COUNTA(Essais!$A:$A)))),"")} -> 1 | I2: {=IFERROR(INDEX(OFFSET(INDIRECT("Essais!$b$2:$b$"&COUNTA(Essais!$A:$A)),0,COLUMNS($A:G)),MATCH($L2,INDIRECT("Essais!$L$2:$L$"&COUNTA(Essais!$A:$A)))),"")} -> E | J2: {=IFERROR(INDEX(OFFSET(INDIRECT("Essais!$b$2:$b$"&COUNTA(Essais!$A:$A)),0,COLUMNS($A:H)),MATCH($L2,INDIRECT("Essais!$L$2:$L$"&COUNTA(Essais!$A:$A)))),"")} -> HJ | K2: {=IFERROR(INDEX(OFFSET(INDIRECT("Essais!$b$2:$b$"&COUNTA(Essais!$A:$A)),0,COLUMNS($A:I)),MATCH($L2,INDIRECT("Essais!$L$2:$L$"&COUNTA(Essais!$A:$A)))),"")} -> Oui | L2: {=IFERROR(INDEX(INDIRECT("Essais!$L$2:$L$"&COUNTA(Essais!$A:$A)),SMALL(IF(LEFT(INDIRECT("Essais!$L$2:$L$"&COUNTA(Essais!$A:$A)),2)="di",ROW(INDIRECT("$1:$"&COUNTA(Essais!$A:$A)-1))),ROWS($1:1))),"")} -> DI N°XXXX
C3: {=IFERROR(INDEX(OFFSET(INDIRECT("Essais!$b$2:$b$"&COUNTA(Essais!$A:$A)),0,COLUMNS($A:A)),MATCH($L3,INDIRECT("Essais!$L$2:$L$"&COUNTA(Essais!$A:$A)))),"")} -> 222222222 | D3: {=IFERROR(INDEX(OFFSET(INDIRECT("Essais!$b$2:$b$"&COUNTA(Essais!$A:$A)),0,COLUMNS($A:B)),MATCH($L3,INDIRECT("Essais!$L$2:$L$"&COUNTA(Essais!$A:$A)))),"")} -> kkk | E3: {=IFERROR(INDEX(OFFSET(INDIRECT("Essais!$b$2:$b$"&COUNTA(Essais!$A:$A)),0,COLUMNS($A:C)),MATCH($L3,INDIRECT("Essais!$L$2:$L$"&COUNTA(Essais!$A:$A)))),"")} -> k | F3: {=IFERROR(INDEX(OFFSET(INDIRECT("Essais!$b$2:$b$"&COUNTA(Essais!$A:$A)),0,COLUMNS($A:D)),MATCH($L3,INDIRECT("Essais!$L$2:$L$"&COUNTA(Essais!$A:$A)))),"")} -> k | G3: {=IFERROR(INDEX(OFFSET(INDIRECT("Essais!$b$2:$b$"&COUNTA(Essais!$A:$A)),0,COLUMNS($A:E)),MATCH($L3,INDIRECT("Essais!$L$2:$L$"&COUNTA(Essais!$A:$A)))),"")} -> k | H3: {=IFERROR(INDEX(OFFSET(INDIRECT("Essais!$b$2:$b$"&COUNTA(Essais!$A:$A)),0,COLUMNS($A:F)),MATCH($L3,INDIRECT("Essais!$L$2:$L$"&COUNTA(Essais!$A:$A)))),"")} -> 2 | I3: {=IFERROR(INDEX(OFFSET(INDIRECT("Essais!$b$2:$b$"&COUNTA(Essais!$A:$A)),0,COLUMNS($A:G)),MATCH($L3,INDIRECT("Essais!$L$2:$L$"&COUNTA(Essais!$A:$A)))),"")} -> k | J3: {=IFERROR(INDEX(OFFSET(INDIRECT("Essais!$b$2:$b$"&COUNTA(Essais!$A:$A)),0,COLUMNS($A:H)),MATCH($L3,INDIRECT("Essais!$L$2:$L$"&COUNTA(Essais!$A:$A)))),"")} -> kk | K3: {=IFERROR(INDEX(OFFSET(INDIRECT("Essais!$b$2:$b$"&COUNTA(Essais!$A:$A)),0,COLUMNS($A:I)),MATCH($L3,INDIRECT("Essais!$L$2:$L$"&COUNTA(Essais!$A:$A)))),"")} -> non | L3: {=IFERROR(INDEX(INDIRECT("Essais!$L$2:$L$"&COUNTA(Essais!$A:$A)),SMALL(IF(LEFT(INDIRECT("Essais!$L$2:$L$"&COUNTA(Essais!$A:$A)),2)="di",ROW(INDIRECT("$1:$"&COUNTA(Essais!$A:$A)-1))),ROWS($1:2))),"")} -> DI N°YYYY
C4: {=IFERROR(INDEX(OFFSET(INDIRECT("Essais!$b$2:$b$"&COUNTA(Essais!$A:$A)),0,COLUMNS($A:A)),MATCH($L4,INDIRECT("Essais!$L$2:$L$"&COUNTA(Essais!$A:$A)))),"")} -> 951357460 | D4: {=IFERROR(INDEX(OFFSET(INDIRECT("Essais!$b$2:$b$"&COUNTA(Essais!$A:$A)),0,COLUMNS($A:B)),MATCH($L4,INDIRECT("Essais!$L$2:$L$"&COUNTA(Essais!$A:$A)))),"")} -> DEF | E4: {=IFERROR(INDEX(OFFSET(INDIRECT("Essais!$b$2:$b$"&COUNTA(Essais!$A:$A)),0,COLUMNS($A:C)),MATCH($L4,INDIRECT("Essais!$L$2:$L$"&COUNTA(Essais!$A:$A)))),"")} -> S | F4: {=IFERROR(INDEX(OFFSET(INDIRECT("Essais!$b$2:$b$"&COUNTA(Essais!$A:$A)),0,COLUMNS($A:D)),MATCH($L4,INDIRECT("Essais!$L$2:$L$"&COUNTA(Essais!$A:$A)))),"")} -> G | G4: {=IFERROR(INDEX(OFFSET(INDIRECT("Essais!$b$2:$b$"&COUNTA(Essais!$A:$A)),0,COLUMNS($A:E)),MATCH($L4,INDIRECT("Essais!$L$2:$L$"&COUNTA(Essais!$A:$A)))),"")} -> T | H4: {=IFERROR(INDEX(OFFSET(INDIRECT("Essais!$b$2:$b$"&COUNTA(Essais!$A:$A)),0,COLUMNS($A:F)),MATCH($L4,INDIRECT("Essais!$L$2:$L$"&COUNTA(Essais!$A:$A)))),"")} -> 1 | I4: {=IFERROR(INDEX(OFFSET(INDIRECT("Essais!$b$2:$b$"&COUNTA(Essais!$A:$A)),0,COLUMNS($A:G)),MATCH($L4,INDIRECT("Essais!$L$2:$L$"&COUNTA(Essais!$A:$A)))),"")} -> E | J4: {=IFERROR(INDEX(OFFSET(INDIRECT("Essais!$b$2:$b$"&COUNTA(Essais!$A:$A)),0,COLUMNS($A:H)),MATCH($L4,INDIRECT("Essais!$L$2:$L$"&COUNTA(Essais!$A:$A)))),"")} -> HJ | K4: {=IFERROR(INDEX(OFFSET(INDIRECT("Essais!$b$2:$b$"&COUNTA(Essais!$A:$A)),0,COLUMNS($A:I)),MATCH($L4,INDIRECT("Essais!$L$2:$L$"&COUNTA(Essais!$A:$A)))),"")} -> Oui | L4: {=IFERROR(INDEX(INDIRECT("Essais!$L$2:$L$"&COUNTA(Essais!$A:$A)),SMALL(IF(LEFT(INDIRECT("Essais!$L$2:$L$"&COUNTA(Essais!$A:$A)),2)="di",ROW(INDIRECT("$1:$"&COUNTA(Essais!$A:$A)-1))),ROWS($1:3))),"")} -> DI N°wYYw
C5: {=IFERROR(INDEX(OFFSET(INDIRECT("Essais!$b$2:$b$"&COUNTA(Essais!$A:$A)),0,COLUMNS($A:A)),MATCH($L5,INDIRECT("Essais!$L$2:$L$"&COUNTA(Essais!$A:$A)))),"")} | D5: {=IFERROR(INDEX(OFFSET(INDIRECT("Essais!$b$2:$b$"&COUNTA(Essais!$A:$A)),0,COLUMNS($A:B)),MATCH($L5,INDIRECT("Essais!$L$2:$L$"&COUNTA(Essais!$A:$A)))),"")} | E5: {=IFERROR(INDEX(OFFSET(INDIRECT("Essais!$b$2:$b$"&COUNTA(Essais!$A:$A)),0,COLUMNS($A:C)),MATCH($L5,INDIRECT("Essais!$L$2:$L$"&COUNTA(Essais!$A:$A)))),"")} | F5: {=IFERROR(INDEX(OFFSET(INDIRECT("Essais!$b$2:$b$"&COUNTA(Essais!$A:$A)),0,COLUMNS($A:D)),MATCH($L5,INDIRECT("Essais!$L$2:$L$"&COUNTA(Essais!$A:$A)))),"")} | G5: {=IFERROR(INDEX(OFFSET(INDIRECT("Essais!$b$2:$b$"&COUNTA(Essais!$A:$A)),0,COLUMNS($A:E)),MATCH($L5,INDIRECT("Essais!$L$2:$L$"&COUNTA(Essais!$A:$A)))),"")} | H5: {=IFERROR(INDEX(OFFSET(INDIRECT("Essais!$b$2:$b$"&COUNTA(Essais!$A:$A)),0,COLUMNS($A:F)),MATCH($L5,INDIRECT("Essais!$L$2:$L$"&COUNTA(Essais!$A:$A)))),"")} | I5: {=IFERROR(INDEX(OFFSET(INDIRECT("Essais!$b$2:$b$"&COUNTA(Essais!$A:$A)),0,COLUMNS($A:G)),MATCH($L5,INDIRECT("Essais!$L$2:$L$"&COUNTA(Essais!$A:$A)))),"")} | J5: {=IFERROR(INDEX(OFFSET(INDIRECT("Essais!$b$2:$b$"&COUNTA(Essais!$A:$A)),0,COLUMNS($A:H)),MATCH($L5,INDIRECT("Essais!$L$2:$L$"&COUNTA(Essais!$A:$A)))),"")} | K5: {=IFERROR(INDEX(OFFSET(INDIRECT("Essais!$b$2:$b$"&COUNTA(Essais!$A:$A)),0,COLUMNS($A:I)),MATCH($L5,INDIRECT("Essais!$L$2:$L$"&COUNTA(Essais!$A:$A)))),"")} | L5: {=IFERROR(INDEX(INDIRECT("Essais!$L$2:$L$"&COUNTA(Essais!$A:$A)),SMALL(IF(LEFT(INDIRECT("Essais!$L$2:$L$"&COUNTA(Essais!$A:$A)),2)="di",ROW(INDIRECT("$1:$"&COUNTA(Essais!$A:$A)-1))),ROWS($1:4))),"")}
C6: {=IFERROR(INDEX(OFFSET(INDIRECT("Essais!$b$2:$b$"&COUNTA(Essais!$A:$A)),0,COLUMNS($A:A)),MATCH($L6,INDIRECT("Essais!$L$2:$L$"&COUNTA(Essais!$A:$A)))),"")} | D6: {=IFERROR(INDEX(OFFSET(INDIRECT("Essais!$b$2:$b$"&COUNTA(Essais!$A:$A)),0,COLUMNS($A:B)),MATCH($L6,INDIRECT("Essais!$L$2:$L$"&COUNTA(Essais!$A:$A)))),"")} | E6: {=IFERROR(INDEX(OFFSET(INDIRECT("Essais!$b$2:$b$"&COUNTA(Essais!$A:$A)),0,COLUMNS($A:C)),MATCH($L6,INDIRECT("Essais!$L$2:$L$"&COUNTA(Essais!$A:$A)))),"")} | F6: {=IFERROR(INDEX(OFFSET(INDIRECT("Essais!$b$2:$b$"&COUNTA(Essais!$A:$A)),0,COLUMNS($A:D)),MATCH($L6,INDIRECT("Essais!$L$2:$L$"&COUNTA(Essais!$A:$A)))),"")} | G6: {=IFERROR(INDEX(OFFSET(INDIRECT("Essais!$b$2:$b$"&COUNTA(Essais!$A:$A)),0,COLUMNS($A:E)),MATCH($L6,INDIRECT("Essais!$L$2:$L$"&COUNTA(Essais!$A:$A)))),"")} | H6: {=IFERROR(INDEX(OFFSET(INDIRECT("Essais!$b$2:$b$"&COUNTA(Essais!$A:$A)),0,COLUMNS($A:F)),MATCH($L6,INDIRECT("Essais!$L$2:$L$"&COUNTA(Essais!$A:$A)))),"")} | I6: {=IFERROR(INDEX(OFFSET(INDIRECT("Essais!$b$2:$b$"&COUNTA(Essais!$A:$A)),0,COLUMNS($A:G)),MATCH($L6,INDIRECT("Essais!$L$2:$L$"&COUNTA(Essais!$A:$A)))),"")} | J6: {=IFERROR(INDEX(OFFSET(INDIRECT("Essais!$b$2:$b$"&COUNTA(Essais!$A:$A)),0,COLUMNS($A:H)),MATCH($L6,INDIRECT("Essais!$L$2:$L$"&COUNTA(Essais!$A:$A)))),"")} | K6: {=IFERROR(INDEX(OFFSET(INDIRECT("Essais!$b$2:$b$"&COUNTA(Essais!$A:$A)),0,COLUMNS($A:I)),MATCH($L6,INDIRECT("Essais!$L$2:$L$"&COUNTA(Essais!$A:$A)))),"")} | L6: {=IFERROR(INDEX(INDIRECT("Essais!$L$2:$L$"&COUNTA(Essais!$A:$A)),SMALL(IF(LEFT(INDIRECT("Essais!$L$2:$L$"&COUNTA(Essais!$A:$A)),2)="di",ROW(INDIRECT("$1:$"&COUNTA(Essais!$A:$A)-1))),ROWS($1:5))),"")}
C7: {=IFERROR(INDEX(OFFSET(INDIRECT("Essais!$b$2:$b$"&COUNTA(Essais!$A:$A)),0,COLUMNS($A:A)),MATCH($L7,INDIRECT("Essais!$L$2:$L$"&COUNTA(Essais!$A:$A)))),"")} | D7: {=IFERROR(INDEX(OFFSET(INDIRECT("Essais!$b$2:$b$"&COUNTA(Essais!$A:$A)),0,COLUMNS($A:B)),MATCH($L7,INDIRECT("Essais!$L$2:$L$"&COUNTA(Essais!$A:$A)))),"")} | E7: {=IFERROR(INDEX(OFFSET(INDIRECT("Essais!$b$2:$b$"&COUNTA(Essais!$A:$A)),0,COLUMNS($A:C)),MATCH($L7,INDIRECT("Essais!$L$2:$L$"&COUNTA(Essais!$A:$A)))),"")} | F7: {=IFERROR(INDEX(OFFSET(INDIRECT("Essais!$b$2:$b$"&COUNTA(Essais!$A:$A)),0,COLUMNS($A:D)),MATCH($L7,INDIRECT("Essais!$L$2:$L$"&COUNTA(Essais!$A:$A)))),"")} | G7: {=IFERROR(INDEX(OFFSET(INDIRECT("Essais!$b$2:$b$"&COUNTA(Essais!$A:$A)),0,COLUMNS($A:E)),MATCH($L7,INDIRECT("Essais!$L$2:$L$"&COUNTA(Essais!$A:$A)))),"")} | H7: {=IFERROR(INDEX(OFFSET(INDIRECT("Essais!$b$2:$b$"&COUNTA(Essais!$A:$A)),0,COLUMNS($A:F)),MATCH($L7,INDIRECT("Essais!$L$2:$L$"&COUNTA(Essais!$A:$A)))),"")} | I7: {=IFERROR(INDEX(OFFSET(INDIRECT("Essais!$b$2:$b$"&COUNTA(Essais!$A:$A)),0,COLUMNS($A:G)),MATCH($L7,INDIRECT("Essais!$L$2:$L$"&COUNTA(Essais!$A:$A)))),"")} | J7: {=IFERROR(INDEX(OFFSET(INDIRECT("Essais!$b$2:$b$"&COUNTA(Essais!$A:$A)),0,COLUMNS($A:H)),MATCH($L7,INDIRECT("Essais!$L$2:$L$"&COUNTA(Essais!$A:$A)))),"")} | K7: {=IFERROR(INDEX(OFFSET(INDIRECT("Essais!$b$2:$b$"&COUNTA(Essais!$A:$A)),0,COLUMNS($A:I)),MATCH($L7,INDIRECT("Essais!$L$2:$L$"&COUNTA(Essais!$A:$A)))),"")} | L7: {=IFERROR(INDEX(INDIRECT("Essais!$L$2:$L$"&COUNTA(Essais!$A:$A)),SMALL(IF(LEFT(INDIRECT("Essais!$L$2:$L$"&COUNTA(Essais!$A:$A)),2)="di",ROW(INDIRECT("$1:$"&COUNTA(Essais!$A:$A)-1))),ROWS($1:6))),"")}
C8: {=IFERROR(INDEX(OFFSET(INDIRECT("Essais!$b$2:$b$"&COUNTA(Essais!$A:$A)),0,COLUMNS($A:A)),MATCH($L8,INDIRECT("Essais!$L$2:$L$"&COUNTA(Essais!$A:$A)))),"")} | D8: {=IFERROR(INDEX(OFFSET(INDIRECT("Essais!$b$2:$b$"&COUNTA(Essais!$A:$A)),0,COLUMNS($A:B)),MATCH($L8,INDIRECT("Essais!$L$2:$L$"&COUNTA(Essais!$A:$A)))),"")} | E8: {=IFERROR(INDEX(OFFSET(INDIRECT("Essais!$b$2:$b$"&COUNTA(Essais!$A:$A)),0,COLUMNS($A:C)),MATCH($L8,INDIRECT("Essais!$L$2:$L$"&COUNTA(Essais!$A:$A)))),"")} | F8: {=IFERROR(INDEX(OFFSET(INDIRECT("Essais!$b$2:$b$"&COUNTA(Essais!$A:$A)),0,COLUMNS($A:D)),MATCH($L8,INDIRECT("Essais!$L$2:$L$"&COUNTA(Essais!$A:$A)))),"")} | G8: {=IFERROR(INDEX(OFFSET(INDIRECT("Essais!$b$2:$b$"&COUNTA(Essais!$A:$A)),0,COLUMNS($A:E)),MATCH($L8,INDIRECT("Essais!$L$2:$L$"&COUNTA(Essais!$A:$A)))),"")} | H8: {=IFERROR(INDEX(OFFSET(INDIRECT("Essais!$b$2:$b$"&COUNTA(Essais!$A:$A)),0,COLUMNS($A:F)),MATCH($L8,INDIRECT("Essais!$L$2:$L$"&COUNTA(Essais!$A:$A)))),"")} | I8: {=IFERROR(INDEX(OFFSET(INDIRECT("Essais!$b$2:$b$"&COUNTA(Essais!$A:$A)),0,COLUMNS($A:G)),MATCH($L8,INDIRECT("Essais!$L$2:$L$"&COUNTA(Essais!$A:$A)))),"")} | J8: {=IFERROR(INDEX(OFFSET(INDIRECT("Essais!$b$2:$b$"&COUNTA(Essais!$A:$A)),0,COLUMNS($A:H)),MATCH($L8,INDIRECT("Essais!$L$2:$L$"&COUNTA(Essais!$A:$A)))),"")} | K8: {=IFERROR(INDEX(OFFSET(INDIRECT("Essais!$b$2:$b$"&COUNTA(Essais!$A:$A)),0,COLUMNS($A:I)),MATCH($L8,INDIRECT("Essais!$L$2:$L$"&COUNTA(Essais!$A:$A)))),"")} | L8: {=IFERROR(INDEX(INDIRECT("Essais!$L$2:$L$"&COUNTA(Essais!$A:$A)),SMALL(IF(LEFT(INDIRECT("Essais!$L$2:$L$"&COUNTA(Essais!$A:$A)),2)="di",ROW(INDIRECT("$1:$"&COUNTA(Essais!$A:$A)-1))),ROWS($1:7))),"")}
C9: {=IFERROR(INDEX(OFFSET(INDIRECT("Essais!$b$2:$b$"&COUNTA(Essais!$A:$A)),0,COLUMNS($A:A)),MATCH($L9,INDIRECT("Essais!$L$2:$L$"&COUNTA(Essais!$A:$A)))),"")} | D9: {=IFERROR(INDEX(OFFSET(INDIRECT("Essais!$b$2:$b$"&COUNTA(Essais!$A:$A)),0,COLUMNS($A:B)),MATCH($L9,INDIRECT("Essais!$L$2:$L$"&COUNTA(Essais!$A:$A)))),"")} | E9: {=IFERROR(INDEX(OFFSET(INDIRECT("Essais!$b$2:$b$"&COUNTA(Essais!$A:$A)),0,COLUMNS($A:C)),MATCH($L9,INDIRECT("Essais!$L$2:$L$"&COUNTA(Essais!$A:$A)))),"")} | F9: {=IFERROR(INDEX(OFFSET(INDIRECT("Essais!$b$2:$b$"&COUNTA(Essais!$A:$A)),0,COLUMNS($A:D)),MATCH($L9,INDIRECT("Essais!$L$2:$L$"&COUNTA(Essais!$A:$A)))),"")} | G9: {=IFERROR(INDEX(OFFSET(INDIRECT("Essais!$b$2:$b$"&COUNTA(Essais!$A:$A)),0,COLUMNS($A:E)),MATCH($L9,INDIRECT("Essais!$L$2:$L$"&COUNTA(Essais!$A:$A)))),"")} | H9: {=IFERROR(INDEX(OFFSET(INDIRECT("Essais!$b$2:$b$"&COUNTA(Essais!$A:$A)),0,COLUMNS($A:F)),MATCH($L9,INDIRECT("Essais!$L$2:$L$"&COUNTA(Essais!$A:$A)))),"")} | I9: {=IFERROR(INDEX(OFFSET(INDIRECT("Essais!$b$2:$b$"&COUNTA(Essais!$A:$A)),0,COLUMNS($A:G)),MATCH($L9,INDIRECT("Essais!$L$2:$L$"&COUNTA(Essais!$A:$A)))),"")} | J9: {=IFERROR(INDEX(OFFSET(INDIRECT("Essais!$b$2:$b$"&COUNTA(Essais!$A:$A)),0,COLUMNS($A:H)),MATCH($L9,INDIRECT("Essais!$L$2:$L$"&COUNTA(Essais!$A:$A)))),"")} | K9: {=IFERROR(INDEX(OFFSET(INDIRECT("Essais!$b$2:$b$"&COUNTA(Essais!$A:$A)),0,COLUMNS($A:I)),MATCH($L9,INDIRECT("Essais!$L$2:$L$"&COUNTA(Essais!$A:$A)))),"")} | L9: {=IFERROR(INDEX(INDIRECT("Essais!$L$2:$L$"&COUNTA(Essais!$A:$A)),SMALL(IF(LEFT(INDIRECT("Essais!$L$2:$L$"&COUNTA(Essais!$A:$A)),2)="di",ROW(INDIRECT("$1:$"&COUNTA(Essais!$A:$A)-1))),ROWS($1:8))),"")}
C10: {=IFERROR(INDEX(OFFSET(INDIRECT("Essais!$b$2:$b$"&COUNTA(Essais!$A:$A)),0,COLUMNS($A:A)),MATCH($L10,INDIRECT("Essais!$L$2:$L$"&COUNTA(Essais!$A:$A)))),"")} | D10: {=IFERROR(INDEX(OFFSET(INDIRECT("Essais!$b$2:$b$"&COUNTA(Essais!$A:$A)),0,COLUMNS($A:B)),MATCH($L10,INDIRECT("Essais!$L$2:$L$"&COUNTA(Essais!$A:$A)))),"")} | E10: {=IFERROR(INDEX(OFFSET(INDIRECT("Essais!$b$2:$b$"&COUNTA(Essais!$A:$A)),0,COLUMNS($A:C)),MATCH($L10,INDIRECT("Essais!$L$2:$L$"&COUNTA(Essais!$A:$A)))),"")} | F10: {=IFERROR(INDEX(OFFSET(INDIRECT("Essais!$b$2:$b$"&COUNTA(Essais!$A:$A)),0,COLUMNS($A:D)),MATCH($L10,INDIRECT("Essais!$L$2:$L$"&COUNTA(Essais!$A:$A)))),"")} | G10: {=IFERROR(INDEX(OFFSET(INDIRECT("Essais!$b$2:$b$"&COUNTA(Essais!$A:$A)),0,COLUMNS($A:E)),MATCH($L10,INDIRECT("Essais!$L$2:$L$"&COUNTA(Essais!$A:$A)))),"")} | H10: {=IFERROR(INDEX(OFFSET(INDIRECT("Essais!$b$2:$b$"&COUNTA(Essais!$A:$A)),0,COLUMNS($A:F)),MATCH($L10,INDIRECT("Essais!$L$2:$L$"&COUNTA(Essais!$A:$A)))),"")} | I10: {=IFERROR(INDEX(OFFSET(INDIRECT("Essais!$b$2:$b$"&COUNTA(Essais!$A:$A)),0,COLUMNS($A:G)),MATCH($L10,INDIRECT("Essais!$L$2:$L$"&COUNTA(Essais!$A:$A)))),"")} | J10: {=IFERROR(INDEX(OFFSET(INDIRECT("Essais!$b$2:$b$"&COUNTA(Essais!$A:$A)),0,COLUMNS($A:H)),MATCH($L10,INDIRECT("Essais!$L$2:$L$"&COUNTA(Essais!$A:$A)))),"")} | K10: {=IFERROR(INDEX(OFFSET(INDIRECT("Essais!$b$2:$b$"&COUNTA(Essais!$A:$A)),0,COLUMNS($A:I)),MATCH($L10,INDIRECT("Essais!$L$2:$L$"&COUNTA(Essais!$A:$A)))),"")} | L10: {=IFERROR(INDEX(INDIRECT("Essais!$L$2:$L$"&COUNTA(Essais!$A:$A)),SMALL(IF(LEFT(INDIRECT("Essais!$L$2:$L$"&COUNTA(Essais!$A:$A)),2)="di",ROW(INDIRECT("$1:$"&COUNTA(Essais!$A:$A)-1))),ROWS($1:9))),"")}
C11: {=IFERROR(INDEX(OFFSET(INDIRECT("Essais!$b$2:$b$"&COUNTA(Essais!$A:$A)),0,COLUMNS($A:A)),MATCH($L11,INDIRECT("Essais!$L$2:$L$"&COUNTA(Essais!$A:$A)))),"")} | D11: {=IFERROR(INDEX(OFFSET(INDIRECT("Essais!$b$2:$b$"&COUNTA(Essais!$A:$A)),0,COLUMNS($A:B)),MATCH($L11,INDIRECT("Essais!$L$2:$L$"&COUNTA(Essais!$A:$A)))),"")} | E11: {=IFERROR(INDEX(OFFSET(INDIRECT("Essais!$b$2:$b$"&COUNTA(Essais!$A:$A)),0,COLUMNS($A:C)),MATCH($L11,INDIRECT("Essais!$L$2:$L$"&COUNTA(Essais!$A:$A)))),"")} | F11: {=IFERROR(INDEX(OFFSET(INDIRECT("Essais!$b$2:$b$"&COUNTA(Essais!$A:$A)),0,COLUMNS($A:D)),MATCH($L11,INDIRECT("Essais!$L$2:$L$"&COUNTA(Essais!$A:$A)))),"")} | G11: {=IFERROR(INDEX(OFFSET(INDIRECT("Essais!$b$2:$b$"&COUNTA(Essais!$A:$A)),0,COLUMNS($A:E)),MATCH($L11,INDIRECT("Essais!$L$2:$L$"&COUNTA(Essais!$A:$A)))),"")} | H11: {=IFERROR(INDEX(OFFSET(INDIRECT("Essais!$b$2:$b$"&COUNTA(Essais!$A:$A)),0,COLUMNS($A:F)),MATCH($L11,INDIRECT("Essais!$L$2:$L$"&COUNTA(Essais!$A:$A)))),"")} | I11: {=IFERROR(INDEX(OFFSET(INDIRECT("Essais!$b$2:$b$"&COUNTA(Essais!$A:$A)),0,COLUMNS($A:G)),MATCH($L11,INDIRECT("Essais!$L$2:$L$"&COUNTA(Essais!$A:$A)))),"")} | J11: {=IFERROR(INDEX(OFFSET(INDIRECT("Essais!$b$2:$b$"&COUNTA(Essais!$A:$A)),0,COLUMNS($A:H)),MATCH($L11,INDIRECT("Essais!$L$2:$L$"&COUNTA(Essais!$A:$A)))),"")} | K11: {=IFERROR(INDEX(OFFSET(INDIRECT("Essais!$b$2:$b$"&COUNTA(Essais!$A:$A)),0,COLUMNS($A:I)),MATCH($L11,INDIRECT("Essais!$L$2:$L$"&COUNTA(Essais!$A:$A)))),"")} | L11: {=IFERROR(INDEX(INDIRECT("Essais!$L$2:$L$"&COUNTA(Essais!$A:$A)),SMALL(IF(LEFT(INDIRECT("Essais!$L$2:$L$"&COUNTA(Essais!$A:$A)),2)="di",ROW(INDIRECT("$1:$"&COUNTA(Essais!$A:$A)-1))),ROWS($1:10))),"")}
C12: {=IFERROR(INDEX(OFFSET(INDIRECT("Essais!$b$2:$b$"&COUNTA(Essais!$A:$A)),0,COLUMNS($A:A)),MATCH($L12,INDIRECT("Essais!$L$2:$L$"&COUNTA(Essais!$A:$A)))),"")} | D12: {=IFERROR(INDEX(OFFSET(INDIRECT("Essais!$b$2:$b$"&COUNTA(Essais!$A:$A)),0,COLUMNS($A:B)),MATCH($L12,INDIRECT("Essais!$L$2:$L$"&COUNTA(Essais!$A:$A)))),"")} | E12: {=IFERROR(INDEX(OFFSET(INDIRECT("Essais!$b$2:$b$"&COUNTA(Essais!$A:$A)),0,COLUMNS($A:C)),MATCH($L12,INDIRECT("Essais!$L$2:$L$"&COUNTA(Essais!$A:$A)))),"")} | F12: {=IFERROR(INDEX(OFFSET(INDIRECT("Essais!$b$2:$b$"&COUNTA(Essais!$A:$A)),0,COLUMNS($A:D)),MATCH($L12,INDIRECT("Essais!$L$2:$L$"&COUNTA(Essais!$A:$A)))),"")} | G12: {=IFERROR(INDEX(OFFSET(INDIRECT("Essais!$b$2:$b$"&COUNTA(Essais!$A:$A)),0,COLUMNS($A:E)),MATCH($L12,INDIRECT("Essais!$L$2:$L$"&COUNTA(Essais!$A:$A)))),"")} | H12: {=IFERROR(INDEX(OFFSET(INDIRECT("Essais!$b$2:$b$"&COUNTA(Essais!$A:$A)),0,COLUMNS($A:F)),MATCH($L12,INDIRECT("Essais!$L$2:$L$"&COUNTA(Essais!$A:$A)))),"")} | I12: {=IFERROR(INDEX(OFFSET(INDIRECT("Essais!$b$2:$b$"&COUNTA(Essais!$A:$A)),0,COLUMNS($A:G)),MATCH($L12,INDIRECT("Essais!$L$2:$L$"&COUNTA(Essais!$A:$A)))),"")} | J12: {=IFERROR(INDEX(OFFSET(INDIRECT("Essais!$b$2:$b$"&COUNTA(Essais!$A:$A)),0,COLUMNS($A:H)),MATCH($L12,INDIRECT("Essais!$L$2:$L$"&COUNTA(Essais!$A:$A)))),"")} | K12: {=IFERROR(INDEX(OFFSET(INDIRECT("Essais!$b$2:$b$"&COUNTA(Essais!$A:$A)),0,COLUMNS($A:I)),MATCH($L12,INDIRECT("Essais!$L$2:$L$"&COUNTA(Essais!$A:$A)))),"")} | L12: {=IFERROR(INDEX(INDIRECT("Essais!$L$2:$L$"&COUNTA(Essais!$A:$A)),SMALL(IF(LEFT(INDIRECT("Essais!$L$2:$L$"&COUNTA(Essais!$A:$A)),2)="di",ROW(INDIRECT("$1:$"&COUNTA(Essais!$A:$A)-1))),ROWS($1:11))),"")}
C13: {=IFERROR(INDEX(OFFSET(INDIRECT("Essais!$b$2:$b$"&COUNTA(Essais!$A:$A)),0,COLUMNS($A:A)),MATCH($L13,INDIRECT("Essais!$L$2:$L$"&COUNTA(Essais!$A:$A)))),"")} | D13: {=IFERROR(INDEX(OFFSET(INDIRECT("Essais!$b$2:$b$"&COUNTA(Essais!$A:$A)),0,COLUMNS($A:B)),MATCH($L13,INDIRECT("Essais!$L$2:$L$"&COUNTA(Essais!$A:$A)))),"")} | E13: {=IFERROR(INDEX(OFFSET(INDIRECT("Essais!$b$2:$b$"&COUNTA(Essais!$A:$A)),0,COLUMNS($A:C)),MATCH($L13,INDIRECT("Essais!$L$2:$L$"&COUNTA(Essais!$A:$A)))),"")} | F13: {=IFERROR(INDEX(OFFSET(INDIRECT("Essais!$b$2:$b$"&COUNTA(Essais!$A:$A)),0,COLUMNS($A:D)),MATCH($L13,INDIRECT("Essais!$L$2:$L$"&COUNTA(Essais!$A:$A)))),"")} | G13: {=IFERROR(INDEX(OFFSET(INDIRECT("Essais!$b$2:$b$"&COUNTA(Essais!$A:$A)),0,COLUMNS($A:E)),MATCH($L13,INDIRECT("Essais!$L$2:$L$"&COUNTA(Essais!$A:$A)))),"")} | H13: {=IFERROR(INDEX(OFFSET(INDIRECT("Essais!$b$2:$b$"&COUNTA(Essais!$A:$A)),0,COLUMNS($A:F)),MATCH($L13,INDIRECT("Essais!$L$2:$L$"&COUNTA(Essais!$A:$A)))),"")} | I13: {=IFERROR(INDEX(OFFSET(INDIRECT("Essais!$b$2:$b$"&COUNTA(Essais!$A:$A)),0,COLUMNS($A:G)),MATCH($L13,INDIRECT("Essais!$L$2:$L$"&COUNTA(Essais!$A:$A)))),"")} | J13: {=IFERROR(INDEX(OFFSET(INDIRECT("Essais!$b$2:$b$"&COUNTA(Essais!$A:$A)),0,COLUMNS($A:H)),MATCH($L13,INDIRECT("Essais!$L$2:$L$"&COUNTA(Essais!$A:$A)))),"")} | K13: {=IFERROR(INDEX(OFFSET(INDIRECT("Essais!$b$2:$b$"&COUNTA(Essais!$A:$A)),0,COLUMNS($A:I)),MATCH($L13,INDIRECT("Essais!$L$2:$L$"&COUNTA(Essais!$A:$A)))),"")} | L13: {=IFERROR(INDEX(INDIRECT("Essais!$L$2:$L$"&COUNTA(Essais!$A:$A)),SMALL(IF(LEFT(INDIRECT("Essais!$L$2:$L$"&COUNTA(Essais!$A:$A)),2)="di",ROW(INDIRECT("$1:$"&COUNTA(Essais!$A:$A)-1))),ROWS($1:12))),"")}
C14: {=IFERROR(INDEX(OFFSET(INDIRECT("Essais!$b$2:$b$"&COUNTA(Essais!$A:$A)),0,COLUMNS($A:A)),MATCH($L14,INDIRECT("Essais!$L$2:$L$"&COUNTA(Essais!$A:$A)))),"")} | D14: {=IFERROR(INDEX(OFFSET(INDIRECT("Essais!$b$2:$b$"&COUNTA(Essais!$A:$A)),0,COLUMNS($A:B)),MATCH($L14,INDIRECT("Essais!$L$2:$L$"&COUNTA(Essais!$A:$A)))),"")} | E14: {=IFERROR(INDEX(OFFSET(INDIRECT("Essais!$b$2:$b$"&COUNTA(Essais!$A:$A)),0,COLUMNS($A:C)),MATCH($L14,INDIRECT("Essais!$L$2:$L$"&COUNTA(Essais!$A:$A)))),"")} | F14: {=IFERROR(INDEX(OFFSET(INDIRECT("Essais!$b$2:$b$"&COUNTA(Essais!$A:$A)),0,COLUMNS($A:D)),MATCH($L14,INDIRECT("Essais!$L$2:$L$"&COUNTA(Essais!$A:$A)))),"")} | G14: {=IFERROR(INDEX(OFFSET(INDIRECT("Essais!$b$2:$b$"&COUNTA(Essais!$A:$A)),0,COLUMNS($A:E)),MATCH($L14,INDIRECT("Essais!$L$2:$L$"&COUNTA(Essais!$A:$A)))),"")} | H14: {=IFERROR(INDEX(OFFSET(INDIRECT("Essais!$b$2:$b$"&COUNTA(Essais!$A:$A)),0,COLUMNS($A:F)),MATCH($L14,INDIRECT("Essais!$L$2:$L$"&COUNTA(Essais!$A:$A)))),"")} | I14: {=IFERROR(INDEX(OFFSET(INDIRECT("Essais!$b$2:$b$"&COUNTA(Essais!$A:$A)),0,COLUMNS($A:G)),MATCH($L14,INDIRECT("Essais!$L$2:$L$"&COUNTA(Essais!$A:$A)))),"")} | J14: {=IFERROR(INDEX(OFFSET(INDIRECT("Essais!$b$2:$b$"&COUNTA(Essais!$A:$A)),0,COLUMNS($A:H)),MATCH($L14,INDIRECT("Essais!$L$2:$L$"&COUNTA(Essais!$A:$A)))),"")} | K14: {=IFERROR(INDEX(OFFSET(INDIRECT("Essais!$b$2:$b$"&COUNTA(Essais!$A:$A)),0,COLUMNS($A:I)),MATCH($L14,INDIRECT("Essais!$L$2:$L$"&COUNTA(Essais!$A:$A)))),"")} | L14: {=IFERROR(INDEX(INDIRECT("Essais!$L$2:$L$"&COUNTA(Essais!$A:$A)),SMALL(IF(LEFT(INDIRECT("Essais!$L$2:$L$"&COUNTA(Essais!$A:$A)),2)="di",ROW(INDIRECT("$1:$"&COUNTA(Essais!$A:$A)-1))),ROWS($1:13))),"")}
C15: {=IFERROR(INDEX(OFFSET(INDIRECT("Essais!$b$2:$b$"&COUNTA(Essais!$A:$A)),0,COLUMNS($A:A)),MATCH($L15,INDIRECT("Essais!$L$2:$L$"&COUNTA(Essais!$A:$A)))),"")} | D15: {=IFERROR(INDEX(OFFSET(INDIRECT("Essais!$b$2:$b$"&COUNTA(Essais!$A:$A)),0,COLUMNS($A:B)),MATCH($L15,INDIRECT("Essais!$L$2:$L$"&COUNTA(Essais!$A:$A)))),"")} | E15: {=IFERROR(INDEX(OFFSET(INDIRECT("Essais!$b$2:$b$"&COUNTA(Essais!$A:$A)),0,COLUMNS($A:C)),MATCH($L15,INDIRECT("Essais!$L$2:$L$"&COUNTA(Essais!$A:$A)))),"")} | F15: {=IFERROR(INDEX(OFFSET(INDIRECT("Essais!$b$2:$b$"&COUNTA(Essais!$A:$A)),0,COLUMNS($A:D)),MATCH($L15,INDIRECT("Essais!$L$2:$L$"&COUNTA(Essais!$A:$A)))),"")} | G15: {=IFERROR(INDEX(OFFSET(INDIRECT("Essais!$b$2:$b$"&COUNTA(Essais!$A:$A)),0,COLUMNS($A:E)),MATCH($L15,INDIRECT("Essais!$L$2:$L$"&COUNTA(Essais!$A:$A)))),"")} | H15: {=IFERROR(INDEX(OFFSET(INDIRECT("Essais!$b$2:$b$"&COUNTA(Essais!$A:$A)),0,COLUMNS($A:F)),MATCH($L15,INDIRECT("Essais!$L$2:$L$"&COUNTA(Essais!$A:$A)))),"")} | I15: {=IFERROR(INDEX(OFFSET(INDIRECT("Essais!$b$2:$b$"&COUNTA(Essais!$A:$A)),0,COLUMNS($A:G)),MATCH($L15,INDIRECT("Essais!$L$2:$L$"&COUNTA(Essais!$A:$A)))),"")} | J15: {=IFERROR(INDEX(OFFSET(INDIRECT("Essais!$b$2:$b$"&COUNTA(Essais!$A:$A)),0,COLUMNS($A:H)),MATCH($L15,INDIRECT("Essais!$L$2:$L$"&COUNTA(Essais!$A:$A)))),"")} | K15: {=IFERROR(INDEX(OFFSET(INDIRECT("Essais!$b$2:$b$"&COUNTA(Essais!$A:$A)),0,COLUMNS($A:I)),MATCH($L15,INDIRECT("Essais!$L$2:$L$"&COUNTA(Essais!$A:$A)))),"")} | L15: {=IFERROR(INDEX(INDIRECT("Essais!$L$2:$L$"&COUNTA(Essais!$A:$A)),SMALL(IF(LEFT(INDIRECT("Essais!$L$2:$L$"&COUNTA(Essais!$A:$A)),2)="di",ROW(INDIRECT("$1:$"&COUNTA(Essais!$A:$A)-1))),ROWS($1:14))),"")}
C16: {=IFERROR(INDEX(OFFSET(INDIRECT("Essais!$b$2:$b$"&COUNTA(Essais!$A:$A)),0,COLUMNS($A:A)),MATCH($L16,INDIRECT("Essais!$L$2:$L$"&COUNTA(Essais!$A:$A)))),"")} | D16: {=IFERROR(INDEX(OFFSET(INDIRECT("Essais!$b$2:$b$"&COUNTA(Essais!$A:$A)),0,COLUMNS($A:B)),MATCH($L16,INDIRECT("Essais!$L$2:$L$"&COUNTA(Essais!$A:$A)))),"")} | E16: {=IFERROR(INDEX(OFFSET(INDIRECT("Essais!$b$2:$b$"&COUNTA(Essais!$A:$A)),0,COLUMNS($A:C)),MATCH($L16,INDIRECT("Essais!$L$2:$L$"&COUNTA(Essais!$A:$A)))),"")} | F16: {=IFERROR(INDEX(OFFSET(INDIRECT("Essais!$b$2:$b$"&COUNTA(Essais!$A:$A)),0,COLUMNS($A:D)),MATCH($L16,INDIRECT("Essais!$L$2:$L$"&COUNTA(Essais!$A:$A)))),"")} | G16: {=IFERROR(INDEX(OFFSET(INDIRECT("Essais!$b$2:$b$"&COUNTA(Essais!$A:$A)),0,COLUMNS($A:E)),MATCH($L16,INDIRECT("Essais!$L$2:$L$"&COUNTA(Essais!$A:$A)))),"")} | H16: {=IFERROR(INDEX(OFFSET(INDIRECT("Essais!$b$2:$b$"&COUNTA(Essais!$A:$A)),0,COLUMNS($A:F)),MATCH($L16,INDIRECT("Essais!$L$2:$L$"&COUNTA(Essais!$A:$A)))),"")} | I16: {=IFERROR(INDEX(OFFSET(INDIRECT("Essais!$b$2:$b$"&COUNTA(Essais!$A:$A)),0,COLUMNS($A:G)),MATCH($L16,INDIRECT("Essais!$L$2:$L$"&COUNTA(Essais!$A:$A)))),"")} | J16: {=IFERROR(INDEX(OFFSET(INDIRECT("Essais!$b$2:$b$"&COUNTA(Essais!$A:$A)),0,COLUMNS($A:H)),MATCH($L16,INDIRECT("Essais!$L$2:$L$"&COUNTA(Essais!$A:$A)))),"")} | K16: {=IFERROR(INDEX(OFFSET(INDIRECT("Essais!$b$2:$b$"&COUNTA(Essais!$A:$A)),0,COLUMNS($A:I)),MATCH($L16,INDIRECT("Essais!$L$2:$L$"&COUNTA(Essais!$A:$A)))),"")} | L16: {=IFERROR(INDEX(INDIRECT("Essais!$L$2:$L$"&COUNTA(Essais!$A:$A)),SMALL(IF(LEFT(INDIRECT("Essais!$L$2:$L$"&COUNTA(Essais!$A:$A)),2)="di",ROW(INDIRECT("$1:$"&COUNTA(Essais!$A:$A)-1))),ROWS($1:15))),"")}
C17: {=IFERROR(INDEX(OFFSET(INDIRECT("Essais!$b$2:$b$"&COUNTA(Essais!$A:$A)),0,COLUMNS($A:A)),MATCH($L17,INDIRECT("Essais!$L$2:$L$"&COUNTA(Essais!$A:$A)))),"")} | D17: {=IFERROR(INDEX(OFFSET(INDIRECT("Essais!$b$2:$b$"&COUNTA(Essais!$A:$A)),0,COLUMNS($A:B)),MATCH($L17,INDIRECT("Essais!$L$2:$L$"&COUNTA(Essais!$A:$A)))),"")} | E17: {=IFERROR(INDEX(OFFSET(INDIRECT("Essais!$b$2:$b$"&COUNTA(Essais!$A:$A)),0,COLUMNS($A:C)),MATCH($L17,INDIRECT("Essais!$L$2:$L$"&COUNTA(Essais!$A:$A)))),"")} | F17: {=IFERROR(INDEX(OFFSET(INDIRECT("Essais!$b$2:$b$"&COUNTA(Essais!$A:$A)),0,COLUMNS($A:D)),MATCH($L17,INDIRECT("Essais!$L$2:$L$"&COUNTA(Essais!$A:$A)))),"")} | G17: {=IFERROR(INDEX(OFFSET(INDIRECT("Essais!$b$2:$b$"&COUNTA(Essais!$A:$A)),0,COLUMNS($A:E)),MATCH($L17,INDIRECT("Essais!$L$2:$L$"&COUNTA(Essais!$A:$A)))),"")} | H17: {=IFERROR(INDEX(OFFSET(INDIRECT("Essais!$b$2:$b$"&COUNTA(Essais!$A:$A)),0,COLUMNS($A:F)),MATCH($L17,INDIRECT("Essais!$L$2:$L$"&COUNTA(Essais!$A:$A)))),"")} | I17: {=IFERROR(INDEX(OFFSET(INDIRECT("Essais!$b$2:$b$"&COUNTA(Essais!$A:$A)),0,COLUMNS($A:G)),MATCH($L17,INDIRECT("Essais!$L$2:$L$"&COUNTA(Essais!$A:$A)))),"")} | J17: {=IFERROR(INDEX(OFFSET(INDIRECT("Essais!$b$2:$b$"&COUNTA(Essais!$A:$A)),0,COLUMNS($A:H)),MATCH($L17,INDIRECT("Essais!$L$2:$L$"&COUNTA(Essais!$A:$A)))),"")} | K17: {=IFERROR(INDEX(OFFSET(INDIRECT("Essais!$b$2:$b$"&COUNTA(Essais!$A:$A)),0,COLUMNS($A:I)),MATCH($L17,INDIRECT("Essais!$L$2:$L$"&COUNTA(Essais!$A:$A)))),"")} | L17: {=IFERROR(INDEX(INDIRECT("Essais!$L$2:$L$"&COUNTA(Essais!$A:$A)),SMALL(IF(LEFT(INDIRECT("Essais!$L$2:$L$"&COUNTA(Essais!$A:$A)),2)="di",ROW(INDIRECT("$1:$"&COUNTA(Essais!$A:$A)-1))),ROWS($1:16))),"")}
C18: {=IFERROR(INDEX(OFFSET(INDIRECT("Essais!$b$2:$b$"&COUNTA(Essais!$A:$A)),0,COLUMNS($A:A)),MATCH($L18,INDIRECT("Essais!$L$2:$L$"&COUNTA(Essais!$A:$A)))),"")} | D18: {=IFERROR(INDEX(OFFSET(INDIRECT("Essais!$b$2:$b$"&COUNTA(Essais!$A:$A)),0,COLUMNS($A:B)),MATCH($L18,INDIRECT("Essais!$L$2:$L$"&COUNTA(Essais!$A:$A)))),"")} | E18: {=IFERROR(INDEX(OFFSET(INDIRECT("Essais!$b$2:$b$"&COUNTA(Essais!$A:$A)),0,COLUMNS($A:C)),MATCH($L18,INDIRECT("Essais!$L$2:$L$"&COUNTA(Essais!$A:$A)))),"")} | F18: {=IFERROR(INDEX(OFFSET(INDIRECT("Essais!$b$2:$b$"&COUNTA(Essais!$A:$A)),0,COLUMNS($A:D)),MATCH($L18,INDIRECT("Essais!$L$2:$L$"&COUNTA(Essais!$A:$A)))),"")} | G18: {=IFERROR(INDEX(OFFSET(INDIRECT("Essais!$b$2:$b$"&COUNTA(Essais!$A:$A)),0,COLUMNS($A:E)),MATCH($L18,INDIRECT("Essais!$L$2:$L$"&COUNTA(Essais!$A:$A)))),"")} | H18: {=IFERROR(INDEX(OFFSET(INDIRECT("Essais!$b$2:$b$"&COUNTA(Essais!$A:$A)),0,COLUMNS($A:F)),MATCH($L18,INDIRECT("Essais!$L$2:$L$"&COUNTA(Essais!$A:$A)))),"")} | I18: {=IFERROR(INDEX(OFFSET(INDIRECT("Essais!$b$2:$b$"&COUNTA(Essais!$A:$A)),0,COLUMNS($A:G)),MATCH($L18,INDIRECT("Essais!$L$2:$L$"&COUNTA(Essais!$A:$A)))),"")} | J18: {=IFERROR(INDEX(OFFSET(INDIRECT("Essais!$b$2:$b$"&COUNTA(Essais!$A:$A)),0,COLUMNS($A:H)),MATCH($L18,INDIRECT("Essais!$L$2:$L$"&COUNTA(Essais!$A:$A)))),"")} | K18: {=IFERROR(INDEX(OFFSET(INDIRECT("Essais!$b$2:$b$"&COUNTA(Essais!$A:$A)),0,COLUMNS($A:I)),MATCH($L18,INDIRECT("Essais!$L$2:$L$"&COUNTA(Essais!$A:$A)))),"")} | L18: {=IFERROR(INDEX(INDIRECT("Essais!$L$2:$L$"&COUNTA(Essais!$A:$A)),SMALL(IF(LEFT(INDIRECT("Essais!$L$2:$L$"&COUNTA(Essais!$A:$A)),2)="di",ROW(INDIRECT("$1:$"&COUNTA(Essais!$A:$A)-1))),ROWS($1:17))),"")}
C19: {=IFERROR(INDEX(OFFSET(INDIRECT("Essais!$b$2:$b$"&COUNTA(Essais!$A:$A)),0,COLUMNS($A:A)),MATCH($L19,INDIRECT("Essais!$L$2:$L$"&COUNTA(Essais!$A:$A)))),"")} | D19: {=IFERROR(INDEX(OFFSET(INDIRECT("Essais!$b$2:$b$"&COUNTA(Essais!$A:$A)),0,COLUMNS($A:B)),MATCH($L19,INDIRECT("Essais!$L$2:$L$"&COUNTA(Essais!$A:$A)))),"")} | E19: {=IFERROR(INDEX(OFFSET(INDIRECT("Essais!$b$2:$b$"&COUNTA(Essais!$A:$A)),0,COLUMNS($A:C)),MATCH($L19,INDIRECT("Essais!$L$2:$L$"&COUNTA(Essais!$A:$A)))),"")} | F19: {=IFERROR(INDEX(OFFSET(INDIRECT("Essais!$b$2:$b$"&COUNTA(Essais!$A:$A)),0,COLUMNS($A:D)),MATCH($L19,INDIRECT("Essais!$L$2:$L$"&COUNTA(Essais!$A:$A)))),"")} | G19: {=IFERROR(INDEX(OFFSET(INDIRECT("Essais!$b$2:$b$"&COUNTA(Essais!$A:$A)),0,COLUMNS($A:E)),MATCH($L19,INDIRECT("Essais!$L$2:$L$"&COUNTA(Essais!$A:$A)))),"")} | H19: {=IFERROR(INDEX(OFFSET(INDIRECT("Essais!$b$2:$b$"&COUNTA(Essais!$A:$A)),0,COLUMNS($A:F)),MATCH($L19,INDIRECT("Essais!$L$2:$L$"&COUNTA(Essais!$A:$A)))),"")} | I19: {=IFERROR(INDEX(OFFSET(INDIRECT("Essais!$b$2:$b$"&COUNTA(Essais!$A:$A)),0,COLUMNS($A:G)),MATCH($L19,INDIRECT("Essais!$L$2:$L$"&COUNTA(Essais!$A:$A)))),"")} | J19: {=IFERROR(INDEX(OFFSET(INDIRECT("Essais!$b$2:$b$"&COUNTA(Essais!$A:$A)),0,COLUMNS($A:H)),MATCH($L19,INDIRECT("Essais!$L$2:$L$"&COUNTA(Essais!$A:$A)))),"")} | K19: {=IFERROR(INDEX(OFFSET(INDIRECT("Essais!$b$2:$b$"&COUNTA(Essais!$A:$A)),0,COLUMNS($A:I)),MATCH($L19,INDIRECT("Essais!$L$2:$L$"&COUNTA(Essais!$A:$A)))),"")} | L19: {=IFERROR(INDEX(INDIRECT("Essais!$L$2:$L$"&COUNTA(Essais!$A:$A)),SMALL(IF(LEFT(INDIRECT("Essais!$L$2:$L$"&COUNTA(Essais!$A:$A)),2)="di",ROW(INDIRECT("$1:$"&COUNTA(Essais!$A:$A)-1))),ROWS($1:18))),"")}
C20: {=IFERROR(INDEX(OFFSET(INDIRECT("Essais!$b$2:$b$"&COUNTA(Essais!$A:$A)),0,COLUMNS($A:A)),MATCH($L20,INDIRECT("Essais!$L$2:$L$"&COUNTA(Essais!$A:$A)))),"")} | D20: {=IFERROR(INDEX(OFFSET(INDIRECT("Essais!$b$2:$b$"&COUNTA(Essais!$A:$A)),0,COLUMNS($A:B)),MATCH($L20,INDIRECT("Essais!$L$2:$L$"&COUNTA(Essais!$A:$A)))),"")} | E20: {=IFERROR(INDEX(OFFSET(INDIRECT("Essais!$b$2:$b$"&COUNTA(Essais!$A:$A)),0,COLUMNS($A:C)),MATCH($L20,INDIRECT("Essais!$L$2:$L$"&COUNTA(Essais!$A:$A)))),"")} | F20: {=IFERROR(INDEX(OFFSET(INDIRECT("Essais!$b$2:$b$"&COUNTA(Essais!$A:$A)),0,COLUMNS($A:D)),MATCH($L20,INDIRECT("Essais!$L$2:$L$"&COUNTA(Essais!$A:$A)))),"")} | G20: {=IFERROR(INDEX(OFFSET(INDIRECT("Essais!$b$2:$b$"&COUNTA(Essais!$A:$A)),0,COLUMNS($A:E)),MATCH($L20,INDIRECT("Essais!$L$2:$L$"&COUNTA(Essais!$A:$A)))),"")} | H20: {=IFERROR(INDEX(OFFSET(INDIRECT("Essais!$b$2:$b$"&COUNTA(Essais!$A:$A)),0,COLUMNS($A:F)),MATCH($L20,INDIRECT("Essais!$L$2:$L$"&COUNTA(Essais!$A:$A)))),"")} | I20: {=IFERROR(INDEX(OFFSET(INDIRECT("Essais!$b$2:$b$"&COUNTA(Essais!$A:$A)),0,COLUMNS($A:G)),MATCH($L20,INDIRECT("Essais!$L$2:$L$"&COUNTA(Essais!$A:$A)))),"")} | J20: {=IFERROR(INDEX(OFFSET(INDIRECT("Essais!$b$2:$b$"&COUNTA(Essais!$A:$A)),0,COLUMNS($A:H)),MATCH($L20,INDIRECT("Essais!$L$2:$L$"&COUNTA(Essais!$A:$A)))),"")} | K20: {=IFERROR(INDEX(OFFSET(INDIRECT("Essais!$b$2:$b$"&COUNTA(Essais!$A:$A)),0,COLUMNS($A:I)),MATCH($L20,INDIRECT("Essais!$L$2:$L$"&COUNTA(Essais!$A:$A)))),"")} | L20: {=IFERROR(INDEX(INDIRECT("Essais!$L$2:$L$"&COUNTA(Essais!$A:$A)),SMALL(IF(LEFT(INDIRECT("Essais!$L$2:$L$"&COUNTA(Essais!$A:$A)),2)="di",ROW(INDIRECT("$1:$"&COUNTA(Essais!$A:$A)-1))),ROWS($1:19))),"")}
C21: {=IFERROR(INDEX(OFFSET(INDIRECT("Essais!$b$2:$b$"&COUNTA(Essais!$A:$A)),0,COLUMNS($A:A)),MATCH($L21,INDIRECT("Essais!$L$2:$L$"&COUNTA(Essais!$A:$A)))),"")} | D21: {=IFERROR(INDEX(OFFSET(INDIRECT("Essais!$b$2:$b$"&COUNTA(Essais!$A:$A)),0,COLUMNS($A:B)),MATCH($L21,INDIRECT("Essais!$L$2:$L$"&COUNTA(Essais!$A:$A)))),"")} | E21: {=IFERROR(INDEX(OFFSET(INDIRECT("Essais!$b$2:$b$"&COUNTA(Essais!$A:$A)),0,COLUMNS($A:C)),MATCH($L21,INDIRECT("Essais!$L$2:$L$"&COUNTA(Essais!$A:$A)))),"")} | F21: {=IFERROR(INDEX(OFFSET(INDIRECT("Essais!$b$2:$b$"&COUNTA(Essais!$A:$A)),0,COLUMNS($A:D)),MATCH($L21,INDIRECT("Essais!$L$2:$L$"&COUNTA(Essais!$A:$A)))),"")} | G21: {=IFERROR(INDEX(OFFSET(INDIRECT("Essais!$b$2:$b$"&COUNTA(Essais!$A:$A)),0,COLUMNS($A:E)),MATCH($L21,INDIRECT("Essais!$L$2:$L$"&COUNTA(Essais!$A:$A)))),"")} | H21: {=IFERROR(INDEX(OFFSET(INDIRECT("Essais!$b$2:$b$"&COUNTA(Essais!$A:$A)),0,COLUMNS($A:F)),MATCH($L21,INDIRECT("Essais!$L$2:$L$"&COUNTA(Essais!$A:$A)))),"")} | I21: {=IFERROR(INDEX(OFFSET(INDIRECT("Essais!$b$2:$b$"&COUNTA(Essais!$A:$A)),0,COLUMNS($A:G)),MATCH($L21,INDIRECT("Essais!$L$2:$L$"&COUNTA(Essais!$A:$A)))),"")} | J21: {=IFERROR(INDEX(OFFSET(INDIRECT("Essais!$b$2:$b$"&COUNTA(Essais!$A:$A)),0,COLUMNS($A:H)),MATCH($L21,INDIRECT("Essais!$L$2:$L$"&COUNTA(Essais!$A:$A)))),"")} | K21: {=IFERROR(INDEX(OFFSET(INDIRECT("Essais!$b$2:$b$"&COUNTA(Essais!$A:$A)),0,COLUMNS($A:I)),MATCH($L21,INDIRECT("Essais!$L$2:$L$"&COUNTA(Essais!$A:$A)))),"")} | L21: {=IFERROR(INDEX(INDIRECT("Essais!$L$2:$L$"&COUNTA(Essais!$A:$A)),SMALL(IF(LEFT(INDIRECT("Essais!$L$2:$L$"&COUNTA(Essais!$A:$A)),2)="di",ROW(INDIRECT("$1:$"&COUNTA(Essais!$A:$A)-1))),ROWS($1:20))),"")}
C22: {=IFERROR(INDEX(OFFSET(INDIRECT("Essais!$b$2:$b$"&COUNTA(Essais!$A:$A)),0,COLUMNS($A:A)),MATCH($L22,INDIRECT("Essais!$L$2:$L$"&COUNTA(Essais!$A:$A)))),"")} | D22: {=IFERROR(INDEX(OFFSET(INDIRECT("Essais!$b$2:$b$"&COUNTA(Essais!$A:$A)),0,COLUMNS($A:B)),MATCH($L22,INDIRECT("Essais!$L$2:$L$"&COUNTA(Essais!$A:$A)))),"")} | E22: {=IFERROR(INDEX(OFFSET(INDIRECT("Essais!$b$2:$b$"&COUNTA(Essais!$A:$A)),0,COLUMNS($A:C)),MATCH($L22,INDIRECT("Essais!$L$2:$L$"&COUNTA(Essais!$A:$A)))),"")} | F22: {=IFERROR(INDEX(OFFSET(INDIRECT("Essais!$b$2:$b$"&COUNTA(Essais!$A:$A)),0,COLUMNS($A:D)),MATCH($L22,INDIRECT("Essais!$L$2:$L$"&COUNTA(Essais!$A:$A)))),"")} | G22: {=IFERROR(INDEX(OFFSET(INDIRECT("Essais!$b$2:$b$"&COUNTA(Essais!$A:$A)),0,COLUMNS($A:E)),MATCH($L22,INDIRECT("Essais!$L$2:$L$"&COUNTA(Essais!$A:$A)))),"")} | H22: {=IFERROR(INDEX(OFFSET(INDIRECT("Essais!$b$2:$b$"&COUNTA(Essais!$A:$A)),0,COLUMNS($A:F)),MATCH($L22,INDIRECT("Essais!$L$2:$L$"&COUNTA(Essais!$A:$A)))),"")} | I22: {=IFERROR(INDEX(OFFSET(INDIRECT("Essais!$b$2:$b$"&COUNTA(Essais!$A:$A)),0,COLUMNS($A:G)),MATCH($L22,INDIRECT("Essais!$L$2:$L$"&COUNTA(Essais!$A:$A)))),"")} | J22: {=IFERROR(INDEX(OFFSET(INDIRECT("Essais!$b$2:$b$"&COUNTA(Essais!$A:$A)),0,COLUMNS($A:H)),MATCH($L22,INDIRECT("Essais!$L$2:$L$"&COUNTA(Essais!$A:$A)))),"")} | K22: {=IFERROR(INDEX(OFFSET(INDIRECT("Essais!$b$2:$b$"&COUNTA(Essais!$A:$A)),0,COLUMNS($A:I)),MATCH($L22,INDIRECT("Essais!$L$2:$L$"&COUNTA(Essais!$A:$A)))),"")} | L22: {=IFERROR(INDEX(INDIRECT("Essais!$L$2:$L$"&COUNTA(Essais!$A:$A)),SMALL(IF(LEFT(INDIRECT("Essais!$L$2:$L$"&COUNTA(Essais!$A:$A)),2)="di",ROW(INDIRECT("$1:$"&COUNTA(Essais!$A:$A)-1))),ROWS($1:21))),"")}
C23: {=IFERROR(INDEX(OFFSET(INDIRECT("Essais!$b$2:$b$"&COUNTA(Essais!$A:$A)),0,COLUMNS($A:A)),MATCH($L23,INDIRECT("Essais!$L$2:$L$"&COUNTA(Essais!$A:$A)))),"")} | D23: {=IFERROR(INDEX(OFFSET(INDIRECT("Essais!$b$2:$b$"&COUNTA(Essais!$A:$A)),0,COLUMNS($A:B)),MATCH($L23,INDIRECT("Essais!$L$2:$L$"&COUNTA(Essais!$A:$A)))),"")} | E23: {=IFERROR(INDEX(OFFSET(INDIRECT("Essais!$b$2:$b$"&COUNTA(Essais!$A:$A)),0,COLUMNS($A:C)),MATCH($L23,INDIRECT("Essais!$L$2:$L$"&COUNTA(Essais!$A:$A)))),"")} | F23: {=IFERROR(INDEX(OFFSET(INDIRECT("Essais!$b$2:$b$"&COUNTA(Essais!$A:$A)),0,COLUMNS($A:D)),MATCH($L23,INDIRECT("Essais!$L$2:$L$"&COUNTA(Essais!$A:$A)))),"")} | G23: {=IFERROR(INDEX(OFFSET(INDIRECT("Essais!$b$2:$b$"&COUNTA(Essais!$A:$A)),0,COLUMNS($A:E)),MATCH($L23,INDIRECT("Essais!$L$2:$L$"&COUNTA(Essais!$A:$A)))),"")} | H23: {=IFERROR(INDEX(OFFSET(INDIRECT("Essais!$b$2:$b$"&COUNTA(Essais!$A:$A)),0,COLUMNS($A:F)),MATCH($L23,INDIRECT("Essais!$L$2:$L$"&COUNTA(Essais!$A:$A)))),"")} | I23: {=IFERROR(INDEX(OFFSET(INDIRECT("Essais!$b$2:$b$"&COUNTA(Essais!$A:$A)),0,COLUMNS($A:G)),MATCH($L23,INDIRECT("Essais!$L$2:$L$"&COUNTA(Essais!$A:$A)))),"")} | J23: {=IFERROR(INDEX(OFFSET(INDIRECT("Essais!$b$2:$b$"&COUNTA(Essais!$A:$A)),0,COLUMNS($A:H)),MATCH($L23,INDIRECT("Essais!$L$2:$L$"&COUNTA(Essais!$A:$A)))),"")} | K23: {=IFERROR(INDEX(OFFSET(INDIRECT("Essais!$b$2:$b$"&COUNTA(Essais!$A:$A)),0,COLUMNS($A:I)),MATCH($L23,INDIRECT("Essais!$L$2:$L$"&COUNTA(Essais!$A:$A)))),"")} | L23: {=IFERROR(INDEX(INDIRECT("Essais!$L$2:$L$"&COUNTA(Essais!$A:$A)),SMALL(IF(LEFT(INDIRECT("Essais!$L$2:$L$"&COUNTA(Essais!$A:$A)),2)="di",ROW(INDIRECT("$1:$"&COUNTA(Essais!$A:$A)-1))),ROWS($1:22))),"")}
C24: {=IFERROR(INDEX(OFFSET(INDIRECT("Essais!$b$2:$b$"&COUNTA(Essais!$A:$A)),0,COLUMNS($A:A)),MATCH($L24,INDIRECT("Essais!$L$2:$L$"&COUNTA(Essais!$A:$A)))),"")} | D24: {=IFERROR(INDEX(OFFSET(INDIRECT("Essais!$b$2:$b$"&COUNTA(Essais!$A:$A)),0,COLUMNS($A:B)),MATCH($L24,INDIRECT("Essais!$L$2:$L$"&COUNTA(Essais!$A:$A)))),"")} | E24: {=IFERROR(INDEX(OFFSET(INDIRECT("Essais!$b$2:$b$"&COUNTA(Essais!$A:$A)),0,COLUMNS($A:C)),MATCH($L24,INDIRECT("Essais!$L$2:$L$"&COUNTA(Essais!$A:$A)))),"")} | F24: {=IFERROR(INDEX(OFFSET(INDIRECT("Essais!$b$2:$b$"&COUNTA(Essais!$A:$A)),0,COLUMNS($A:D)),MATCH($L24,INDIRECT("Essais!$L$2:$L$"&COUNTA(Essais!$A:$A)))),"")} | G24: {=IFERROR(INDEX(OFFSET(INDIRECT("Essais!$b$2:$b$"&COUNTA(Essais!$A:$A)),0,COLUMNS($A:E)),MATCH($L24,INDIRECT("Essais!$L$2:$L$"&COUNTA(Essais!$A:$A)))),"")} | H24: {=IFERROR(INDEX(OFFSET(INDIRECT("Essais!$b$2:$b$"&COUNTA(Essais!$A:$A)),0,COLUMNS($A:F)),MATCH($L24,INDIRECT("Essais!$L$2:$L$"&COUNTA(Essais!$A:$A)))),"")} | I24: {=IFERROR(INDEX(OFFSET(INDIRECT("Essais!$b$2:$b$"&COUNTA(Essais!$A:$A)),0,COLUMNS($A:G)),MATCH($L24,INDIRECT("Essais!$L$2:$L$"&COUNTA(Essais!$A:$A)))),"")} | J24: {=IFERROR(INDEX(OFFSET(INDIRECT("Essais!$b$2:$b$"&COUNTA(Essais!$A:$A)),0,COLUMNS($A:H)),MATCH($L24,INDIRECT("Essais!$L$2:$L$"&COUNTA(Essais!$A:$A)))),"")} | K24: {=IFERROR(INDEX(OFFSET(INDIRECT("Essais!$b$2:$b$"&COUNTA(Essais!$A:$A)),0,COLUMNS($A:I)),MATCH($L24,INDIRECT("Essais!$L$2:$L$"&COUNTA(Essais!$A:$A)))),"")} | L24: {=IFERROR(INDEX(INDIRECT("Essais!$L$2:$L$"&COUNTA(Essais!$A:$A)),SMALL(IF(LEFT(INDIRECT("Essais!$L$2:$L$"&COUNTA(Essais!$A:$A)),2)="di",ROW(INDIRECT("$1:$"&COUNTA(Essais!$A:$A)-1))),ROWS($1:23))),"")}
C25: {=IFERROR(INDEX(OFFSET(INDIRECT("Essais!$b$2:$b$"&COUNTA(Essais!$A:$A)),0,COLUMNS($A:A)),MATCH($L25,INDIRECT("Essais!$L$2:$L$"&COUNTA(Essais!$A:$A)))),"")} | D25: {=IFERROR(INDEX(OFFSET(INDIRECT("Essais!$b$2:$b$"&COUNTA(Essais!$A:$A)),0,COLUMNS($A:B)),MATCH($L25,INDIRECT("Essais!$L$2:$L$"&COUNTA(Essais!$A:$A)))),"")} | E25: {=IFERROR(INDEX(OFFSET(INDIRECT("Essais!$b$2:$b$"&COUNTA(Essais!$A:$A)),0,COLUMNS($A:C)),MATCH($L25,INDIRECT("Essais!$L$2:$L$"&COUNTA(Essais!$A:$A)))),"")} | F25: {=IFERROR(INDEX(OFFSET(INDIRECT("Essais!$b$2:$b$"&COUNTA(Essais!$A:$A)),0,COLUMNS($A:D)),MATCH($L25,INDIRECT("Essais!$L$2:$L$"&COUNTA(Essais!$A:$A)))),"")} | G25: {=IFERROR(INDEX(OFFSET(INDIRECT("Essais!$b$2:$b$"&COUNTA(Essais!$A:$A)),0,COLUMNS($A:E)),MATCH($L25,INDIRECT("Essais!$L$2:$L$"&COUNTA(Essais!$A:$A)))),"")} | H25: {=IFERROR(INDEX(OFFSET(INDIRECT("Essais!$b$2:$b$"&COUNTA(Essais!$A:$A)),0,COLUMNS($A:F)),MATCH($L25,INDIRECT("Essais!$L$2:$L$"&COUNTA(Essais!$A:$A)))),"")} | I25: {=IFERROR(INDEX(OFFSET(INDIRECT("Essais!$b$2:$b$"&COUNTA(Essais!$A:$A)),0,COLUMNS($A:G)),MATCH($L25,INDIRECT("Essais!$L$2:$L$"&COUNTA(Essais!$A:$A)))),"")} | J25: {=IFERROR(INDEX(OFFSET(INDIRECT("Essais!$b$2:$b$"&COUNTA(Essais!$A:$A)),0,COLUMNS($A:H)),MATCH($L25,INDIRECT("Essais!$L$2:$L$"&COUNTA(Essais!$A:$A)))),"")} | K25: {=IFERROR(INDEX(OFFSET(INDIRECT("Essais!$b$2:$b$"&COUNTA(Essais!$A:$A)),0,COLUMNS($A:I)),MATCH($L25,INDIRECT("Essais!$L$2:$L$"&COUNTA(Essais!$A:$A)))),"")} | L25: {=IFERROR(INDEX(INDIRECT("Essais!$L$2:$L$"&COUNTA(Essais!$A:$A)),SMALL(IF(LEFT(INDIRECT("Essais!$L$2:$L$"&COUNTA(Essais!$A:$A)),2)="di",ROW(INDIRECT("$1:$"&COUNTA(Essais!$A:$A)-1))),ROWS($1:24))),"")}
C26: {=IFERROR(INDEX(OFFSET(INDIRECT("Essais!$b$2:$b$"&COUNTA(Essais!$A:$A)),0,COLUMNS($A:A)),MATCH($L26,INDIRECT("Essais!$L$2:$L$"&COUNTA(Essais!$A:$A)))),"")} | D26: {=IFERROR(INDEX(OFFSET(INDIRECT("Essais!$b$2:$b$"&COUNTA(Essais!$A:$A)),0,COLUMNS($A:B)),MATCH($L26,INDIRECT("Essais!$L$2:$L$"&COUNTA(Essais!$A:$A)))),"")} | E26: {=IFERROR(INDEX(OFFSET(INDIRECT("Essais!$b$2:$b$"&COUNTA(Essais!$A:$A)),0,COLUMNS($A:C)),MATCH($L26,INDIRECT("Essais!$L$2:$L$"&COUNTA(Essais!$A:$A)))),"")} | F26: {=IFERROR(INDEX(OFFSET(INDIRECT("Essais!$b$2:$b$"&COUNTA(Essais!$A:$A)),0,COLUMNS($A:D)),MATCH($L26,INDIRECT("Essais!$L$2:$L$"&COUNTA(Essais!$A:$A)))),"")} | G26: {=IFERROR(INDEX(OFFSET(INDIRECT("Essais!$b$2:$b$"&COUNTA(Essais!$A:$A)),0,COLUMNS($A:E)),MATCH($L26,INDIRECT("Essais!$L$2:$L$"&COUNTA(Essais!$A:$A)))),"")} | H26: {=IFERROR(INDEX(OFFSET(INDIRECT("Essais!$b$2:$b$"&COUNTA(Essais!$A:$A)),0,COLUMNS($A:F)),MATCH($L26,INDIRECT("Essais!$L$2:$L$"&COUNTA(Essais!$A:$A)))),"")} | I26: {=IFERROR(INDEX(OFFSET(INDIRECT("Essais!$b$2:$b$"&COUNTA(Essais!$A:$A)),0,COLUMNS($A:G)),MATCH($L26,INDIRECT("Essais!$L$2:$L$"&COUNTA(Essais!$A:$A)))),"")} | J26: {=IFERROR(INDEX(OFFSET(INDIRECT("Essais!$b$2:$b$"&COUNTA(Essais!$A:$A)),0,COLUMNS($A:H)),MATCH($L26,INDIRECT("Essais!$L$2:$L$"&COUNTA(Essais!$A:$A)))),"")} | K26: {=IFERROR(INDEX(OFFSET(INDIRECT("Essais!$b$2:$b$"&COUNTA(Essais!$A:$A)),0,COLUMNS($A:I)),MATCH($L26,INDIRECT("Essais!$L$2:$L$"&COUNTA(Essais!$A:$A)))),"")} | L26: {=IFERROR(INDEX(INDIRECT("Essais!$L$2:$L$"&COUNTA(Essais!$A:$A)),SMALL(IF(LEFT(INDIRECT("Essais!$L$2:$L$"&COUNTA(Essais!$A:$A)),2)="di",ROW(INDIRECT("$1:$"&COUNTA(Essais!$A:$A)-1))),ROWS($1:25))),"")}
C27: {=IFERROR(INDEX(OFFSET(INDIRECT("Essais!$b$2:$b$"&COUNTA(Essais!$A:$A)),0,COLUMNS($A:A)),MATCH($L27,INDIRECT("Essais!$L$2:$L$"&COUNTA(Essais!$A:$A)))),"")} | D27: {=IFERROR(INDEX(OFFSET(INDIRECT("Essais!$b$2:$b$"&COUNTA(Essais!$A:$A)),0,COLUMNS($A:B)),MATCH($L27,INDIRECT("Essais!$L$2:$L$"&COUNTA(Essais!$A:$A)))),"")} | E27: {=IFERROR(INDEX(OFFSET(INDIRECT("Essais!$b$2:$b$"&COUNTA(Essais!$A:$A)),0,COLUMNS($A:C)),MATCH($L27,INDIRECT("Essais!$L$2:$L$"&COUNTA(Essais!$A:$A)))),"")} | F27: {=IFERROR(INDEX(OFFSET(INDIRECT("Essais!$b$2:$b$"&COUNTA(Essais!$A:$A)),0,COLUMNS($A:D)),MATCH($L27,INDIRECT("Essais!$L$2:$L$"&COUNTA(Essais!$A:$A)))),"")} | G27: {=IFERROR(INDEX(OFFSET(INDIRECT("Essais!$b$2:$b$"&COUNTA(Essais!$A:$A)),0,COLUMNS($A:E)),MATCH($L27,INDIRECT("Essais!$L$2:$L$"&COUNTA(Essais!$A:$A)))),"")} | H27: {=IFERROR(INDEX(OFFSET(INDIRECT("Essais!$b$2:$b$"&COUNTA(Essais!$A:$A)),0,COLUMNS($A:F)),MATCH($L27,INDIRECT("Essais!$L$2:$L$"&COUNTA(Essais!$A:$A)))),"")} | I27: {=IFERROR(INDEX(OFFSET(INDIRECT("Essais!$b$2:$b$"&COUNTA(Essais!$A:$A)),0,COLUMNS($A:G)),MATCH($L27,INDIRECT("Essais!$L$2:$L$"&COUNTA(Essais!$A:$A)))),"")} | J27: {=IFERROR(INDEX(OFFSET(INDIRECT("Essais!$b$2:$b$"&COUNTA(Essais!$A:$A)),0,COLUMNS($A:H)),MATCH($L27,INDIRECT("Essais!$L$2:$L$"&COUNTA(Essais!$A:$A)))),"")} | K27: {=IFERROR(INDEX(OFFSET(INDIRECT("Essais!$b$2:$b$"&COUNTA(Essais!$A:$A)),0,COLUMNS($A:I)),MATCH($L27,INDIRECT("Essais!$L$2:$L$"&COUNTA(Essais!$A:$A)))),"")} | L27: {=IFERROR(INDEX(INDIRECT("Essais!$L$2:$L$"&COUNTA(Essais!$A:$A)),SMALL(IF(LEFT(INDIRECT("Essais!$L$2:$L$"&COUNTA(Essais!$A:$A)),2)="di",ROW(INDIRECT("$1:$"&COUNTA(Essais!$A:$A)-1))),ROWS($1:26))),"")}
C28: {=IFERROR(INDEX(OFFSET(INDIRECT("Essais!$b$2:$b$"&COUNTA(Essais!$A:$A)),0,COLUMNS($A:A)),MATCH($L28,INDIRECT("Essais!$L$2:$L$"&COUNTA(Essais!$A:$A)))),"")} | D28: {=IFERROR(INDEX(OFFSET(INDIRECT("Essais!$b$2:$b$"&COUNTA(Essais!$A:$A)),0,COLUMNS($A:B)),MATCH($L28,INDIRECT("Essais!$L$2:$L$"&COUNTA(Essais!$A:$A)))),"")} | E28: {=IFERROR(INDEX(OFFSET(INDIRECT("Essais!$b$2:$b$"&COUNTA(Essais!$A:$A)),0,COLUMNS($A:C)),MATCH($L28,INDIRECT("Essais!$L$2:$L$"&COUNTA(Essais!$A:$A)))),"")} | F28: {=IFERROR(INDEX(OFFSET(INDIRECT("Essais!$b$2:$b$"&COUNTA(Essais!$A:$A)),0,COLUMNS($A:D)),MATCH($L28,INDIRECT("Essais!$L$2:$L$"&COUNTA(Essais!$A:$A)))),"")} | G28: {=IFERROR(INDEX(OFFSET(INDIRECT("Essais!$b$2:$b$"&COUNTA(Essais!$A:$A)),0,COLUMNS($A:E)),MATCH($L28,INDIRECT("Essais!$L$2:$L$"&COUNTA(Essais!$A:$A)))),"")} | H28: {=IFERROR(INDEX(OFFSET(INDIRECT("Essais!$b$2:$b$"&COUNTA(Essais!$A:$A)),0,COLUMNS($A:F)),MATCH($L28,INDIRECT("Essais!$L$2:$L$"&COUNTA(Essais!$A:$A)))),"")} | I28: {=IFERROR(INDEX(OFFSET(INDIRECT("Essais!$b$2:$b$"&COUNTA(Essais!$A:$A)),0,COLUMNS($A:G)),MATCH($L28,INDIRECT("Essais!$L$2:$L$"&COUNTA(Essais!$A:$A)))),"")} | J28: {=IFERROR(INDEX(OFFSET(INDIRECT("Essais!$b$2:$b$"&COUNTA(Essais!$A:$A)),0,COLUMNS($A:H)),MATCH($L28,INDIRECT("Essais!$L$2:$L$"&COUNTA(Essais!$A:$A)))),"")} | K28: {=IFERROR(INDEX(OFFSET(INDIRECT("Essais!$b$2:$b$"&COUNTA(Essais!$A:$A)),0,COLUMNS($A:I)),MATCH($L28,INDIRECT("Essais!$L$2:$L$"&COUNTA(Essais!$A:$A)))),"")} | L28: {=IFERROR(INDEX(INDIRECT("Essais!$L$2:$L$"&COUNTA(Essais!$A:$A)),SMALL(IF(LEFT(INDIRECT("Essais!$L$2:$L$"&COUNTA(Essais!$A:$A)),2)="di",ROW(INDIRECT("$1:$"&COUNTA(Essais!$A:$A)-1))),ROWS($1:27))),"")}
C29: {=IFERROR(INDEX(OFFSET(INDIRECT("Essais!$b$2:$b$"&COUNTA(Essais!$A:$A)),0,COLUMNS($A:A)),MATCH($L29,INDIRECT("Essais!$L$2:$L$"&COUNTA(Essais!$A:$A)))),"")} | D29: {=IFERROR(INDEX(OFFSET(INDIRECT("Essais!$b$2:$b$"&COUNTA(Essais!$A:$A)),0,COLUMNS($A:B)),MATCH($L29,INDIRECT("Essais!$L$2:$L$"&COUNTA(Essais!$A:$A)))),"")} | E29: {=IFERROR(INDEX(OFFSET(INDIRECT("Essais!$b$2:$b$"&COUNTA(Essais!$A:$A)),0,COLUMNS($A:C)),MATCH($L29,INDIRECT("Essais!$L$2:$L$"&COUNTA(Essais!$A:$A)))),"")} | F29: {=IFERROR(INDEX(OFFSET(INDIRECT("Essais!$b$2:$b$"&COUNTA(Essais!$A:$A)),0,COLUMNS($A:D)),MATCH($L29,INDIRECT("Essais!$L$2:$L$"&COUNTA(Essais!$A:$A)))),"")} | G29: {=IFERROR(INDEX(OFFSET(INDIRECT("Essais!$b$2:$b$"&COUNTA(Essais!$A:$A)),0,COLUMNS($A:E)),MATCH($L29,INDIRECT("Essais!$L$2:$L$"&COUNTA(Essais!$A:$A)))),"")} | H29: {=IFERROR(INDEX(OFFSET(INDIRECT("Essais!$b$2:$b$"&COUNTA(Essais!$A:$A)),0,COLUMNS($A:F)),MATCH($L29,INDIRECT("Essais!$L$2:$L$"&COUNTA(Essais!$A:$A)))),"")} | I29: {=IFERROR(INDEX(OFFSET(INDIRECT("Essais!$b$2:$b$"&COUNTA(Essais!$A:$A)),0,COLUMNS($A:G)),MATCH($L29,INDIRECT("Essais!$L$2:$L$"&COUNTA(Essais!$A:$A)))),"")} | J29: {=IFERROR(INDEX(OFFSET(INDIRECT("Essais!$b$2:$b$"&COUNTA(Essais!$A:$A)),0,COLUMNS($A:H)),MATCH($L29,INDIRECT("Essais!$L$2:$L$"&COUNTA(Essais!$A:$A)))),"")} | K29: {=IFERROR(INDEX(OFFSET(INDIRECT("Essais!$b$2:$b$"&COUNTA(Essais!$A:$A)),0,COLUMNS($A:I)),MATCH($L29,INDIRECT("Essais!$L$2:$L$"&COUNTA(Essais!$A:$A)))),"")} | L29: {=IFERROR(INDEX(INDIRECT("Essais!$L$2:$L$"&COUNTA(Essais!$A:$A)),SMALL(IF(LEFT(INDIRECT("Essais!$L$2:$L$"&COUNTA(Essais!$A:$A)),2)="di",ROW(INDIRECT("$1:$"&COUNTA(Essais!$A:$A)-1))),ROWS($1:28))),"")}
C30: {=IFERROR(INDEX(OFFSET(INDIRECT("Essais!$b$2:$b$"&COUNTA(Essais!$A:$A)),0,COLUMNS($A:A)),MATCH($L30,INDIRECT("Essais!$L$2:$L$"&COUNTA(Essais!$A:$A)))),"")} | D30: {=IFERROR(INDEX(OFFSET(INDIRECT("Essais!$b$2:$b$"&COUNTA(Essais!$A:$A)),0,COLUMNS($A:B)),MATCH($L30,INDIRECT("Essais!$L$2:$L$"&COUNTA(Essais!$A:$A)))),"")} | E30: {=IFERROR(INDEX(OFFSET(INDIRECT("Essais!$b$2:$b$"&COUNTA(Essais!$A:$A)),0,COLUMNS($A:C)),MATCH($L30,INDIRECT("Essais!$L$2:$L$"&COUNTA(Essais!$A:$A)))),"")} | F30: {=IFERROR(INDEX(OFFSET(INDIRECT("Essais!$b$2:$b$"&COUNTA(Essais!$A:$A)),0,COLUMNS($A:D)),MATCH($L30,INDIRECT("Essais!$L$2:$L$"&COUNTA(Essais!$A:$A)))),"")} | G30: {=IFERROR(INDEX(OFFSET(INDIRECT("Essais!$b$2:$b$"&COUNTA(Essais!$A:$A)),0,COLUMNS($A:E)),MATCH($L30,INDIRECT("Essais!$L$2:$L$"&COUNTA(Essais!$A:$A)))),"")} | H30: {=IFERROR(INDEX(OFFSET(INDIRECT("Essais!$b$2:$b$"&COUNTA(Essais!$A:$A)),0,COLUMNS($A:F)),MATCH($L30,INDIRECT("Essais!$L$2:$L$"&COUNTA(Essais!$A:$A)))),"")} | I30: {=IFERROR(INDEX(OFFSET(INDIRECT("Essais!$b$2:$b$"&COUNTA(Essais!$A:$A)),0,COLUMNS($A:G)),MATCH($L30,INDIRECT("Essais!$L$2:$L$"&COUNTA(Essais!$A:$A)))),"")} | J30: {=IFERROR(INDEX(OFFSET(INDIRECT("Essais!$b$2:$b$"&COUNTA(Essais!$A:$A)),0,COLUMNS($A:H)),MATCH($L30,INDIRECT("Essais!$L$2:$L$"&COUNTA(Essais!$A:$A)))),"")} | K30: {=IFERROR(INDEX(OFFSET(INDIRECT("Essais!$b$2:$b$"&COUNTA(Essais!$A:$A)),0,COLUMNS($A:I)),MATCH($L30,INDIRECT("Essais!$L$2:$L$"&COUNTA(Essais!$A:$A)))),"")} | L30: {=IFERROR(INDEX(INDIRECT("Essais!$L$2:$L$"&COUNTA(Essais!$A:$A)),SMALL(IF(LEFT(INDIRECT("Essais!$L$2:$L$"&COUNTA(Essais!$A:$A)),2)="di",ROW(INDIRECT("$1:$"&COUNTA(Essais!$A:$A)-1))),ROWS($1:29))),"")}
C31: {=IFERROR(INDEX(OFFSET(INDIRECT("Essais!$b$2:$b$"&COUNTA(Essais!$A:$A)),0,COLUMNS($A:A)),MATCH($L31,INDIRECT("Essais!$L$2:$L$"&COUNTA(Essais!$A:$A)))),"")} | D31: {=IFERROR(INDEX(OFFSET(INDIRECT("Essais!$b$2:$b$"&COUNTA(Essais!$A:$A)),0,COLUMNS($A:B)),MATCH($L31,INDIRECT("Essais!$L$2:$L$"&COUNTA(Essais!$A:$A)))),"")} | E31: {=IFERROR(INDEX(OFFSET(INDIRECT("Essais!$b$2:$b$"&COUNTA(Essais!$A:$A)),0,COLUMNS($A:C)),MATCH($L31,INDIRECT("Essais!$L$2:$L$"&COUNTA(Essais!$A:$A)))),"")} | F31: {=IFERROR(INDEX(OFFSET(INDIRECT("Essais!$b$2:$b$"&COUNTA(Essais!$A:$A)),0,COLUMNS($A:D)),MATCH($L31,INDIRECT("Essais!$L$2:$L$"&COUNTA(Essais!$A:$A)))),"")} | G31: {=IFERROR(INDEX(OFFSET(INDIRECT("Essais!$b$2:$b$"&COUNTA(Essais!$A:$A)),0,COLUMNS($A:E)),MATCH($L31,INDIRECT("Essais!$L$2:$L$"&COUNTA(Essais!$A:$A)))),"")} | H31: {=IFERROR(INDEX(OFFSET(INDIRECT("Essais!$b$2:$b$"&COUNTA(Essais!$A:$A)),0,COLUMNS($A:F)),MATCH($L31,INDIRECT("Essais!$L$2:$L$"&COUNTA(Essais!$A:$A)))),"")} | I31: {=IFERROR(INDEX(OFFSET(INDIRECT("Essais!$b$2:$b$"&COUNTA(Essais!$A:$A)),0,COLUMNS($A:G)),MATCH($L31,INDIRECT("Essais!$L$2:$L$"&COUNTA(Essais!$A:$A)))),"")} | J31: {=IFERROR(INDEX(OFFSET(INDIRECT("Essais!$b$2:$b$"&COUNTA(Essais!$A:$A)),0,COLUMNS($A:H)),MATCH($L31,INDIRECT("Essais!$L$2:$L$"&COUNTA(Essais!$A:$A)))),"")} | K31: {=IFERROR(INDEX(OFFSET(INDIRECT("Essais!$b$2:$b$"&COUNTA(Essais!$A:$A)),0,COLUMNS($A:I)),MATCH($L31,INDIRECT("Essais!$L$2:$L$"&COUNTA(Essais!$A:$A)))),"")} | L31: {=IFERROR(INDEX(INDIRECT("Essais!$L$2:$L$"&COUNTA(Essais!$A:$A)),SMALL(IF(LEFT(INDIRECT("Essais!$L$2:$L$"&COUNTA(Essais!$A:$A)),2)="di",ROW(INDIRECT("$1:$"&COUNTA(Essais!$A:$A)-1))),ROWS($1:30))),"")}
C32: {=IFERROR(INDEX(OFFSET(INDIRECT("Essais!$b$2:$b$"&COUNTA(Essais!$A:$A)),0,COLUMNS($A:A)),MATCH($L32,INDIRECT("Essais!$L$2:$L$"&COUNTA(Essais!$A:$A)))),"")} | D32: {=IFERROR(INDEX(OFFSET(INDIRECT("Essais!$b$2:$b$"&COUNTA(Essais!$A:$A)),0,COLUMNS($A:B)),MATCH($L32,INDIRECT("Essais!$L$2:$L$"&COUNTA(Essais!$A:$A)))),"")} | E32: {=IFERROR(INDEX(OFFSET(INDIRECT("Essais!$b$2:$b$"&COUNTA(Essais!$A:$A)),0,COLUMNS($A:C)),MATCH($L32,INDIRECT("Essais!$L$2:$L$"&COUNTA(Essais!$A:$A)))),"")} | F32: {=IFERROR(INDEX(OFFSET(INDIRECT("Essais!$b$2:$b$"&COUNTA(Essais!$A:$A)),0,COLUMNS($A:D)),MATCH($L32,INDIRECT("Essais!$L$2:$L$"&COUNTA(Essais!$A:$A)))),"")} | G32: {=IFERROR(INDEX(OFFSET(INDIRECT("Essais!$b$2:$b$"&COUNTA(Essais!$A:$A)),0,COLUMNS($A:E)),MATCH($L32,INDIRECT("Essais!$L$2:$L$"&COUNTA(Essais!$A:$A)))),"")} | H32: {=IFERROR(INDEX(OFFSET(INDIRECT("Essais!$b$2:$b$"&COUNTA(Essais!$A:$A)),0,COLUMNS($A:F)),MATCH($L32,INDIRECT("Essais!$L$2:$L$"&COUNTA(Essais!$A:$A)))),"")} | I32: {=IFERROR(INDEX(OFFSET(INDIRECT("Essais!$b$2:$b$"&COUNTA(Essais!$A:$A)),0,COLUMNS($A:G)),MATCH($L32,INDIRECT("Essais!$L$2:$L$"&COUNTA(Essais!$A:$A)))),"")} | J32: {=IFERROR(INDEX(OFFSET(INDIRECT("Essais!$b$2:$b$"&COUNTA(Essais!$A:$A)),0,COLUMNS($A:H)),MATCH($L32,INDIRECT("Essais!$L$2:$L$"&COUNTA(Essais!$A:$A)))),"")} | K32: {=IFERROR(INDEX(OFFSET(INDIRECT("Essais!$b$2:$b$"&COUNTA(Essais!$A:$A)),0,COLUMNS($A:I)),MATCH($L32,INDIRECT("Essais!$L$2:$L$"&COUNTA(Essais!$A:$A)))),"")} | L32: {=IFERROR(INDEX(INDIRECT("Essais!$L$2:$L$"&COUNTA(Essais!$A:$A)),SMALL(IF(LEFT(INDIRECT("Essais!$L$2:$L$"&COUNTA(Essais!$A:$A)),2)="di",ROW(INDIRECT("$1:$"&COUNTA(Essais!$A:$A)-1))),ROWS($1:31))),"")}
C33: {=IFERROR(INDEX(OFFSET(INDIRECT("Essais!$b$2:$b$"&COUNTA(Essais!$A:$A)),0,COLUMNS($A:A)),MATCH($L33,INDIRECT("Essais!$L$2:$L$"&COUNTA(Essais!$A:$A)))),"")} | D33: {=IFERROR(INDEX(OFFSET(INDIRECT("Essais!$b$2:$b$"&COUNTA(Essais!$A:$A)),0,COLUMNS($A:B)),MATCH($L33,INDIRECT("Essais!$L$2:$L$"&COUNTA(Essais!$A:$A)))),"")} | E33: {=IFERROR(INDEX(OFFSET(INDIRECT("Essais!$b$2:$b$"&COUNTA(Essais!$A:$A)),0,COLUMNS($A:C)),MATCH($L33,INDIRECT("Essais!$L$2:$L$"&COUNTA(Essais!$A:$A)))),"")} | F33: {=IFERROR(INDEX(OFFSET(INDIRECT("Essais!$b$2:$b$"&COUNTA(Essais!$A:$A)),0,COLUMNS($A:D)),MATCH($L33,INDIRECT("Essais!$L$2:$L$"&COUNTA(Essais!$A:$A)))),"")} | G33: {=IFERROR(INDEX(OFFSET(INDIRECT("Essais!$b$2:$b$"&COUNTA(Essais!$A:$A)),0,COLUMNS($A:E)),MATCH($L33,INDIRECT("Essais!$L$2:$L$"&COUNTA(Essais!$A:$A)))),"")} | H33: {=IFERROR(INDEX(OFFSET(INDIRECT("Essais!$b$2:$b$"&COUNTA(Essais!$A:$A)),0,COLUMNS($A:F)),MATCH($L33,INDIRECT("Essais!$L$2:$L$"&COUNTA(Essais!$A:$A)))),"")} | I33: {=IFERROR(INDEX(OFFSET(INDIRECT("Essais!$b$2:$b$"&COUNTA(Essais!$A:$A)),0,COLUMNS($A:G)),MATCH($L33,INDIRECT("Essais!$L$2:$L$"&COUNTA(Essais!$A:$A)))),"")} | J33: {=IFERROR(INDEX(OFFSET(INDIRECT("Essais!$b$2:$b$"&COUNTA(Essais!$A:$A)),0,COLUMNS($A:H)),MATCH($L33,INDIRECT("Essais!$L$2:$L$"&COUNTA(Essais!$A:$A)))),"")} | K33: {=IFERROR(INDEX(OFFSET(INDIRECT("Essais!$b$2:$b$"&COUNTA(Essais!$A:$A)),0,COLUMNS($A:I)),MATCH($L33,INDIRECT("Essais!$L$2:$L$"&COUNTA(Essais!$A:$A)))),"")} | L33: {=IFERROR(INDEX(INDIRECT("Essais!$L$2:$L$"&COUNTA(Essais!$A:$A)),SMALL(IF(LEFT(INDIRECT("Essais!$L$2:$L$"&COUNTA(Essais!$A:$A)),2)="di",ROW(INDIRECT("$1:$"&COUNTA(Essais!$A:$A)-1))),ROWS($1:32))),"")}
C34: {=IFERROR(INDEX(OFFSET(INDIRECT("Essais!$b$2:$b$"&COUNTA(Essais!$A:$A)),0,COLUMNS($A:A)),MATCH($L34,INDIRECT("Essais!$L$2:$L$"&COUNTA(Essais!$A:$A)))),"")} | D34: {=IFERROR(INDEX(OFFSET(INDIRECT("Essais!$b$2:$b$"&COUNTA(Essais!$A:$A)),0,COLUMNS($A:B)),MATCH($L34,INDIRECT("Essais!$L$2:$L$"&COUNTA(Essais!$A:$A)))),"")} | E34: {=IFERROR(INDEX(OFFSET(INDIRECT("Essais!$b$2:$b$"&COUNTA(Essais!$A:$A)),0,COLUMNS($A:C)),MATCH($L34,INDIRECT("Essais!$L$2:$L$"&COUNTA(Essais!$A:$A)))),"")} | F34: {=IFERROR(INDEX(OFFSET(INDIRECT("Essais!$b$2:$b$"&COUNTA(Essais!$A:$A)),0,COLUMNS($A:D)),MATCH($L34,INDIRECT("Essais!$L$2:$L$"&COUNTA(Essais!$A:$A)))),"")} | G34: {=IFERROR(INDEX(OFFSET(INDIRECT("Essais!$b$2:$b$"&COUNTA(Essais!$A:$A)),0,COLUMNS($A:E)),MATCH($L34,INDIRECT("Essais!$L$2:$L$"&COUNTA(Essais!$A:$A)))),"")} | H34: {=IFERROR(INDEX(OFFSET(INDIRECT("Essais!$b$2:$b$"&COUNTA(Essais!$A:$A)),0,COLUMNS($A:F)),MATCH($L34,INDIRECT("Essais!$L$2:$L$"&COUNTA(Essais!$A:$A)))),"")} | I34: {=IFERROR(INDEX(OFFSET(INDIRECT("Essais!$b$2:$b$"&COUNTA(Essais!$A:$A)),0,COLUMNS($A:G)),MATCH($L34,INDIRECT("Essais!$L$2:$L$"&COUNTA(Essais!$A:$A)))),"")} | J34: {=IFERROR(INDEX(OFFSET(INDIRECT("Essais!$b$2:$b$"&COUNTA(Essais!$A:$A)),0,COLUMNS($A:H)),MATCH($L34,INDIRECT("Essais!$L$2:$L$"&COUNTA(Essais!$A:$A)))),"")} | K34: {=IFERROR(INDEX(OFFSET(INDIRECT("Essais!$b$2:$b$"&COUNTA(Essais!$A:$A)),0,COLUMNS($A:I)),MATCH($L34,INDIRECT("Essais!$L$2:$L$"&COUNTA(Essais!$A:$A)))),"")} | L34: {=IFERROR(INDEX(INDIRECT("Essais!$L$2:$L$"&COUNTA(Essais!$A:$A)),SMALL(IF(LEFT(INDIRECT("Essais!$L$2:$L$"&COUNTA(Essais!$A:$A)),2)="di",ROW(INDIRECT("$1:$"&COUNTA(Essais!$A:$A)-1))),ROWS($1:33))),"")}
C35: {=IFERROR(INDEX(OFFSET(INDIRECT("Essais!$b$2:$b$"&COUNTA(Essais!$A:$A)),0,COLUMNS($A:A)),MATCH($L35,INDIRECT("Essais!$L$2:$L$"&COUNTA(Essais!$A:$A)))),"")} | D35: {=IFERROR(INDEX(OFFSET(INDIRECT("Essais!$b$2:$b$"&COUNTA(Essais!$A:$A)),0,COLUMNS($A:B)),MATCH($L35,INDIRECT("Essais!$L$2:$L$"&COUNTA(Essais!$A:$A)))),"")} | E35: {=IFERROR(INDEX(OFFSET(INDIRECT("Essais!$b$2:$b$"&COUNTA(Essais!$A:$A)),0,COLUMNS($A:C)),MATCH($L35,INDIRECT("Essais!$L$2:$L$"&COUNTA(Essais!$A:$A)))),"")} | F35: {=IFERROR(INDEX(OFFSET(INDIRECT("Essais!$b$2:$b$"&COUNTA(Essais!$A:$A)),0,COLUMNS($A:D)),MATCH($L35,INDIRECT("Essais!$L$2:$L$"&COUNTA(Essais!$A:$A)))),"")} | G35: {=IFERROR(INDEX(OFFSET(INDIRECT("Essais!$b$2:$b$"&COUNTA(Essais!$A:$A)),0,COLUMNS($A:E)),MATCH($L35,INDIRECT("Essais!$L$2:$L$"&COUNTA(Essais!$A:$A)))),"")} | H35: {=IFERROR(INDEX(OFFSET(INDIRECT("Essais!$b$2:$b$"&COUNTA(Essais!$A:$A)),0,COLUMNS($A:F)),MATCH($L35,INDIRECT("Essais!$L$2:$L$"&COUNTA(Essais!$A:$A)))),"")} | I35: {=IFERROR(INDEX(OFFSET(INDIRECT("Essais!$b$2:$b$"&COUNTA(Essais!$A:$A)),0,COLUMNS($A:G)),MATCH($L35,INDIRECT("Essais!$L$2:$L$"&COUNTA(Essais!$A:$A)))),"")} | J35: {=IFERROR(INDEX(OFFSET(INDIRECT("Essais!$b$2:$b$"&COUNTA(Essais!$A:$A)),0,COLUMNS($A:H)),MATCH($L35,INDIRECT("Essais!$L$2:$L$"&COUNTA(Essais!$A:$A)))),"")} | K35: {=IFERROR(INDEX(OFFSET(INDIRECT("Essais!$b$2:$b$"&COUNTA(Essais!$A:$A)),0,COLUMNS($A:I)),MATCH($L35,INDIRECT("Essais!$L$2:$L$"&COUNTA(Essais!$A:$A)))),"")} | L35: {=IFERROR(INDEX(INDIRECT("Essais!$L$2:$L$"&COUNTA(Essais!$A:$A)),SMALL(IF(LEFT(INDIRECT("Essais!$L$2:$L$"&COUNTA(Essais!$A:$A)),2)="di",ROW(INDIRECT("$1:$"&COUNTA(Essais!$A:$A)-1))),ROWS($1:34))),"")}
C36: {=IFERROR(INDEX(OFFSET(INDIRECT("Essais!$b$2:$b$"&COUNTA(Essais!$A:$A)),0,COLUMNS($A:A)),MATCH($L36,INDIRECT("Essais!$L$2:$L$"&COUNTA(Essais!$A:$A)))),"")} | D36: {=IFERROR(INDEX(OFFSET(INDIRECT("Essais!$b$2:$b$"&COUNTA(Essais!$A:$A)),0,COLUMNS($A:B)),MATCH($L36,INDIRECT("Essais!$L$2:$L$"&COUNTA(Essais!$A:$A)))),"")} | E36: {=IFERROR(INDEX(OFFSET(INDIRECT("Essais!$b$2:$b$"&COUNTA(Essais!$A:$A)),0,COLUMNS($A:C)),MATCH($L36,INDIRECT("Essais!$L$2:$L$"&COUNTA(Essais!$A:$A)))),"")} | F36: {=IFERROR(INDEX(OFFSET(INDIRECT("Essais!$b$2:$b$"&COUNTA(Essais!$A:$A)),0,COLUMNS($A:D)),MATCH($L36,INDIRECT("Essais!$L$2:$L$"&COUNTA(Essais!$A:$A)))),"")} | G36: {=IFERROR(INDEX(OFFSET(INDIRECT("Essais!$b$2:$b$"&COUNTA(Essais!$A:$A)),0,COLUMNS($A:E)),MATCH($L36,INDIRECT("Essais!$L$2:$L$"&COUNTA(Essais!$A:$A)))),"")} | H36: {=IFERROR(INDEX(OFFSET(INDIRECT("Essais!$b$2:$b$"&COUNTA(Essais!$A:$A)),0,COLUMNS($A:F)),MATCH($L36,INDIRECT("Essais!$L$2:$L$"&COUNTA(Essais!$A:$A)))),"")} | I36: {=IFERROR(INDEX(OFFSET(INDIRECT("Essais!$b$2:$b$"&COUNTA(Essais!$A:$A)),0,COLUMNS($A:G)),MATCH($L36,INDIRECT("Essais!$L$2:$L$"&COUNTA(Essais!$A:$A)))),"")} | J36: {=IFERROR(INDEX(OFFSET(INDIRECT("Essais!$b$2:$b$"&COUNTA(Essais!$A:$A)),0,COLUMNS($A:H)),MATCH($L36,INDIRECT("Essais!$L$2:$L$"&COUNTA(Essais!$A:$A)))),"")} | K36: {=IFERROR(INDEX(OFFSET(INDIRECT("Essais!$b$2:$b$"&COUNTA(Essais!$A:$A)),0,COLUMNS($A:I)),MATCH($L36,INDIRECT("Essais!$L$2:$L$"&COUNTA(Essais!$A:$A)))),"")} | L36: {=IFERROR(INDEX(INDIRECT("Essais!$L$2:$L$"&COUNTA(Essais!$A:$A)),SMALL(IF(LEFT(INDIRECT("Essais!$L$2:$L$"&COUNTA(Essais!$A:$A)),2)="di",ROW(INDIRECT("$1:$"&COUNTA(Essais!$A:$A)-1))),ROWS($1:35))),"")}
C37: {=IFERROR(INDEX(OFFSET(INDIRECT("Essais!$b$2:$b$"&COUNTA(Essais!$A:$A)),0,COLUMNS($A:A)),MATCH($L37,INDIRECT("Essais!$L$2:$L$"&COUNTA(Essais!$A:$A)))),"")} | D37: {=IFERROR(INDEX(OFFSET(INDIRECT("Essais!$b$2:$b$"&COUNTA(Essais!$A:$A)),0,COLUMNS($A:B)),MATCH($L37,INDIRECT("Essais!$L$2:$L$"&COUNTA(Essais!$A:$A)))),"")} | E37: {=IFERROR(INDEX(OFFSET(INDIRECT("Essais!$b$2:$b$"&COUNTA(Essais!$A:$A)),0,COLUMNS($A:C)),MATCH($L37,INDIRECT("Essais!$L$2:$L$"&COUNTA(Essais!$A:$A)))),"")} | F37: {=IFERROR(INDEX(OFFSET(INDIRECT("Essais!$b$2:$b$"&COUNTA(Essais!$A:$A)),0,COLUMNS($A:D)),MATCH($L37,INDIRECT("Essais!$L$2:$L$"&COUNTA(Essais!$A:$A)))),"")} | G37: {=IFERROR(INDEX(OFFSET(INDIRECT("Essais!$b$2:$b$"&COUNTA(Essais!$A:$A)),0,COLUMNS($A:E)),MATCH($L37,INDIRECT("Essais!$L$2:$L$"&COUNTA(Essais!$A:$A)))),"")} | H37: {=IFERROR(INDEX(OFFSET(INDIRECT("Essais!$b$2:$b$"&COUNTA(Essais!$A:$A)),0,COLUMNS($A:F)),MATCH($L37,INDIRECT("Essais!$L$2:$L$"&COUNTA(Essais!$A:$A)))),"")} | I37: {=IFERROR(INDEX(OFFSET(INDIRECT("Essais!$b$2:$b$"&COUNTA(Essais!$A:$A)),0,COLUMNS($A:G)),MATCH($L37,INDIRECT("Essais!$L$2:$L$"&COUNTA(Essais!$A:$A)))),"")} | J37: {=IFERROR(INDEX(OFFSET(INDIRECT("Essais!$b$2:$b$"&COUNTA(Essais!$A:$A)),0,COLUMNS($A:H)),MATCH($L37,INDIRECT("Essais!$L$2:$L$"&COUNTA(Essais!$A:$A)))),"")} | K37: {=IFERROR(INDEX(OFFSET(INDIRECT("Essais!$b$2:$b$"&COUNTA(Essais!$A:$A)),0,COLUMNS($A:I)),MATCH($L37,INDIRECT("Essais!$L$2:$L$"&COUNTA(Essais!$A:$A)))),"")} | L37: {=IFERROR(INDEX(INDIRECT("Essais!$L$2:$L$"&COUNTA(Essais!$A:$A)),SMALL(IF(LEFT(INDIRECT("Essais!$L$2:$L$"&COUNTA(Essais!$A:$A)),2)="di",ROW(INDIRECT("$1:$"&COUNTA(Essais!$A:$A)-1))),ROWS($1:36))),"")}
C38: {=IFERROR(INDEX(OFFSET(INDIRECT("Essais!$b$2:$b$"&COUNTA(Essais!$A:$A)),0,COLUMNS($A:A)),MATCH($L38,INDIRECT("Essais!$L$2:$L$"&COUNTA(Essais!$A:$A)))),"")} | D38: {=IFERROR(INDEX(OFFSET(INDIRECT("Essais!$b$2:$b$"&COUNTA(Essais!$A:$A)),0,COLUMNS($A:B)),MATCH($L38,INDIRECT("Essais!$L$2:$L$"&COUNTA(Essais!$A:$A)))),"")} | E38: {=IFERROR(INDEX(OFFSET(INDIRECT("Essais!$b$2:$b$"&COUNTA(Essais!$A:$A)),0,COLUMNS($A:C)),MATCH($L38,INDIRECT("Essais!$L$2:$L$"&COUNTA(Essais!$A:$A)))),"")} | F38: {=IFERROR(INDEX(OFFSET(INDIRECT("Essais!$b$2:$b$"&COUNTA(Essais!$A:$A)),0,COLUMNS($A:D)),MATCH($L38,INDIRECT("Essais!$L$2:$L$"&COUNTA(Essais!$A:$A)))),"")} | G38: {=IFERROR(INDEX(OFFSET(INDIRECT("Essais!$b$2:$b$"&COUNTA(Essais!$A:$A)),0,COLUMNS($A:E)),MATCH($L38,INDIRECT("Essais!$L$2:$L$"&COUNTA(Essais!$A:$A)))),"")} | H38: {=IFERROR(INDEX(OFFSET(INDIRECT("Essais!$b$2:$b$"&COUNTA(Essais!$A:$A)),0,COLUMNS($A:F)),MATCH($L38,INDIRECT("Essais!$L$2:$L$"&COUNTA(Essais!$A:$A)))),"")} | I38: {=IFERROR(INDEX(OFFSET(INDIRECT("Essais!$b$2:$b$"&COUNTA(Essais!$A:$A)),0,COLUMNS($A:G)),MATCH($L38,INDIRECT("Essais!$L$2:$L$"&COUNTA(Essais!$A:$A)))),"")} | J38: {=IFERROR(INDEX(OFFSET(INDIRECT("Essais!$b$2:$b$"&COUNTA(Essais!$A:$A)),0,COLUMNS($A:H)),MATCH($L38,INDIRECT("Essais!$L$2:$L$"&COUNTA(Essais!$A:$A)))),"")} | K38: {=IFERROR(INDEX(OFFSET(INDIRECT("Essais!$b$2:$b$"&COUNTA(Essais!$A:$A)),0,COLUMNS($A:I)),MATCH($L38,INDIRECT("Essais!$L$2:$L$"&COUNTA(Essais!$A:$A)))),"")} | L38: {=IFERROR(INDEX(INDIRECT("Essais!$L$2:$L$"&COUNTA(Essais!$A:$A)),SMALL(IF(LEFT(INDIRECT("Essais!$L$2:$L$"&COUNTA(Essais!$A:$A)),2)="di",ROW(INDIRECT("$1:$"&COUNTA(Essais!$A:$A)-1))),ROWS($1:37))),"")}
C39: {=IFERROR(INDEX(OFFSET(INDIRECT("Essais!$b$2:$b$"&COUNTA(Essais!$A:$A)),0,COLUMNS($A:A)),MATCH($L39,INDIRECT("Essais!$L$2:$L$"&COUNTA(Essais!$A:$A)))),"")} | D39: {=IFERROR(INDEX(OFFSET(INDIRECT("Essais!$b$2:$b$"&COUNTA(Essais!$A:$A)),0,COLUMNS($A:B)),MATCH($L39,INDIRECT("Essais!$L$2:$L$"&COUNTA(Essais!$A:$A)))),"")} | E39: {=IFERROR(INDEX(OFFSET(INDIRECT("Essais!$b$2:$b$"&COUNTA(Essais!$A:$A)),0,COLUMNS($A:C)),MATCH($L39,INDIRECT("Essais!$L$2:$L$"&COUNTA(Essais!$A:$A)))),"")} | F39: {=IFERROR(INDEX(OFFSET(INDIRECT("Essais!$b$2:$b$"&COUNTA(Essais!$A:$A)),0,COLUMNS($A:D)),MATCH($L39,INDIRECT("Essais!$L$2:$L$"&COUNTA(Essais!$A:$A)))),"")} | G39: {=IFERROR(INDEX(OFFSET(INDIRECT("Essais!$b$2:$b$"&COUNTA(Essais!$A:$A)),0,COLUMNS($A:E)),MATCH($L39,INDIRECT("Essais!$L$2:$L$"&COUNTA(Essais!$A:$A)))),"")} | H39: {=IFERROR(INDEX(OFFSET(INDIRECT("Essais!$b$2:$b$"&COUNTA(Essais!$A:$A)),0,COLUMNS($A:F)),MATCH($L39,INDIRECT("Essais!$L$2:$L$"&COUNTA(Essais!$A:$A)))),"")} | I39: {=IFERROR(INDEX(OFFSET(INDIRECT("Essais!$b$2:$b$"&COUNTA(Essais!$A:$A)),0,COLUMNS($A:G)),MATCH($L39,INDIRECT("Essais!$L$2:$L$"&COUNTA(Essais!$A:$A)))),"")} | J39: {=IFERROR(INDEX(OFFSET(INDIRECT("Essais!$b$2:$b$"&COUNTA(Essais!$A:$A)),0,COLUMNS($A:H)),MATCH($L39,INDIRECT("Essais!$L$2:$L$"&COUNTA(Essais!$A:$A)))),"")} | K39: {=IFERROR(INDEX(OFFSET(INDIRECT("Essais!$b$2:$b$"&COUNTA(Essais!$A:$A)),0,COLUMNS($A:I)),MATCH($L39,INDIRECT("Essais!$L$2:$L$"&COUNTA(Essais!$A:$A)))),"")} | L39: {=IFERROR(INDEX(INDIRECT("Essais!$L$2:$L$"&COUNTA(Essais!$A:$A)),SMALL(IF(LEFT(INDIRECT("Essais!$L$2:$L$"&COUNTA(Essais!$A:$A)),2)="di",ROW(INDIRECT("$1:$"&COUNTA(Essais!$A:$A)-1))),ROWS($1:38))),"")}
C40: {=IFERROR(INDEX(OFFSET(INDIRECT("Essais!$b$2:$b$"&COUNTA(Essais!$A:$A)),0,COLUMNS($A:A)),MATCH($L40,INDIRECT("Essais!$L$2:$L$"&COUNTA(Essais!$A:$A)))),"")} | D40: {=IFERROR(INDEX(OFFSET(INDIRECT("Essais!$b$2:$b$"&COUNTA(Essais!$A:$A)),0,COLUMNS($A:B)),MATCH($L40,INDIRECT("Essais!$L$2:$L$"&COUNTA(Essais!$A:$A)))),"")} | E40: {=IFERROR(INDEX(OFFSET(INDIRECT("Essais!$b$2:$b$"&COUNTA(Essais!$A:$A)),0,COLUMNS($A:C)),MATCH($L40,INDIRECT("Essais!$L$2:$L$"&COUNTA(Essais!$A:$A)))),"")} | F40: {=IFERROR(INDEX(OFFSET(INDIRECT("Essais!$b$2:$b$"&COUNTA(Essais!$A:$A)),0,COLUMNS($A:D)),MATCH($L40,INDIRECT("Essais!$L$2:$L$"&COUNTA(Essais!$A:$A)))),"")} | G40: {=IFERROR(INDEX(OFFSET(INDIRECT("Essais!$b$2:$b$"&COUNTA(Essais!$A:$A)),0,COLUMNS($A:E)),MATCH($L40,INDIRECT("Essais!$L$2:$L$"&COUNTA(Essais!$A:$A)))),"")} | H40: {=IFERROR(INDEX(OFFSET(INDIRECT("Essais!$b$2:$b$"&COUNTA(Essais!$A:$A)),0,COLUMNS($A:F)),MATCH($L40,INDIRECT("Essais!$L$2:$L$"&COUNTA(Essais!$A:$A)))),"")} | I40: {=IFERROR(INDEX(OFFSET(INDIRECT("Essais!$b$2:$b$"&COUNTA(Essais!$A:$A)),0,COLUMNS($A:G)),MATCH($L40,INDIRECT("Essais!$L$2:$L$"&COUNTA(Essais!$A:$A)))),"")} | J40: {=IFERROR(INDEX(OFFSET(INDIRECT("Essais!$b$2:$b$"&COUNTA(Essais!$A:$A)),0,COLUMNS($A:H)),MATCH($L40,INDIRECT("Essais!$L$2:$L$"&COUNTA(Essais!$A:$A)))),"")} | K40: {=IFERROR(INDEX(OFFSET(INDIRECT("Essais!$b$2:$b$"&COUNTA(Essais!$A:$A)),0,COLUMNS($A:I)),MATCH($L40,INDIRECT("Essais!$L$2:$L$"&COUNTA(Essais!$A:$A)))),"")} | L40: {=IFERROR(INDEX(INDIRECT("Essais!$L$2:$L$"&COUNTA(Essais!$A:$A)),SMALL(IF(LEFT(INDIRECT("Essais!$L$2:$L$"&COUNTA(Essais!$A:$A)),2)="di",ROW(INDIRECT("$1:$"&COUNTA(Essais!$A:$A)-1))),ROWS($1:39))),"")}
C41: {=IFERROR(INDEX(OFFSET(INDIRECT("Essais!$b$2:$b$"&COUNTA(Essais!$A:$A)),0,COLUMNS($A:A)),MATCH($L41,INDIRECT("Essais!$L$2:$L$"&COUNTA(Essais!$A:$A)))),"")} | D41: {=IFERROR(INDEX(OFFSET(INDIRECT("Essais!$b$2:$b$"&COUNTA(Essais!$A:$A)),0,COLUMNS($A:B)),MATCH($L41,INDIRECT("Essais!$L$2:$L$"&COUNTA(Essais!$A:$A)))),"")} | E41: {=IFERROR(INDEX(OFFSET(INDIRECT("Essais!$b$2:$b$"&COUNTA(Essais!$A:$A)),0,COLUMNS($A:C)),MATCH($L41,INDIRECT("Essais!$L$2:$L$"&COUNTA(Essais!$A:$A)))),"")} | F41: {=IFERROR(INDEX(OFFSET(INDIRECT("Essais!$b$2:$b$"&COUNTA(Essais!$A:$A)),0,COLUMNS($A:D)),MATCH($L41,INDIRECT("Essais!$L$2:$L$"&COUNTA(Essais!$A:$A)))),"")} | G41: {=IFERROR(INDEX(OFFSET(INDIRECT("Essais!$b$2:$b$"&COUNTA(Essais!$A:$A)),0,COLUMNS($A:E)),MATCH($L41,INDIRECT("Essais!$L$2:$L$"&COUNTA(Essais!$A:$A)))),"")} | H41: {=IFERROR(INDEX(OFFSET(INDIRECT("Essais!$b$2:$b$"&COUNTA(Essais!$A:$A)),0,COLUMNS($A:F)),MATCH($L41,INDIRECT("Essais!$L$2:$L$"&COUNTA(Essais!$A:$A)))),"")} | I41: {=IFERROR(INDEX(OFFSET(INDIRECT("Essais!$b$2:$b$"&COUNTA(Essais!$A:$A)),0,COLUMNS($A:G)),MATCH($L41,INDIRECT("Essais!$L$2:$L$"&COUNTA(Essais!$A:$A)))),"")} | J41: {=IFERROR(INDEX(OFFSET(INDIRECT("Essais!$b$2:$b$"&COUNTA(Essais!$A:$A)),0,COLUMNS($A:H)),MATCH($L41,INDIRECT("Essais!$L$2:$L$"&COUNTA(Essais!$A:$A)))),"")} | K41: {=IFERROR(INDEX(OFFSET(INDIRECT("Essais!$b$2:$b$"&COUNTA(Essais!$A:$A)),0,COLUMNS($A:I)),MATCH($L41,INDIRECT("Essais!$L$2:$L$"&COUNTA(Essais!$A:$A)))),"")} | L41: {=IFERROR(INDEX(INDIRECT("Essais!$L$2:$L$"&COUNTA(Essais!$A:$A)),SMALL(IF(LEFT(INDIRECT("Essais!$L$2:$L$"&COUNTA(Essais!$A:$A)),2)="di",ROW(INDIRECT("$1:$"&COUNTA(Essais!$A:$A)-1))),ROWS($1:40))),"")}
C42: {=IFERROR(INDEX(OFFSET(INDIRECT("Essais!$b$2:$b$"&COUNTA(Essais!$A:$A)),0,COLUMNS($A:A)),MATCH($L42,INDIRECT("Essais!$L$2:$L$"&COUNTA(Essais!$A:$A)))),"")} | D42: {=IFERROR(INDEX(OFFSET(INDIRECT("Essais!$b$2:$b$"&COUNTA(Essais!$A:$A)),0,COLUMNS($A:B)),MATCH($L42,INDIRECT("Essais!$L$2:$L$"&COUNTA(Essais!$A:$A)))),"")} | E42: {=IFERROR(INDEX(OFFSET(INDIRECT("Essais!$b$2:$b$"&COUNTA(Essais!$A:$A)),0,COLUMNS($A:C)),MATCH($L42,INDIRECT("Essais!$L$2:$L$"&COUNTA(Essais!$A:$A)))),"")} | F42: {=IFERROR(INDEX(OFFSET(INDIRECT("Essais!$b$2:$b$"&COUNTA(Essais!$A:$A)),0,COLUMNS($A:D)),MATCH($L42,INDIRECT("Essais!$L$2:$L$"&COUNTA(Essais!$A:$A)))),"")} | G42: {=IFERROR(INDEX(OFFSET(INDIRECT("Essais!$b$2:$b$"&COUNTA(Essais!$A:$A)),0,COLUMNS($A:E)),MATCH($L42,INDIRECT("Essais!$L$2:$L$"&COUNTA(Essais!$A:$A)))),"")} | H42: {=IFERROR(INDEX(OFFSET(INDIRECT("Essais!$b$2:$b$"&COUNTA(Essais!$A:$A)),0,COLUMNS($A:F)),MATCH($L42,INDIRECT("Essais!$L$2:$L$"&COUNTA(Essais!$A:$A)))),"")} | I42: {=IFERROR(INDEX(OFFSET(INDIRECT("Essais!$b$2:$b$"&COUNTA(Essais!$A:$A)),0,COLUMNS($A:G)),MATCH($L42,INDIRECT("Essais!$L$2:$L$"&COUNTA(Essais!$A:$A)))),"")} | J42: {=IFERROR(INDEX(OFFSET(INDIRECT("Essais!$b$2:$b$"&COUNTA(Essais!$A:$A)),0,COLUMNS($A:H)),MATCH($L42,INDIRECT("Essais!$L$2:$L$"&COUNTA(Essais!$A:$A)))),"")} | K42: {=IFERROR(INDEX(OFFSET(INDIRECT("Essais!$b$2:$b$"&COUNTA(Essais!$A:$A)),0,COLUMNS($A:I)),MATCH($L42,INDIRECT("Essais!$L$2:$L$"&COUNTA(Essais!$A:$A)))),"")} | L42: {=IFERROR(INDEX(INDIRECT("Essais!$L$2:$L$"&COUNTA(Essais!$A:$A)),SMALL(IF(LEFT(INDIRECT("Essais!$L$2:$L$"&COUNTA(Essais!$A:$A)),2)="di",ROW(INDIRECT("$1:$"&COUNTA(Essais!$A:$A)-1))),ROWS($1:41))),"")}
C43: {=IFERROR(INDEX(OFFSET(INDIRECT("Essais!$b$2:$b$"&COUNTA(Essais!$A:$A)),0,COLUMNS($A:A)),MATCH($L43,INDIRECT("Essais!$L$2:$L$"&COUNTA(Essais!$A:$A)))),"")} | D43: {=IFERROR(INDEX(OFFSET(INDIRECT("Essais!$b$2:$b$"&COUNTA(Essais!$A:$A)),0,COLUMNS($A:B)),MATCH($L43,INDIRECT("Essais!$L$2:$L$"&COUNTA(Essais!$A:$A)))),"")} | E43: {=IFERROR(INDEX(OFFSET(INDIRECT("Essais!$b$2:$b$"&COUNTA(Essais!$A:$A)),0,COLUMNS($A:C)),MATCH($L43,INDIRECT("Essais!$L$2:$L$"&COUNTA(Essais!$A:$A)))),"")} | F43: {=IFERROR(INDEX(OFFSET(INDIRECT("Essais!$b$2:$b$"&COUNTA(Essais!$A:$A)),0,COLUMNS($A:D)),MATCH($L43,INDIRECT("Essais!$L$2:$L$"&COUNTA(Essais!$A:$A)))),"")} | G43: {=IFERROR(INDEX(OFFSET(INDIRECT("Essais!$b$2:$b$"&COUNTA(Essais!$A:$A)),0,COLUMNS($A:E)),MATCH($L43,INDIRECT("Essais!$L$2:$L$"&COUNTA(Essais!$A:$A)))),"")} | H43: {=IFERROR(INDEX(OFFSET(INDIRECT("Essais!$b$2:$b$"&COUNTA(Essais!$A:$A)),0,COLUMNS($A:F)),MATCH($L43,INDIRECT("Essais!$L$2:$L$"&COUNTA(Essais!$A:$A)))),"")} | I43: {=IFERROR(INDEX(OFFSET(INDIRECT("Essais!$b$2:$b$"&COUNTA(Essais!$A:$A)),0,COLUMNS($A:G)),MATCH($L43,INDIRECT("Essais!$L$2:$L$"&COUNTA(Essais!$A:$A)))),"")} | J43: {=IFERROR(INDEX(OFFSET(INDIRECT("Essais!$b$2:$b$"&COUNTA(Essais!$A:$A)),0,COLUMNS($A:H)),MATCH($L43,INDIRECT("Essais!$L$2:$L$"&COUNTA(Essais!$A:$A)))),"")} | K43: {=IFERROR(INDEX(OFFSET(INDIRECT("Essais!$b$2:$b$"&COUNTA(Essais!$A:$A)),0,COLUMNS($A:I)),MATCH($L43,INDIRECT("Essais!$L$2:$L$"&COUNTA(Essais!$A:$A)))),"")} | L43: {=IFERROR(INDEX(INDIRECT("Essais!$L$2:$L$"&COUNTA(Essais!$A:$A)),SMALL(IF(LEFT(INDIRECT("Essais!$L$2:$L$"&COUNTA(Essais!$A:$A)),2)="di",ROW(INDIRECT("$1:$"&COUNTA(Essais!$A:$A)-1))),ROWS($1:42))),"")}
C44: {=IFERROR(INDEX(OFFSET(INDIRECT("Essais!$b$2:$b$"&COUNTA(Essais!$A:$A)),0,COLUMNS($A:A)),MATCH($L44,INDIRECT("Essais!$L$2:$L$"&COUNTA(Essais!$A:$A)))),"")} | D44: {=IFERROR(INDEX(OFFSET(INDIRECT("Essais!$b$2:$b$"&COUNTA(Essais!$A:$A)),0,COLUMNS($A:B)),MATCH($L44,INDIRECT("Essais!$L$2:$L$"&COUNTA(Essais!$A:$A)))),"")} | E44: {=IFERROR(INDEX(OFFSET(INDIRECT("Essais!$b$2:$b$"&COUNTA(Essais!$A:$A)),0,COLUMNS($A:C)),MATCH($L44,INDIRECT("Essais!$L$2:$L$"&COUNTA(Essais!$A:$A)))),"")} | F44: {=IFERROR(INDEX(OFFSET(INDIRECT("Essais!$b$2:$b$"&COUNTA(Essais!$A:$A)),0,COLUMNS($A:D)),MATCH($L44,INDIRECT("Essais!$L$2:$L$"&COUNTA(Essais!$A:$A)))),"")} | G44: {=IFERROR(INDEX(OFFSET(INDIRECT("Essais!$b$2:$b$"&COUNTA(Essais!$A:$A)),0,COLUMNS($A:E)),MATCH($L44,INDIRECT("Essais!$L$2:$L$"&COUNTA(Essais!$A:$A)))),"")} | H44: {=IFERROR(INDEX(OFFSET(INDIRECT("Essais!$b$2:$b$"&COUNTA(Essais!$A:$A)),0,COLUMNS($A:F)),MATCH($L44,INDIRECT("Essais!$L$2:$L$"&COUNTA(Essais!$A:$A)))),"")} | I44: {=IFERROR(INDEX(OFFSET(INDIRECT("Essais!$b$2:$b$"&COUNTA(Essais!$A:$A)),0,COLUMNS($A:G)),MATCH($L44,INDIRECT("Essais!$L$2:$L$"&COUNTA(Essais!$A:$A)))),"")} | J44: {=IFERROR(INDEX(OFFSET(INDIRECT("Essais!$b$2:$b$"&COUNTA(Essais!$A:$A)),0,COLUMNS($A:H)),MATCH($L44,INDIRECT("Essais!$L$2:$L$"&COUNTA(Essais!$A:$A)))),"")} | K44: {=IFERROR(INDEX(OFFSET(INDIRECT("Essais!$b$2:$b$"&COUNTA(Essais!$A:$A)),0,COLUMNS($A:I)),MATCH($L44,INDIRECT("Essais!$L$2:$L$"&COUNTA(Essais!$A:$A)))),"")} | L44: {=IFERROR(INDEX(INDIRECT("Essais!$L$2:$L$"&COUNTA(Essais!$A:$A)),SMALL(IF(LEFT(INDIRECT("Essais!$L$2:$L$"&COUNTA(Essais!$A:$A)),2)="di",ROW(INDIRECT("$1:$"&COUNTA(Essais!$A:$A)-1))),ROWS($1:43))),"")}
C45: {=IFERROR(INDEX(OFFSET(INDIRECT("Essais!$b$2:$b$"&COUNTA(Essais!$A:$A)),0,COLUMNS($A:A)),MATCH($L45,INDIRECT("Essais!$L$2:$L$"&COUNTA(Essais!$A:$A)))),"")} | D45: {=IFERROR(INDEX(OFFSET(INDIRECT("Essais!$b$2:$b$"&COUNTA(Essais!$A:$A)),0,COLUMNS($A:B)),MATCH($L45,INDIRECT("Essais!$L$2:$L$"&COUNTA(Essais!$A:$A)))),"")} | E45: {=IFERROR(INDEX(OFFSET(INDIRECT("Essais!$b$2:$b$"&COUNTA(Essais!$A:$A)),0,COLUMNS($A:C)),MATCH($L45,INDIRECT("Essais!$L$2:$L$"&COUNTA(Essais!$A:$A)))),"")} | F45: {=IFERROR(INDEX(OFFSET(INDIRECT("Essais!$b$2:$b$"&COUNTA(Essais!$A:$A)),0,COLUMNS($A:D)),MATCH($L45,INDIRECT("Essais!$L$2:$L$"&COUNTA(Essais!$A:$A)))),"")} | G45: {=IFERROR(INDEX(OFFSET(INDIRECT("Essais!$b$2:$b$"&COUNTA(Essais!$A:$A)),0,COLUMNS($A:E)),MATCH($L45,INDIRECT("Essais!$L$2:$L$"&COUNTA(Essais!$A:$A)))),"")} | H45: {=IFERROR(INDEX(OFFSET(INDIRECT("Essais!$b$2:$b$"&COUNTA(Essais!$A:$A)),0,COLUMNS($A:F)),MATCH($L45,INDIRECT("Essais!$L$2:$L$"&COUNTA(Essais!$A:$A)))),"")} | I45: {=IFERROR(INDEX(OFFSET(INDIRECT("Essais!$b$2:$b$"&COUNTA(Essais!$A:$A)),0,COLUMNS($A:G)),MATCH($L45,INDIRECT("Essais!$L$2:$L$"&COUNTA(Essais!$A:$A)))),"")} | J45: {=IFERROR(INDEX(OFFSET(INDIRECT("Essais!$b$2:$b$"&COUNTA(Essais!$A:$A)),0,COLUMNS($A:H)),MATCH($L45,INDIRECT("Essais!$L$2:$L$"&COUNTA(Essais!$A:$A)))),"")} | K45: {=IFERROR(INDEX(OFFSET(INDIRECT("Essais!$b$2:$b$"&COUNTA(Essais!$A:$A)),0,COLUMNS($A:I)),MATCH($L45,INDIRECT("Essais!$L$2:$L$"&COUNTA(Essais!$A:$A)))),"")} | L45: {=IFERROR(INDEX(INDIRECT("Essais!$L$2:$L$"&COUNTA(Essais!$A:$A)),SMALL(IF(LEFT(INDIRECT("Essais!$L$2:$L$"&COUNTA(Essais!$A:$A)),2)="di",ROW(INDIRECT("$1:$"&COUNTA(Essais!$A:$A)-1))),ROWS($1:44))),"")}
C46: {=IFERROR(INDEX(OFFSET(INDIRECT("Essais!$b$2:$b$"&COUNTA(Essais!$A:$A)),0,COLUMNS($A:A)),MATCH($L46,INDIRECT("Essais!$L$2:$L$"&COUNTA(Essais!$A:$A)))),"")} | D46: {=IFERROR(INDEX(OFFSET(INDIRECT("Essais!$b$2:$b$"&COUNTA(Essais!$A:$A)),0,COLUMNS($A:B)),MATCH($L46,INDIRECT("Essais!$L$2:$L$"&COUNTA(Essais!$A:$A)))),"")} | E46: {=IFERROR(INDEX(OFFSET(INDIRECT("Essais!$b$2:$b$"&COUNTA(Essais!$A:$A)),0,COLUMNS($A:C)),MATCH($L46,INDIRECT("Essais!$L$2:$L$"&COUNTA(Essais!$A:$A)))),"")} | F46: {=IFERROR(INDEX(OFFSET(INDIRECT("Essais!$b$2:$b$"&COUNTA(Essais!$A:$A)),0,COLUMNS($A:D)),MATCH($L46,INDIRECT("Essais!$L$2:$L$"&COUNTA(Essais!$A:$A)))),"")} | G46: {=IFERROR(INDEX(OFFSET(INDIRECT("Essais!$b$2:$b$"&COUNTA(Essais!$A:$A)),0,COLUMNS($A:E)),MATCH($L46,INDIRECT("Essais!$L$2:$L$"&COUNTA(Essais!$A:$A)))),"")} | H46: {=IFERROR(INDEX(OFFSET(INDIRECT("Essais!$b$2:$b$"&COUNTA(Essais!$A:$A)),0,COLUMNS($A:F)),MATCH($L46,INDIRECT("Essais!$L$2:$L$"&COUNTA(Essais!$A:$A)))),"")} | I46: {=IFERROR(INDEX(OFFSET(INDIRECT("Essais!$b$2:$b$"&COUNTA(Essais!$A:$A)),0,COLUMNS($A:G)),MATCH($L46,INDIRECT("Essais!$L$2:$L$"&COUNTA(Essais!$A:$A)))),"")} | J46: {=IFERROR(INDEX(OFFSET(INDIRECT("Essais!$b$2:$b$"&COUNTA(Essais!$A:$A)),0,COLUMNS($A:H)),MATCH($L46,INDIRECT("Essais!$L$2:$L$"&COUNTA(Essais!$A:$A)))),"")} | K46: {=IFERROR(INDEX(OFFSET(INDIRECT("Essais!$b$2:$b$"&COUNTA(Essais!$A:$A)),0,COLUMNS($A:I)),MATCH($L46,INDIRECT("Essais!$L$2:$L$"&COUNTA(Essais!$A:$A)))),"")} | L46: {=IFERROR(INDEX(INDIRECT("Essais!$L$2:$L$"&COUNTA(Essais!$A:$A)),SMALL(IF(LEFT(INDIRECT("Essais!$L$2:$L$"&COUNTA(Essais!$A:$A)),2)="di",ROW(INDIRECT("$1:$"&COUNTA(Essais!$A:$A)-1))),ROWS($1:45))),"")}
C47: {=IFERROR(INDEX(OFFSET(INDIRECT("Essais!$b$2:$b$"&COUNTA(Essais!$A:$A)),0,COLUMNS($A:A)),MATCH($L47,INDIRECT("Essais!$L$2:$L$"&COUNTA(Essais!$A:$A)))),"")} | D47: {=IFERROR(INDEX(OFFSET(INDIRECT("Essais!$b$2:$b$"&COUNTA(Essais!$A:$A)),0,COLUMNS($A:B)),MATCH($L47,INDIRECT("Essais!$L$2:$L$"&COUNTA(Essais!$A:$A)))),"")} | E47: {=IFERROR(INDEX(OFFSET(INDIRECT("Essais!$b$2:$b$"&COUNTA(Essais!$A:$A)),0,COLUMNS($A:C)),MATCH($L47,INDIRECT("Essais!$L$2:$L$"&COUNTA(Essais!$A:$A)))),"")} | F47: {=IFERROR(INDEX(OFFSET(INDIRECT("Essais!$b$2:$b$"&COUNTA(Essais!$A:$A)),0,COLUMNS($A:D)),MATCH($L47,INDIRECT("Essais!$L$2:$L$"&COUNTA(Essais!$A:$A)))),"")} | G47: {=IFERROR(INDEX(OFFSET(INDIRECT("Essais!$b$2:$b$"&COUNTA(Essais!$A:$A)),0,COLUMNS($A:E)),MATCH($L47,INDIRECT("Essais!$L$2:$L$"&COUNTA(Essais!$A:$A)))),"")} | H47: {=IFERROR(INDEX(OFFSET(INDIRECT("Essais!$b$2:$b$"&COUNTA(Essais!$A:$A)),0,COLUMNS($A:F)),MATCH($L47,INDIRECT("Essais!$L$2:$L$"&COUNTA(Essais!$A:$A)))),"")} | I47: {=IFERROR(INDEX(OFFSET(INDIRECT("Essais!$b$2:$b$"&COUNTA(Essais!$A:$A)),0,COLUMNS($A:G)),MATCH($L47,INDIRECT("Essais!$L$2:$L$"&COUNTA(Essais!$A:$A)))),"")} | J47: {=IFERROR(INDEX(OFFSET(INDIRECT("Essais!$b$2:$b$"&COUNTA(Essais!$A:$A)),0,COLUMNS($A:H)),MATCH($L47,INDIRECT("Essais!$L$2:$L$"&COUNTA(Essais!$A:$A)))),"")} | K47: {=IFERROR(INDEX(OFFSET(INDIRECT("Essais!$b$2:$b$"&COUNTA(Essais!$A:$A)),0,COLUMNS($A:I)),MATCH($L47,INDIRECT("Essais!$L$2:$L$"&COUNTA(Essais!$A:$A)))),"")} | L47: {=IFERROR(INDEX(INDIRECT("Essais!$L$2:$L$"&COUNTA(Essais!$A:$A)),SMALL(IF(LEFT(INDIRECT("Essais!$L$2:$L$"&COUNTA(Essais!$A:$A)),2)="di",ROW(INDIRECT("$1:$"&COUNTA(Essais!$A:$A)-1))),ROWS($1:46))),"")}
C48: {=IFERROR(INDEX(OFFSET(INDIRECT("Essais!$b$2:$b$"&COUNTA(Essais!$A:$A)),0,COLUMNS($A:A)),MATCH($L48,INDIRECT("Essais!$L$2:$L$"&COUNTA(Essais!$A:$A)))),"")} | D48: {=IFERROR(INDEX(OFFSET(INDIRECT("Essais!$b$2:$b$"&COUNTA(Essais!$A:$A)),0,COLUMNS($A:B)),MATCH($L48,INDIRECT("Essais!$L$2:$L$"&COUNTA(Essais!$A:$A)))),"")} | E48: {=IFERROR(INDEX(OFFSET(INDIRECT("Essais!$b$2:$b$"&COUNTA(Essais!$A:$A)),0,COLUMNS($A:C)),MATCH($L48,INDIRECT("Essais!$L$2:$L$"&COUNTA(Essais!$A:$A)))),"")} | F48: {=IFERROR(INDEX(OFFSET(INDIRECT("Essais!$b$2:$b$"&COUNTA(Essais!$A:$A)),0,COLUMNS($A:D)),MATCH($L48,INDIRECT("Essais!$L$2:$L$"&COUNTA(Essais!$A:$A)))),"")} | G48: {=IFERROR(INDEX(OFFSET(INDIRECT("Essais!$b$2:$b$"&COUNTA(Essais!$A:$A)),0,COLUMNS($A:E)),MATCH($L48,INDIRECT("Essais!$L$2:$L$"&COUNTA(Essais!$A:$A)))),"")} | H48: {=IFERROR(INDEX(OFFSET(INDIRECT("Essais!$b$2:$b$"&COUNTA(Essais!$A:$A)),0,COLUMNS($A:F)),MATCH($L48,INDIRECT("Essais!$L$2:$L$"&COUNTA(Essais!$A:$A)))),"")} | I48: {=IFERROR(INDEX(OFFSET(INDIRECT("Essais!$b$2:$b$"&COUNTA(Essais!$A:$A)),0,COLUMNS($A:G)),MATCH($L48,INDIRECT("Essais!$L$2:$L$"&COUNTA(Essais!$A:$A)))),"")} | J48: {=IFERROR(INDEX(OFFSET(INDIRECT("Essais!$b$2:$b$"&COUNTA(Essais!$A:$A)),0,COLUMNS($A:H)),MATCH($L48,INDIRECT("Essais!$L$2:$L$"&COUNTA(Essais!$A:$A)))),"")} | K48: {=IFERROR(INDEX(OFFSET(INDIRECT("Essais!$b$2:$b$"&COUNTA(Essais!$A:$A)),0,COLUMNS($A:I)),MATCH($L48,INDIRECT("Essais!$L$2:$L$"&COUNTA(Essais!$A:$A)))),"")} | L48: {=IFERROR(INDEX(INDIRECT("Essais!$L$2:$L$"&COUNTA(Essais!$A:$A)),SMALL(IF(LEFT(INDIRECT("Essais!$L$2:$L$"&COUNTA(Essais!$A:$A)),2)="di",ROW(INDIRECT("$1:$"&COUNTA(Essais!$A:$A)-1))),ROWS($1:47))),"")}
C49: {=IFERROR(INDEX(OFFSET(INDIRECT("Essais!$b$2:$b$"&COUNTA(Essais!$A:$A)),0,COLUMNS($A:A)),MATCH($L49,INDIRECT("Essais!$L$2:$L$"&COUNTA(Essais!$A:$A)))),"")} | D49: {=IFERROR(INDEX(OFFSET(INDIRECT("Essais!$b$2:$b$"&COUNTA(Essais!$A:$A)),0,COLUMNS($A:B)),MATCH($L49,INDIRECT("Essais!$L$2:$L$"&COUNTA(Essais!$A:$A)))),"")} | E49: {=IFERROR(INDEX(OFFSET(INDIRECT("Essais!$b$2:$b$"&COUNTA(Essais!$A:$A)),0,COLUMNS($A:C)),MATCH($L49,INDIRECT("Essais!$L$2:$L$"&COUNTA(Essais!$A:$A)))),"")} | F49: {=IFERROR(INDEX(OFFSET(INDIRECT("Essais!$b$2:$b$"&COUNTA(Essais!$A:$A)),0,COLUMNS($A:D)),MATCH($L49,INDIRECT("Essais!$L$2:$L$"&COUNTA(Essais!$A:$A)))),"")} | G49: {=IFERROR(INDEX(OFFSET(INDIRECT("Essais!$b$2:$b$"&COUNTA(Essais!$A:$A)),0,COLUMNS($A:E)),MATCH($L49,INDIRECT("Essais!$L$2:$L$"&COUNTA(Essais!$A:$A)))),"")} | H49: {=IFERROR(INDEX(OFFSET(INDIRECT("Essais!$b$2:$b$"&COUNTA(Essais!$A:$A)),0,COLUMNS($A:F)),MATCH($L49,INDIRECT("Essais!$L$2:$L$"&COUNTA(Essais!$A:$A)))),"")} | I49: {=IFERROR(INDEX(OFFSET(INDIRECT("Essais!$b$2:$b$"&COUNTA(Essais!$A:$A)),0,COLUMNS($A:G)),MATCH($L49,INDIRECT("Essais!$L$2:$L$"&COUNTA(Essais!$A:$A)))),"")} | J49: {=IFERROR(INDEX(OFFSET(INDIRECT("Essais!$b$2:$b$"&COUNTA(Essais!$A:$A)),0,COLUMNS($A:H)),MATCH($L49,INDIRECT("Essais!$L$2:$L$"&COUNTA(Essais!$A:$A)))),"")} | K49: {=IFERROR(INDEX(OFFSET(INDIRECT("Essais!$b$2:$b$"&COUNTA(Essais!$A:$A)),0,COLUMNS($A:I)),MATCH($L49,INDIRECT("Essais!$L$2:$L$"&COUNTA(Essais!$A:$A)))),"")} | L49: {=IFERROR(INDEX(INDIRECT("Essais!$L$2:$L$"&COUNTA(Essais!$A:$A)),SMALL(IF(LEFT(INDIRECT("Essais!$L$2:$L$"&COUNTA(Essais!$A:$A)),2)="di",ROW(INDIRECT("$1:$"&COUNTA(Essais!$A:$A)-1))),ROWS($1:48))),"")}
C50: {=IFERROR(INDEX(OFFSET(INDIRECT("Essais!$b$2:$b$"&COUNTA(Essais!$A:$A)),0,COLUMNS($A:A)),MATCH($L50,INDIRECT("Essais!$L$2:$L$"&COUNTA(Essais!$A:$A)))),"")} | D50: {=IFERROR(INDEX(OFFSET(INDIRECT("Essais!$b$2:$b$"&COUNTA(Essais!$A:$A)),0,COLUMNS($A:B)),MATCH($L50,INDIRECT("Essais!$L$2:$L$"&COUNTA(Essais!$A:$A)))),"")} | E50: {=IFERROR(INDEX(OFFSET(INDIRECT("Essais!$b$2:$b$"&COUNTA(Essais!$A:$A)),0,COLUMNS($A:C)),MATCH($L50,INDIRECT("Essais!$L$2:$L$"&COUNTA(Essais!$A:$A)))),"")} | F50: {=IFERROR(INDEX(OFFSET(INDIRECT("Essais!$b$2:$b$"&COUNTA(Essais!$A:$A)),0,COLUMNS($A:D)),MATCH($L50,INDIRECT("Essais!$L$2:$L$"&COUNTA(Essais!$A:$A)))),"")} | G50: {=IFERROR(INDEX(OFFSET(INDIRECT("Essais!$b$2:$b$"&COUNTA(Essais!$A:$A)),0,COLUMNS($A:E)),MATCH($L50,INDIRECT("Essais!$L$2:$L$"&COUNTA(Essais!$A:$A)))),"")} | H50: {=IFERROR(INDEX(OFFSET(INDIRECT("Essais!$b$2:$b$"&COUNTA(Essais!$A:$A)),0,COLUMNS($A:F)),MATCH($L50,INDIRECT("Essais!$L$2:$L$"&COUNTA(Essais!$A:$A)))),"")} | I50: {=IFERROR(INDEX(OFFSET(INDIRECT("Essais!$b$2:$b$"&COUNTA(Essais!$A:$A)),0,COLUMNS($A:G)),MATCH($L50,INDIRECT("Essais!$L$2:$L$"&COUNTA(Essais!$A:$A)))),"")} | J50: {=IFERROR(INDEX(OFFSET(INDIRECT("Essais!$b$2:$b$"&COUNTA(Essais!$A:$A)),0,COLUMNS($A:H)),MATCH($L50,INDIRECT("Essais!$L$2:$L$"&COUNTA(Essais!$A:$A)))),"")} | K50: {=IFERROR(INDEX(OFFSET(INDIRECT("Essais!$b$2:$b$"&COUNTA(Essais!$A:$A)),0,COLUMNS($A:I)),MATCH($L50,INDIRECT("Essais!$L$2:$L$"&COUNTA(Essais!$A:$A)))),"")} | L50: {=IFERROR(INDEX(INDIRECT("Essais!$L$2:$L$"&COUNTA(Essais!$A:$A)),SMALL(IF(LEFT(INDIRECT("Essais!$L$2:$L$"&COUNTA(Essais!$A:$A)),2)="di",ROW(INDIRECT("$1:$"&COUNTA(Essais!$A:$A)-1))),ROWS($1:49))),"")}
C51: {=IFERROR(INDEX(OFFSET(INDIRECT("Essais!$b$2:$b$"&COUNTA(Essais!$A:$A)),0,COLUMNS($A:A)),MATCH($L51,INDIRECT("Essais!$L$2:$L$"&COUNTA(Essais!$A:$A)))),"")} | D51: {=IFERROR(INDEX(OFFSET(INDIRECT("Essais!$b$2:$b$"&COUNTA(Essais!$A:$A)),0,COLUMNS($A:B)),MATCH($L51,INDIRECT("Essais!$L$2:$L$"&COUNTA(Essais!$A:$A)))),"")} | E51: {=IFERROR(INDEX(OFFSET(INDIRECT("Essais!$b$2:$b$"&COUNTA(Essais!$A:$A)),0,COLUMNS($A:C)),MATCH($L51,INDIRECT("Essais!$L$2:$L$"&COUNTA(Essais!$A:$A)))),"")} | F51: {=IFERROR(INDEX(OFFSET(INDIRECT("Essais!$b$2:$b$"&COUNTA(Essais!$A:$A)),0,COLUMNS($A:D)),MATCH($L51,INDIRECT("Essais!$L$2:$L$"&COUNTA(Essais!$A:$A)))),"")} | G51: {=IFERROR(INDEX(OFFSET(INDIRECT("Essais!$b$2:$b$"&COUNTA(Essais!$A:$A)),0,COLUMNS($A:E)),MATCH($L51,INDIRECT("Essais!$L$2:$L$"&COUNTA(Essais!$A:$A)))),"")} | H51: {=IFERROR(INDEX(OFFSET(INDIRECT("Essais!$b$2:$b$"&COUNTA(Essais!$A:$A)),0,COLUMNS($A:F)),MATCH($L51,INDIRECT("Essais!$L$2:$L$"&COUNTA(Essais!$A:$A)))),"")} | I51: {=IFERROR(INDEX(OFFSET(INDIRECT("Essais!$b$2:$b$"&COUNTA(Essais!$A:$A)),0,COLUMNS($A:G)),MATCH($L51,INDIRECT("Essais!$L$2:$L$"&COUNTA(Essais!$A:$A)))),"")} | J51: {=IFERROR(INDEX(OFFSET(INDIRECT("Essais!$b$2:$b$"&COUNTA(Essais!$A:$A)),0,COLUMNS($A:H)),MATCH($L51,INDIRECT("Essais!$L$2:$L$"&COUNTA(Essais!$A:$A)))),"")} | K51: {=IFERROR(INDEX(OFFSET(INDIRECT("Essais!$b$2:$b$"&COUNTA(Essais!$A:$A)),0,COLUMNS($A:I)),MATCH($L51,INDIRECT("Essais!$L$2:$L$"&COUNTA(Essais!$A:$A)))),"")} | L51: {=IFERROR(INDEX(INDIRECT("Essais!$L$2:$L$"&COUNTA(Essais!$A:$A)),SMALL(IF(LEFT(INDIRECT("Essais!$L$2:$L$"&COUNTA(Essais!$A:$A)),2)="di",ROW(INDIRECT("$1:$"&COUNTA(Essais!$A:$A)-1))),ROWS($1:50))),"")}
C52: {=IFERROR(INDEX(OFFSET(INDIRECT("Essais!$b$2:$b$"&COUNTA(Essais!$A:$A)),0,COLUMNS($A:A)),MATCH($L52,INDIRECT("Essais!$L$2:$L$"&COUNTA(Essais!$A:$A)))),"")} | D52: {=IFERROR(INDEX(OFFSET(INDIRECT("Essais!$b$2:$b$"&COUNTA(Essais!$A:$A)),0,COLUMNS($A:B)),MATCH($L52,INDIRECT("Essais!$L$2:$L$"&COUNTA(Essais!$A:$A)))),"")} | E52: {=IFERROR(INDEX(OFFSET(INDIRECT("Essais!$b$2:$b$"&COUNTA(Essais!$A:$A)),0,COLUMNS($A:C)),MATCH($L52,INDIRECT("Essais!$L$2:$L$"&COUNTA(Essais!$A:$A)))),"")} | F52: {=IFERROR(INDEX(OFFSET(INDIRECT("Essais!$b$2:$b$"&COUNTA(Essais!$A:$A)),0,COLUMNS($A:D)),MATCH($L52,INDIRECT("Essais!$L$2:$L$"&COUNTA(Essais!$A:$A)))),"")} | G52: {=IFERROR(INDEX(OFFSET(INDIRECT("Essais!$b$2:$b$"&COUNTA(Essais!$A:$A)),0,COLUMNS($A:E)),MATCH($L52,INDIRECT("Essais!$L$2:$L$"&COUNTA(Essais!$A:$A)))),"")} | H52: {=IFERROR(INDEX(OFFSET(INDIRECT("Essais!$b$2:$b$"&COUNTA(Essais!$A:$A)),0,COLUMNS($A:F)),MATCH($L52,INDIRECT("Essais!$L$2:$L$"&COUNTA(Essais!$A:$A)))),"")} | I52: {=IFERROR(INDEX(OFFSET(INDIRECT("Essais!$b$2:$b$"&COUNTA(Essais!$A:$A)),0,COLUMNS($A:G)),MATCH($L52,INDIRECT("Essais!$L$2:$L$"&COUNTA(Essais!$A:$A)))),"")} | J52: {=IFERROR(INDEX(OFFSET(INDIRECT("Essais!$b$2:$b$"&COUNTA(Essais!$A:$A)),0,COLUMNS($A:H)),MATCH($L52,INDIRECT("Essais!$L$2:$L$"&COUNTA(Essais!$A:$A)))),"")} | K52: {=IFERROR(INDEX(OFFSET(INDIRECT("Essais!$b$2:$b$"&COUNTA(Essais!$A:$A)),0,COLUMNS($A:I)),MATCH($L52,INDIRECT("Essais!$L$2:$L$"&COUNTA(Essais!$A:$A)))),"")} | L52: {=IFERROR(INDEX(INDIRECT("Essais!$L$2:$L$"&COUNTA(Essais!$A:$A)),SMALL(IF(LEFT(INDIRECT("Essais!$L$2:$L$"&COUNTA(Essais!$A:$A)),2)="di",ROW(INDIRECT("$1:$"&COUNTA(Essais!$A:$A)-1))),ROWS($1:51))),"")}
C53: {=IFERROR(INDEX(OFFSET(INDIRECT("Essais!$b$2:$b$"&COUNTA(Essais!$A:$A)),0,COLUMNS($A:A)),MATCH($L53,INDIRECT("Essais!$L$2:$L$"&COUNTA(Essais!$A:$A)))),"")} | D53: {=IFERROR(INDEX(OFFSET(INDIRECT("Essais!$b$2:$b$"&COUNTA(Essais!$A:$A)),0,COLUMNS($A:B)),MATCH($L53,INDIRECT("Essais!$L$2:$L$"&COUNTA(Essais!$A:$A)))),"")} | E53: {=IFERROR(INDEX(OFFSET(INDIRECT("Essais!$b$2:$b$"&COUNTA(Essais!$A:$A)),0,COLUMNS($A:C)),MATCH($L53,INDIRECT("Essais!$L$2:$L$"&COUNTA(Essais!$A:$A)))),"")} | F53: {=IFERROR(INDEX(OFFSET(INDIRECT("Essais!$b$2:$b$"&COUNTA(Essais!$A:$A)),0,COLUMNS($A:D)),MATCH($L53,INDIRECT("Essais!$L$2:$L$"&COUNTA(Essais!$A:$A)))),"")} | G53: {=IFERROR(INDEX(OFFSET(INDIRECT("Essais!$b$2:$b$"&COUNTA(Essais!$A:$A)),0,COLUMNS($A:E)),MATCH($L53,INDIRECT("Essais!$L$2:$L$"&COUNTA(Essais!$A:$A)))),"")} | H53: {=IFERROR(INDEX(OFFSET(INDIRECT("Essais!$b$2:$b$"&COUNTA(Essais!$A:$A)),0,COLUMNS($A:F)),MATCH($L53,INDIRECT("Essais!$L$2:$L$"&COUNTA(Essais!$A:$A)))),"")} | I53: {=IFERROR(INDEX(OFFSET(INDIRECT("Essais!$b$2:$b$"&COUNTA(Essais!$A:$A)),0,COLUMNS($A:G)),MATCH($L53,INDIRECT("Essais!$L$2:$L$"&COUNTA(Essais!$A:$A)))),"")} | J53: {=IFERROR(INDEX(OFFSET(INDIRECT("Essais!$b$2:$b$"&COUNTA(Essais!$A:$A)),0,COLUMNS($A:H)),MATCH($L53,INDIRECT("Essais!$L$2:$L$"&COUNTA(Essais!$A:$A)))),"")} | K53: {=IFERROR(INDEX(OFFSET(INDIRECT("Essais!$b$2:$b$"&COUNTA(Essais!$A:$A)),0,COLUMNS($A:I)),MATCH($L53,INDIRECT("Essais!$L$2:$L$"&COUNTA(Essais!$A:$A)))),"")} | L53: {=IFERROR(INDEX(INDIRECT("Essais!$L$2:$L$"&COUNTA(Essais!$A:$A)),SMALL(IF(LEFT(INDIRECT("Essais!$L$2:$L$"&COUNTA(Essais!$A:$A)),2)="di",ROW(INDIRECT("$1:$"&COUNTA(Essais!$A:$A)-1))),ROWS($1:52))),"")}
C54: {=IFERROR(INDEX(OFFSET(INDIRECT("Essais!$b$2:$b$"&COUNTA(Essais!$A:$A)),0,COLUMNS($A:A)),MATCH($L54,INDIRECT("Essais!$L$2:$L$"&COUNTA(Essais!$A:$A)))),"")} | D54: {=IFERROR(INDEX(OFFSET(INDIRECT("Essais!$b$2:$b$"&COUNTA(Essais!$A:$A)),0,COLUMNS($A:B)),MATCH($L54,INDIRECT("Essais!$L$2:$L$"&COUNTA(Essais!$A:$A)))),"")} | E54: {=IFERROR(INDEX(OFFSET(INDIRECT("Essais!$b$2:$b$"&COUNTA(Essais!$A:$A)),0,COLUMNS($A:C)),MATCH($L54,INDIRECT("Essais!$L$2:$L$"&COUNTA(Essais!$A:$A)))),"")} | F54: {=IFERROR(INDEX(OFFSET(INDIRECT("Essais!$b$2:$b$"&COUNTA(Essais!$A:$A)),0,COLUMNS($A:D)),MATCH($L54,INDIRECT("Essais!$L$2:$L$"&COUNTA(Essais!$A:$A)))),"")} | G54: {=IFERROR(INDEX(OFFSET(INDIRECT("Essais!$b$2:$b$"&COUNTA(Essais!$A:$A)),0,COLUMNS($A:E)),MATCH($L54,INDIRECT("Essais!$L$2:$L$"&COUNTA(Essais!$A:$A)))),"")} | H54: {=IFERROR(INDEX(OFFSET(INDIRECT("Essais!$b$2:$b$"&COUNTA(Essais!$A:$A)),0,COLUMNS($A:F)),MATCH($L54,INDIRECT("Essais!$L$2:$L$"&COUNTA(Essais!$A:$A)))),"")} | I54: {=IFERROR(INDEX(OFFSET(INDIRECT("Essais!$b$2:$b$"&COUNTA(Essais!$A:$A)),0,COLUMNS($A:G)),MATCH($L54,INDIRECT("Essais!$L$2:$L$"&COUNTA(Essais!$A:$A)))),"")} | J54: {=IFERROR(INDEX(OFFSET(INDIRECT("Essais!$b$2:$b$"&COUNTA(Essais!$A:$A)),0,COLUMNS($A:H)),MATCH($L54,INDIRECT("Essais!$L$2:$L$"&COUNTA(Essais!$A:$A)))),"")} | K54: {=IFERROR(INDEX(OFFSET(INDIRECT("Essais!$b$2:$b$"&COUNTA(Essais!$A:$A)),0,COLUMNS($A:I)),MATCH($L54,INDIRECT("Essais!$L$2:$L$"&COUNTA(Essais!$A:$A)))),"")} | L54: {=IFERROR(INDEX(INDIRECT("Essais!$L$2:$L$"&COUNTA(Essais!$A:$A)),SMALL(IF(LEFT(INDIRECT("Essais!$L$2:$L$"&COUNTA(Essais!$A:$A)),2)="di",ROW(INDIRECT("$1:$"&COUNTA(Essais!$A:$A)-1))),ROWS($1:53))),"")}
C55: {=IFERROR(INDEX(OFFSET(INDIRECT("Essais!$b$2:$b$"&COUNTA(Essais!$A:$A)),0,COLUMNS($A:A)),MATCH($L55,INDIRECT("Essais!$L$2:$L$"&COUNTA(Essais!$A:$A)))),"")} | D55: {=IFERROR(INDEX(OFFSET(INDIRECT("Essais!$b$2:$b$"&COUNTA(Essais!$A:$A)),0,COLUMNS($A:B)),MATCH($L55,INDIRECT("Essais!$L$2:$L$"&COUNTA(Essais!$A:$A)))),"")} | E55: {=IFERROR(INDEX(OFFSET(INDIRECT("Essais!$b$2:$b$"&COUNTA(Essais!$A:$A)),0,COLUMNS($A:C)),MATCH($L55,INDIRECT("Essais!$L$2:$L$"&COUNTA(Essais!$A:$A)))),"")} | F55: {=IFERROR(INDEX(OFFSET(INDIRECT("Essais!$b$2:$b$"&COUNTA(Essais!$A:$A)),0,COLUMNS($A:D)),MATCH($L55,INDIRECT("Essais!$L$2:$L$"&COUNTA(Essais!$A:$A)))),"")} | G55: {=IFERROR(INDEX(OFFSET(INDIRECT("Essais!$b$2:$b$"&COUNTA(Essais!$A:$A)),0,COLUMNS($A:E)),MATCH($L55,INDIRECT("Essais!$L$2:$L$"&COUNTA(Essais!$A:$A)))),"")} | H55: {=IFERROR(INDEX(OFFSET(INDIRECT("Essais!$b$2:$b$"&COUNTA(Essais!$A:$A)),0,COLUMNS($A:F)),MATCH($L55,INDIRECT("Essais!$L$2:$L$"&COUNTA(Essais!$A:$A)))),"")} | I55: {=IFERROR(INDEX(OFFSET(INDIRECT("Essais!$b$2:$b$"&COUNTA(Essais!$A:$A)),0,COLUMNS($A:G)),MATCH($L55,INDIRECT("Essais!$L$2:$L$"&COUNTA(Essais!$A:$A)))),"")} | J55: {=IFERROR(INDEX(OFFSET(INDIRECT("Essais!$b$2:$b$"&COUNTA(Essais!$A:$A)),0,COLUMNS($A:H)),MATCH($L55,INDIRECT("Essais!$L$2:$L$"&COUNTA(Essais!$A:$A)))),"")} | K55: {=IFERROR(INDEX(OFFSET(INDIRECT("Essais!$b$2:$b$"&COUNTA(Essais!$A:$A)),0,COLUMNS($A:I)),MATCH($L55,INDIRECT("Essais!$L$2:$L$"&COUNTA(Essais!$A:$A)))),"")} | L55: {=IFERROR(INDEX(INDIRECT("Essais!$L$2:$L$"&COUNTA(Essais!$A:$A)),SMALL(IF(LEFT(INDIRECT("Essais!$L$2:$L$"&COUNTA(Essais!$A:$A)),2)="di",ROW(INDIRECT("$1:$"&COUNTA(Essais!$A:$A)-1))),ROWS($1:54))),"")}
C56: {=IFERROR(INDEX(OFFSET(INDIRECT("Essais!$b$2:$b$"&COUNTA(Essais!$A:$A)),0,COLUMNS($A:A)),MATCH($L56,INDIRECT("Essais!$L$2:$L$"&COUNTA(Essais!$A:$A)))),"")} | D56: {=IFERROR(INDEX(OFFSET(INDIRECT("Essais!$b$2:$b$"&COUNTA(Essais!$A:$A)),0,COLUMNS($A:B)),MATCH($L56,INDIRECT("Essais!$L$2:$L$"&COUNTA(Essais!$A:$A)))),"")} | E56: {=IFERROR(INDEX(OFFSET(INDIRECT("Essais!$b$2:$b$"&COUNTA(Essais!$A:$A)),0,COLUMNS($A:C)),MATCH($L56,INDIRECT("Essais!$L$2:$L$"&COUNTA(Essais!$A:$A)))),"")} | F56: {=IFERROR(INDEX(OFFSET(INDIRECT("Essais!$b$2:$b$"&COUNTA(Essais!$A:$A)),0,COLUMNS($A:D)),MATCH($L56,INDIRECT("Essais!$L$2:$L$"&COUNTA(Essais!$A:$A)))),"")} | G56: {=IFERROR(INDEX(OFFSET(INDIRECT("Essais!$b$2:$b$"&COUNTA(Essais!$A:$A)),0,COLUMNS($A:E)),MATCH($L56,INDIRECT("Essais!$L$2:$L$"&COUNTA(Essais!$A:$A)))),"")} | H56: {=IFERROR(INDEX(OFFSET(INDIRECT("Essais!$b$2:$b$"&COUNTA(Essais!$A:$A)),0,COLUMNS($A:F)),MATCH($L56,INDIRECT("Essais!$L$2:$L$"&COUNTA(Essais!$A:$A)))),"")} | I56: {=IFERROR(INDEX(OFFSET(INDIRECT("Essais!$b$2:$b$"&COUNTA(Essais!$A:$A)),0,COLUMNS($A:G)),MATCH($L56,INDIRECT("Essais!$L$2:$L$"&COUNTA(Essais!$A:$A)))),"")} | J56: {=IFERROR(INDEX(OFFSET(INDIRECT("Essais!$b$2:$b$"&COUNTA(Essais!$A:$A)),0,COLUMNS($A:H)),MATCH($L56,INDIRECT("Essais!$L$2:$L$"&COUNTA(Essais!$A:$A)))),"")} | K56: {=IFERROR(INDEX(OFFSET(INDIRECT("Essais!$b$2:$b$"&COUNTA(Essais!$A:$A)),0,COLUMNS($A:I)),MATCH($L56,INDIRECT("Essais!$L$2:$L$"&COUNTA(Essais!$A:$A)))),"")} | L56: {=IFERROR(INDEX(INDIRECT("Essais!$L$2:$L$"&COUNTA(Essais!$A:$A)),SMALL(IF(LEFT(INDIRECT("Essais!$L$2:$L$"&COUNTA(Essais!$A:$A)),2)="di",ROW(INDIRECT("$1:$"&COUNTA(Essais!$A:$A)-1))),ROWS($1:55))),"")}
C57: {=IFERROR(INDEX(OFFSET(INDIRECT("Essais!$b$2:$b$"&COUNTA(Essais!$A:$A)),0,COLUMNS($A:A)),MATCH($L57,INDIRECT("Essais!$L$2:$L$"&COUNTA(Essais!$A:$A)))),"")} | D57: {=IFERROR(INDEX(OFFSET(INDIRECT("Essais!$b$2:$b$"&COUNTA(Essais!$A:$A)),0,COLUMNS($A:B)),MATCH($L57,INDIRECT("Essais!$L$2:$L$"&COUNTA(Essais!$A:$A)))),"")} | E57: {=IFERROR(INDEX(OFFSET(INDIRECT("Essais!$b$2:$b$"&COUNTA(Essais!$A:$A)),0,COLUMNS($A:C)),MATCH($L57,INDIRECT("Essais!$L$2:$L$"&COUNTA(Essais!$A:$A)))),"")} | F57: {=IFERROR(INDEX(OFFSET(INDIRECT("Essais!$b$2:$b$"&COUNTA(Essais!$A:$A)),0,COLUMNS($A:D)),MATCH($L57,INDIRECT("Essais!$L$2:$L$"&COUNTA(Essais!$A:$A)))),"")} | G57: {=IFERROR(INDEX(OFFSET(INDIRECT("Essais!$b$2:$b$"&COUNTA(Essais!$A:$A)),0,COLUMNS($A:E)),MATCH($L57,INDIRECT("Essais!$L$2:$L$"&COUNTA(Essais!$A:$A)))),"")} | H57: {=IFERROR(INDEX(OFFSET(INDIRECT("Essais!$b$2:$b$"&COUNTA(Essais!$A:$A)),0,COLUMNS($A:F)),MATCH($L57,INDIRECT("Essais!$L$2:$L$"&COUNTA(Essais!$A:$A)))),"")} | I57: {=IFERROR(INDEX(OFFSET(INDIRECT("Essais!$b$2:$b$"&COUNTA(Essais!$A:$A)),0,COLUMNS($A:G)),MATCH($L57,INDIRECT("Essais!$L$2:$L$"&COUNTA(Essais!$A:$A)))),"")} | J57: {=IFERROR(INDEX(OFFSET(INDIRECT("Essais!$b$2:$b$"&COUNTA(Essais!$A:$A)),0,COLUMNS($A:H)),MATCH($L57,INDIRECT("Essais!$L$2:$L$"&COUNTA(Essais!$A:$A)))),"")} | K57: {=IFERROR(INDEX(OFFSET(INDIRECT("Essais!$b$2:$b$"&COUNTA(Essais!$A:$A)),0,COLUMNS($A:I)),MATCH($L57,INDIRECT("Essais!$L$2:$L$"&COUNTA(Essais!$A:$A)))),"")} | L57: {=IFERROR(INDEX(INDIRECT("Essais!$L$2:$L$"&COUNTA(Essais!$A:$A)),SMALL(IF(LEFT(INDIRECT("Essais!$L$2:$L$"&COUNTA(Essais!$A:$A)),2)="di",ROW(INDIRECT("$1:$"&COUNTA(Essais!$A:$A)-1))),ROWS($1:56))),"")}
C58: {=IFERROR(INDEX(OFFSET(INDIRECT("Essais!$b$2:$b$"&COUNTA(Essais!$A:$A)),0,COLUMNS($A:A)),MATCH($L58,INDIRECT("Essais!$L$2:$L$"&COUNTA(Essais!$A:$A)))),"")} | D58: {=IFERROR(INDEX(OFFSET(INDIRECT("Essais!$b$2:$b$"&COUNTA(Essais!$A:$A)),0,COLUMNS($A:B)),MATCH($L58,INDIRECT("Essais!$L$2:$L$"&COUNTA(Essais!$A:$A)))),"")} | E58: {=IFERROR(INDEX(OFFSET(INDIRECT("Essais!$b$2:$b$"&COUNTA(Essais!$A:$A)),0,COLUMNS($A:C)),MATCH($L58,INDIRECT("Essais!$L$2:$L$"&COUNTA(Essais!$A:$A)))),"")} | F58: {=IFERROR(INDEX(OFFSET(INDIRECT("Essais!$b$2:$b$"&COUNTA(Essais!$A:$A)),0,COLUMNS($A:D)),MATCH($L58,INDIRECT("Essais!$L$2:$L$"&COUNTA(Essais!$A:$A)))),"")} | G58: {=IFERROR(INDEX(OFFSET(INDIRECT("Essais!$b$2:$b$"&COUNTA(Essais!$A:$A)),0,COLUMNS($A:E)),MATCH($L58,INDIRECT("Essais!$L$2:$L$"&COUNTA(Essais!$A:$A)))),"")} | H58: {=IFERROR(INDEX(OFFSET(INDIRECT("Essais!$b$2:$b$"&COUNTA(Essais!$A:$A)),0,COLUMNS($A:F)),MATCH($L58,INDIRECT("Essais!$L$2:$L$"&COUNTA(Essais!$A:$A)))),"")} | I58: {=IFERROR(INDEX(OFFSET(INDIRECT("Essais!$b$2:$b$"&COUNTA(Essais!$A:$A)),0,COLUMNS($A:G)),MATCH($L58,INDIRECT("Essais!$L$2:$L$"&COUNTA(Essais!$A:$A)))),"")} | J58: {=IFERROR(INDEX(OFFSET(INDIRECT("Essais!$b$2:$b$"&COUNTA(Essais!$A:$A)),0,COLUMNS($A:H)),MATCH($L58,INDIRECT("Essais!$L$2:$L$"&COUNTA(Essais!$A:$A)))),"")} | K58: {=IFERROR(INDEX(OFFSET(INDIRECT("Essais!$b$2:$b$"&COUNTA(Essais!$A:$A)),0,COLUMNS($A:I)),MATCH($L58,INDIRECT("Essais!$L$2:$L$"&COUNTA(Essais!$A:$A)))),"")} | L58: {=IFERROR(INDEX(INDIRECT("Essais!$L$2:$L$"&COUNTA(Essais!$A:$A)),SMALL(IF(LEFT(INDIRECT("Essais!$L$2:$L$"&COUNTA(Essais!$A:$A)),2)="di",ROW(INDIRECT("$1:$"&COUNTA(Essais!$A:$A)-1))),ROWS($1:57))),"")}
C59: {=IFERROR(INDEX(OFFSET(INDIRECT("Essais!$b$2:$b$"&COUNTA(Essais!$A:$A)),0,COLUMNS($A:A)),MATCH($L59,INDIRECT("Essais!$L$2:$L$"&COUNTA(Essais!$A:$A)))),"")} | D59: {=IFERROR(INDEX(OFFSET(INDIRECT("Essais!$b$2:$b$"&COUNTA(Essais!$A:$A)),0,COLUMNS($A:B)),MATCH($L59,INDIRECT("Essais!$L$2:$L$"&COUNTA(Essais!$A:$A)))),"")} | E59: {=IFERROR(INDEX(OFFSET(INDIRECT("Essais!$b$2:$b$"&COUNTA(Essais!$A:$A)),0,COLUMNS($A:C)),MATCH($L59,INDIRECT("Essais!$L$2:$L$"&COUNTA(Essais!$A:$A)))),"")} | F59: {=IFERROR(INDEX(OFFSET(INDIRECT("Essais!$b$2:$b$"&COUNTA(Essais!$A:$A)),0,COLUMNS($A:D)),MATCH($L59,INDIRECT("Essais!$L$2:$L$"&COUNTA(Essais!$A:$A)))),"")} | G59: {=IFERROR(INDEX(OFFSET(INDIRECT("Essais!$b$2:$b$"&COUNTA(Essais!$A:$A)),0,COLUMNS($A:E)),MATCH($L59,INDIRECT("Essais!$L$2:$L$"&COUNTA(Essais!$A:$A)))),"")} | H59: {=IFERROR(INDEX(OFFSET(INDIRECT("Essais!$b$2:$b$"&COUNTA(Essais!$A:$A)),0,COLUMNS($A:F)),MATCH($L59,INDIRECT("Essais!$L$2:$L$"&COUNTA(Essais!$A:$A)))),"")} | I59: {=IFERROR(INDEX(OFFSET(INDIRECT("Essais!$b$2:$b$"&COUNTA(Essais!$A:$A)),0,COLUMNS($A:G)),MATCH($L59,INDIRECT("Essais!$L$2:$L$"&COUNTA(Essais!$A:$A)))),"")} | J59: {=IFERROR(INDEX(OFFSET(INDIRECT("Essais!$b$2:$b$"&COUNTA(Essais!$A:$A)),0,COLUMNS($A:H)),MATCH($L59,INDIRECT("Essais!$L$2:$L$"&COUNTA(Essais!$A:$A)))),"")} | K59: {=IFERROR(INDEX(OFFSET(INDIRECT("Essais!$b$2:$b$"&COUNTA(Essais!$A:$A)),0,COLUMNS($A:I)),MATCH($L59,INDIRECT("Essais!$L$2:$L$"&COUNTA(Essais!$A:$A)))),"")} | L59: {=IFERROR(INDEX(INDIRECT("Essais!$L$2:$L$"&COUNTA(Essais!$A:$A)),SMALL(IF(LEFT(INDIRECT("Essais!$L$2:$L$"&COUNTA(Essais!$A:$A)),2)="di",ROW(INDIRECT("$1:$"&COUNTA(Essais!$A:$A)-1))),ROWS($1:58))),"")}
C60: {=IFERROR(INDEX(OFFSET(INDIRECT("Essais!$b$2:$b$"&COUNTA(Essais!$A:$A)),0,COLUMNS($A:A)),MATCH($L60,INDIRECT("Essais!$L$2:$L$"&COUNTA(Essais!$A:$A)))),"")} | D60: {=IFERROR(INDEX(OFFSET(INDIRECT("Essais!$b$2:$b$"&COUNTA(Essais!$A:$A)),0,COLUMNS($A:B)),MATCH($L60,INDIRECT("Essais!$L$2:$L$"&COUNTA(Essais!$A:$A)))),"")} | E60: {=IFERROR(INDEX(OFFSET(INDIRECT("Essais!$b$2:$b$"&COUNTA(Essais!$A:$A)),0,COLUMNS($A:C)),MATCH($L60,INDIRECT("Essais!$L$2:$L$"&COUNTA(Essais!$A:$A)))),"")} | F60: {=IFERROR(INDEX(OFFSET(INDIRECT("Essais!$b$2:$b$"&COUNTA(Essais!$A:$A)),0,COLUMNS($A:D)),MATCH($L60,INDIRECT("Essais!$L$2:$L$"&COUNTA(Essais!$A:$A)))),"")} | G60: {=IFERROR(INDEX(OFFSET(INDIRECT("Essais!$b$2:$b$"&COUNTA(Essais!$A:$A)),0,COLUMNS($A:E)),MATCH($L60,INDIRECT("Essais!$L$2:$L$"&COUNTA(Essais!$A:$A)))),"")} | H60: {=IFERROR(INDEX(OFFSET(INDIRECT("Essais!$b$2:$b$"&COUNTA(Essais!$A:$A)),0,COLUMNS($A:F)),MATCH($L60,INDIRECT("Essais!$L$2:$L$"&COUNTA(Essais!$A:$A)))),"")} | I60: {=IFERROR(INDEX(OFFSET(INDIRECT("Essais!$b$2:$b$"&COUNTA(Essais!$A:$A)),0,COLUMNS($A:G)),MATCH($L60,INDIRECT("Essais!$L$2:$L$"&COUNTA(Essais!$A:$A)))),"")} | J60: {=IFERROR(INDEX(OFFSET(INDIRECT("Essais!$b$2:$b$"&COUNTA(Essais!$A:$A)),0,COLUMNS($A:H)),MATCH($L60,INDIRECT("Essais!$L$2:$L$"&COUNTA(Essais!$A:$A)))),"")} | K60: {=IFERROR(INDEX(OFFSET(INDIRECT("Essais!$b$2:$b$"&COUNTA(Essais!$A:$A)),0,COLUMNS($A:I)),MATCH($L60,INDIRECT("Essais!$L$2:$L$"&COUNTA(Essais!$A:$A)))),"")} | L60: {=IFERROR(INDEX(INDIRECT("Essais!$L$2:$L$"&COUNTA(Essais!$A:$A)),SMALL(IF(LEFT(INDIRECT("Essais!$L$2:$L$"&COUNTA(Essais!$A:$A)),2)="di",ROW(INDIRECT("$1:$"&COUNTA(Essais!$A:$A)-1))),ROWS($1:59))),"")}
C61: {=IFERROR(INDEX(OFFSET(INDIRECT("Essais!$b$2:$b$"&COUNTA(Essais!$A:$A)),0,COLUMNS($A:A)),MATCH($L61,INDIRECT("Essais!$L$2:$L$"&COUNTA(Essais!$A:$A)))),"")} | D61: {=IFERROR(INDEX(OFFSET(INDIRECT("Essais!$b$2:$b$"&COUNTA(Essais!$A:$A)),0,COLUMNS($A:B)),MATCH($L61,INDIRECT("Essais!$L$2:$L$"&COUNTA(Essais!$A:$A)))),"")} | E61: {=IFERROR(INDEX(OFFSET(INDIRECT("Essais!$b$2:$b$"&COUNTA(Essais!$A:$A)),0,COLUMNS($A:C)),MATCH($L61,INDIRECT("Essais!$L$2:$L$"&COUNTA(Essais!$A:$A)))),"")} | F61: {=IFERROR(INDEX(OFFSET(INDIRECT("Essais!$b$2:$b$"&COUNTA(Essais!$A:$A)),0,COLUMNS($A:D)),MATCH($L61,INDIRECT("Essais!$L$2:$L$"&COUNTA(Essais!$A:$A)))),"")} | G61: {=IFERROR(INDEX(OFFSET(INDIRECT("Essais!$b$2:$b$"&COUNTA(Essais!$A:$A)),0,COLUMNS($A:E)),MATCH($L61,INDIRECT("Essais!$L$2:$L$"&COUNTA(Essais!$A:$A)))),"")} | H61: {=IFERROR(INDEX(OFFSET(INDIRECT("Essais!$b$2:$b$"&COUNTA(Essais!$A:$A)),0,COLUMNS($A:F)),MATCH($L61,INDIRECT("Essais!$L$2:$L$"&COUNTA(Essais!$A:$A)))),"")} | I61: {=IFERROR(INDEX(OFFSET(INDIRECT("Essais!$b$2:$b$"&COUNTA(Essais!$A:$A)),0,COLUMNS($A:G)),MATCH($L61,INDIRECT("Essais!$L$2:$L$"&COUNTA(Essais!$A:$A)))),"")} | J61: {=IFERROR(INDEX(OFFSET(INDIRECT("Essais!$b$2:$b$"&COUNTA(Essais!$A:$A)),0,COLUMNS($A:H)),MATCH($L61,INDIRECT("Essais!$L$2:$L$"&COUNTA(Essais!$A:$A)))),"")} | K61: {=IFERROR(INDEX(OFFSET(INDIRECT("Essais!$b$2:$b$"&COUNTA(Essais!$A:$A)),0,COLUMNS($A:I)),MATCH($L61,INDIRECT("Essais!$L$2:$L$"&COUNTA(Essais!$A:$A)))),"")} | L61: {=IFERROR(INDEX(INDIRECT("Essais!$L$2:$L$"&COUNTA(Essais!$A:$A)),SMALL(IF(LEFT(INDIRECT("Essais!$L$2:$L$"&COUNTA(Essais!$A:$A)),2)="di",ROW(INDIRECT("$1:$"&COUNTA(Essais!$A:$A)-1))),ROWS($1:60))),"")}
C62: {=IFERROR(INDEX(OFFSET(INDIRECT("Essais!$b$2:$b$"&COUNTA(Essais!$A:$A)),0,COLUMNS($A:A)),MATCH($L62,INDIRECT("Essais!$L$2:$L$"&COUNTA(Essais!$A:$A)))),"")} | D62: {=IFERROR(INDEX(OFFSET(INDIRECT("Essais!$b$2:$b$"&COUNTA(Essais!$A:$A)),0,COLUMNS($A:B)),MATCH($L62,INDIRECT("Essais!$L$2:$L$"&COUNTA(Essais!$A:$A)))),"")} | E62: {=IFERROR(INDEX(OFFSET(INDIRECT("Essais!$b$2:$b$"&COUNTA(Essais!$A:$A)),0,COLUMNS($A:C)),MATCH($L62,INDIRECT("Essais!$L$2:$L$"&COUNTA(Essais!$A:$A)))),"")} | F62: {=IFERROR(INDEX(OFFSET(INDIRECT("Essais!$b$2:$b$"&COUNTA(Essais!$A:$A)),0,COLUMNS($A:D)),MATCH($L62,INDIRECT("Essais!$L$2:$L$"&COUNTA(Essais!$A:$A)))),"")} | G62: {=IFERROR(INDEX(OFFSET(INDIRECT("Essais!$b$2:$b$"&COUNTA(Essais!$A:$A)),0,COLUMNS($A:E)),MATCH($L62,INDIRECT("Essais!$L$2:$L$"&COUNTA(Essais!$A:$A)))),"")} | H62: {=IFERROR(INDEX(OFFSET(INDIRECT("Essais!$b$2:$b$"&COUNTA(Essais!$A:$A)),0,COLUMNS($A:F)),MATCH($L62,INDIRECT("Essais!$L$2:$L$"&COUNTA(Essais!$A:$A)))),"")} | I62: {=IFERROR(INDEX(OFFSET(INDIRECT("Essais!$b$2:$b$"&COUNTA(Essais!$A:$A)),0,COLUMNS($A:G)),MATCH($L62,INDIRECT("Essais!$L$2:$L$"&COUNTA(Essais!$A:$A)))),"")} | J62: {=IFERROR(INDEX(OFFSET(INDIRECT("Essais!$b$2:$b$"&COUNTA(Essais!$A:$A)),0,COLUMNS($A:H)),MATCH($L62,INDIRECT("Essais!$L$2:$L$"&COUNTA(Essais!$A:$A)))),"")} | K62: {=IFERROR(INDEX(OFFSET(INDIRECT("Essais!$b$2:$b$"&COUNTA(Essais!$A:$A)),0,COLUMNS($A:I)),MATCH($L62,INDIRECT("Essais!$L$2:$L$"&COUNTA(Essais!$A:$A)))),"")} | L62: {=IFERROR(INDEX(INDIRECT("Essais!$L$2:$L$"&COUNTA(Essais!$A:$A)),SMALL(IF(LEFT(INDIRECT("Essais!$L$2:$L$"&COUNTA(Essais!$A:$A)),2)="di",ROW(INDIRECT("$1:$"&COUNTA(Essais!$A:$A)-1))),ROWS($1:61))),"")}
C63: {=IFERROR(INDEX(OFFSET(INDIRECT("Essais!$b$2:$b$"&COUNTA(Essais!$A:$A)),0,COLUMNS($A:A)),MATCH($L63,INDIRECT("Essais!$L$2:$L$"&COUNTA(Essais!$A:$A)))),"")} | D63: {=IFERROR(INDEX(OFFSET(INDIRECT("Essais!$b$2:$b$"&COUNTA(Essais!$A:$A)),0,COLUMNS($A:B)),MATCH($L63,INDIRECT("Essais!$L$2:$L$"&COUNTA(Essais!$A:$A)))),"")} | E63: {=IFERROR(INDEX(OFFSET(INDIRECT("Essais!$b$2:$b$"&COUNTA(Essais!$A:$A)),0,COLUMNS($A:C)),MATCH($L63,INDIRECT("Essais!$L$2:$L$"&COUNTA(Essais!$A:$A)))),"")} | F63: {=IFERROR(INDEX(OFFSET(INDIRECT("Essais!$b$2:$b$"&COUNTA(Essais!$A:$A)),0,COLUMNS($A:D)),MATCH($L63,INDIRECT("Essais!$L$2:$L$"&COUNTA(Essais!$A:$A)))),"")} | G63: {=IFERROR(INDEX(OFFSET(INDIRECT("Essais!$b$2:$b$"&COUNTA(Essais!$A:$A)),0,COLUMNS($A:E)),MATCH($L63,INDIRECT("Essais!$L$2:$L$"&COUNTA(Essais!$A:$A)))),"")} | H63: {=IFERROR(INDEX(OFFSET(INDIRECT("Essais!$b$2:$b$"&COUNTA(Essais!$A:$A)),0,COLUMNS($A:F)),MATCH($L63,INDIRECT("Essais!$L$2:$L$"&COUNTA(Essais!$A:$A)))),"")} | I63: {=IFERROR(INDEX(OFFSET(INDIRECT("Essais!$b$2:$b$"&COUNTA(Essais!$A:$A)),0,COLUMNS($A:G)),MATCH($L63,INDIRECT("Essais!$L$2:$L$"&COUNTA(Essais!$A:$A)))),"")} | J63: {=IFERROR(INDEX(OFFSET(INDIRECT("Essais!$b$2:$b$"&COUNTA(Essais!$A:$A)),0,COLUMNS($A:H)),MATCH($L63,INDIRECT("Essais!$L$2:$L$"&COUNTA(Essais!$A:$A)))),"")} | K63: {=IFERROR(INDEX(OFFSET(INDIRECT("Essais!$b$2:$b$"&COUNTA(Essais!$A:$A)),0,COLUMNS($A:I)),MATCH($L63,INDIRECT("Essais!$L$2:$L$"&COUNTA(Essais!$A:$A)))),"")} | L63: {=IFERROR(INDEX(INDIRECT("Essais!$L$2:$L$"&COUNTA(Essais!$A:$A)),SMALL(IF(LEFT(INDIRECT("Essais!$L$2:$L$"&COUNTA(Essais!$A:$A)),2)="di",ROW(INDIRECT("$1:$"&COUNTA(Essais!$A:$A)-1))),ROWS($1:62))),"")}
C64: {=IFERROR(INDEX(OFFSET(INDIRECT("Essais!$b$2:$b$"&COUNTA(Essais!$A:$A)),0,COLUMNS($A:A)),MATCH($L64,INDIRECT("Essais!$L$2:$L$"&COUNTA(Essais!$A:$A)))),"")} | D64: {=IFERROR(INDEX(OFFSET(INDIRECT("Essais!$b$2:$b$"&COUNTA(Essais!$A:$A)),0,COLUMNS($A:B)),MATCH($L64,INDIRECT("Essais!$L$2:$L$"&COUNTA(Essais!$A:$A)))),"")} | E64: {=IFERROR(INDEX(OFFSET(INDIRECT("Essais!$b$2:$b$"&COUNTA(Essais!$A:$A)),0,COLUMNS($A:C)),MATCH($L64,INDIRECT("Essais!$L$2:$L$"&COUNTA(Essais!$A:$A)))),"")} | F64: {=IFERROR(INDEX(OFFSET(INDIRECT("Essais!$b$2:$b$"&COUNTA(Essais!$A:$A)),0,COLUMNS($A:D)),MATCH($L64,INDIRECT("Essais!$L$2:$L$"&COUNTA(Essais!$A:$A)))),"")} | G64: {=IFERROR(INDEX(OFFSET(INDIRECT("Essais!$b$2:$b$"&COUNTA(Essais!$A:$A)),0,COLUMNS($A:E)),MATCH($L64,INDIRECT("Essais!$L$2:$L$"&COUNTA(Essais!$A:$A)))),"")} | H64: {=IFERROR(INDEX(OFFSET(INDIRECT("Essais!$b$2:$b$"&COUNTA(Essais!$A:$A)),0,COLUMNS($A:F)),MATCH($L64,INDIRECT("Essais!$L$2:$L$"&COUNTA(Essais!$A:$A)))),"")} | I64: {=IFERROR(INDEX(OFFSET(INDIRECT("Essais!$b$2:$b$"&COUNTA(Essais!$A:$A)),0,COLUMNS($A:G)),MATCH($L64,INDIRECT("Essais!$L$2:$L$"&COUNTA(Essais!$A:$A)))),"")} | J64: {=IFERROR(INDEX(OFFSET(INDIRECT("Essais!$b$2:$b$"&COUNTA(Essais!$A:$A)),0,COLUMNS($A:H)),MATCH($L64,INDIRECT("Essais!$L$2:$L$"&COUNTA(Essais!$A:$A)))),"")} | K64: {=IFERROR(INDEX(OFFSET(INDIRECT("Essais!$b$2:$b$"&COUNTA(Essais!$A:$A)),0,COLUMNS($A:I)),MATCH($L64,INDIRECT("Essais!$L$2:$L$"&COUNTA(Essais!$A:$A)))),"")} | L64: {=IFERROR(INDEX(INDIRECT("Essais!$L$2:$L$"&COUNTA(Essais!$A:$A)),SMALL(IF(LEFT(INDIRECT("Essais!$L$2:$L$"&COUNTA(Essais!$A:$A)),2)="di",ROW(INDIRECT("$1:$"&COUNTA(Essais!$A:$A)-1))),ROWS($1:63))),"")}
C65: {=IFERROR(INDEX(OFFSET(INDIRECT("Essais!$b$2:$b$"&COUNTA(Essais!$A:$A)),0,COLUMNS($A:A)),MATCH($L65,INDIRECT("Essais!$L$2:$L$"&COUNTA(Essais!$A:$A)))),"")} | D65: {=IFERROR(INDEX(OFFSET(INDIRECT("Essais!$b$2:$b$"&COUNTA(Essais!$A:$A)),0,COLUMNS($A:B)),MATCH($L65,INDIRECT("Essais!$L$2:$L$"&COUNTA(Essais!$A:$A)))),"")} | E65: {=IFERROR(INDEX(OFFSET(INDIRECT("Essais!$b$2:$b$"&COUNTA(Essais!$A:$A)),0,COLUMNS($A:C)),MATCH($L65,INDIRECT("Essais!$L$2:$L$"&COUNTA(Essais!$A:$A)))),"")} | F65: {=IFERROR(INDEX(OFFSET(INDIRECT("Essais!$b$2:$b$"&COUNTA(Essais!$A:$A)),0,COLUMNS($A:D)),MATCH($L65,INDIRECT("Essais!$L$2:$L$"&COUNTA(Essais!$A:$A)))),"")} | G65: {=IFERROR(INDEX(OFFSET(INDIRECT("Essais!$b$2:$b$"&COUNTA(Essais!$A:$A)),0,COLUMNS($A:E)),MATCH($L65,INDIRECT("Essais!$L$2:$L$"&COUNTA(Essais!$A:$A)))),"")} | H65: {=IFERROR(INDEX(OFFSET(INDIRECT("Essais!$b$2:$b$"&COUNTA(Essais!$A:$A)),0,COLUMNS($A:F)),MATCH($L65,INDIRECT("Essais!$L$2:$L$"&COUNTA(Essais!$A:$A)))),"")} | I65: {=IFERROR(INDEX(OFFSET(INDIRECT("Essais!$b$2:$b$"&COUNTA(Essais!$A:$A)),0,COLUMNS($A:G)),MATCH($L65,INDIRECT("Essais!$L$2:$L$"&COUNTA(Essais!$A:$A)))),"")} | J65: {=IFERROR(INDEX(OFFSET(INDIRECT("Essais!$b$2:$b$"&COUNTA(Essais!$A:$A)),0,COLUMNS($A:H)),MATCH($L65,INDIRECT("Essais!$L$2:$L$"&COUNTA(Essais!$A:$A)))),"")} | K65: {=IFERROR(INDEX(OFFSET(INDIRECT("Essais!$b$2:$b$"&COUNTA(Essais!$A:$A)),0,COLUMNS($A:I)),MATCH($L65,INDIRECT("Essais!$L$2:$L$"&COUNTA(Essais!$A:$A)))),"")} | L65: {=IFERROR(INDEX(INDIRECT("Essais!$L$2:$L$"&COUNTA(Essais!$A:$A)),SMALL(IF(LEFT(INDIRECT("Essais!$L$2:$L$"&COUNTA(Essais!$A:$A)),2)="di",ROW(INDIRECT("$1:$"&COUNTA(Essais!$A:$A)-1))),ROWS($1:64))),"")}
C66: {=IFERROR(INDEX(OFFSET(INDIRECT("Essais!$b$2:$b$"&COUNTA(Essais!$A:$A)),0,COLUMNS($A:A)),MATCH($L66,INDIRECT("Essais!$L$2:$L$"&COUNTA(Essais!$A:$A)))),"")} | D66: {=IFERROR(INDEX(OFFSET(INDIRECT("Essais!$b$2:$b$"&COUNTA(Essais!$A:$A)),0,COLUMNS($A:B)),MATCH($L66,INDIRECT("Essais!$L$2:$L$"&COUNTA(Essais!$A:$A)))),"")} | E66: {=IFERROR(INDEX(OFFSET(INDIRECT("Essais!$b$2:$b$"&COUNTA(Essais!$A:$A)),0,COLUMNS($A:C)),MATCH($L66,INDIRECT("Essais!$L$2:$L$"&COUNTA(Essais!$A:$A)))),"")} | F66: {=IFERROR(INDEX(OFFSET(INDIRECT("Essais!$b$2:$b$"&COUNTA(Essais!$A:$A)),0,COLUMNS($A:D)),MATCH($L66,INDIRECT("Essais!$L$2:$L$"&COUNTA(Essais!$A:$A)))),"")} | G66: {=IFERROR(INDEX(OFFSET(INDIRECT("Essais!$b$2:$b$"&COUNTA(Essais!$A:$A)),0,COLUMNS($A:E)),MATCH($L66,INDIRECT("Essais!$L$2:$L$"&COUNTA(Essais!$A:$A)))),"")} | H66: {=IFERROR(INDEX(OFFSET(INDIRECT("Essais!$b$2:$b$"&COUNTA(Essais!$A:$A)),0,COLUMNS($A:F)),MATCH($L66,INDIRECT("Essais!$L$2:$L$"&COUNTA(Essais!$A:$A)))),"")} | I66: {=IFERROR(INDEX(OFFSET(INDIRECT("Essais!$b$2:$b$"&COUNTA(Essais!$A:$A)),0,COLUMNS($A:G)),MATCH($L66,INDIRECT("Essais!$L$2:$L$"&COUNTA(Essais!$A:$A)))),"")} | J66: {=IFERROR(INDEX(OFFSET(INDIRECT("Essais!$b$2:$b$"&COUNTA(Essais!$A:$A)),0,COLUMNS($A:H)),MATCH($L66,INDIRECT("Essais!$L$2:$L$"&COUNTA(Essais!$A:$A)))),"")} | K66: {=IFERROR(INDEX(OFFSET(INDIRECT("Essais!$b$2:$b$"&COUNTA(Essais!$A:$A)),0,COLUMNS($A:I)),MATCH($L66,INDIRECT("Essais!$L$2:$L$"&COUNTA(Essais!$A:$A)))),"")} | L66: {=IFERROR(INDEX(INDIRECT("Essais!$L$2:$L$"&COUNTA(Essais!$A:$A)),SMALL(IF(LEFT(INDIRECT("Essais!$L$2:$L$"&COUNTA(Essais!$A:$A)),2)="di",ROW(INDIRECT("$1:$"&COUNTA(Essais!$A:$A)-1))),ROWS($1:65))),"")}
C67: {=IFERROR(INDEX(OFFSET(INDIRECT("Essais!$b$2:$b$"&COUNTA(Essais!$A:$A)),0,COLUMNS($A:A)),MATCH($L67,INDIRECT("Essais!$L$2:$L$"&COUNTA(Essais!$A:$A)))),"")} | D67: {=IFERROR(INDEX(OFFSET(INDIRECT("Essais!$b$2:$b$"&COUNTA(Essais!$A:$A)),0,COLUMNS($A:B)),MATCH($L67,INDIRECT("Essais!$L$2:$L$"&COUNTA(Essais!$A:$A)))),"")} | E67: {=IFERROR(INDEX(OFFSET(INDIRECT("Essais!$b$2:$b$"&COUNTA(Essais!$A:$A)),0,COLUMNS($A:C)),MATCH($L67,INDIRECT("Essais!$L$2:$L$"&COUNTA(Essais!$A:$A)))),"")} | F67: {=IFERROR(INDEX(OFFSET(INDIRECT("Essais!$b$2:$b$"&COUNTA(Essais!$A:$A)),0,COLUMNS($A:D)),MATCH($L67,INDIRECT("Essais!$L$2:$L$"&COUNTA(Essais!$A:$A)))),"")} | G67: {=IFERROR(INDEX(OFFSET(INDIRECT("Essais!$b$2:$b$"&COUNTA(Essais!$A:$A)),0,COLUMNS($A:E)),MATCH($L67,INDIRECT("Essais!$L$2:$L$"&COUNTA(Essais!$A:$A)))),"")} | H67: {=IFERROR(INDEX(OFFSET(INDIRECT("Essais!$b$2:$b$"&COUNTA(Essais!$A:$A)),0,COLUMNS($A:F)),MATCH($L67,INDIRECT("Essais!$L$2:$L$"&COUNTA(Essais!$A:$A)))),"")} | I67: {=IFERROR(INDEX(OFFSET(INDIRECT("Essais!$b$2:$b$"&COUNTA(Essais!$A:$A)),0,COLUMNS($A:G)),MATCH($L67,INDIRECT("Essais!$L$2:$L$"&COUNTA(Essais!$A:$A)))),"")} | J67: {=IFERROR(INDEX(OFFSET(INDIRECT("Essais!$b$2:$b$"&COUNTA(Essais!$A:$A)),0,COLUMNS($A:H)),MATCH($L67,INDIRECT("Essais!$L$2:$L$"&COUNTA(Essais!$A:$A)))),"")} | K67: {=IFERROR(INDEX(OFFSET(INDIRECT("Essais!$b$2:$b$"&COUNTA(Essais!$A:$A)),0,COLUMNS($A:I)),MATCH($L67,INDIRECT("Essais!$L$2:$L$"&COUNTA(Essais!$A:$A)))),"")} | L67: {=IFERROR(INDEX(INDIRECT("Essais!$L$2:$L$"&COUNTA(Essais!$A:$A)),SMALL(IF(LEFT(INDIRECT("Essais!$L$2:$L$"&COUNTA(Essais!$A:$A)),2)="di",ROW(INDIRECT("$1:$"&COUNTA(Essais!$A:$A)-1))),ROWS($1:66))),"")}
C68: {=IFERROR(INDEX(OFFSET(INDIRECT("Essais!$b$2:$b$"&COUNTA(Essais!$A:$A)),0,COLUMNS($A:A)),MATCH($L68,INDIRECT("Essais!$L$2:$L$"&COUNTA(Essais!$A:$A)))),"")} | D68: {=IFERROR(INDEX(OFFSET(INDIRECT("Essais!$b$2:$b$"&COUNTA(Essais!$A:$A)),0,COLUMNS($A:B)),MATCH($L68,INDIRECT("Essais!$L$2:$L$"&COUNTA(Essais!$A:$A)))),"")} | E68: {=IFERROR(INDEX(OFFSET(INDIRECT("Essais!$b$2:$b$"&COUNTA(Essais!$A:$A)),0,COLUMNS($A:C)),MATCH($L68,INDIRECT("Essais!$L$2:$L$"&COUNTA(Essais!$A:$A)))),"")} | F68: {=IFERROR(INDEX(OFFSET(INDIRECT("Essais!$b$2:$b$"&COUNTA(Essais!$A:$A)),0,COLUMNS($A:D)),MATCH($L68,INDIRECT("Essais!$L$2:$L$"&COUNTA(Essais!$A:$A)))),"")} | G68: {=IFERROR(INDEX(OFFSET(INDIRECT("Essais!$b$2:$b$"&COUNTA(Essais!$A:$A)),0,COLUMNS($A:E)),MATCH($L68,INDIRECT("Essais!$L$2:$L$"&COUNTA(Essais!$A:$A)))),"")} | H68: {=IFERROR(INDEX(OFFSET(INDIRECT("Essais!$b$2:$b$"&COUNTA(Essais!$A:$A)),0,COLUMNS($A:F)),MATCH($L68,INDIRECT("Essais!$L$2:$L$"&COUNTA(Essais!$A:$A)))),"")} | I68: {=IFERROR(INDEX(OFFSET(INDIRECT("Essais!$b$2:$b$"&COUNTA(Essais!$A:$A)),0,COLUMNS($A:G)),MATCH($L68,INDIRECT("Essais!$L$2:$L$"&COUNTA(Essais!$A:$A)))),"")} | J68: {=IFERROR(INDEX(OFFSET(INDIRECT("Essais!$b$2:$b$"&COUNTA(Essais!$A:$A)),0,COLUMNS($A:H)),MATCH($L68,INDIRECT("Essais!$L$2:$L$"&COUNTA(Essais!$A:$A)))),"")} | K68: {=IFERROR(INDEX(OFFSET(INDIRECT("Essais!$b$2:$b$"&COUNTA(Essais!$A:$A)),0,COLUMNS($A:I)),MATCH($L68,INDIRECT("Essais!$L$2:$L$"&COUNTA(Essais!$A:$A)))),"")} | L68: {=IFERROR(INDEX(INDIRECT("Essais!$L$2:$L$"&COUNTA(Essais!$A:$A)),SMALL(IF(LEFT(INDIRECT("Essais!$L$2:$L$"&COUNTA(Essais!$A:$A)),2)="di",ROW(INDIRECT("$1:$"&COUNTA(Essais!$A:$A)-1))),ROWS($1:67))),"")}
C69: {=IFERROR(INDEX(OFFSET(INDIRECT("Essais!$b$2:$b$"&COUNTA(Essais!$A:$A)),0,COLUMNS($A:A)),MATCH($L69,INDIRECT("Essais!$L$2:$L$"&COUNTA(Essais!$A:$A)))),"")} | D69: {=IFERROR(INDEX(OFFSET(INDIRECT("Essais!$b$2:$b$"&COUNTA(Essais!$A:$A)),0,COLUMNS($A:B)),MATCH($L69,INDIRECT("Essais!$L$2:$L$"&COUNTA(Essais!$A:$A)))),"")} | E69: {=IFERROR(INDEX(OFFSET(INDIRECT("Essais!$b$2:$b$"&COUNTA(Essais!$A:$A)),0,COLUMNS($A:C)),MATCH($L69,INDIRECT("Essais!$L$2:$L$"&COUNTA(Essais!$A:$A)))),"")} | F69: {=IFERROR(INDEX(OFFSET(INDIRECT("Essais!$b$2:$b$"&COUNTA(Essais!$A:$A)),0,COLUMNS($A:D)),MATCH($L69,INDIRECT("Essais!$L$2:$L$"&COUNTA(Essais!$A:$A)))),"")} | G69: {=IFERROR(INDEX(OFFSET(INDIRECT("Essais!$b$2:$b$"&COUNTA(Essais!$A:$A)),0,COLUMNS($A:E)),MATCH($L69,INDIRECT("Essais!$L$2:$L$"&COUNTA(Essais!$A:$A)))),"")} | H69: {=IFERROR(INDEX(OFFSET(INDIRECT("Essais!$b$2:$b$"&COUNTA(Essais!$A:$A)),0,COLUMNS($A:F)),MATCH($L69,INDIRECT("Essais!$L$2:$L$"&COUNTA(Essais!$A:$A)))),"")} | I69: {=IFERROR(INDEX(OFFSET(INDIRECT("Essais!$b$2:$b$"&COUNTA(Essais!$A:$A)),0,COLUMNS($A:G)),MATCH($L69,INDIRECT("Essais!$L$2:$L$"&COUNTA(Essais!$A:$A)))),"")} | J69: {=IFERROR(INDEX(OFFSET(INDIRECT("Essais!$b$2:$b$"&COUNTA(Essais!$A:$A)),0,COLUMNS($A:H)),MATCH($L69,INDIRECT("Essais!$L$2:$L$"&COUNTA(Essais!$A:$A)))),"")} | K69: {=IFERROR(INDEX(OFFSET(INDIRECT("Essais!$b$2:$b$"&COUNTA(Essais!$A:$A)),0,COLUMNS($A:I)),MATCH($L69,INDIRECT("Essais!$L$2:$L$"&COUNTA(Essais!$A:$A)))),"")} | L69: {=IFERROR(INDEX(INDIRECT("Essais!$L$2:$L$"&COUNTA(Essais!$A:$A)),SMALL(IF(LEFT(INDIRECT("Essais!$L$2:$L$"&COUNTA(Essais!$A:$A)),2)="di",ROW(INDIRECT("$1:$"&COUNTA(Essais!$A:$A)-1))),ROWS($1:68))),"")}
C70: {=IFERROR(INDEX(OFFSET(INDIRECT("Essais!$b$2:$b$"&COUNTA(Essais!$A:$A)),0,COLUMNS($A:A)),MATCH($L70,INDIRECT("Essais!$L$2:$L$"&COUNTA(Essais!$A:$A)))),"")} | D70: {=IFERROR(INDEX(OFFSET(INDIRECT("Essais!$b$2:$b$"&COUNTA(Essais!$A:$A)),0,COLUMNS($A:B)),MATCH($L70,INDIRECT("Essais!$L$2:$L$"&COUNTA(Essais!$A:$A)))),"")} | E70: {=IFERROR(INDEX(OFFSET(INDIRECT("Essais!$b$2:$b$"&COUNTA(Essais!$A:$A)),0,COLUMNS($A:C)),MATCH($L70,INDIRECT("Essais!$L$2:$L$"&COUNTA(Essais!$A:$A)))),"")} | F70: {=IFERROR(INDEX(OFFSET(INDIRECT("Essais!$b$2:$b$"&COUNTA(Essais!$A:$A)),0,COLUMNS($A:D)),MATCH($L70,INDIRECT("Essais!$L$2:$L$"&COUNTA(Essais!$A:$A)))),"")} | G70: {=IFERROR(INDEX(OFFSET(INDIRECT("Essais!$b$2:$b$"&COUNTA(Essais!$A:$A)),0,COLUMNS($A:E)),MATCH($L70,INDIRECT("Essais!$L$2:$L$"&COUNTA(Essais!$A:$A)))),"")} | H70: {=IFERROR(INDEX(OFFSET(INDIRECT("Essais!$b$2:$b$"&COUNTA(Essais!$A:$A)),0,COLUMNS($A:F)),MATCH($L70,INDIRECT("Essais!$L$2:$L$"&COUNTA(Essais!$A:$A)))),"")} | I70: {=IFERROR(INDEX(OFFSET(INDIRECT("Essais!$b$2:$b$"&COUNTA(Essais!$A:$A)),0,COLUMNS($A:G)),MATCH($L70,INDIRECT("Essais!$L$2:$L$"&COUNTA(Essais!$A:$A)))),"")} | J70: {=IFERROR(INDEX(OFFSET(INDIRECT("Essais!$b$2:$b$"&COUNTA(Essais!$A:$A)),0,COLUMNS($A:H)),MATCH($L70,INDIRECT("Essais!$L$2:$L$"&COUNTA(Essais!$A:$A)))),"")} | K70: {=IFERROR(INDEX(OFFSET(INDIRECT("Essais!$b$2:$b$"&COUNTA(Essais!$A:$A)),0,COLUMNS($A:I)),MATCH($L70,INDIRECT("Essais!$L$2:$L$"&COUNTA(Essais!$A:$A)))),"")} | L70: {=IFERROR(INDEX(INDIRECT("Essais!$L$2:$L$"&COUNTA(Essais!$A:$A)),SMALL(IF(LEFT(INDIRECT("Essais!$L$2:$L$"&COUNTA(Essais!$A:$A)),2)="di",ROW(INDIRECT("$1:$"&COUNTA(Essais!$A:$A)-1))),ROWS($1:69))),"")}
C71: {=IFERROR(INDEX(OFFSET(INDIRECT("Essais!$b$2:$b$"&COUNTA(Essais!$A:$A)),0,COLUMNS($A:A)),MATCH($L71,INDIRECT("Essais!$L$2:$L$"&COUNTA(Essais!$A:$A)))),"")} | D71: {=IFERROR(INDEX(OFFSET(INDIRECT("Essais!$b$2:$b$"&COUNTA(Essais!$A:$A)),0,COLUMNS($A:B)),MATCH($L71,INDIRECT("Essais!$L$2:$L$"&COUNTA(Essais!$A:$A)))),"")} | E71: {=IFERROR(INDEX(OFFSET(INDIRECT("Essais!$b$2:$b$"&COUNTA(Essais!$A:$A)),0,COLUMNS($A:C)),MATCH($L71,INDIRECT("Essais!$L$2:$L$"&COUNTA(Essais!$A:$A)))),"")} | F71: {=IFERROR(INDEX(OFFSET(INDIRECT("Essais!$b$2:$b$"&COUNTA(Essais!$A:$A)),0,COLUMNS($A:D)),MATCH($L71,INDIRECT("Essais!$L$2:$L$"&COUNTA(Essais!$A:$A)))),"")} | G71: {=IFERROR(INDEX(OFFSET(INDIRECT("Essais!$b$2:$b$"&COUNTA(Essais!$A:$A)),0,COLUMNS($A:E)),MATCH($L71,INDIRECT("Essais!$L$2:$L$"&COUNTA(Essais!$A:$A)))),"")} | H71: {=IFERROR(INDEX(OFFSET(INDIRECT("Essais!$b$2:$b$"&COUNTA(Essais!$A:$A)),0,COLUMNS($A:F)),MATCH($L71,INDIRECT("Essais!$L$2:$L$"&COUNTA(Essais!$A:$A)))),"")} | I71: {=IFERROR(INDEX(OFFSET(INDIRECT("Essais!$b$2:$b$"&COUNTA(Essais!$A:$A)),0,COLUMNS($A:G)),MATCH($L71,INDIRECT("Essais!$L$2:$L$"&COUNTA(Essais!$A:$A)))),"")} | J71: {=IFERROR(INDEX(OFFSET(INDIRECT("Essais!$b$2:$b$"&COUNTA(Essais!$A:$A)),0,COLUMNS($A:H)),MATCH($L71,INDIRECT("Essais!$L$2:$L$"&COUNTA(Essais!$A:$A)))),"")} | K71: {=IFERROR(INDEX(OFFSET(INDIRECT("Essais!$b$2:$b$"&COUNTA(Essais!$A:$A)),0,COLUMNS($A:I)),MATCH($L71,INDIRECT("Essais!$L$2:$L$"&COUNTA(Essais!$A:$A)))),"")} | L71: {=IFERROR(INDEX(INDIRECT("Essais!$L$2:$L$"&COUNTA(Essais!$A:$A)),SMALL(IF(LEFT(INDIRECT("Essais!$L$2:$L$"&COUNTA(Essais!$A:$A)),2)="di",ROW(INDIRECT("$1:$"&COUNTA(Essais!$A:$A)-1))),ROWS($1:70))),"")}
C72: {=IFERROR(INDEX(OFFSET(INDIRECT("Essais!$b$2:$b$"&COUNTA(Essais!$A:$A)),0,COLUMNS($A:A)),MATCH($L72,INDIRECT("Essais!$L$2:$L$"&COUNTA(Essais!$A:$A)))),"")} | D72: {=IFERROR(INDEX(OFFSET(INDIRECT("Essais!$b$2:$b$"&COUNTA(Essais!$A:$A)),0,COLUMNS($A:B)),MATCH($L72,INDIRECT("Essais!$L$2:$L$"&COUNTA(Essais!$A:$A)))),"")} | E72: {=IFERROR(INDEX(OFFSET(INDIRECT("Essais!$b$2:$b$"&COUNTA(Essais!$A:$A)),0,COLUMNS($A:C)),MATCH($L72,INDIRECT("Essais!$L$2:$L$"&COUNTA(Essais!$A:$A)))),"")} | F72: {=IFERROR(INDEX(OFFSET(INDIRECT("Essais!$b$2:$b$"&COUNTA(Essais!$A:$A)),0,COLUMNS($A:D)),MATCH($L72,INDIRECT("Essais!$L$2:$L$"&COUNTA(Essais!$A:$A)))),"")} | G72: {=IFERROR(INDEX(OFFSET(INDIRECT("Essais!$b$2:$b$"&COUNTA(Essais!$A:$A)),0,COLUMNS($A:E)),MATCH($L72,INDIRECT("Essais!$L$2:$L$"&COUNTA(Essais!$A:$A)))),"")} | H72: {=IFERROR(INDEX(OFFSET(INDIRECT("Essais!$b$2:$b$"&COUNTA(Essais!$A:$A)),0,COLUMNS($A:F)),MATCH($L72,INDIRECT("Essais!$L$2:$L$"&COUNTA(Essais!$A:$A)))),"")} | I72: {=IFERROR(INDEX(OFFSET(INDIRECT("Essais!$b$2:$b$"&COUNTA(Essais!$A:$A)),0,COLUMNS($A:G)),MATCH($L72,INDIRECT("Essais!$L$2:$L$"&COUNTA(Essais!$A:$A)))),"")} | J72: {=IFERROR(INDEX(OFFSET(INDIRECT("Essais!$b$2:$b$"&COUNTA(Essais!$A:$A)),0,COLUMNS($A:H)),MATCH($L72,INDIRECT("Essais!$L$2:$L$"&COUNTA(Essais!$A:$A)))),"")} | K72: {=IFERROR(INDEX(OFFSET(INDIRECT("Essais!$b$2:$b$"&COUNTA(Essais!$A:$A)),0,COLUMNS($A:I)),MATCH($L72,INDIRECT("Essais!$L$2:$L$"&COUNTA(Essais!$A:$A)))),"")} | L72: {=IFERROR(INDEX(INDIRECT("Essais!$L$2:$L$"&COUNTA(Essais!$A:$A)),SMALL(IF(LEFT(INDIRECT("Essais!$L$2:$L$"&COUNTA(Essais!$A:$A)),2)="di",ROW(INDIRECT("$1:$"&COUNTA(Essais!$A:$A)-1))),ROWS($1:71))),"")}
C73: {=IFERROR(INDEX(OFFSET(INDIRECT("Essais!$b$2:$b$"&COUNTA(Essais!$A:$A)),0,COLUMNS($A:A)),MATCH($L73,INDIRECT("Essais!$L$2:$L$"&COUNTA(Essais!$A:$A)))),"")} | D73: {=IFERROR(INDEX(OFFSET(INDIRECT("Essais!$b$2:$b$"&COUNTA(Essais!$A:$A)),0,COLUMNS($A:B)),MATCH($L73,INDIRECT("Essais!$L$2:$L$"&COUNTA(Essais!$A:$A)))),"")} | E73: {=IFERROR(INDEX(OFFSET(INDIRECT("Essais!$b$2:$b$"&COUNTA(Essais!$A:$A)),0,COLUMNS($A:C)),MATCH($L73,INDIRECT("Essais!$L$2:$L$"&COUNTA(Essais!$A:$A)))),"")} | F73: {=IFERROR(INDEX(OFFSET(INDIRECT("Essais!$b$2:$b$"&COUNTA(Essais!$A:$A)),0,COLUMNS($A:D)),MATCH($L73,INDIRECT("Essais!$L$2:$L$"&COUNTA(Essais!$A:$A)))),"")} | G73: {=IFERROR(INDEX(OFFSET(INDIRECT("Essais!$b$2:$b$"&COUNTA(Essais!$A:$A)),0,COLUMNS($A:E)),MATCH($L73,INDIRECT("Essais!$L$2:$L$"&COUNTA(Essais!$A:$A)))),"")} | H73: {=IFERROR(INDEX(OFFSET(INDIRECT("Essais!$b$2:$b$"&COUNTA(Essais!$A:$A)),0,COLUMNS($A:F)),MATCH($L73,INDIRECT("Essais!$L$2:$L$"&COUNTA(Essais!$A:$A)))),"")} | I73: {=IFERROR(INDEX(OFFSET(INDIRECT("Essais!$b$2:$b$"&COUNTA(Essais!$A:$A)),0,COLUMNS($A:G)),MATCH($L73,INDIRECT("Essais!$L$2:$L$"&COUNTA(Essais!$A:$A)))),"")} | J73: {=IFERROR(INDEX(OFFSET(INDIRECT("Essais!$b$2:$b$"&COUNTA(Essais!$A:$A)),0,COLUMNS($A:H)),MATCH($L73,INDIRECT("Essais!$L$2:$L$"&COUNTA(Essais!$A:$A)))),"")} | K73: {=IFERROR(INDEX(OFFSET(INDIRECT("Essais!$b$2:$b$"&COUNTA(Essais!$A:$A)),0,COLUMNS($A:I)),MATCH($L73,INDIRECT("Essais!$L$2:$L$"&COUNTA(Essais!$A:$A)))),"")} | L73: {=IFERROR(INDEX(INDIRECT("Essais!$L$2:$L$"&COUNTA(Essais!$A:$A)),SMALL(IF(LEFT(INDIRECT("Essais!$L$2:$L$"&COUNTA(Essais!$A:$A)),2)="di",ROW(INDIRECT("$1:$"&COUNTA(Essais!$A:$A)-1))),ROWS($1:72))),"")}
C74: {=IFERROR(INDEX(OFFSET(INDIRECT("Essais!$b$2:$b$"&COUNTA(Essais!$A:$A)),0,COLUMNS($A:A)),MATCH($L74,INDIRECT("Essais!$L$2:$L$"&COUNTA(Essais!$A:$A)))),"")} | D74: {=IFERROR(INDEX(OFFSET(INDIRECT("Essais!$b$2:$b$"&COUNTA(Essais!$A:$A)),0,COLUMNS($A:B)),MATCH($L74,INDIRECT("Essais!$L$2:$L$"&COUNTA(Essais!$A:$A)))),"")} | E74: {=IFERROR(INDEX(OFFSET(INDIRECT("Essais!$b$2:$b$"&COUNTA(Essais!$A:$A)),0,COLUMNS($A:C)),MATCH($L74,INDIRECT("Essais!$L$2:$L$"&COUNTA(Essais!$A:$A)))),"")} | F74: {=IFERROR(INDEX(OFFSET(INDIRECT("Essais!$b$2:$b$"&COUNTA(Essais!$A:$A)),0,COLUMNS($A:D)),MATCH($L74,INDIRECT("Essais!$L$2:$L$"&COUNTA(Essais!$A:$A)))),"")} | G74: {=IFERROR(INDEX(OFFSET(INDIRECT("Essais!$b$2:$b$"&COUNTA(Essais!$A:$A)),0,COLUMNS($A:E)),MATCH($L74,INDIRECT("Essais!$L$2:$L$"&COUNTA(Essais!$A:$A)))),"")} | H74: {=IFERROR(INDEX(OFFSET(INDIRECT("Essais!$b$2:$b$"&COUNTA(Essais!$A:$A)),0,COLUMNS($A:F)),MATCH($L74,INDIRECT("Essais!$L$2:$L$"&COUNTA(Essais!$A:$A)))),"")} | I74: {=IFERROR(INDEX(OFFSET(INDIRECT("Essais!$b$2:$b$"&COUNTA(Essais!$A:$A)),0,COLUMNS($A:G)),MATCH($L74,INDIRECT("Essais!$L$2:$L$"&COUNTA(Essais!$A:$A)))),"")} | J74: {=IFERROR(INDEX(OFFSET(INDIRECT("Essais!$b$2:$b$"&COUNTA(Essais!$A:$A)),0,COLUMNS($A:H)),MATCH($L74,INDIRECT("Essais!$L$2:$L$"&COUNTA(Essais!$A:$A)))),"")} | K74: {=IFERROR(INDEX(OFFSET(INDIRECT("Essais!$b$2:$b$"&COUNTA(Essais!$A:$A)),0,COLUMNS($A:I)),MATCH($L74,INDIRECT("Essais!$L$2:$L$"&COUNTA(Essais!$A:$A)))),"")} | L74: {=IFERROR(INDEX(INDIRECT("Essais!$L$2:$L$"&COUNTA(Essais!$A:$A)),SMALL(IF(LEFT(INDIRECT("Essais!$L$2:$L$"&COUNTA(Essais!$A:$A)),2)="di",ROW(INDIRECT("$1:$"&COUNTA(Essais!$A:$A)-1))),ROWS($1:73))),"")}
C75: {=IFERROR(INDEX(OFFSET(INDIRECT("Essais!$b$2:$b$"&COUNTA(Essais!$A:$A)),0,COLUMNS($A:A)),MATCH($L75,INDIRECT("Essais!$L$2:$L$"&COUNTA(Essais!$A:$A)))),"")} | D75: {=IFERROR(INDEX(OFFSET(INDIRECT("Essais!$b$2:$b$"&COUNTA(Essais!$A:$A)),0,COLUMNS($A:B)),MATCH($L75,INDIRECT("Essais!$L$2:$L$"&COUNTA(Essais!$A:$A)))),"")} | E75: {=IFERROR(INDEX(OFFSET(INDIRECT("Essais!$b$2:$b$"&COUNTA(Essais!$A:$A)),0,COLUMNS($A:C)),MATCH($L75,INDIRECT("Essais!$L$2:$L$"&COUNTA(Essais!$A:$A)))),"")} | F75: {=IFERROR(INDEX(OFFSET(INDIRECT("Essais!$b$2:$b$"&COUNTA(Essais!$A:$A)),0,COLUMNS($A:D)),MATCH($L75,INDIRECT("Essais!$L$2:$L$"&COUNTA(Essais!$A:$A)))),"")} | G75: {=IFERROR(INDEX(OFFSET(INDIRECT("Essais!$b$2:$b$"&COUNTA(Essais!$A:$A)),0,COLUMNS($A:E)),MATCH($L75,INDIRECT("Essais!$L$2:$L$"&COUNTA(Essais!$A:$A)))),"")} | H75: {=IFERROR(INDEX(OFFSET(INDIRECT("Essais!$b$2:$b$"&COUNTA(Essais!$A:$A)),0,COLUMNS($A:F)),MATCH($L75,INDIRECT("Essais!$L$2:$L$"&COUNTA(Essais!$A:$A)))),"")} | I75: {=IFERROR(INDEX(OFFSET(INDIRECT("Essais!$b$2:$b$"&COUNTA(Essais!$A:$A)),0,COLUMNS($A:G)),MATCH($L75,INDIRECT("Essais!$L$2:$L$"&COUNTA(Essais!$A:$A)))),"")} | J75: {=IFERROR(INDEX(OFFSET(INDIRECT("Essais!$b$2:$b$"&COUNTA(Essais!$A:$A)),0,COLUMNS($A:H)),MATCH($L75,INDIRECT("Essais!$L$2:$L$"&COUNTA(Essais!$A:$A)))),"")} | K75: {=IFERROR(INDEX(OFFSET(INDIRECT("Essais!$b$2:$b$"&COUNTA(Essais!$A:$A)),0,COLUMNS($A:I)),MATCH($L75,INDIRECT("Essais!$L$2:$L$"&COUNTA(Essais!$A:$A)))),"")} | L75: {=IFERROR(INDEX(INDIRECT("Essais!$L$2:$L$"&COUNTA(Essais!$A:$A)),SMALL(IF(LEFT(INDIRECT("Essais!$L$2:$L$"&COUNTA(Essais!$A:$A)),2)="di",ROW(INDIRECT("$1:$"&COUNTA(Essais!$A:$A)-1))),ROWS($1:74))),"")}
C76: {=IFERROR(INDEX(OFFSET(INDIRECT("Essais!$b$2:$b$"&COUNTA(Essais!$A:$A)),0,COLUMNS($A:A)),MATCH($L76,INDIRECT("Essais!$L$2:$L$"&COUNTA(Essais!$A:$A)))),"")} | D76: {=IFERROR(INDEX(OFFSET(INDIRECT("Essais!$b$2:$b$"&COUNTA(Essais!$A:$A)),0,COLUMNS($A:B)),MATCH($L76,INDIRECT("Essais!$L$2:$L$"&COUNTA(Essais!$A:$A)))),"")} | E76: {=IFERROR(INDEX(OFFSET(INDIRECT("Essais!$b$2:$b$"&COUNTA(Essais!$A:$A)),0,COLUMNS($A:C)),MATCH($L76,INDIRECT("Essais!$L$2:$L$"&COUNTA(Essais!$A:$A)))),"")} | F76: {=IFERROR(INDEX(OFFSET(INDIRECT("Essais!$b$2:$b$"&COUNTA(Essais!$A:$A)),0,COLUMNS($A:D)),MATCH($L76,INDIRECT("Essais!$L$2:$L$"&COUNTA(Essais!$A:$A)))),"")} | G76: {=IFERROR(INDEX(OFFSET(INDIRECT("Essais!$b$2:$b$"&COUNTA(Essais!$A:$A)),0,COLUMNS($A:E)),MATCH($L76,INDIRECT("Essais!$L$2:$L$"&COUNTA(Essais!$A:$A)))),"")} | H76: {=IFERROR(INDEX(OFFSET(INDIRECT("Essais!$b$2:$b$"&COUNTA(Essais!$A:$A)),0,COLUMNS($A:F)),MATCH($L76,INDIRECT("Essais!$L$2:$L$"&COUNTA(Essais!$A:$A)))),"")} | I76: {=IFERROR(INDEX(OFFSET(INDIRECT("Essais!$b$2:$b$"&COUNTA(Essais!$A:$A)),0,COLUMNS($A:G)),MATCH($L76,INDIRECT("Essais!$L$2:$L$"&COUNTA(Essais!$A:$A)))),"")} | J76: {=IFERROR(INDEX(OFFSET(INDIRECT("Essais!$b$2:$b$"&COUNTA(Essais!$A:$A)),0,COLUMNS($A:H)),MATCH($L76,INDIRECT("Essais!$L$2:$L$"&COUNTA(Essais!$A:$A)))),"")} | K76: {=IFERROR(INDEX(OFFSET(INDIRECT("Essais!$b$2:$b$"&COUNTA(Essais!$A:$A)),0,COLUMNS($A:I)),MATCH($L76,INDIRECT("Essais!$L$2:$L$"&COUNTA(Essais!$A:$A)))),"")} | L76: {=IFERROR(INDEX(INDIRECT("Essais!$L$2:$L$"&COUNTA(Essais!$A:$A)),SMALL(IF(LEFT(INDIRECT("Essais!$L$2:$L$"&COUNTA(Essais!$A:$A)),2)="di",ROW(INDIRECT("$1:$"&COUNTA(Essais!$A:$A)-1))),ROWS($1:75))),"")}
C77: {=IFERROR(INDEX(OFFSET(INDIRECT("Essais!$b$2:$b$"&COUNTA(Essais!$A:$A)),0,COLUMNS($A:A)),MATCH($L77,INDIRECT("Essais!$L$2:$L$"&COUNTA(Essais!$A:$A)))),"")} | D77: {=IFERROR(INDEX(OFFSET(INDIRECT("Essais!$b$2:$b$"&COUNTA(Essais!$A:$A)),0,COLUMNS($A:B)),MATCH($L77,INDIRECT("Essais!$L$2:$L$"&COUNTA(Essais!$A:$A)))),"")} | E77: {=IFERROR(INDEX(OFFSET(INDIRECT("Essais!$b$2:$b$"&COUNTA(Essais!$A:$A)),0,COLUMNS($A:C)),MATCH($L77,INDIRECT("Essais!$L$2:$L$"&COUNTA(Essais!$A:$A)))),"")} | F77: {=IFERROR(INDEX(OFFSET(INDIRECT("Essais!$b$2:$b$"&COUNTA(Essais!$A:$A)),0,COLUMNS($A:D)),MATCH($L77,INDIRECT("Essais!$L$2:$L$"&COUNTA(Essais!$A:$A)))),"")} | G77: {=IFERROR(INDEX(OFFSET(INDIRECT("Essais!$b$2:$b$"&COUNTA(Essais!$A:$A)),0,COLUMNS($A:E)),MATCH($L77,INDIRECT("Essais!$L$2:$L$"&COUNTA(Essais!$A:$A)))),"")} | H77: {=IFERROR(INDEX(OFFSET(INDIRECT("Essais!$b$2:$b$"&COUNTA(Essais!$A:$A)),0,COLUMNS($A:F)),MATCH($L77,INDIRECT("Essais!$L$2:$L$"&COUNTA(Essais!$A:$A)))),"")} | I77: {=IFERROR(INDEX(OFFSET(INDIRECT("Essais!$b$2:$b$"&COUNTA(Essais!$A:$A)),0,COLUMNS($A:G)),MATCH($L77,INDIRECT("Essais!$L$2:$L$"&COUNTA(Essais!$A:$A)))),"")} | J77: {=IFERROR(INDEX(OFFSET(INDIRECT("Essais!$b$2:$b$"&COUNTA(Essais!$A:$A)),0,COLUMNS($A:H)),MATCH($L77,INDIRECT("Essais!$L$2:$L$"&COUNTA(Essais!$A:$A)))),"")} | K77: {=IFERROR(INDEX(OFFSET(INDIRECT("Essais!$b$2:$b$"&COUNTA(Essais!$A:$A)),0,COLUMNS($A:I)),MATCH($L77,INDIRECT("Essais!$L$2:$L$"&COUNTA(Essais!$A:$A)))),"")} | L77: {=IFERROR(INDEX(INDIRECT("Essais!$L$2:$L$"&COUNTA(Essais!$A:$A)),SMALL(IF(LEFT(INDIRECT("Essais!$L$2:$L$"&COUNTA(Essais!$A:$A)),2)="di",ROW(INDIRECT("$1:$"&COUNTA(Essais!$A:$A)-1))),ROWS($1:76))),"")}
C78: {=IFERROR(INDEX(OFFSET(INDIRECT("Essais!$b$2:$b$"&COUNTA(Essais!$A:$A)),0,COLUMNS($A:A)),MATCH($L78,INDIRECT("Essais!$L$2:$L$"&COUNTA(Essais!$A:$A)))),"")} | D78: {=IFERROR(INDEX(OFFSET(INDIRECT("Essais!$b$2:$b$"&COUNTA(Essais!$A:$A)),0,COLUMNS($A:B)),MATCH($L78,INDIRECT("Essais!$L$2:$L$"&COUNTA(Essais!$A:$A)))),"")} | E78: {=IFERROR(INDEX(OFFSET(INDIRECT("Essais!$b$2:$b$"&COUNTA(Essais!$A:$A)),0,COLUMNS($A:C)),MATCH($L78,INDIRECT("Essais!$L$2:$L$"&COUNTA(Essais!$A:$A)))),"")} | F78: {=IFERROR(INDEX(OFFSET(INDIRECT("Essais!$b$2:$b$"&COUNTA(Essais!$A:$A)),0,COLUMNS($A:D)),MATCH($L78,INDIRECT("Essais!$L$2:$L$"&COUNTA(Essais!$A:$A)))),"")} | G78: {=IFERROR(INDEX(OFFSET(INDIRECT("Essais!$b$2:$b$"&COUNTA(Essais!$A:$A)),0,COLUMNS($A:E)),MATCH($L78,INDIRECT("Essais!$L$2:$L$"&COUNTA(Essais!$A:$A)))),"")} | H78: {=IFERROR(INDEX(OFFSET(INDIRECT("Essais!$b$2:$b$"&COUNTA(Essais!$A:$A)),0,COLUMNS($A:F)),MATCH($L78,INDIRECT("Essais!$L$2:$L$"&COUNTA(Essais!$A:$A)))),"")} | I78: {=IFERROR(INDEX(OFFSET(INDIRECT("Essais!$b$2:$b$"&COUNTA(Essais!$A:$A)),0,COLUMNS($A:G)),MATCH($L78,INDIRECT("Essais!$L$2:$L$"&COUNTA(Essais!$A:$A)))),"")} | J78: {=IFERROR(INDEX(OFFSET(INDIRECT("Essais!$b$2:$b$"&COUNTA(Essais!$A:$A)),0,COLUMNS($A:H)),MATCH($L78,INDIRECT("Essais!$L$2:$L$"&COUNTA(Essais!$A:$A)))),"")} | K78: {=IFERROR(INDEX(OFFSET(INDIRECT("Essais!$b$2:$b$"&COUNTA(Essais!$A:$A)),0,COLUMNS($A:I)),MATCH($L78,INDIRECT("Essais!$L$2:$L$"&COUNTA(Essais!$A:$A)))),"")} | L78: {=IFERROR(INDEX(INDIRECT("Essais!$L$2:$L$"&COUNTA(Essais!$A:$A)),SMALL(IF(LEFT(INDIRECT("Essais!$L$2:$L$"&COUNTA(Essais!$A:$A)),2)="di",ROW(INDIRECT("$1:$"&COUNTA(Essais!$A:$A)-1))),ROWS($1:77))),"")}
C79: {=IFERROR(INDEX(OFFSET(INDIRECT("Essais!$b$2:$b$"&COUNTA(Essais!$A:$A)),0,COLUMNS($A:A)),MATCH($L79,INDIRECT("Essais!$L$2:$L$"&COUNTA(Essais!$A:$A)))),"")} | D79: {=IFERROR(INDEX(OFFSET(INDIRECT("Essais!$b$2:$b$"&COUNTA(Essais!$A:$A)),0,COLUMNS($A:B)),MATCH($L79,INDIRECT("Essais!$L$2:$L$"&COUNTA(Essais!$A:$A)))),"")} | E79: {=IFERROR(INDEX(OFFSET(INDIRECT("Essais!$b$2:$b$"&COUNTA(Essais!$A:$A)),0,COLUMNS($A:C)),MATCH($L79,INDIRECT("Essais!$L$2:$L$"&COUNTA(Essais!$A:$A)))),"")} | F79: {=IFERROR(INDEX(OFFSET(INDIRECT("Essais!$b$2:$b$"&COUNTA(Essais!$A:$A)),0,COLUMNS($A:D)),MATCH($L79,INDIRECT("Essais!$L$2:$L$"&COUNTA(Essais!$A:$A)))),"")} | G79: {=IFERROR(INDEX(OFFSET(INDIRECT("Essais!$b$2:$b$"&COUNTA(Essais!$A:$A)),0,COLUMNS($A:E)),MATCH($L79,INDIRECT("Essais!$L$2:$L$"&COUNTA(Essais!$A:$A)))),"")} | H79: {=IFERROR(INDEX(OFFSET(INDIRECT("Essais!$b$2:$b$"&COUNTA(Essais!$A:$A)),0,COLUMNS($A:F)),MATCH($L79,INDIRECT("Essais!$L$2:$L$"&COUNTA(Essais!$A:$A)))),"")} | I79: {=IFERROR(INDEX(OFFSET(INDIRECT("Essais!$b$2:$b$"&COUNTA(Essais!$A:$A)),0,COLUMNS($A:G)),MATCH($L79,INDIRECT("Essais!$L$2:$L$"&COUNTA(Essais!$A:$A)))),"")} | J79: {=IFERROR(INDEX(OFFSET(INDIRECT("Essais!$b$2:$b$"&COUNTA(Essais!$A:$A)),0,COLUMNS($A:H)),MATCH($L79,INDIRECT("Essais!$L$2:$L$"&COUNTA(Essais!$A:$A)))),"")} | K79: {=IFERROR(INDEX(OFFSET(INDIRECT("Essais!$b$2:$b$"&COUNTA(Essais!$A:$A)),0,COLUMNS($A:I)),MATCH($L79,INDIRECT("Essais!$L$2:$L$"&COUNTA(Essais!$A:$A)))),"")} | L79: {=IFERROR(INDEX(INDIRECT("Essais!$L$2:$L$"&COUNTA(Essais!$A:$A)),SMALL(IF(LEFT(INDIRECT("Essais!$L$2:$L$"&COUNTA(Essais!$A:$A)),2)="di",ROW(INDIRECT("$1:$"&COUNTA(Essais!$A:$A)-1))),ROWS($1:78))),"")}
C80: {=IFERROR(INDEX(OFFSET(INDIRECT("Essais!$b$2:$b$"&COUNTA(Essais!$A:$A)),0,COLUMNS($A:A)),MATCH($L80,INDIRECT("Essais!$L$2:$L$"&COUNTA(Essais!$A:$A)))),"")} | D80: {=IFERROR(INDEX(OFFSET(INDIRECT("Essais!$b$2:$b$"&COUNTA(Essais!$A:$A)),0,COLUMNS($A:B)),MATCH($L80,INDIRECT("Essais!$L$2:$L$"&COUNTA(Essais!$A:$A)))),"")} | E80: {=IFERROR(INDEX(OFFSET(INDIRECT("Essais!$b$2:$b$"&COUNTA(Essais!$A:$A)),0,COLUMNS($A:C)),MATCH($L80,INDIRECT("Essais!$L$2:$L$"&COUNTA(Essais!$A:$A)))),"")} | F80: {=IFERROR(INDEX(OFFSET(INDIRECT("Essais!$b$2:$b$"&COUNTA(Essais!$A:$A)),0,COLUMNS($A:D)),MATCH($L80,INDIRECT("Essais!$L$2:$L$"&COUNTA(Essais!$A:$A)))),"")} | G80: {=IFERROR(INDEX(OFFSET(INDIRECT("Essais!$b$2:$b$"&COUNTA(Essais!$A:$A)),0,COLUMNS($A:E)),MATCH($L80,INDIRECT("Essais!$L$2:$L$"&COUNTA(Essais!$A:$A)))),"")} | H80: {=IFERROR(INDEX(OFFSET(INDIRECT("Essais!$b$2:$b$"&COUNTA(Essais!$A:$A)),0,COLUMNS($A:F)),MATCH($L80,INDIRECT("Essais!$L$2:$L$"&COUNTA(Essais!$A:$A)))),"")} | I80: {=IFERROR(INDEX(OFFSET(INDIRECT("Essais!$b$2:$b$"&COUNTA(Essais!$A:$A)),0,COLUMNS($A:G)),MATCH($L80,INDIRECT("Essais!$L$2:$L$"&COUNTA(Essais!$A:$A)))),"")} | J80: {=IFERROR(INDEX(OFFSET(INDIRECT("Essais!$b$2:$b$"&COUNTA(Essais!$A:$A)),0,COLUMNS($A:H)),MATCH($L80,INDIRECT("Essais!$L$2:$L$"&COUNTA(Essais!$A:$A)))),"")} | K80: {=IFERROR(INDEX(OFFSET(INDIRECT("Essais!$b$2:$b$"&COUNTA(Essais!$A:$A)),0,COLUMNS($A:I)),MATCH($L80,INDIRECT("Essais!$L$2:$L$"&COUNTA(Essais!$A:$A)))),"")} | L80: {=IFERROR(INDEX(INDIRECT("Essais!$L$2:$L$"&COUNTA(Essais!$A:$A)),SMALL(IF(LEFT(INDIRECT("Essais!$L$2:$L$"&COUNTA(Essais!$A:$A)),2)="di",ROW(INDIRECT("$1:$"&COUNTA(Essais!$A:$A)-1))),ROWS($1:79))),"")}
C81: {=IFERROR(INDEX(OFFSET(INDIRECT("Essais!$b$2:$b$"&COUNTA(Essais!$A:$A)),0,COLUMNS($A:A)),MATCH($L81,INDIRECT("Essais!$L$2:$L$"&COUNTA(Essais!$A:$A)))),"")} | D81: {=IFERROR(INDEX(OFFSET(INDIRECT("Essais!$b$2:$b$"&COUNTA(Essais!$A:$A)),0,COLUMNS($A:B)),MATCH($L81,INDIRECT("Essais!$L$2:$L$"&COUNTA(Essais!$A:$A)))),"")} | E81: {=IFERROR(INDEX(OFFSET(INDIRECT("Essais!$b$2:$b$"&COUNTA(Essais!$A:$A)),0,COLUMNS($A:C)),MATCH($L81,INDIRECT("Essais!$L$2:$L$"&COUNTA(Essais!$A:$A)))),"")} | F81: {=IFERROR(INDEX(OFFSET(INDIRECT("Essais!$b$2:$b$"&COUNTA(Essais!$A:$A)),0,COLUMNS($A:D)),MATCH($L81,INDIRECT("Essais!$L$2:$L$"&COUNTA(Essais!$A:$A)))),"")} | G81: {=IFERROR(INDEX(OFFSET(INDIRECT("Essais!$b$2:$b$"&COUNTA(Essais!$A:$A)),0,COLUMNS($A:E)),MATCH($L81,INDIRECT("Essais!$L$2:$L$"&COUNTA(Essais!$A:$A)))),"")} | H81: {=IFERROR(INDEX(OFFSET(INDIRECT("Essais!$b$2:$b$"&COUNTA(Essais!$A:$A)),0,COLUMNS($A:F)),MATCH($L81,INDIRECT("Essais!$L$2:$L$"&COUNTA(Essais!$A:$A)))),"")} | I81: {=IFERROR(INDEX(OFFSET(INDIRECT("Essais!$b$2:$b$"&COUNTA(Essais!$A:$A)),0,COLUMNS($A:G)),MATCH($L81,INDIRECT("Essais!$L$2:$L$"&COUNTA(Essais!$A:$A)))),"")} | J81: {=IFERROR(INDEX(OFFSET(INDIRECT("Essais!$b$2:$b$"&COUNTA(Essais!$A:$A)),0,COLUMNS($A:H)),MATCH($L81,INDIRECT("Essais!$L$2:$L$"&COUNTA(Essais!$A:$A)))),"")} | K81: {=IFERROR(INDEX(OFFSET(INDIRECT("Essais!$b$2:$b$"&COUNTA(Essais!$A:$A)),0,COLUMNS($A:I)),MATCH($L81,INDIRECT("Essais!$L$2:$L$"&COUNTA(Essais!$A:$A)))),"")} | L81: {=IFERROR(INDEX(INDIRECT("Essais!$L$2:$L$"&COUNTA(Essais!$A:$A)),SMALL(IF(LEFT(INDIRECT("Essais!$L$2:$L$"&COUNTA(Essais!$A:$A)),2)="di",ROW(INDIRECT("$1:$"&COUNTA(Essais!$A:$A)-1))),ROWS($1:80))),"")}
C82: {=IFERROR(INDEX(OFFSET(INDIRECT("Essais!$b$2:$b$"&COUNTA(Essais!$A:$A)),0,COLUMNS($A:A)),MATCH($L82,INDIRECT("Essais!$L$2:$L$"&COUNTA(Essais!$A:$A)))),"")} | D82: {=IFERROR(INDEX(OFFSET(INDIRECT("Essais!$b$2:$b$"&COUNTA(Essais!$A:$A)),0,COLUMNS($A:B)),MATCH($L82,INDIRECT("Essais!$L$2:$L$"&COUNTA(Essais!$A:$A)))),"")} | E82: {=IFERROR(INDEX(OFFSET(INDIRECT("Essais!$b$2:$b$"&COUNTA(Essais!$A:$A)),0,COLUMNS($A:C)),MATCH($L82,INDIRECT("Essais!$L$2:$L$"&COUNTA(Essais!$A:$A)))),"")} | F82: {=IFERROR(INDEX(OFFSET(INDIRECT("Essais!$b$2:$b$"&COUNTA(Essais!$A:$A)),0,COLUMNS($A:D)),MATCH($L82,INDIRECT("Essais!$L$2:$L$"&COUNTA(Essais!$A:$A)))),"")} | G82: {=IFERROR(INDEX(OFFSET(INDIRECT("Essais!$b$2:$b$"&COUNTA(Essais!$A:$A)),0,COLUMNS($A:E)),MATCH($L82,INDIRECT("Essais!$L$2:$L$"&COUNTA(Essais!$A:$A)))),"")} | H82: {=IFERROR(INDEX(OFFSET(INDIRECT("Essais!$b$2:$b$"&COUNTA(Essais!$A:$A)),0,COLUMNS($A:F)),MATCH($L82,INDIRECT("Essais!$L$2:$L$"&COUNTA(Essais!$A:$A)))),"")} | I82: {=IFERROR(INDEX(OFFSET(INDIRECT("Essais!$b$2:$b$"&COUNTA(Essais!$A:$A)),0,COLUMNS($A:G)),MATCH($L82,INDIRECT("Essais!$L$2:$L$"&COUNTA(Essais!$A:$A)))),"")} | J82: {=IFERROR(INDEX(OFFSET(INDIRECT("Essais!$b$2:$b$"&COUNTA(Essais!$A:$A)),0,COLUMNS($A:H)),MATCH($L82,INDIRECT("Essais!$L$2:$L$"&COUNTA(Essais!$A:$A)))),"")} | K82: {=IFERROR(INDEX(OFFSET(INDIRECT("Essais!$b$2:$b$"&COUNTA(Essais!$A:$A)),0,COLUMNS($A:I)),MATCH($L82,INDIRECT("Essais!$L$2:$L$"&COUNTA(Essais!$A:$A)))),"")} | L82: {=IFERROR(INDEX(INDIRECT("Essais!$L$2:$L$"&COUNTA(Essais!$A:$A)),SMALL(IF(LEFT(INDIRECT("Essais!$L$2:$L$"&COUNTA(Essais!$A:$A)),2)="di",ROW(INDIRECT("$1:$"&COUNTA(Essais!$A:$A)-1))),ROWS($1:81))),"")}
C83: {=IFERROR(INDEX(OFFSET(INDIRECT("Essais!$b$2:$b$"&COUNTA(Essais!$A:$A)),0,COLUMNS($A:A)),MATCH($L83,INDIRECT("Essais!$L$2:$L$"&COUNTA(Essais!$A:$A)))),"")} | D83: {=IFERROR(INDEX(OFFSET(INDIRECT("Essais!$b$2:$b$"&COUNTA(Essais!$A:$A)),0,COLUMNS($A:B)),MATCH($L83,INDIRECT("Essais!$L$2:$L$"&COUNTA(Essais!$A:$A)))),"")} | E83: {=IFERROR(INDEX(OFFSET(INDIRECT("Essais!$b$2:$b$"&COUNTA(Essais!$A:$A)),0,COLUMNS($A:C)),MATCH($L83,INDIRECT("Essais!$L$2:$L$"&COUNTA(Essais!$A:$A)))),"")} | F83: {=IFERROR(INDEX(OFFSET(INDIRECT("Essais!$b$2:$b$"&COUNTA(Essais!$A:$A)),0,COLUMNS($A:D)),MATCH($L83,INDIRECT("Essais!$L$2:$L$"&COUNTA(Essais!$A:$A)))),"")} | G83: {=IFERROR(INDEX(OFFSET(INDIRECT("Essais!$b$2:$b$"&COUNTA(Essais!$A:$A)),0,COLUMNS($A:E)),MATCH($L83,INDIRECT("Essais!$L$2:$L$"&COUNTA(Essais!$A:$A)))),"")} | H83: {=IFERROR(INDEX(OFFSET(INDIRECT("Essais!$b$2:$b$"&COUNTA(Essais!$A:$A)),0,COLUMNS($A:F)),MATCH($L83,INDIRECT("Essais!$L$2:$L$"&COUNTA(Essais!$A:$A)))),"")} | I83: {=IFERROR(INDEX(OFFSET(INDIRECT("Essais!$b$2:$b$"&COUNTA(Essais!$A:$A)),0,COLUMNS($A:G)),MATCH($L83,INDIRECT("Essais!$L$2:$L$"&COUNTA(Essais!$A:$A)))),"")} | J83: {=IFERROR(INDEX(OFFSET(INDIRECT("Essais!$b$2:$b$"&COUNTA(Essais!$A:$A)),0,COLUMNS($A:H)),MATCH($L83,INDIRECT("Essais!$L$2:$L$"&COUNTA(Essais!$A:$A)))),"")} | K83: {=IFERROR(INDEX(OFFSET(INDIRECT("Essais!$b$2:$b$"&COUNTA(Essais!$A:$A)),0,COLUMNS($A:I)),MATCH($L83,INDIRECT("Essais!$L$2:$L$"&COUNTA(Essais!$A:$A)))),"")} | L83: {=IFERROR(INDEX(INDIRECT("Essais!$L$2:$L$"&COUNTA(Essais!$A:$A)),SMALL(IF(LEFT(INDIRECT("Essais!$L$2:$L$"&COUNTA(Essais!$A:$A)),2)="di",ROW(INDIRECT("$1:$"&COUNTA(Essais!$A:$A)-1))),ROWS($1:82))),"")}
C84: {=IFERROR(INDEX(OFFSET(INDIRECT("Essais!$b$2:$b$"&COUNTA(Essais!$A:$A)),0,COLUMNS($A:A)),MATCH($L84,INDIRECT("Essais!$L$2:$L$"&COUNTA(Essais!$A:$A)))),"")} | D84: {=IFERROR(INDEX(OFFSET(INDIRECT("Essais!$b$2:$b$"&COUNTA(Essais!$A:$A)),0,COLUMNS($A:B)),MATCH($L84,INDIRECT("Essais!$L$2:$L$"&COUNTA(Essais!$A:$A)))),"")} | E84: {=IFERROR(INDEX(OFFSET(INDIRECT("Essais!$b$2:$b$"&COUNTA(Essais!$A:$A)),0,COLUMNS($A:C)),MATCH($L84,INDIRECT("Essais!$L$2:$L$"&COUNTA(Essais!$A:$A)))),"")} | F84: {=IFERROR(INDEX(OFFSET(INDIRECT("Essais!$b$2:$b$"&COUNTA(Essais!$A:$A)),0,COLUMNS($A:D)),MATCH($L84,INDIRECT("Essais!$L$2:$L$"&COUNTA(Essais!$A:$A)))),"")} | G84: {=IFERROR(INDEX(OFFSET(INDIRECT("Essais!$b$2:$b$"&COUNTA(Essais!$A:$A)),0,COLUMNS($A:E)),MATCH($L84,INDIRECT("Essais!$L$2:$L$"&COUNTA(Essais!$A:$A)))),"")} | H84: {=IFERROR(INDEX(OFFSET(INDIRECT("Essais!$b$2:$b$"&COUNTA(Essais!$A:$A)),0,COLUMNS($A:F)),MATCH($L84,INDIRECT("Essais!$L$2:$L$"&COUNTA(Essais!$A:$A)))),"")} | I84: {=IFERROR(INDEX(OFFSET(INDIRECT("Essais!$b$2:$b$"&COUNTA(Essais!$A:$A)),0,COLUMNS($A:G)),MATCH($L84,INDIRECT("Essais!$L$2:$L$"&COUNTA(Essais!$A:$A)))),"")} | J84: {=IFERROR(INDEX(OFFSET(INDIRECT("Essais!$b$2:$b$"&COUNTA(Essais!$A:$A)),0,COLUMNS($A:H)),MATCH($L84,INDIRECT("Essais!$L$2:$L$"&COUNTA(Essais!$A:$A)))),"")} | K84: {=IFERROR(INDEX(OFFSET(INDIRECT("Essais!$b$2:$b$"&COUNTA(Essais!$A:$A)),0,COLUMNS($A:I)),MATCH($L84,INDIRECT("Essais!$L$2:$L$"&COUNTA(Essais!$A:$A)))),"")} | L84: {=IFERROR(INDEX(INDIRECT("Essais!$L$2:$L$"&COUNTA(Essais!$A:$A)),SMALL(IF(LEFT(INDIRECT("Essais!$L$2:$L$"&COUNTA(Essais!$A:$A)),2)="di",ROW(INDIRECT("$1:$"&COUNTA(Essais!$A:$A)-1))),ROWS($1:83))),"")}
C85: {=IFERROR(INDEX(OFFSET(INDIRECT("Essais!$b$2:$b$"&COUNTA(Essais!$A:$A)),0,COLUMNS($A:A)),MATCH($L85,INDIRECT("Essais!$L$2:$L$"&COUNTA(Essais!$A:$A)))),"")} | D85: {=IFERROR(INDEX(OFFSET(INDIRECT("Essais!$b$2:$b$"&COUNTA(Essais!$A:$A)),0,COLUMNS($A:B)),MATCH($L85,INDIRECT("Essais!$L$2:$L$"&COUNTA(Essais!$A:$A)))),"")} | E85: {=IFERROR(INDEX(OFFSET(INDIRECT("Essais!$b$2:$b$"&COUNTA(Essais!$A:$A)),0,COLUMNS($A:C)),MATCH($L85,INDIRECT("Essais!$L$2:$L$"&COUNTA(Essais!$A:$A)))),"")} | F85: {=IFERROR(INDEX(OFFSET(INDIRECT("Essais!$b$2:$b$"&COUNTA(Essais!$A:$A)),0,COLUMNS($A:D)),MATCH($L85,INDIRECT("Essais!$L$2:$L$"&COUNTA(Essais!$A:$A)))),"")} | G85: {=IFERROR(INDEX(OFFSET(INDIRECT("Essais!$b$2:$b$"&COUNTA(Essais!$A:$A)),0,COLUMNS($A:E)),MATCH($L85,INDIRECT("Essais!$L$2:$L$"&COUNTA(Essais!$A:$A)))),"")} | H85: {=IFERROR(INDEX(OFFSET(INDIRECT("Essais!$b$2:$b$"&COUNTA(Essais!$A:$A)),0,COLUMNS($A:F)),MATCH($L85,INDIRECT("Essais!$L$2:$L$"&COUNTA(Essais!$A:$A)))),"")} | I85: {=IFERROR(INDEX(OFFSET(INDIRECT("Essais!$b$2:$b$"&COUNTA(Essais!$A:$A)),0,COLUMNS($A:G)),MATCH($L85,INDIRECT("Essais!$L$2:$L$"&COUNTA(Essais!$A:$A)))),"")} | J85: {=IFERROR(INDEX(OFFSET(INDIRECT("Essais!$b$2:$b$"&COUNTA(Essais!$A:$A)),0,COLUMNS($A:H)),MATCH($L85,INDIRECT("Essais!$L$2:$L$"&COUNTA(Essais!$A:$A)))),"")} | K85: {=IFERROR(INDEX(OFFSET(INDIRECT("Essais!$b$2:$b$"&COUNTA(Essais!$A:$A)),0,COLUMNS($A:I)),MATCH($L85,INDIRECT("Essais!$L$2:$L$"&COUNTA(Essais!$A:$A)))),"")} | L85: {=IFERROR(INDEX(INDIRECT("Essais!$L$2:$L$"&COUNTA(Essais!$A:$A)),SMALL(IF(LEFT(INDIRECT("Essais!$L$2:$L$"&COUNTA(Essais!$A:$A)),2)="di",ROW(INDIRECT("$1:$"&COUNTA(Essais!$A:$A)-1))),ROWS($1:84))),"")}
C86: {=IFERROR(INDEX(OFFSET(INDIRECT("Essais!$b$2:$b$"&COUNTA(Essais!$A:$A)),0,COLUMNS($A:A)),MATCH($L86,INDIRECT("Essais!$L$2:$L$"&COUNTA(Essais!$A:$A)))),"")} | D86: {=IFERROR(INDEX(OFFSET(INDIRECT("Essais!$b$2:$b$"&COUNTA(Essais!$A:$A)),0,COLUMNS($A:B)),MATCH($L86,INDIRECT("Essais!$L$2:$L$"&COUNTA(Essais!$A:$A)))),"")} | E86: {=IFERROR(INDEX(OFFSET(INDIRECT("Essais!$b$2:$b$"&COUNTA(Essais!$A:$A)),0,COLUMNS($A:C)),MATCH($L86,INDIRECT("Essais!$L$2:$L$"&COUNTA(Essais!$A:$A)))),"")} | F86: {=IFERROR(INDEX(OFFSET(INDIRECT("Essais!$b$2:$b$"&COUNTA(Essais!$A:$A)),0,COLUMNS($A:D)),MATCH($L86,INDIRECT("Essais!$L$2:$L$"&COUNTA(Essais!$A:$A)))),"")} | G86: {=IFERROR(INDEX(OFFSET(INDIRECT("Essais!$b$2:$b$"&COUNTA(Essais!$A:$A)),0,COLUMNS($A:E)),MATCH($L86,INDIRECT("Essais!$L$2:$L$"&COUNTA(Essais!$A:$A)))),"")} | H86: {=IFERROR(INDEX(OFFSET(INDIRECT("Essais!$b$2:$b$"&COUNTA(Essais!$A:$A)),0,COLUMNS($A:F)),MATCH($L86,INDIRECT("Essais!$L$2:$L$"&COUNTA(Essais!$A:$A)))),"")} | I86: {=IFERROR(INDEX(OFFSET(INDIRECT("Essais!$b$2:$b$"&COUNTA(Essais!$A:$A)),0,COLUMNS($A:G)),MATCH($L86,INDIRECT("Essais!$L$2:$L$"&COUNTA(Essais!$A:$A)))),"")} | J86: {=IFERROR(INDEX(OFFSET(INDIRECT("Essais!$b$2:$b$"&COUNTA(Essais!$A:$A)),0,COLUMNS($A:H)),MATCH($L86,INDIRECT("Essais!$L$2:$L$"&COUNTA(Essais!$A:$A)))),"")} | K86: {=IFERROR(INDEX(OFFSET(INDIRECT("Essais!$b$2:$b$"&COUNTA(Essais!$A:$A)),0,COLUMNS($A:I)),MATCH($L86,INDIRECT("Essais!$L$2:$L$"&COUNTA(Essais!$A:$A)))),"")} | L86: {=IFERROR(INDEX(INDIRECT("Essais!$L$2:$L$"&COUNTA(Essais!$A:$A)),SMALL(IF(LEFT(INDIRECT("Essais!$L$2:$L$"&COUNTA(Essais!$A:$A)),2)="di",ROW(INDIRECT("$1:$"&COUNTA(Essais!$A:$A)-1))),ROWS($1:85))),"")}
C87: {=IFERROR(INDEX(OFFSET(INDIRECT("Essais!$b$2:$b$"&COUNTA(Essais!$A:$A)),0,COLUMNS($A:A)),MATCH($L87,INDIRECT("Essais!$L$2:$L$"&COUNTA(Essais!$A:$A)))),"")} | D87: {=IFERROR(INDEX(OFFSET(INDIRECT("Essais!$b$2:$b$"&COUNTA(Essais!$A:$A)),0,COLUMNS($A:B)),MATCH($L87,INDIRECT("Essais!$L$2:$L$"&COUNTA(Essais!$A:$A)))),"")} | E87: {=IFERROR(INDEX(OFFSET(INDIRECT("Essais!$b$2:$b$"&COUNTA(Essais!$A:$A)),0,COLUMNS($A:C)),MATCH($L87,INDIRECT("Essais!$L$2:$L$"&COUNTA(Essais!$A:$A)))),"")} | F87: {=IFERROR(INDEX(OFFSET(INDIRECT("Essais!$b$2:$b$"&COUNTA(Essais!$A:$A)),0,COLUMNS($A:D)),MATCH($L87,INDIRECT("Essais!$L$2:$L$"&COUNTA(Essais!$A:$A)))),"")} | G87: {=IFERROR(INDEX(OFFSET(INDIRECT("Essais!$b$2:$b$"&COUNTA(Essais!$A:$A)),0,COLUMNS($A:E)),MATCH($L87,INDIRECT("Essais!$L$2:$L$"&COUNTA(Essais!$A:$A)))),"")} | H87: {=IFERROR(INDEX(OFFSET(INDIRECT("Essais!$b$2:$b$"&COUNTA(Essais!$A:$A)),0,COLUMNS($A:F)),MATCH($L87,INDIRECT("Essais!$L$2:$L$"&COUNTA(Essais!$A:$A)))),"")} | I87: {=IFERROR(INDEX(OFFSET(INDIRECT("Essais!$b$2:$b$"&COUNTA(Essais!$A:$A)),0,COLUMNS($A:G)),MATCH($L87,INDIRECT("Essais!$L$2:$L$"&COUNTA(Essais!$A:$A)))),"")} | J87: {=IFERROR(INDEX(OFFSET(INDIRECT("Essais!$b$2:$b$"&COUNTA(Essais!$A:$A)),0,COLUMNS($A:H)),MATCH($L87,INDIRECT("Essais!$L$2:$L$"&COUNTA(Essais!$A:$A)))),"")} | K87: {=IFERROR(INDEX(OFFSET(INDIRECT("Essais!$b$2:$b$"&COUNTA(Essais!$A:$A)),0,COLUMNS($A:I)),MATCH($L87,INDIRECT("Essais!$L$2:$L$"&COUNTA(Essais!$A:$A)))),"")} | L87: {=IFERROR(INDEX(INDIRECT("Essais!$L$2:$L$"&COUNTA(Essais!$A:$A)),SMALL(IF(LEFT(INDIRECT("Essais!$L$2:$L$"&COUNTA(Essais!$A:$A)),2)="di",ROW(INDIRECT("$1:$"&COUNTA(Essais!$A:$A)-1))),ROWS($1:86))),"")}
C88: {=IFERROR(INDEX(OFFSET(INDIRECT("Essais!$b$2:$b$"&COUNTA(Essais!$A:$A)),0,COLUMNS($A:A)),MATCH($L88,INDIRECT("Essais!$L$2:$L$"&COUNTA(Essais!$A:$A)))),"")} | D88: {=IFERROR(INDEX(OFFSET(INDIRECT("Essais!$b$2:$b$"&COUNTA(Essais!$A:$A)),0,COLUMNS($A:B)),MATCH($L88,INDIRECT("Essais!$L$2:$L$"&COUNTA(Essais!$A:$A)))),"")} | E88: {=IFERROR(INDEX(OFFSET(INDIRECT("Essais!$b$2:$b$"&COUNTA(Essais!$A:$A)),0,COLUMNS($A:C)),MATCH($L88,INDIRECT("Essais!$L$2:$L$"&COUNTA(Essais!$A:$A)))),"")} | F88: {=IFERROR(INDEX(OFFSET(INDIRECT("Essais!$b$2:$b$"&COUNTA(Essais!$A:$A)),0,COLUMNS($A:D)),MATCH($L88,INDIRECT("Essais!$L$2:$L$"&COUNTA(Essais!$A:$A)))),"")} | G88: {=IFERROR(INDEX(OFFSET(INDIRECT("Essais!$b$2:$b$"&COUNTA(Essais!$A:$A)),0,COLUMNS($A:E)),MATCH($L88,INDIRECT("Essais!$L$2:$L$"&COUNTA(Essais!$A:$A)))),"")} | H88: {=IFERROR(INDEX(OFFSET(INDIRECT("Essais!$b$2:$b$"&COUNTA(Essais!$A:$A)),0,COLUMNS($A:F)),MATCH($L88,INDIRECT("Essais!$L$2:$L$"&COUNTA(Essais!$A:$A)))),"")} | I88: {=IFERROR(INDEX(OFFSET(INDIRECT("Essais!$b$2:$b$"&COUNTA(Essais!$A:$A)),0,COLUMNS($A:G)),MATCH($L88,INDIRECT("Essais!$L$2:$L$"&COUNTA(Essais!$A:$A)))),"")} | J88: {=IFERROR(INDEX(OFFSET(INDIRECT("Essais!$b$2:$b$"&COUNTA(Essais!$A:$A)),0,COLUMNS($A:H)),MATCH($L88,INDIRECT("Essais!$L$2:$L$"&COUNTA(Essais!$A:$A)))),"")} | K88: {=IFERROR(INDEX(OFFSET(INDIRECT("Essais!$b$2:$b$"&COUNTA(Essais!$A:$A)),0,COLUMNS($A:I)),MATCH($L88,INDIRECT("Essais!$L$2:$L$"&COUNTA(Essais!$A:$A)))),"")} | L88: {=IFERROR(INDEX(INDIRECT("Essais!$L$2:$L$"&COUNTA(Essais!$A:$A)),SMALL(IF(LEFT(INDIRECT("Essais!$L$2:$L$"&COUNTA(Essais!$A:$A)),2)="di",ROW(INDIRECT("$1:$"&COUNTA(Essais!$A:$A)-1))),ROWS($1:87))),"")}
C89: {=IFERROR(INDEX(OFFSET(INDIRECT("Essais!$b$2:$b$"&COUNTA(Essais!$A:$A)),0,COLUMNS($A:A)),MATCH($L89,INDIRECT("Essais!$L$2:$L$"&COUNTA(Essais!$A:$A)))),"")} | D89: {=IFERROR(INDEX(OFFSET(INDIRECT("Essais!$b$2:$b$"&COUNTA(Essais!$A:$A)),0,COLUMNS($A:B)),MATCH($L89,INDIRECT("Essais!$L$2:$L$"&COUNTA(Essais!$A:$A)))),"")} | E89: {=IFERROR(INDEX(OFFSET(INDIRECT("Essais!$b$2:$b$"&COUNTA(Essais!$A:$A)),0,COLUMNS($A:C)),MATCH($L89,INDIRECT("Essais!$L$2:$L$"&COUNTA(Essais!$A:$A)))),"")} | F89: {=IFERROR(INDEX(OFFSET(INDIRECT("Essais!$b$2:$b$"&COUNTA(Essais!$A:$A)),0,COLUMNS($A:D)),MATCH($L89,INDIRECT("Essais!$L$2:$L$"&COUNTA(Essais!$A:$A)))),"")} | G89: {=IFERROR(INDEX(OFFSET(INDIRECT("Essais!$b$2:$b$"&COUNTA(Essais!$A:$A)),0,COLUMNS($A:E)),MATCH($L89,INDIRECT("Essais!$L$2:$L$"&COUNTA(Essais!$A:$A)))),"")} | H89: {=IFERROR(INDEX(OFFSET(INDIRECT("Essais!$b$2:$b$"&COUNTA(Essais!$A:$A)),0,COLUMNS($A:F)),MATCH($L89,INDIRECT("Essais!$L$2:$L$"&COUNTA(Essais!$A:$A)))),"")} | I89: {=IFERROR(INDEX(OFFSET(INDIRECT("Essais!$b$2:$b$"&COUNTA(Essais!$A:$A)),0,COLUMNS($A:G)),MATCH($L89,INDIRECT("Essais!$L$2:$L$"&COUNTA(Essais!$A:$A)))),"")} | J89: {=IFERROR(INDEX(OFFSET(INDIRECT("Essais!$b$2:$b$"&COUNTA(Essais!$A:$A)),0,COLUMNS($A:H)),MATCH($L89,INDIRECT("Essais!$L$2:$L$"&COUNTA(Essais!$A:$A)))),"")} | K89: {=IFERROR(INDEX(OFFSET(INDIRECT("Essais!$b$2:$b$"&COUNTA(Essais!$A:$A)),0,COLUMNS($A:I)),MATCH($L89,INDIRECT("Essais!$L$2:$L$"&COUNTA(Essais!$A:$A)))),"")} | L89: {=IFERROR(INDEX(INDIRECT("Essais!$L$2:$L$"&COUNTA(Essais!$A:$A)),SMALL(IF(LEFT(INDIRECT("Essais!$L$2:$L$"&COUNTA(Essais!$A:$A)),2)="di",ROW(INDIRECT("$1:$"&COUNTA(Essais!$A:$A)-1))),ROWS($1:88))),"")}
C90: {=IFERROR(INDEX(OFFSET(INDIRECT("Essais!$b$2:$b$"&COUNTA(Essais!$A:$A)),0,COLUMNS($A:A)),MATCH($L90,INDIRECT("Essais!$L$2:$L$"&COUNTA(Essais!$A:$A)))),"")} | D90: {=IFERROR(INDEX(OFFSET(INDIRECT("Essais!$b$2:$b$"&COUNTA(Essais!$A:$A)),0,COLUMNS($A:B)),MATCH($L90,INDIRECT("Essais!$L$2:$L$"&COUNTA(Essais!$A:$A)))),"")} | E90: {=IFERROR(INDEX(OFFSET(INDIRECT("Essais!$b$2:$b$"&COUNTA(Essais!$A:$A)),0,COLUMNS($A:C)),MATCH($L90,INDIRECT("Essais!$L$2:$L$"&COUNTA(Essais!$A:$A)))),"")} | F90: {=IFERROR(INDEX(OFFSET(INDIRECT("Essais!$b$2:$b$"&COUNTA(Essais!$A:$A)),0,COLUMNS($A:D)),MATCH($L90,INDIRECT("Essais!$L$2:$L$"&COUNTA(Essais!$A:$A)))),"")} | G90: {=IFERROR(INDEX(OFFSET(INDIRECT("Essais!$b$2:$b$"&COUNTA(Essais!$A:$A)),0,COLUMNS($A:E)),MATCH($L90,INDIRECT("Essais!$L$2:$L$"&COUNTA(Essais!$A:$A)))),"")} | H90: {=IFERROR(INDEX(OFFSET(INDIRECT("Essais!$b$2:$b$"&COUNTA(Essais!$A:$A)),0,COLUMNS($A:F)),MATCH($L90,INDIRECT("Essais!$L$2:$L$"&COUNTA(Essais!$A:$A)))),"")} | I90: {=IFERROR(INDEX(OFFSET(INDIRECT("Essais!$b$2:$b$"&COUNTA(Essais!$A:$A)),0,COLUMNS($A:G)),MATCH($L90,INDIRECT("Essais!$L$2:$L$"&COUNTA(Essais!$A:$A)))),"")} | J90: {=IFERROR(INDEX(OFFSET(INDIRECT("Essais!$b$2:$b$"&COUNTA(Essais!$A:$A)),0,COLUMNS($A:H)),MATCH($L90,INDIRECT("Essais!$L$2:$L$"&COUNTA(Essais!$A:$A)))),"")} | K90: {=IFERROR(INDEX(OFFSET(INDIRECT("Essais!$b$2:$b$"&COUNTA(Essais!$A:$A)),0,COLUMNS($A:I)),MATCH($L90,INDIRECT("Essais!$L$2:$L$"&COUNTA(Essais!$A:$A)))),"")} | L90: {=IFERROR(INDEX(INDIRECT("Essais!$L$2:$L$"&COUNTA(Essais!$A:$A)),SMALL(IF(LEFT(INDIRECT("Essais!$L$2:$L$"&COUNTA(Essais!$A:$A)),2)="di",ROW(INDIRECT("$1:$"&COUNTA(Essais!$A:$A)-1))),ROWS($1:89))),"")}
C91: {=IFERROR(INDEX(OFFSET(INDIRECT("Essais!$b$2:$b$"&COUNTA(Essais!$A:$A)),0,COLUMNS($A:A)),MATCH($L91,INDIRECT("Essais!$L$2:$L$"&COUNTA(Essais!$A:$A)))),"")} | D91: {=IFERROR(INDEX(OFFSET(INDIRECT("Essais!$b$2:$b$"&COUNTA(Essais!$A:$A)),0,COLUMNS($A:B)),MATCH($L91,INDIRECT("Essais!$L$2:$L$"&COUNTA(Essais!$A:$A)))),"")} | E91: {=IFERROR(INDEX(OFFSET(INDIRECT("Essais!$b$2:$b$"&COUNTA(Essais!$A:$A)),0,COLUMNS($A:C)),MATCH($L91,INDIRECT("Essais!$L$2:$L$"&COUNTA(Essais!$A:$A)))),"")} | F91: {=IFERROR(INDEX(OFFSET(INDIRECT("Essais!$b$2:$b$"&COUNTA(Essais!$A:$A)),0,COLUMNS($A:D)),MATCH($L91,INDIRECT("Essais!$L$2:$L$"&COUNTA(Essais!$A:$A)))),"")} | G91: {=IFERROR(INDEX(OFFSET(INDIRECT("Essais!$b$2:$b$"&COUNTA(Essais!$A:$A)),0,COLUMNS($A:E)),MATCH($L91,INDIRECT("Essais!$L$2:$L$"&COUNTA(Essais!$A:$A)))),"")} | H91: {=IFERROR(INDEX(OFFSET(INDIRECT("Essais!$b$2:$b$"&COUNTA(Essais!$A:$A)),0,COLUMNS($A:F)),MATCH($L91,INDIRECT("Essais!$L$2:$L$"&COUNTA(Essais!$A:$A)))),"")} | I91: {=IFERROR(INDEX(OFFSET(INDIRECT("Essais!$b$2:$b$"&COUNTA(Essais!$A:$A)),0,COLUMNS($A:G)),MATCH($L91,INDIRECT("Essais!$L$2:$L$"&COUNTA(Essais!$A:$A)))),"")} | J91: {=IFERROR(INDEX(OFFSET(INDIRECT("Essais!$b$2:$b$"&COUNTA(Essais!$A:$A)),0,COLUMNS($A:H)),MATCH($L91,INDIRECT("Essais!$L$2:$L$"&COUNTA(Essais!$A:$A)))),"")} | K91: {=IFERROR(INDEX(OFFSET(INDIRECT("Essais!$b$2:$b$"&COUNTA(Essais!$A:$A)),0,COLUMNS($A:I)),MATCH($L91,INDIRECT("Essais!$L$2:$L$"&COUNTA(Essais!$A:$A)))),"")} | L91: {=IFERROR(INDEX(INDIRECT("Essais!$L$2:$L$"&COUNTA(Essais!$A:$A)),SMALL(IF(LEFT(INDIRECT("Essais!$L$2:$L$"&COUNTA(Essais!$A:$A)),2)="di",ROW(INDIRECT("$1:$"&COUNTA(Essais!$A:$A)-1))),ROWS($1:90))),"")}
C92: {=IFERROR(INDEX(OFFSET(INDIRECT("Essais!$b$2:$b$"&COUNTA(Essais!$A:$A)),0,COLUMNS($A:A)),MATCH($L92,INDIRECT("Essais!$L$2:$L$"&COUNTA(Essais!$A:$A)))),"")} | D92: {=IFERROR(INDEX(OFFSET(INDIRECT("Essais!$b$2:$b$"&COUNTA(Essais!$A:$A)),0,COLUMNS($A:B)),MATCH($L92,INDIRECT("Essais!$L$2:$L$"&COUNTA(Essais!$A:$A)))),"")} | E92: {=IFERROR(INDEX(OFFSET(INDIRECT("Essais!$b$2:$b$"&COUNTA(Essais!$A:$A)),0,COLUMNS($A:C)),MATCH($L92,INDIRECT("Essais!$L$2:$L$"&COUNTA(Essais!$A:$A)))),"")} | F92: {=IFERROR(INDEX(OFFSET(INDIRECT("Essais!$b$2:$b$"&COUNTA(Essais!$A:$A)),0,COLUMNS($A:D)),MATCH($L92,INDIRECT("Essais!$L$2:$L$"&COUNTA(Essais!$A:$A)))),"")} | G92: {=IFERROR(INDEX(OFFSET(INDIRECT("Essais!$b$2:$b$"&COUNTA(Essais!$A:$A)),0,COLUMNS($A:E)),MATCH($L92,INDIRECT("Essais!$L$2:$L$"&COUNTA(Essais!$A:$A)))),"")} | H92: {=IFERROR(INDEX(OFFSET(INDIRECT("Essais!$b$2:$b$"&COUNTA(Essais!$A:$A)),0,COLUMNS($A:F)),MATCH($L92,INDIRECT("Essais!$L$2:$L$"&COUNTA(Essais!$A:$A)))),"")} | I92: {=IFERROR(INDEX(OFFSET(INDIRECT("Essais!$b$2:$b$"&COUNTA(Essais!$A:$A)),0,COLUMNS($A:G)),MATCH($L92,INDIRECT("Essais!$L$2:$L$"&COUNTA(Essais!$A:$A)))),"")} | J92: {=IFERROR(INDEX(OFFSET(INDIRECT("Essais!$b$2:$b$"&COUNTA(Essais!$A:$A)),0,COLUMNS($A:H)),MATCH($L92,INDIRECT("Essais!$L$2:$L$"&COUNTA(Essais!$A:$A)))),"")} | K92: {=IFERROR(INDEX(OFFSET(INDIRECT("Essais!$b$2:$b$"&COUNTA(Essais!$A:$A)),0,COLUMNS($A:I)),MATCH($L92,INDIRECT("Essais!$L$2:$L$"&COUNTA(Essais!$A:$A)))),"")} | L92: {=IFERROR(INDEX(INDIRECT("Essais!$L$2:$L$"&COUNTA(Essais!$A:$A)),SMALL(IF(LEFT(INDIRECT("Essais!$L$2:$L$"&COUNTA(Essais!$A:$A)),2)="di",ROW(INDIRECT("$1:$"&COUNTA(Essais!$A:$A)-1))),ROWS($1:91))),"")}
C93: {=IFERROR(INDEX(OFFSET(INDIRECT("Essais!$b$2:$b$"&COUNTA(Essais!$A:$A)),0,COLUMNS($A:A)),MATCH($L93,INDIRECT("Essais!$L$2:$L$"&COUNTA(Essais!$A:$A)))),"")} | D93: {=IFERROR(INDEX(OFFSET(INDIRECT("Essais!$b$2:$b$"&COUNTA(Essais!$A:$A)),0,COLUMNS($A:B)),MATCH($L93,INDIRECT("Essais!$L$2:$L$"&COUNTA(Essais!$A:$A)))),"")} | E93: {=IFERROR(INDEX(OFFSET(INDIRECT("Essais!$b$2:$b$"&COUNTA(Essais!$A:$A)),0,COLUMNS($A:C)),MATCH($L93,INDIRECT("Essais!$L$2:$L$"&COUNTA(Essais!$A:$A)))),"")} | F93: {=IFERROR(INDEX(OFFSET(INDIRECT("Essais!$b$2:$b$"&COUNTA(Essais!$A:$A)),0,COLUMNS($A:D)),MATCH($L93,INDIRECT("Essais!$L$2:$L$"&COUNTA(Essais!$A:$A)))),"")} | G93: {=IFERROR(INDEX(OFFSET(INDIRECT("Essais!$b$2:$b$"&COUNTA(Essais!$A:$A)),0,COLUMNS($A:E)),MATCH($L93,INDIRECT("Essais!$L$2:$L$"&COUNTA(Essais!$A:$A)))),"")} | H93: {=IFERROR(INDEX(OFFSET(INDIRECT("Essais!$b$2:$b$"&COUNTA(Essais!$A:$A)),0,COLUMNS($A:F)),MATCH($L93,INDIRECT("Essais!$L$2:$L$"&COUNTA(Essais!$A:$A)))),"")} | I93: {=IFERROR(INDEX(OFFSET(INDIRECT("Essais!$b$2:$b$"&COUNTA(Essais!$A:$A)),0,COLUMNS($A:G)),MATCH($L93,INDIRECT("Essais!$L$2:$L$"&COUNTA(Essais!$A:$A)))),"")} | J93: {=IFERROR(INDEX(OFFSET(INDIRECT("Essais!$b$2:$b$"&COUNTA(Essais!$A:$A)),0,COLUMNS($A:H)),MATCH($L93,INDIRECT("Essais!$L$2:$L$"&COUNTA(Essais!$A:$A)))),"")} | K93: {=IFERROR(INDEX(OFFSET(INDIRECT("Essais!$b$2:$b$"&COUNTA(Essais!$A:$A)),0,COLUMNS($A:I)),MATCH($L93,INDIRECT("Essais!$L$2:$L$"&COUNTA(Essais!$A:$A)))),"")} | L93: {=IFERROR(INDEX(INDIRECT("Essais!$L$2:$L$"&COUNTA(Essais!$A:$A)),SMALL(IF(LEFT(INDIRECT("Essais!$L$2:$L$"&COUNTA(Essais!$A:$A)),2)="di",ROW(INDIRECT("$1:$"&COUNTA(Essais!$A:$A)-1))),ROWS($1:92))),"")}
C94: {=IFERROR(INDEX(OFFSET(INDIRECT("Essais!$b$2:$b$"&COUNTA(Essais!$A:$A)),0,COLUMNS($A:A)),MATCH($L94,INDIRECT("Essais!$L$2:$L$"&COUNTA(Essais!$A:$A)))),"")} | D94: {=IFERROR(INDEX(OFFSET(INDIRECT("Essais!$b$2:$b$"&COUNTA(Essais!$A:$A)),0,COLUMNS($A:B)),MATCH($L94,INDIRECT("Essais!$L$2:$L$"&COUNTA(Essais!$A:$A)))),"")} | E94: {=IFERROR(INDEX(OFFSET(INDIRECT("Essais!$b$2:$b$"&COUNTA(Essais!$A:$A)),0,COLUMNS($A:C)),MATCH($L94,INDIRECT("Essais!$L$2:$L$"&COUNTA(Essais!$A:$A)))),"")} | F94: {=IFERROR(INDEX(OFFSET(INDIRECT("Essais!$b$2:$b$"&COUNTA(Essais!$A:$A)),0,COLUMNS($A:D)),MATCH($L94,INDIRECT("Essais!$L$2:$L$"&COUNTA(Essais!$A:$A)))),"")} | G94: {=IFERROR(INDEX(OFFSET(INDIRECT("Essais!$b$2:$b$"&COUNTA(Essais!$A:$A)),0,COLUMNS($A:E)),MATCH($L94,INDIRECT("Essais!$L$2:$L$"&COUNTA(Essais!$A:$A)))),"")} | H94: {=IFERROR(INDEX(OFFSET(INDIRECT("Essais!$b$2:$b$"&COUNTA(Essais!$A:$A)),0,COLUMNS($A:F)),MATCH($L94,INDIRECT("Essais!$L$2:$L$"&COUNTA(Essais!$A:$A)))),"")} | I94: {=IFERROR(INDEX(OFFSET(INDIRECT("Essais!$b$2:$b$"&COUNTA(Essais!$A:$A)),0,COLUMNS($A:G)),MATCH($L94,INDIRECT("Essais!$L$2:$L$"&COUNTA(Essais!$A:$A)))),"")} | J94: {=IFERROR(INDEX(OFFSET(INDIRECT("Essais!$b$2:$b$"&COUNTA(Essais!$A:$A)),0,COLUMNS($A:H)),MATCH($L94,INDIRECT("Essais!$L$2:$L$"&COUNTA(Essais!$A:$A)))),"")} | K94: {=IFERROR(INDEX(OFFSET(INDIRECT("Essais!$b$2:$b$"&COUNTA(Essais!$A:$A)),0,COLUMNS($A:I)),MATCH($L94,INDIRECT("Essais!$L$2:$L$"&COUNTA(Essais!$A:$A)))),"")} | L94: {=IFERROR(INDEX(INDIRECT("Essais!$L$2:$L$"&COUNTA(Essais!$A:$A)),SMALL(IF(LEFT(INDIRECT("Essais!$L$2:$L$"&COUNTA(Essais!$A:$A)),2)="di",ROW(INDIRECT("$1:$"&COUNTA(Essais!$A:$A)-1))),ROWS($1:93))),"")}
C95: {=IFERROR(INDEX(OFFSET(INDIRECT("Essais!$b$2:$b$"&COUNTA(Essais!$A:$A)),0,COLUMNS($A:A)),MATCH($L95,INDIRECT("Essais!$L$2:$L$"&COUNTA(Essais!$A:$A)))),"")} | D95: {=IFERROR(INDEX(OFFSET(INDIRECT("Essais!$b$2:$b$"&COUNTA(Essais!$A:$A)),0,COLUMNS($A:B)),MATCH($L95,INDIRECT("Essais!$L$2:$L$"&COUNTA(Essais!$A:$A)))),"")} | E95: {=IFERROR(INDEX(OFFSET(INDIRECT("Essais!$b$2:$b$"&COUNTA(Essais!$A:$A)),0,COLUMNS($A:C)),MATCH($L95,INDIRECT("Essais!$L$2:$L$"&COUNTA(Essais!$A:$A)))),"")} | F95: {=IFERROR(INDEX(OFFSET(INDIRECT("Essais!$b$2:$b$"&COUNTA(Essais!$A:$A)),0,COLUMNS($A:D)),MATCH($L95,INDIRECT("Essais!$L$2:$L$"&COUNTA(Essais!$A:$A)))),"")} | G95: {=IFERROR(INDEX(OFFSET(INDIRECT("Essais!$b$2:$b$"&COUNTA(Essais!$A:$A)),0,COLUMNS($A:E)),MATCH($L95,INDIRECT("Essais!$L$2:$L$"&COUNTA(Essais!$A:$A)))),"")} | H95: {=IFERROR(INDEX(OFFSET(INDIRECT("Essais!$b$2:$b$"&COUNTA(Essais!$A:$A)),0,COLUMNS($A:F)),MATCH($L95,INDIRECT("Essais!$L$2:$L$"&COUNTA(Essais!$A:$A)))),"")} | I95: {=IFERROR(INDEX(OFFSET(INDIRECT("Essais!$b$2:$b$"&COUNTA(Essais!$A:$A)),0,COLUMNS($A:G)),MATCH($L95,INDIRECT("Essais!$L$2:$L$"&COUNTA(Essais!$A:$A)))),"")} | J95: {=IFERROR(INDEX(OFFSET(INDIRECT("Essais!$b$2:$b$"&COUNTA(Essais!$A:$A)),0,COLUMNS($A:H)),MATCH($L95,INDIRECT("Essais!$L$2:$L$"&COUNTA(Essais!$A:$A)))),"")} | K95: {=IFERROR(INDEX(OFFSET(INDIRECT("Essais!$b$2:$b$"&COUNTA(Essais!$A:$A)),0,COLUMNS($A:I)),MATCH($L95,INDIRECT("Essais!$L$2:$L$"&COUNTA(Essais!$A:$A)))),"")} | L95: {=IFERROR(INDEX(INDIRECT("Essais!$L$2:$L$"&COUNTA(Essais!$A:$A)),SMALL(IF(LEFT(INDIRECT("Essais!$L$2:$L$"&COUNTA(Essais!$A:$A)),2)="di",ROW(INDIRECT("$1:$"&COUNTA(Essais!$A:$A)-1))),ROWS($1:94))),"")}
C96: {=IFERROR(INDEX(OFFSET(INDIRECT("Essais!$b$2:$b$"&COUNTA(Essais!$A:$A)),0,COLUMNS($A:A)),MATCH($L96,INDIRECT("Essais!$L$2:$L$"&COUNTA(Essais!$A:$A)))),"")} | D96: {=IFERROR(INDEX(OFFSET(INDIRECT("Essais!$b$2:$b$"&COUNTA(Essais!$A:$A)),0,COLUMNS($A:B)),MATCH($L96,INDIRECT("Essais!$L$2:$L$"&COUNTA(Essais!$A:$A)))),"")} | E96: {=IFERROR(INDEX(OFFSET(INDIRECT("Essais!$b$2:$b$"&COUNTA(Essais!$A:$A)),0,COLUMNS($A:C)),MATCH($L96,INDIRECT("Essais!$L$2:$L$"&COUNTA(Essais!$A:$A)))),"")} | F96: {=IFERROR(INDEX(OFFSET(INDIRECT("Essais!$b$2:$b$"&COUNTA(Essais!$A:$A)),0,COLUMNS($A:D)),MATCH($L96,INDIRECT("Essais!$L$2:$L$"&COUNTA(Essais!$A:$A)))),"")} | G96: {=IFERROR(INDEX(OFFSET(INDIRECT("Essais!$b$2:$b$"&COUNTA(Essais!$A:$A)),0,COLUMNS($A:E)),MATCH($L96,INDIRECT("Essais!$L$2:$L$"&COUNTA(Essais!$A:$A)))),"")} | H96: {=IFERROR(INDEX(OFFSET(INDIRECT("Essais!$b$2:$b$"&COUNTA(Essais!$A:$A)),0,COLUMNS($A:F)),MATCH($L96,INDIRECT("Essais!$L$2:$L$"&COUNTA(Essais!$A:$A)))),"")} | I96: {=IFERROR(INDEX(OFFSET(INDIRECT("Essais!$b$2:$b$"&COUNTA(Essais!$A:$A)),0,COLUMNS($A:G)),MATCH($L96,INDIRECT("Essais!$L$2:$L$"&COUNTA(Essais!$A:$A)))),"")} | J96: {=IFERROR(INDEX(OFFSET(INDIRECT("Essais!$b$2:$b$"&COUNTA(Essais!$A:$A)),0,COLUMNS($A:H)),MATCH($L96,INDIRECT("Essais!$L$2:$L$"&COUNTA(Essais!$A:$A)))),"")} | K96: {=IFERROR(INDEX(OFFSET(INDIRECT("Essais!$b$2:$b$"&COUNTA(Essais!$A:$A)),0,COLUMNS($A:I)),MATCH($L96,INDIRECT("Essais!$L$2:$L$"&COUNTA(Essais!$A:$A)))),"")} | L96: {=IFERROR(INDEX(INDIRECT("Essais!$L$2:$L$"&COUNTA(Essais!$A:$A)),SMALL(IF(LEFT(INDIRECT("Essais!$L$2:$L$"&COUNTA(Essais!$A:$A)),2)="di",ROW(INDIRECT("$1:$"&COUNTA(Essais!$A:$A)-1))),ROWS($1:95))),"")}
C97: {=IFERROR(INDEX(OFFSET(INDIRECT("Essais!$b$2:$b$"&COUNTA(Essais!$A:$A)),0,COLUMNS($A:A)),MATCH($L97,INDIRECT("Essais!$L$2:$L$"&COUNTA(Essais!$A:$A)))),"")} | D97: {=IFERROR(INDEX(OFFSET(INDIRECT("Essais!$b$2:$b$"&COUNTA(Essais!$A:$A)),0,COLUMNS($A:B)),MATCH($L97,INDIRECT("Essais!$L$2:$L$"&COUNTA(Essais!$A:$A)))),"")} | E97: {=IFERROR(INDEX(OFFSET(INDIRECT("Essais!$b$2:$b$"&COUNTA(Essais!$A:$A)),0,COLUMNS($A:C)),MATCH($L97,INDIRECT("Essais!$L$2:$L$"&COUNTA(Essais!$A:$A)))),"")} | F97: {=IFERROR(INDEX(OFFSET(INDIRECT("Essais!$b$2:$b$"&COUNTA(Essais!$A:$A)),0,COLUMNS($A:D)),MATCH($L97,INDIRECT("Essais!$L$2:$L$"&COUNTA(Essais!$A:$A)))),"")} | G97: {=IFERROR(INDEX(OFFSET(INDIRECT("Essais!$b$2:$b$"&COUNTA(Essais!$A:$A)),0,COLUMNS($A:E)),MATCH($L97,INDIRECT("Essais!$L$2:$L$"&COUNTA(Essais!$A:$A)))),"")} | H97: {=IFERROR(INDEX(OFFSET(INDIRECT("Essais!$b$2:$b$"&COUNTA(Essais!$A:$A)),0,COLUMNS($A:F)),MATCH($L97,INDIRECT("Essais!$L$2:$L$"&COUNTA(Essais!$A:$A)))),"")} | I97: {=IFERROR(INDEX(OFFSET(INDIRECT("Essais!$b$2:$b$"&COUNTA(Essais!$A:$A)),0,COLUMNS($A:G)),MATCH($L97,INDIRECT("Essais!$L$2:$L$"&COUNTA(Essais!$A:$A)))),"")} | J97: {=IFERROR(INDEX(OFFSET(INDIRECT("Essais!$b$2:$b$"&COUNTA(Essais!$A:$A)),0,COLUMNS($A:H)),MATCH($L97,INDIRECT("Essais!$L$2:$L$"&COUNTA(Essais!$A:$A)))),"")} | K97: {=IFERROR(INDEX(OFFSET(INDIRECT("Essais!$b$2:$b$"&COUNTA(Essais!$A:$A)),0,COLUMNS($A:I)),MATCH($L97,INDIRECT("Essais!$L$2:$L$"&COUNTA(Essais!$A:$A)))),"")} | L97: {=IFERROR(INDEX(INDIRECT("Essais!$L$2:$L$"&COUNTA(Essais!$A:$A)),SMALL(IF(LEFT(INDIRECT("Essais!$L$2:$L$"&COUNTA(Essais!$A:$A)),2)="di",ROW(INDIRECT("$1:$"&COUNTA(Essais!$A:$A)-1))),ROWS($1:96))),"")}
C98: {=IFERROR(INDEX(OFFSET(INDIRECT("Essais!$b$2:$b$"&COUNTA(Essais!$A:$A)),0,COLUMNS($A:A)),MATCH($L98,INDIRECT("Essais!$L$2:$L$"&COUNTA(Essais!$A:$A)))),"")} | D98: {=IFERROR(INDEX(OFFSET(INDIRECT("Essais!$b$2:$b$"&COUNTA(Essais!$A:$A)),0,COLUMNS($A:B)),MATCH($L98,INDIRECT("Essais!$L$2:$L$"&COUNTA(Essais!$A:$A)))),"")} | E98: {=IFERROR(INDEX(OFFSET(INDIRECT("Essais!$b$2:$b$"&COUNTA(Essais!$A:$A)),0,COLUMNS($A:C)),MATCH($L98,INDIRECT("Essais!$L$2:$L$"&COUNTA(Essais!$A:$A)))),"")} | F98: {=IFERROR(INDEX(OFFSET(INDIRECT("Essais!$b$2:$b$"&COUNTA(Essais!$A:$A)),0,COLUMNS($A:D)),MATCH($L98,INDIRECT("Essais!$L$2:$L$"&COUNTA(Essais!$A:$A)))),"")} | G98: {=IFERROR(INDEX(OFFSET(INDIRECT("Essais!$b$2:$b$"&COUNTA(Essais!$A:$A)),0,COLUMNS($A:E)),MATCH($L98,INDIRECT("Essais!$L$2:$L$"&COUNTA(Essais!$A:$A)))),"")} | H98: {=IFERROR(INDEX(OFFSET(INDIRECT("Essais!$b$2:$b$"&COUNTA(Essais!$A:$A)),0,COLUMNS($A:F)),MATCH($L98,INDIRECT("Essais!$L$2:$L$"&COUNTA(Essais!$A:$A)))),"")} | I98: {=IFERROR(INDEX(OFFSET(INDIRECT("Essais!$b$2:$b$"&COUNTA(Essais!$A:$A)),0,COLUMNS($A:G)),MATCH($L98,INDIRECT("Essais!$L$2:$L$"&COUNTA(Essais!$A:$A)))),"")} | J98: {=IFERROR(INDEX(OFFSET(INDIRECT("Essais!$b$2:$b$"&COUNTA(Essais!$A:$A)),0,COLUMNS($A:H)),MATCH($L98,INDIRECT("Essais!$L$2:$L$"&COUNTA(Essais!$A:$A)))),"")} | K98: {=IFERROR(INDEX(OFFSET(INDIRECT("Essais!$b$2:$b$"&COUNTA(Essais!$A:$A)),0,COLUMNS($A:I)),MATCH($L98,INDIRECT("Essais!$L$2:$L$"&COUNTA(Essais!$A:$A)))),"")} | L98: {=IFERROR(INDEX(INDIRECT("Essais!$L$2:$L$"&COUNTA(Essais!$A:$A)),SMALL(IF(LEFT(INDIRECT("Essais!$L$2:$L$"&COUNTA(Essais!$A:$A)),2)="di",ROW(INDIRECT("$1:$"&COUNTA(Essais!$A:$A)-1))),ROWS($1:97))),"")}
C99: {=IFERROR(INDEX(OFFSET(INDIRECT("Essais!$b$2:$b$"&COUNTA(Essais!$A:$A)),0,COLUMNS($A:A)),MATCH($L99,INDIRECT("Essais!$L$2:$L$"&COUNTA(Essais!$A:$A)))),"")} | D99: {=IFERROR(INDEX(OFFSET(INDIRECT("Essais!$b$2:$b$"&COUNTA(Essais!$A:$A)),0,COLUMNS($A:B)),MATCH($L99,INDIRECT("Essais!$L$2:$L$"&COUNTA(Essais!$A:$A)))),"")} | E99: {=IFERROR(INDEX(OFFSET(INDIRECT("Essais!$b$2:$b$"&COUNTA(Essais!$A:$A)),0,COLUMNS($A:C)),MATCH($L99,INDIRECT("Essais!$L$2:$L$"&COUNTA(Essais!$A:$A)))),"")} | F99: {=IFERROR(INDEX(OFFSET(INDIRECT("Essais!$b$2:$b$"&COUNTA(Essais!$A:$A)),0,COLUMNS($A:D)),MATCH($L99,INDIRECT("Essais!$L$2:$L$"&COUNTA(Essais!$A:$A)))),"")} | G99: {=IFERROR(INDEX(OFFSET(INDIRECT("Essais!$b$2:$b$"&COUNTA(Essais!$A:$A)),0,COLUMNS($A:E)),MATCH($L99,INDIRECT("Essais!$L$2:$L$"&COUNTA(Essais!$A:$A)))),"")} | H99: {=IFERROR(INDEX(OFFSET(INDIRECT("Essais!$b$2:$b$"&COUNTA(Essais!$A:$A)),0,COLUMNS($A:F)),MATCH($L99,INDIRECT("Essais!$L$2:$L$"&COUNTA(Essais!$A:$A)))),"")} | I99: {=IFERROR(INDEX(OFFSET(INDIRECT("Essais!$b$2:$b$"&COUNTA(Essais!$A:$A)),0,COLUMNS($A:G)),MATCH($L99,INDIRECT("Essais!$L$2:$L$"&COUNTA(Essais!$A:$A)))),"")} | J99: {=IFERROR(INDEX(OFFSET(INDIRECT("Essais!$b$2:$b$"&COUNTA(Essais!$A:$A)),0,COLUMNS($A:H)),MATCH($L99,INDIRECT("Essais!$L$2:$L$"&COUNTA(Essais!$A:$A)))),"")} | K99: {=IFERROR(INDEX(OFFSET(INDIRECT("Essais!$b$2:$b$"&COUNTA(Essais!$A:$A)),0,COLUMNS($A:I)),MATCH($L99,INDIRECT("Essais!$L$2:$L$"&COUNTA(Essais!$A:$A)))),"")} | L99: {=IFERROR(INDEX(INDIRECT("Essais!$L$2:$L$"&COUNTA(Essais!$A:$A)),SMALL(IF(LEFT(INDIRECT("Essais!$L$2:$L$"&COUNTA(Essais!$A:$A)),2)="di",ROW(INDIRECT("$1:$"&COUNTA(Essais!$A:$A)-1))),ROWS($1:98))),"")}
C100: {=IFERROR(INDEX(OFFSET(INDIRECT("Essais!$b$2:$b$"&COUNTA(Essais!$A:$A)),0,COLUMNS($A:A)),MATCH($L100,INDIRECT("Essais!$L$2:$L$"&COUNTA(Essais!$A:$A)))),"")} | D100: {=IFERROR(INDEX(OFFSET(INDIRECT("Essais!$b$2:$b$"&COUNTA(Essais!$A:$A)),0,COLUMNS($A:B)),MATCH($L100,INDIRECT("Essais!$L$2:$L$"&COUNTA(Essais!$A:$A)))),"")} | E100: {=IFERROR(INDEX(OFFSET(INDIRECT("Essais!$b$2:$b$"&COUNTA(Essais!$A:$A)),0,COLUMNS($A:C)),MATCH($L100,INDIRECT("Essais!$L$2:$L$"&COUNTA(Essais!$A:$A)))),"")} | F100: {=IFERROR(INDEX(OFFSET(INDIRECT("Essais!$b$2:$b$"&COUNTA(Essais!$A:$A)),0,COLUMNS($A:D)),MATCH($L100,INDIRECT("Essais!$L$2:$L$"&COUNTA(Essais!$A:$A)))),"")} | G100: {=IFERROR(INDEX(OFFSET(INDIRECT("Essais!$b$2:$b$"&COUNTA(Essais!$A:$A)),0,COLUMNS($A:E)),MATCH($L100,INDIRECT("Essais!$L$2:$L$"&COUNTA(Essais!$A:$A)))),"")} | H100: {=IFERROR(INDEX(OFFSET(INDIRECT("Essais!$b$2:$b$"&COUNTA(Essais!$A:$A)),0,COLUMNS($A:F)),MATCH($L100,INDIRECT("Essais!$L$2:$L$"&COUNTA(Essais!$A:$A)))),"")} | I100: {=IFERROR(INDEX(OFFSET(INDIRECT("Essais!$b$2:$b$"&COUNTA(Essais!$A:$A)),0,COLUMNS($A:G)),MATCH($L100,INDIRECT("Essais!$L$2:$L$"&COUNTA(Essais!$A:$A)))),"")} | J100: {=IFERROR(INDEX(OFFSET(INDIRECT("Essais!$b$2:$b$"&COUNTA(Essais!$A:$A)),0,COLUMNS($A:H)),MATCH($L100,INDIRECT("Essais!$L$2:$L$"&COUNTA(Essais!$A:$A)))),"")} | K100: {=IFERROR(INDEX(OFFSET(INDIRECT("Essais!$b$2:$b$"&COUNTA(Essais!$A:$A)),0,COLUMNS($A:I)),MATCH($L100,INDIRECT("Essais!$L$2:$L$"&COUNTA(Essais!$A:$A)))),"")} | L100: {=IFERROR(INDEX(INDIRECT("Essais!$L$2:$L$"&COUNTA(Essais!$A:$A)),SMALL(IF(LEFT(INDIRECT("Essais!$L$2:$L$"&COUNTA(Essais!$A:$A)),2)="di",ROW(INDIRECT("$1:$"&COUNTA(Essais!$A:$A)-1))),ROWS($1:99))),"")}
...

Sheet Feuil3
