Workbook
Name Année: '[1]2 Enfants'!$B$10
Name Férié: Année!$AL$10:$AL$22
Name Fêtes: Année!$AL$24:$AL$28
Name JourCalculé: " =Feuil1!$B$10-JOURSEM(Feuil1!$B$10;3)+((LIGNE()-LIGNE(Feuil1!$AF$7))*7)+COLONNE()-COLONNE(Feuil1!$AF$7)"

Sheet Année
AG2: =TODAY() -> 42922
A3: Année | B3: TOTAL HEURES | H3: =SUM(AG8:AG42) -> 13.336806 | L3: TOTAL JOURS | R3: =SUM(AH8:AH42) -> 43 | U3: TOTAL TRAJET | AA3: =SUM(AI8:AI42) -> 3390.7 | AE3: Km
A5: 2017 | AG5: Heures Travaillées | AH5: Jours Travaillées | AI5: Km
B6: 1 | C6: 2 | D6: 3 | E6: 4 | F6: 5 | G6: 6 | H6: 7 | I6: 8 | J6: 9 | K6: 10 | L6: 11 | M6: 12 | N6: 13 | O6: 14 | P6: 15 | Q6: 16 | R6: 17 | S6: 18 | T6: 19 | U6: 20 | V6: 21 | W6: 22 | X6: 23 | Y6: 24 | Z6: 25 | AA6: 26 | AB6: 27 | AC6: 28 | AD6: 29 | AE6: 30 | AF6: 31
A7: Janvier | B7: =DATE($A$5,1,1) -> 42736 | C7: =B7+1 -> 42737 | D7: =C7+1 -> 42738 | E7: =D7+1 -> 42739 | F7: =E7+1 -> 42740 | G7: =F7+1 -> 42741 | H7: =G7+1 -> 42742 | I7: =H7+1 -> 42743 | J7: =I7+1 -> 42744 | ... AF7: =AE7+1 -> 42766
B8: =IFERROR(VLOOKUP(Année!B7,'HEURES DE PRÉSENCE'!$A$2:$I$367,9),"") -> 0 | C8: =IFERROR(VLOOKUP(Année!C7,'HEURES DE PRÉSENCE'!$A$2:$I$367,9),"") -> 0 | D8: =IFERROR(VLOOKUP(Année!D7,'HEURES DE PRÉSENCE'!$A$2:$I$367,9),"") -> 0 | E8: =IFERROR(VLOOKUP(Année!E7,'HEURES DE PRÉSENCE'!$A$2:$I$367,9),"") -> 0 | F8: =IFERROR(VLOOKUP(Année!F7,'HEURES DE PRÉSENCE'!$A$2:$I$367,9),"") -> 0 | G8: =IFERROR(VLOOKUP(Année!G7,'HEURES DE PRÉSENCE'!$A$2:$I$367,9),"") -> 0 | H8: =IFERROR(VLOOKUP(Année!H7,'HEURES DE PRÉSENCE'!$A$2:$I$367,9),"") -> 0 | I8: =IFERROR(VLOOKUP(Année!I7,'HEURES DE PRÉSENCE'!$A$2:$I$367,9),"") -> 0 | ... AF8: =IFERROR(VLOOKUP(Année!AF7,'HEURES DE PRÉSENCE'!$A$2:$I$367,9),"") -> 0 | AG8: =SUM(B8:AF8) -> 0 | AH8: =COUNTIF(B8:AF8,">"&0) -> 0 | AI8: =SUM(B9:AF9) -> 0 | AK8: =A5 -> 2017
B9: =IFERROR(VLOOKUP(Année!B7,'HEURES DE PRÉSENCE'!$A$2:$K$367,11),"") | C9: =IFERROR(VLOOKUP(Année!C7,'HEURES DE PRÉSENCE'!$A$2:$K$367,11),"") | D9: =IFERROR(VLOOKUP(Année!D7,'HEURES DE PRÉSENCE'!$A$2:$K$367,11),"") | E9: =IFERROR(VLOOKUP(Année!E7,'HEURES DE PRÉSENCE'!$A$2:$K$367,11),"") | F9: =IFERROR(VLOOKUP(Année!F7,'HEURES DE PRÉSENCE'!$A$2:$K$367,11),"") | G9: =IFERROR(VLOOKUP(Année!G7,'HEURES DE PRÉSENCE'!$A$2:$K$367,11),"") | H9: =IFERROR(VLOOKUP(Année!H7,'HEURES DE PRÉSENCE'!$A$2:$K$367,11),"") | I9: =IFERROR(VLOOKUP(Année!I7,'HEURES DE PRÉSENCE'!$A$2:$K$367,11),"") | ... AF9: =IFERROR(VLOOKUP(Année!AF7,'HEURES DE PRÉSENCE'!$A$2:$K$367,11),"") | AK9: Jours Fériés et Fêtes
A10: Février | B10: =DATE($A$5,2,1) -> 42767 | C10: =B10+1 -> 42768 | D10: =C10+1 -> 42769 | E10: =D10+1 -> 42770 | F10: =E10+1 -> 42771 | G10: =F10+1 -> 42772 | H10: =G10+1 -> 42773 | I10: =H10+1 -> 42774 | J10: =I10+1 -> 42775 | ... AC10: =AB10+1 -> 42794 | AD10: =IF(OR(MONTH(AC10+1)<>MONTH(AC10),AC10+1>=B13),0,AC10+1) -> 0 | AK10: JOUR DE L'AN | AL10: =DATE(AK8,1,1) -> 42736
B11: =IFERROR(VLOOKUP(Année!B10,'HEURES DE PRÉSENCE'!$A$2:$I$367,9),"") -> 0 | C11: =IFERROR(VLOOKUP(Année!C10,'HEURES DE PRÉSENCE'!$A$2:$I$367,9),"") -> 0 | D11: =IFERROR(VLOOKUP(Année!D10,'HEURES DE PRÉSENCE'!$A$2:$I$367,9),"") -> 0 | E11: =IFERROR(VLOOKUP(Année!E10,'HEURES DE PRÉSENCE'!$A$2:$I$367,9),"") -> 0 | F11: =IFERROR(VLOOKUP(Année!F10,'HEURES DE PRÉSENCE'!$A$2:$I$367,9),"") -> 0 | G11: =IFERROR(VLOOKUP(Année!G10,'HEURES DE PRÉSENCE'!$A$2:$I$367,9),"") -> 0 | H11: =IFERROR(VLOOKUP(Année!H10,'HEURES DE PRÉSENCE'!$A$2:$I$367,9),"") -> 0 | I11: =IFERROR(VLOOKUP(Année!I10,'HEURES DE PRÉSENCE'!$A$2:$I$367,9),"") -> 0 | ... AD11: =IFERROR(VLOOKUP(Année!AD10,'HEURES DE PRÉSENCE'!$A$2:$I$367,9),"") | AG11: =SUM(B11:AF11) -> 0 | AH11: =COUNTIF(B11:AF11,">"&0) -> 0 | AI11: =SUM(B12:AF12) -> 0 | AK11: PÂQUES | AL11: =FLOOR(DATE(AK8,5,DAY(MINUTE(AK8/38)/2+56)),7)-34+7*(AK8=2079) -> 42841
B12: =IFERROR(VLOOKUP(Année!B10,'HEURES DE PRÉSENCE'!$A$2:$K$367,11),"") | C12: =IFERROR(VLOOKUP(Année!C10,'HEURES DE PRÉSENCE'!$A$2:$K$367,11),"") | D12: =IFERROR(VLOOKUP(Année!D10,'HEURES DE PRÉSENCE'!$A$2:$K$367,11),"") | E12: =IFERROR(VLOOKUP(Année!E10,'HEURES DE PRÉSENCE'!$A$2:$K$367,11),"") | F12: =IFERROR(VLOOKUP(Année!F10,'HEURES DE PRÉSENCE'!$A$2:$K$367,11),"") | G12: =IFERROR(VLOOKUP(Année!G10,'HEURES DE PRÉSENCE'!$A$2:$K$367,11),"") | H12: =IFERROR(VLOOKUP(Année!H10,'HEURES DE PRÉSENCE'!$A$2:$K$367,11),"") | I12: =IFERROR(VLOOKUP(Année!I10,'HEURES DE PRÉSENCE'!$A$2:$K$367,11),"") | ... AD12: =IFERROR(VLOOKUP(Année!AD10,'HEURES DE PRÉSENCE'!$A$2:$K$367,11),"") | AK12: *Lundi de Pâques | AL12: =AL11+1 -> 42842
A13: Mars | B13: =DATE($A$5,3,1) -> 42795 | C13: =B13+1 -> 42796 | D13: =C13+1 -> 42797 | E13: =D13+1 -> 42798 | F13: =E13+1 -> 42799 | G13: =F13+1 -> 42800 | H13: =G13+1 -> 42801 | I13: =H13+1 -> 42802 | J13: =I13+1 -> 42803 | ... AE13: =AD13+1 -> 42824 | AF13: =IF(OR(MONTH(AE13+1)<>MONTH(AE13),AE13+1>=B16),0,AE13+1) -> 42825 | AK13: FÊTE DU TRAVAIL | AL13: =DATE(Année!A5,5,1) -> 42856
B14: =IFERROR(VLOOKUP(Année!B13,'HEURES DE PRÉSENCE'!$A$2:$I$367,9),"") -> 0 | C14: =IFERROR(VLOOKUP(Année!C13,'HEURES DE PRÉSENCE'!$A$2:$I$367,9),"") -> 0 | D14: =IFERROR(VLOOKUP(Année!D13,'HEURES DE PRÉSENCE'!$A$2:$I$367,9),"") -> 0 | E14: =IFERROR(VLOOKUP(Année!E13,'HEURES DE PRÉSENCE'!$A$2:$I$367,9),"") -> 0 | F14: =IFERROR(VLOOKUP(Année!F13,'HEURES DE PRÉSENCE'!$A$2:$I$367,9),"") -> 0 | G14: =IFERROR(VLOOKUP(Année!G13,'HEURES DE PRÉSENCE'!$A$2:$I$367,9),"") -> 0 | H14: =IFERROR(VLOOKUP(Année!H13,'HEURES DE PRÉSENCE'!$A$2:$I$367,9),"") -> 0 | I14: =IFERROR(VLOOKUP(Année!I13,'HEURES DE PRÉSENCE'!$A$2:$I$367,9),"") -> 0 | ... AF14: =IFERROR(VLOOKUP(Année!AF13,'HEURES DE PRÉSENCE'!$A$2:$I$367,9),"") -> 0 | AG14: =SUM(B14:AF14) -> 0 | AH14: =COUNTIF(B14:AF14,">"&0) -> 0 | AI14: =SUM(B15:AF15) -> 0 | AK14: ASCENSION | AL14: =AL11+39 -> 42880
B15: =IFERROR(VLOOKUP(Année!B13,'HEURES DE PRÉSENCE'!$A$2:$K$367,11),"") | C15: =IFERROR(VLOOKUP(Année!C13,'HEURES DE PRÉSENCE'!$A$2:$K$367,11),"") | D15: =IFERROR(VLOOKUP(Année!D13,'HEURES DE PRÉSENCE'!$A$2:$K$367,11),"") | E15: =IFERROR(VLOOKUP(Année!E13,'HEURES DE PRÉSENCE'!$A$2:$K$367,11),"") | F15: =IFERROR(VLOOKUP(Année!F13,'HEURES DE PRÉSENCE'!$A$2:$K$367,11),"") | G15: =IFERROR(VLOOKUP(Année!G13,'HEURES DE PRÉSENCE'!$A$2:$K$367,11),"") | H15: =IFERROR(VLOOKUP(Année!H13,'HEURES DE PRÉSENCE'!$A$2:$K$367,11),"") | I15: =IFERROR(VLOOKUP(Année!I13,'HEURES DE PRÉSENCE'!$A$2:$K$367,11),"") | ... AF15: =IFERROR(VLOOKUP(Année!AF13,'HEURES DE PRÉSENCE'!$A$2:$K$367,11),"") | AK15: VICTOIRE 1945 | AL15: =DATE(AK8,5,8) -> 42863
A16: Avril | B16: =DATE($A$5,4,1) -> 42826 | C16: =B16+1 -> 42827 | D16: =C16+1 -> 42828 | E16: =D16+1 -> 42829 | F16: =E16+1 -> 42830 | G16: =F16+1 -> 42831 | H16: =G16+1 -> 42832 | I16: =H16+1 -> 42833 | J16: =I16+1 -> 42834 | ... AE16: =AD16+1 -> 42855 | AF16: =IF(OR(MONTH(AE16+1)<>MONTH(AE16),AE16+1>=B19),0,AE16+1) -> 0 | AK16: PENTECÔTE | AL16: =AL11+49 -> 42890
B17: =IFERROR(VLOOKUP(Année!B16,'HEURES DE PRÉSENCE'!$A$2:$I$367,9),"") -> 0 | C17: =IFERROR(VLOOKUP(Année!C16,'HEURES DE PRÉSENCE'!$A$2:$I$367,9),"") -> 0 | D17: =IFERROR(VLOOKUP(Année!D16,'HEURES DE PRÉSENCE'!$A$2:$I$367,9),"") -> 0 | E17: =IFERROR(VLOOKUP(Année!E16,'HEURES DE PRÉSENCE'!$A$2:$I$367,9),"") -> 0.29166667 | F17: =IFERROR(VLOOKUP(Année!F16,'HEURES DE PRÉSENCE'!$A$2:$I$367,9),"") -> 0.29166667 | G17: =IFERROR(VLOOKUP(Année!G16,'HEURES DE PRÉSENCE'!$A$2:$I$367,9),"") -> 0.29166667 | H17: =IFERROR(VLOOKUP(Année!H16,'HEURES DE PRÉSENCE'!$A$2:$I$367,9),"") -> 0.29166667 | I17: =IFERROR(VLOOKUP(Année!I16,'HEURES DE PRÉSENCE'!$A$2:$I$367,9),"") -> 0 | ... AF17: =IFERROR(VLOOKUP(Année!AF16,'HEURES DE PRÉSENCE'!$A$2:$I$367,9),"") | AG17: =SUM(B17:AF17) -> 1.1666667 | AH17: =COUNTIF(B17:AF17,">"&0) -> 4 | AI17: =SUM(B18:AF18) -> 282.4 | AK17: *Lundi de Pentecôte | AL17: =AL11+50 -> 42891
B18: =IFERROR(VLOOKUP(Année!B16,'HEURES DE PRÉSENCE'!$A$2:$K$367,11),"") | C18: =IFERROR(VLOOKUP(Année!C16,'HEURES DE PRÉSENCE'!$A$2:$K$367,11),"") | D18: =IFERROR(VLOOKUP(Année!D16,'HEURES DE PRÉSENCE'!$A$2:$K$367,11),"") | E18: =IFERROR(VLOOKUP(Année!E16,'HEURES DE PRÉSENCE'!$A$2:$K$367,11),"") -> 70.6 | F18: =IFERROR(VLOOKUP(Année!F16,'HEURES DE PRÉSENCE'!$A$2:$K$367,11),"") -> 70.6 | G18: =IFERROR(VLOOKUP(Année!G16,'HEURES DE PRÉSENCE'!$A$2:$K$367,11),"") -> 70.6 | H18: =IFERROR(VLOOKUP(Année!H16,'HEURES DE PRÉSENCE'!$A$2:$K$367,11),"") -> 70.6 | I18: =IFERROR(VLOOKUP(Année!I16,'HEURES DE PRÉSENCE'!$A$2:$K$367,11),"") | ... AF18: =IFERROR(VLOOKUP(Année!AF16,'HEURES DE PRÉSENCE'!$A$2:$K$367,11),"") | AK18: FÊTE NAT | AL18: =DATE(AK8,7,14) -> 42930
A19: Mai | B19: =DATE($A$5,5,1) -> 42856 | C19: =B19+1 -> 42857 | D19: =C19+1 -> 42858 | E19: =D19+1 -> 42859 | F19: =E19+1 -> 42860 | G19: =F19+1 -> 42861 | H19: =G19+1 -> 42862 | I19: =H19+1 -> 42863 | J19: =I19+1 -> 42864 | ... AE19: =AD19+1 -> 42885 | AF19: =IF(OR(MONTH(AE19+1)<>MONTH(AE19),AE19+1>=B22),0,AE19+1) -> 42886 | AK19: ASSOMPTION | AL19: =DATE(AK8,8,15) -> 42962
B20: =IFERROR(VLOOKUP(Année!B19,'HEURES DE PRÉSENCE'!$A$2:$I$367,9),"") -> 0 | C20: =IFERROR(VLOOKUP(Année!C19,'HEURES DE PRÉSENCE'!$A$2:$I$367,9),"") -> 0 | D20: =IFERROR(VLOOKUP(Année!D19,'HEURES DE PRÉSENCE'!$A$2:$I$367,9),"") -> 0.3125 | E20: =IFERROR(VLOOKUP(Année!E19,'HEURES DE PRÉSENCE'!$A$2:$I$367,9),"") -> 0.3125 | F20: =IFERROR(VLOOKUP(Année!F19,'HEURES DE PRÉSENCE'!$A$2:$I$367,9),"") -> 0.3125 | G20: =IFERROR(VLOOKUP(Année!G19,'HEURES DE PRÉSENCE'!$A$2:$I$367,9),"") -> 0 | H20: =IFERROR(VLOOKUP(Année!H19,'HEURES DE PRÉSENCE'!$A$2:$I$367,9),"") -> 0 | I20: =IFERROR(VLOOKUP(Année!I19,'HEURES DE PRÉSENCE'!$A$2:$I$367,9),"") -> 0 | ... AF20: =IFERROR(VLOOKUP(Année!AF19,'HEURES DE PRÉSENCE'!$A$2:$I$367,9),"") -> 0.3125 | AG20: =SUM(B20:AF20) -> 5.6284722 | AH20: =COUNTIF(B20:AF20,">"&0) -> 18 | AI20: =SUM(B21:AF21) -> 1434.6 | AK20: TOUSSAINT | AL20: =DATE(AK8,11,1) -> 43040
B21: =IFERROR(VLOOKUP(Année!B19,'HEURES DE PRÉSENCE'!$A$2:$K$367,11),"") | C21: =IFERROR(VLOOKUP(Année!C19,'HEURES DE PRÉSENCE'!$A$2:$K$367,11),"") | D21: =IFERROR(VLOOKUP(Année!D19,'HEURES DE PRÉSENCE'!$A$2:$K$367,11),"") -> 79.7 | E21: =IFERROR(VLOOKUP(Année!E19,'HEURES DE PRÉSENCE'!$A$2:$K$367,11),"") -> 79.7 | F21: =IFERROR(VLOOKUP(Année!F19,'HEURES DE PRÉSENCE'!$A$2:$K$367,11),"") -> 79.7 | G21: =IFERROR(VLOOKUP(Année!G19,'HEURES DE PRÉSENCE'!$A$2:$K$367,11),"") | H21: =IFERROR(VLOOKUP(Année!H19,'HEURES DE PRÉSENCE'!$A$2:$K$367,11),"") | I21: =IFERROR(VLOOKUP(Année!I19,'HEURES DE PRÉSENCE'!$A$2:$K$367,11),"") | ... AF21: =IFERROR(VLOOKUP(Année!AF19,'HEURES DE PRÉSENCE'!$A$2:$K$367,11),"") -> 79.7 | AK21: ARMISTICE 1918 | AL21: =DATE(AK8,11,11) -> 43050
A22: Juin | B22: =DATE($A$5,6,1) -> 42887 | C22: =B22+1 -> 42888 | D22: =C22+1 -> 42889 | E22: =D22+1 -> 42890 | F22: =E22+1 -> 42891 | G22: =F22+1 -> 42892 | H22: =G22+1 -> 42893 | I22: =H22+1 -> 42894 | J22: =I22+1 -> 42895 | ... AE22: =AD22+1 -> 42916 | AF22: =IF(OR(MONTH(AE22+1)<>MONTH(AE22),AE22+1>=B25),0,AE22+1) -> 0 | AK22: NOËL | AL22: =DATE(AK8,12,25) -> 43094
B23: =IFERROR(VLOOKUP(Année!B22,'HEURES DE PRÉSENCE'!$A$2:$I$367,9),"") -> 0.3125 | C23: =IFERROR(VLOOKUP(Année!C22,'HEURES DE PRÉSENCE'!$A$2:$I$367,9),"") -> 0.3125 | D23: =IFERROR(VLOOKUP(Année!D22,'HEURES DE PRÉSENCE'!$A$2:$I$367,9),"") -> 0 | E23: =IFERROR(VLOOKUP(Année!E22,'HEURES DE PRÉSENCE'!$A$2:$I$367,9),"") -> 0 | F23: =IFERROR(VLOOKUP(Année!F22,'HEURES DE PRÉSENCE'!$A$2:$I$367,9),"") -> 0 | G23: =IFERROR(VLOOKUP(Année!G22,'HEURES DE PRÉSENCE'!$A$2:$I$367,9),"") -> 0.3125 | H23: =IFERROR(VLOOKUP(Année!H22,'HEURES DE PRÉSENCE'!$A$2:$I$367,9),"") -> 0.32291667 | I23: =IFERROR(VLOOKUP(Année!I22,'HEURES DE PRÉSENCE'!$A$2:$I$367,9),"") -> 0.3125 | ... AF23: =IFERROR(VLOOKUP(Année!AF22,'HEURES DE PRÉSENCE'!$A$2:$I$367,9),"") | AG23: =SUM(B23:AF23) -> 6.5416667 | AH23: =COUNTIF(B23:AF23,">"&0) -> 21 | AI23: =SUM(B24:AF24) -> 1673.7
B24: =IFERROR(VLOOKUP(Année!B22,'HEURES DE PRÉSENCE'!$A$2:$K$367,11),"") -> 79.7 | C24: =IFERROR(VLOOKUP(Année!C22,'HEURES DE PRÉSENCE'!$A$2:$K$367,11),"") -> 79.7 | D24: =IFERROR(VLOOKUP(Année!D22,'HEURES DE PRÉSENCE'!$A$2:$K$367,11),"") | E24: =IFERROR(VLOOKUP(Année!E22,'HEURES DE PRÉSENCE'!$A$2:$K$367,11),"") | F24: =IFERROR(VLOOKUP(Année!F22,'HEURES DE PRÉSENCE'!$A$2:$K$367,11),"") | G24: =IFERROR(VLOOKUP(Année!G22,'HEURES DE PRÉSENCE'!$A$2:$K$367,11),"") -> 79.7 | H24: =IFERROR(VLOOKUP(Année!H22,'HEURES DE PRÉSENCE'!$A$2:$K$367,11),"") -> 79.7 | I24: =IFERROR(VLOOKUP(Année!I22,'HEURES DE PRÉSENCE'!$A$2:$K$367,11),"") -> 79.7 | ... AF24: =IFERROR(VLOOKUP(Année!AF22,'HEURES DE PRÉSENCE'!$A$2:$K$367,11),"") | AK24: Mardi-Gras | AL24: =AL11-47 -> 42794
A25: Juillet | B25: =DATE($A$5,7,1) -> 42917 | C25: =B25+1 -> 42918 | D25: =C25+1 -> 42919 | E25: =D25+1 -> 42920 | F25: =E25+1 -> 42921 | G25: =F25+1 -> 42922 | H25: =G25+1 -> 42923 | I25: =H25+1 -> 42924 | J25: =I25+1 -> 42925 | ... AE25: =AD25+1 -> 42946 | AF25: =IF(OR(MONTH(AE25+1)<>MONTH(AE25),AE25+1>=B28),0,AE25+1) -> 42947 | AK25: Cendres | AL25: =AL11-46 -> 42795
B26: =IFERROR(VLOOKUP(Année!B25,'HEURES DE PRÉSENCE'!$A$2:$I$367,9),"") -> 0 | C26: =IFERROR(VLOOKUP(Année!C25,'HEURES DE PRÉSENCE'!$A$2:$I$367,9),"") -> 0 | D26: =IFERROR(VLOOKUP(Année!D25,'HEURES DE PRÉSENCE'!$A$2:$I$367,9),"") -> 0 | E26: =IFERROR(VLOOKUP(Année!E25,'HEURES DE PRÉSENCE'!$A$2:$I$367,9),"") -> 0 | F26: =IFERROR(VLOOKUP(Année!F25,'HEURES DE PRÉSENCE'!$A$2:$I$367,9),"") -> 0 | G26: =IFERROR(VLOOKUP(Année!G25,'HEURES DE PRÉSENCE'!$A$2:$I$367,9),"") -> 0 | H26: =IFERROR(VLOOKUP(Année!H25,'HEURES DE PRÉSENCE'!$A$2:$I$367,9),"") -> 0 | I26: =IFERROR(VLOOKUP(Année!I25,'HEURES DE PRÉSENCE'!$A$2:$I$367,9),"") -> 0 | ... AF26: =IFERROR(VLOOKUP(Année!AF25,'HEURES DE PRÉSENCE'!$A$2:$I$367,9),"") -> 0 | AG26: =SUM(B26:AF26) -> 0 | AH26: =COUNTIF(B26:AF26,">"&0) -> 0 | AI26: =SUM(B27:AF27) -> 0 | AK26: Rameaux | AL26: =AL11-7 -> 42834
B27: =IFERROR(VLOOKUP(Année!B25,'HEURES DE PRÉSENCE'!$A$2:$K$367,11),"") | C27: =IFERROR(VLOOKUP(Année!C25,'HEURES DE PRÉSENCE'!$A$2:$K$367,11),"") | D27: =IFERROR(VLOOKUP(Année!D25,'HEURES DE PRÉSENCE'!$A$2:$K$367,11),"") | E27: =IFERROR(VLOOKUP(Année!E25,'HEURES DE PRÉSENCE'!$A$2:$K$367,11),"") | F27: =IFERROR(VLOOKUP(Année!F25,'HEURES DE PRÉSENCE'!$A$2:$K$367,11),"") | G27: =IFERROR(VLOOKUP(Année!G25,'HEURES DE PRÉSENCE'!$A$2:$K$367,11),"") | H27: =IFERROR(VLOOKUP(Année!H25,'HEURES DE PRÉSENCE'!$A$2:$K$367,11),"") | I27: =IFERROR(VLOOKUP(Année!I25,'HEURES DE PRÉSENCE'!$A$2:$K$367,11),"") | ... AF27: =IFERROR(VLOOKUP(Année!AF25,'HEURES DE PRÉSENCE'!$A$2:$K$367,11),"")
A28: Août | B28: =DATE($A$5,8,1) -> 42948 | C28: =B28+1 -> 42949 | D28: =C28+1 -> 42950 | E28: =D28+1 -> 42951 | F28: =E28+1 -> 42952 | G28: =F28+1 -> 42953 | H28: =G28+1 -> 42954 | I28: =H28+1 -> 42955 | J28: =I28+1 -> 42956 | ... AE28: =AD28+1 -> 42977 | AF28: =IF(OR(MONTH(AE28+1)<>MONTH(AE28),AE28+1>=B31),0,AE28+1) -> 42978 | AK28: Epiphanie | AL28: =DATE(AK8,1,1)+7-WEEKDAY(DATE(AK8,1,1),2) -> 42736
B29: =IFERROR(VLOOKUP(Année!B28,'HEURES DE PRÉSENCE'!$A$2:$I$367,9),"") -> 0 | C29: =IFERROR(VLOOKUP(Année!C28,'HEURES DE PRÉSENCE'!$A$2:$I$367,9),"") -> 0 | D29: =IFERROR(VLOOKUP(Année!D28,'HEURES DE PRÉSENCE'!$A$2:$I$367,9),"") -> 0 | E29: =IFERROR(VLOOKUP(Année!E28,'HEURES DE PRÉSENCE'!$A$2:$I$367,9),"") -> 0 | F29: =IFERROR(VLOOKUP(Année!F28,'HEURES DE PRÉSENCE'!$A$2:$I$367,9),"") -> 0 | G29: =IFERROR(VLOOKUP(Année!G28,'HEURES DE PRÉSENCE'!$A$2:$I$367,9),"") -> 0 | H29: =IFERROR(VLOOKUP(Année!H28,'HEURES DE PRÉSENCE'!$A$2:$I$367,9),"") -> 0 | I29: =IFERROR(VLOOKUP(Année!I28,'HEURES DE PRÉSENCE'!$A$2:$I$367,9),"") -> 0 | ... AF29: =IFERROR(VLOOKUP(Année!AF28,'HEURES DE PRÉSENCE'!$A$2:$I$367,9),"") -> 0 | AG29: =SUM(B29:AF29) -> 0 | AH29: =COUNTIF(B29:AF29,">"&0) -> 0 | AI29: =SUM(B30:AF30) -> 0
B30: =IFERROR(VLOOKUP(Année!B28,'HEURES DE PRÉSENCE'!$A$2:$K$367,11),"") | C30: =IFERROR(VLOOKUP(Année!C28,'HEURES DE PRÉSENCE'!$A$2:$K$367,11),"") | D30: =IFERROR(VLOOKUP(Année!D28,'HEURES DE PRÉSENCE'!$A$2:$K$367,11),"") | E30: =IFERROR(VLOOKUP(Année!E28,'HEURES DE PRÉSENCE'!$A$2:$K$367,11),"") | F30: =IFERROR(VLOOKUP(Année!F28,'HEURES DE PRÉSENCE'!$A$2:$K$367,11),"") | G30: =IFERROR(VLOOKUP(Année!G28,'HEURES DE PRÉSENCE'!$A$2:$K$367,11),"") | H30: =IFERROR(VLOOKUP(Année!H28,'HEURES DE PRÉSENCE'!$A$2:$K$367,11),"") | I30: =IFERROR(VLOOKUP(Année!I28,'HEURES DE PRÉSENCE'!$A$2:$K$367,11),"") | ... AF30: =IFERROR(VLOOKUP(Année!AF28,'HEURES DE PRÉSENCE'!$A$2:$K$367,11),"") | AK30: Fête Dieu | AL30: =AL11+63 -> 42904
A31: Septembre | B31: =DATE($A$5,9,1) -> 42979 | C31: =B31+1 -> 42980 | D31: =C31+1 -> 42981 | E31: =D31+1 -> 42982 | F31: =E31+1 -> 42983 | G31: =F31+1 -> 42984 | H31: =G31+1 -> 42985 | I31: =H31+1 -> 42986 | J31: =I31+1 -> 42987 | ... AE31: =AD31+1 -> 43008 | AF31: =IF(OR(MONTH(AE31+1)<>MONTH(AE31),AE31+1>=B34),0,AE31+1) -> 0
B32: =IFERROR(VLOOKUP(Année!B31,'HEURES DE PRÉSENCE'!$A$2:$I$367,9),"") -> 0 | C32: =IFERROR(VLOOKUP(Année!C31,'HEURES DE PRÉSENCE'!$A$2:$I$367,9),"") -> 0 | D32: =IFERROR(VLOOKUP(Année!D31,'HEURES DE PRÉSENCE'!$A$2:$I$367,9),"") -> 0 | E32: =IFERROR(VLOOKUP(Année!E31,'HEURES DE PRÉSENCE'!$A$2:$I$367,9),"") -> 0 | F32: =IFERROR(VLOOKUP(Année!F31,'HEURES DE PRÉSENCE'!$A$2:$I$367,9),"") -> 0 | G32: =IFERROR(VLOOKUP(Année!G31,'HEURES DE PRÉSENCE'!$A$2:$I$367,9),"") -> 0 | H32: =IFERROR(VLOOKUP(Année!H31,'HEURES DE PRÉSENCE'!$A$2:$I$367,9),"") -> 0 | I32: =IFERROR(VLOOKUP(Année!I31,'HEURES DE PRÉSENCE'!$A$2:$I$367,9),"") -> 0 | ... AF32: =IFERROR(VLOOKUP(Année!AF31,'HEURES DE PRÉSENCE'!$A$2:$I$367,9),"") | AG32: =SUM(B32:AF32) -> 0 | AH32: =COUNTIF(B32:AF32,">"&0) -> 0 | AI32: =SUM(B33:AF33) -> 0
B33: =IFERROR(VLOOKUP(Année!B31,'HEURES DE PRÉSENCE'!$A$2:$K$367,11),"") | C33: =IFERROR(VLOOKUP(Année!C31,'HEURES DE PRÉSENCE'!$A$2:$K$367,11),"") | D33: =IFERROR(VLOOKUP(Année!D31,'HEURES DE PRÉSENCE'!$A$2:$K$367,11),"") | E33: =IFERROR(VLOOKUP(Année!E31,'HEURES DE PRÉSENCE'!$A$2:$K$367,11),"") | F33: =IFERROR(VLOOKUP(Année!F31,'HEURES DE PRÉSENCE'!$A$2:$K$367,11),"") | G33: =IFERROR(VLOOKUP(Année!G31,'HEURES DE PRÉSENCE'!$A$2:$K$367,11),"") | H33: =IFERROR(VLOOKUP(Année!H31,'HEURES DE PRÉSENCE'!$A$2:$K$367,11),"") | I33: =IFERROR(VLOOKUP(Année!I31,'HEURES DE PRÉSENCE'!$A$2:$K$367,11),"") | ... AF33: =IFERROR(VLOOKUP(Année!AF31,'HEURES DE PRÉSENCE'!$A$2:$K$367,11),"")
A34: Octobre | B34: =DATE($A$5,10,1) -> 43009 | C34: =B34+1 -> 43010 | D34: =C34+1 -> 43011 | E34: =D34+1 -> 43012 | F34: =E34+1 -> 43013 | G34: =F34+1 -> 43014 | H34: =G34+1 -> 43015 | I34: =H34+1 -> 43016 | J34: =I34+1 -> 43017 | ... AE34: =AD34+1 -> 43038 | AF34: =IF(OR(MONTH(AE34+1)<>MONTH(AE34),AE34+1>=B37),0,AE34+1) -> 43039
B35: =IFERROR(VLOOKUP(Année!B34,'HEURES DE PRÉSENCE'!$A$2:$I$367,9),"") -> 0 | C35: =IFERROR(VLOOKUP(Année!C34,'HEURES DE PRÉSENCE'!$A$2:$I$367,9),"") -> 0 | D35: =IFERROR(VLOOKUP(Année!D34,'HEURES DE PRÉSENCE'!$A$2:$I$367,9),"") -> 0 | E35: =IFERROR(VLOOKUP(Année!E34,'HEURES DE PRÉSENCE'!$A$2:$I$367,9),"") -> 0 | F35: =IFERROR(VLOOKUP(Année!F34,'HEURES DE PRÉSENCE'!$A$2:$I$367,9),"") -> 0 | G35: =IFERROR(VLOOKUP(Année!G34,'HEURES DE PRÉSENCE'!$A$2:$I$367,9),"") -> 0 | H35: =IFERROR(VLOOKUP(Année!H34,'HEURES DE PRÉSENCE'!$A$2:$I$367,9),"") -> 0 | I35: =IFERROR(VLOOKUP(Année!I34,'HEURES DE PRÉSENCE'!$A$2:$I$367,9),"") -> 0 | ... AF35: =IFERROR(VLOOKUP(Année!AF34,'HEURES DE PRÉSENCE'!$A$2:$I$367,9),"") -> 0 | AG35: =SUM(B35:AF35) -> 0 | AH35: =COUNTIF(B35:AF35,">"&0) -> 0 | AI35: =SUM(B36:AF36) -> 0
B36: =IFERROR(VLOOKUP(Année!B34,'HEURES DE PRÉSENCE'!$A$2:$K$367,11),"") | C36: =IFERROR(VLOOKUP(Année!C34,'HEURES DE PRÉSENCE'!$A$2:$K$367,11),"") | D36: =IFERROR(VLOOKUP(Année!D34,'HEURES DE PRÉSENCE'!$A$2:$K$367,11),"") | E36: =IFERROR(VLOOKUP(Année!E34,'HEURES DE PRÉSENCE'!$A$2:$K$367,11),"") | F36: =IFERROR(VLOOKUP(Année!F34,'HEURES DE PRÉSENCE'!$A$2:$K$367,11),"") | G36: =IFERROR(VLOOKUP(Année!G34,'HEURES DE PRÉSENCE'!$A$2:$K$367,11),"") | H36: =IFERROR(VLOOKUP(Année!H34,'HEURES DE PRÉSENCE'!$A$2:$K$367,11),"") | I36: =IFERROR(VLOOKUP(Année!I34,'HEURES DE PRÉSENCE'!$A$2:$K$367,11),"") | ... AF36: =IFERROR(VLOOKUP(Année!AF34,'HEURES DE PRÉSENCE'!$A$2:$K$367,11),"")
A37: Novembre | B37: =DATE($A$5,11,1) -> 43040 | C37: =B37+1 -> 43041 | D37: =C37+1 -> 43042 | E37: =D37+1 -> 43043 | F37: =E37+1 -> 43044 | G37: =F37+1 -> 43045 | H37: =G37+1 -> 43046 | I37: =H37+1 -> 43047 | J37: =I37+1 -> 43048 | ... AE37: =AD37+1 -> 43069 | AF37: =IF(OR(MONTH(AE37+1)<>MONTH(AE37),AE37+1>=B40),0,AE37+1) -> 0
B38: =IFERROR(VLOOKUP(Année!B37,'HEURES DE PRÉSENCE'!$A$2:$I$367,9),"") -> 0 | C38: =IFERROR(VLOOKUP(Année!C37,'HEURES DE PRÉSENCE'!$A$2:$I$367,9),"") -> 0 | D38: =IFERROR(VLOOKUP(Année!D37,'HEURES DE PRÉSENCE'!$A$2:$I$367,9),"") -> 0 | E38: =IFERROR(VLOOKUP(Année!E37,'HEURES DE PRÉSENCE'!$A$2:$I$367,9),"") -> 0 | F38: =IFERROR(VLOOKUP(Année!F37,'HEURES DE PRÉSENCE'!$A$2:$I$367,9),"") -> 0 | G38: =IFERROR(VLOOKUP(Année!G37,'HEURES DE PRÉSENCE'!$A$2:$I$367,9),"") -> 0 | H38: =IFERROR(VLOOKUP(Année!H37,'HEURES DE PRÉSENCE'!$A$2:$I$367,9),"") -> 0 | I38: =IFERROR(VLOOKUP(Année!I37,'HEURES DE PRÉSENCE'!$A$2:$I$367,9),"") -> 0 | ... AF38: =IFERROR(VLOOKUP(Année!AF37,'HEURES DE PRÉSENCE'!$A$2:$I$367,9),"") | AG38: =SUM(B38:AF38) -> 0 | AH38: =COUNTIF(B38:AF38,">"&0) -> 0 | AI38: =SUM(B39:AF39) -> 0
B39: =IFERROR(VLOOKUP(Année!B37,'HEURES DE PRÉSENCE'!$A$2:$K$367,11),"") | C39: =IFERROR(VLOOKUP(Année!C37,'HEURES DE PRÉSENCE'!$A$2:$K$367,11),"") | D39: =IFERROR(VLOOKUP(Année!D37,'HEURES DE PRÉSENCE'!$A$2:$K$367,11),"") | E39: =IFERROR(VLOOKUP(Année!E37,'HEURES DE PRÉSENCE'!$A$2:$K$367,11),"") | F39: =IFERROR(VLOOKUP(Année!F37,'HEURES DE PRÉSENCE'!$A$2:$K$367,11),"") | G39: =IFERROR(VLOOKUP(Année!G37,'HEURES DE PRÉSENCE'!$A$2:$K$367,11),"") | H39: =IFERROR(VLOOKUP(Année!H37,'HEURES DE PRÉSENCE'!$A$2:$K$367,11),"") | I39: =IFERROR(VLOOKUP(Année!I37,'HEURES DE PRÉSENCE'!$A$2:$K$367,11),"") | ... AF39: =IFERROR(VLOOKUP(Année!AF37,'HEURES DE PRÉSENCE'!$A$2:$K$367,11),"")
A40: Décembre | B40: =DATE($A$5,12,1) -> 43070 | C40: =B40+1 -> 43071 | D40: =C40+1 -> 43072 | E40: =D40+1 -> 43073 | F40: =E40+1 -> 43074 | G40: =F40+1 -> 43075 | H40: =G40+1 -> 43076 | I40: =H40+1 -> 43077 | J40: =I40+1 -> 43078 | ... AF40: =AE40+1 -> 43100
B41: =IFERROR(VLOOKUP(Année!B40,'HEURES DE PRÉSENCE'!$A$2:$I$367,9),"") -> 0 | C41: =IFERROR(VLOOKUP(Année!C40,'HEURES DE PRÉSENCE'!$A$2:$I$367,9),"") -> 0 | D41: =IFERROR(VLOOKUP(Année!D40,'HEURES DE PRÉSENCE'!$A$2:$I$367,9),"") -> 0 | E41: =IFERROR(VLOOKUP(Année!E40,'HEURES DE PRÉSENCE'!$A$2:$I$367,9),"") -> 0 | F41: =IFERROR(VLOOKUP(Année!F40,'HEURES DE PRÉSENCE'!$A$2:$I$367,9),"") -> 0 | G41: =IFERROR(VLOOKUP(Année!G40,'HEURES DE PRÉSENCE'!$A$2:$I$367,9),"") -> 0 | H41: =IFERROR(VLOOKUP(Année!H40,'HEURES DE PRÉSENCE'!$A$2:$I$367,9),"") -> 0 | I41: =IFERROR(VLOOKUP(Année!I40,'HEURES DE PRÉSENCE'!$A$2:$I$367,9),"") -> 0 | ... AF41: =IFERROR(VLOOKUP(Année!AF40,'HEURES DE PRÉSENCE'!$A$2:$I$367,9),"") -> 0 | AG41: =SUM(B41:AF41) -> 0 | AH41: =COUNTIF(B41:AF41,">"&0) -> 0 | AI41: =SUM(B42:AF42) -> 0
B42: =IFERROR(VLOOKUP(Année!B40,'HEURES DE PRÉSENCE'!$A$2:$K$367,11),"") | C42: =IFERROR(VLOOKUP(Année!C40,'HEURES DE PRÉSENCE'!$A$2:$K$367,11),"") | D42: =IFERROR(VLOOKUP(Année!D40,'HEURES DE PRÉSENCE'!$A$2:$K$367,11),"") | E42: =IFERROR(VLOOKUP(Année!E40,'HEURES DE PRÉSENCE'!$A$2:$K$367,11),"") | F42: =IFERROR(VLOOKUP(Année!F40,'HEURES DE PRÉSENCE'!$A$2:$K$367,11),"") | G42: =IFERROR(VLOOKUP(Année!G40,'HEURES DE PRÉSENCE'!$A$2:$K$367,11),"") | H42: =IFERROR(VLOOKUP(Année!H40,'HEURES DE PRÉSENCE'!$A$2:$K$367,11),"") | I42: =IFERROR(VLOOKUP(Année!I40,'HEURES DE PRÉSENCE'!$A$2:$K$367,11),"") | ... AF42: =IFERROR(VLOOKUP(Année!AF40,'HEURES DE PRÉSENCE'!$A$2:$K$367,11),"")

Sheet HEURES DE PRÉSENCE
B1: Arrivée | C1: Départ | D1: Total 1 | E1: Arrivée | F1: Départ | G1: Total 2 | H1: Code | I1: Total | J1: 1.1574074e-05 | K1: Km | M1: Lieux | N1: Cumul | O1: Remarques
A2: =DATE(Année!A5,1,1) -> 42736 | D2: =IF(OR(C2="",B2=""),0,C2-B2)/1 -> 0 | G2: =IF(OR(F2="",E2=""),0,F2-E2)/1 -> 0 | I2: =SUM(D2+G2) -> 0 | J2: =IFERROR(VLOOKUP(M2,EMPLOI!A:J,5),"") | K2: =IF(I2>=$J$1,J2,"") | L2: =IF(WEEKDAY(A2)=6,SUMPRODUCT((WEEKNUM($A$2:$A$367)=WEEKNUM($A2))*($K$2:$K$367)),"") | M2: {=IF(OR(WEEKDAY($A2,2)=7,WEEKDAY($A2,2)=6),"",IFERROR(INDEX(Tableau1[],MATCH(1,('HEURES DE PRÉSENCE'!A2>=Tableau1[[DATE DEBUT ]])*(Tableau1[DATE FIN]>='HEURES DE PRÉSENCE'!A2),0),1),""))}
A3: =A2+1 -> 42737 | G3: =IF(OR(F3="",E3=""),0,F3-E3)/1 -> 0 | I3: =SUM(D3+G3) -> 0 | J3: =IFERROR(VLOOKUP(M3,EMPLOI!A:J,5),"") | K3: =IF(I3>=$J$1,J3,"") | L3: {=IF(WEEKDAY(A3)=6,SUMPRODUCT(IFERROR((_xlfn.ISOWEEKNUM($A$2:$A$367)=_xlfn.ISOWEEKNUM($A3))*($K$2:$K$367),0)),"")} | M3: {=IF(OR(WEEKDAY($A3,2)=7,WEEKDAY($A3,2)=6),"",IFERROR(INDEX(Tableau1[],MATCH(1,('HEURES DE PRÉSENCE'!A3>=Tableau1[[DATE DEBUT ]])*(Tableau1[DATE FIN]>='HEURES DE PRÉSENCE'!A3),0),1),""))}
A4: =A3+1 -> 42738 | G4: =IF(OR(F4="",E4=""),0,F4-E4)/1 -> 0 | I4: =IFERROR(SUM(D4,G4),"") -> 0 | J4: =IFERROR(VLOOKUP(M4,EMPLOI!A:J,5),"") | K4: =IF(I4>=$J$1,J4,"") | L4: {=IF(WEEKDAY(A4)=6,SUMPRODUCT(IFERROR((_xlfn.ISOWEEKNUM($A$2:$A$367)=_xlfn.ISOWEEKNUM($A4))*($K$2:$K$367),0)),"")} | M4: {=IF(OR(WEEKDAY($A4,2)=7,WEEKDAY($A4,2)=6),"",IFERROR(INDEX(Tableau1[],MATCH(1,('HEURES DE PRÉSENCE'!A4>=Tableau1[[DATE DEBUT ]])*(Tableau1[DATE FIN]>='HEURES DE PRÉSENCE'!A4),0),1),""))}
A5: =A4+1 -> 42739 | G5: =IF(OR(F5="",E5=""),0,F5-E5)/1 -> 0 | I5: =SUM(D5+G5) -> 0 | J5: =IFERROR(VLOOKUP(M5,EMPLOI!A:J,5),"") | K5: =IF(I5>=$J$1,J5,"") | L5: {=IF(WEEKDAY(A5)=6,SUMPRODUCT(IFERROR((_xlfn.ISOWEEKNUM($A$2:$A$367)=_xlfn.ISOWEEKNUM($A5))*($K$2:$K$367),0)),"")} | M5: {=IF(OR(WEEKDAY($A5,2)=7,WEEKDAY($A5,2)=6),"",IFERROR(INDEX(Tableau1[],MATCH(1,('HEURES DE PRÉSENCE'!A5>=Tableau1[[DATE DEBUT ]])*(Tableau1[DATE FIN]>='HEURES DE PRÉSENCE'!A5),0),1),""))}
A6: =A5+1 -> 42740 | G6: =IF(OR(F6="",E6=""),0,F6-E6)/1 -> 0 | I6: =SUM(D6+G6) -> 0 | J6: =IFERROR(VLOOKUP(M6,EMPLOI!A:J,5),"") | K6: =IF(I6>=$J$1,J6,"") | L6: {=IF(WEEKDAY(A6)=6,SUMPRODUCT(IFERROR((_xlfn.ISOWEEKNUM($A$2:$A$367)=_xlfn.ISOWEEKNUM($A6))*($K$2:$K$367),0)),"")} | M6: {=IF(OR(WEEKDAY($A6,2)=7,WEEKDAY($A6,2)=6),"",IFERROR(INDEX(Tableau1[],MATCH(1,('HEURES DE PRÉSENCE'!A6>=Tableau1[[DATE DEBUT ]])*(Tableau1[DATE FIN]>='HEURES DE PRÉSENCE'!A6),0),1),""))}
A7: =A6+1 -> 42741 | G7: =IF(OR(F7="",E7=""),0,F7-E7)/1 -> 0 | I7: =SUM(D7+G7) -> 0 | J7: =IFERROR(VLOOKUP(M7,EMPLOI!A:J,5),"") | K7: =IF(I7>=$J$1,J7,"") | L7: {=IF(WEEKDAY(A7)=6,SUMPRODUCT(IFERROR((_xlfn.ISOWEEKNUM($A$2:$A$367)=_xlfn.ISOWEEKNUM($A7))*($K$2:$K$367),0)),"")} -> 0 | M7: {=IF(OR(WEEKDAY($A7,2)=7,WEEKDAY($A7,2)=6),"",IFERROR(INDEX(Tableau1[],MATCH(1,('HEURES DE PRÉSENCE'!A7>=Tableau1[[DATE DEBUT ]])*(Tableau1[DATE FIN]>='HEURES DE PRÉSENCE'!A7),0),1),""))}
A8: =A7+1 -> 42742 | D8: =IF(OR(C8="",B8=""),0,C8-B8)/1 -> 0 | G8: =IF(OR(F8="",E8=""),0,F8-E8)/1 -> 0 | I8: =SUM(D8+G8) -> 0 | J8: =IFERROR(VLOOKUP(M8,EMPLOI!A:J,5),"") | K8: =IF(I8>=$J$1,J8,"") | M8: {=IF(OR(WEEKDAY($A8,2)=7,WEEKDAY($A8,2)=6),"",IFERROR(INDEX(Tableau1[],MATCH(1,('HEURES DE PRÉSENCE'!A8>=Tableau1[[DATE DEBUT ]])*(Tableau1[DATE FIN]>='HEURES DE PRÉSENCE'!A8),0),1),""))}
A9: =A8+1 -> 42743 | D9: =IF(OR(C9="",B9=""),0,C9-B9)/1 -> 0 | G9: =IF(OR(F9="",E9=""),0,F9-E9)/1 -> 0 | I9: =SUM(D9+G9) -> 0 | J9: =IFERROR(VLOOKUP(M9,EMPLOI!A:J,5),"") | K9: =IF(I9>=$J$1,J9,"") | M9: {=IF(OR(WEEKDAY($A9,2)=7,WEEKDAY($A9,2)=6),"",IFERROR(INDEX(Tableau1[],MATCH(1,('HEURES DE PRÉSENCE'!A9>=Tableau1[[DATE DEBUT ]])*(Tableau1[DATE FIN]>='HEURES DE PRÉSENCE'!A9),0),1),""))}
A10: =A9+1 -> 42744 | D10: =IF(OR(C10="",B10=""),0,C10-B10)/1 -> 0 | G10: =IF(OR(F10="",E10=""),0,F10-E10)/1 -> 0 | I10: =SUM(D10+G10) -> 0 | J10: =IFERROR(VLOOKUP(M10,EMPLOI!A:J,5),"") | K10: =IF(I10>=$J$1,J10,"") | L10: {=IF(WEEKDAY(A10)=6,SUMPRODUCT(IFERROR((_xlfn.ISOWEEKNUM($A$2:$A$367)=_xlfn.ISOWEEKNUM($A10))*($K$2:$K$367),0)),"")} | M10: {=IF(OR(WEEKDAY($A10,2)=7,WEEKDAY($A10,2)=6),"",IFERROR(INDEX(Tableau1[],MATCH(1,('HEURES DE PRÉSENCE'!A10>=Tableau1[[DATE DEBUT ]])*(Tableau1[DATE FIN]>='HEURES DE PRÉSENCE'!A10),0),1),""))}
A11: =A10+1 -> 42745 | D11: =IF(OR(C11="",B11=""),0,C11-B11)/1 -> 0 | G11: =IF(OR(F11="",E11=""),0,F11-E11)/1 -> 0 | I11: =SUM(D11+G11) -> 0 | J11: =IFERROR(VLOOKUP(M11,EMPLOI!A:J,5),"") | K11: =IF(I11>=$J$1,J11,"") | L11: {=IF(WEEKDAY(A11)=6,SUMPRODUCT(IFERROR((_xlfn.ISOWEEKNUM($A$2:$A$367)=_xlfn.ISOWEEKNUM($A11))*($K$2:$K$367),0)),"")} | M11: {=IF(OR(WEEKDAY($A11,2)=7,WEEKDAY($A11,2)=6),"",IFERROR(INDEX(Tableau1[],MATCH(1,('HEURES DE PRÉSENCE'!A11>=Tableau1[[DATE DEBUT ]])*(Tableau1[DATE FIN]>='HEURES DE PRÉSENCE'!A11),0),1),""))}
A12: =A11+1 -> 42746 | D12: =IF(OR(C12="",B12=""),0,C12-B12)/1 -> 0 | G12: =IF(OR(F12="",E12=""),0,F12-E12)/1 -> 0 | I12: =SUM(D12+G12) -> 0 | J12: =IFERROR(VLOOKUP(M12,EMPLOI!A:J,5),"") | K12: =IF(I12>=$J$1,J12,"") | L12: {=IF(WEEKDAY(A12)=6,SUMPRODUCT(IFERROR((_xlfn.ISOWEEKNUM($A$2:$A$367)=_xlfn.ISOWEEKNUM($A12))*($K$2:$K$367),0)),"")} | M12: {=IF(OR(WEEKDAY($A12,2)=7,WEEKDAY($A12,2)=6),"",IFERROR(INDEX(Tableau1[],MATCH(1,('HEURES DE PRÉSENCE'!A12>=Tableau1[[DATE DEBUT ]])*(Tableau1[DATE FIN]>='HEURES DE PRÉSENCE'!A12),0),1),""))}
A13: =A12+1 -> 42747 | D13: =IF(OR(C13="",B13=""),0,C13-B13)/1 -> 0 | G13: =IF(OR(F13="",E13=""),0,F13-E13)/1 -> 0 | I13: =SUM(D13+G13) -> 0 | J13: =IFERROR(VLOOKUP(M13,EMPLOI!A:J,5),"") | K13: =IF(I13>=$J$1,J13,"") | L13: {=IF(WEEKDAY(A13)=6,SUMPRODUCT(IFERROR((_xlfn.ISOWEEKNUM($A$2:$A$367)=_xlfn.ISOWEEKNUM($A13))*($K$2:$K$367),0)),"")} | M13: {=IF(OR(WEEKDAY($A13,2)=7,WEEKDAY($A13,2)=6),"",IFERROR(INDEX(Tableau1[],MATCH(1,('HEURES DE PRÉSENCE'!A13>=Tableau1[[DATE DEBUT ]])*(Tableau1[DATE FIN]>='HEURES DE PRÉSENCE'!A13),0),1),""))}
A14: =A13+1 -> 42748 | D14: =IF(OR(C14="",B14=""),0,C14-B14)/1 -> 0 | G14: =IF(OR(F14="",E14=""),0,F14-E14)/1 -> 0 | I14: =SUM(D14+G14) -> 0 | J14: =IFERROR(VLOOKUP(M14,EMPLOI!A:J,5),"") | K14: =IF(I14>=$J$1,J14,"") | L14: {=IF(WEEKDAY(A14)=6,SUMPRODUCT(IFERROR((_xlfn.ISOWEEKNUM($A$2:$A$367)=_xlfn.ISOWEEKNUM($A14))*($K$2:$K$367),0)),"")} -> 0 | M14: {=IF(OR(WEEKDAY($A14,2)=7,WEEKDAY($A14,2)=6),"",IFERROR(INDEX(Tableau1[],MATCH(1,('HEURES DE PRÉSENCE'!A14>=Tableau1[[DATE DEBUT ]])*(Tableau1[DATE FIN]>='HEURES DE PRÉSENCE'!A14),0),1),""))}
A15: =A14+1 -> 42749 | D15: =IF(OR(C15="",B15=""),0,C15-B15)/1 -> 0 | G15: =IF(OR(F15="",E15=""),0,F15-E15)/1 -> 0 | I15: =SUM(D15+G15) -> 0 | J15: =IFERROR(VLOOKUP(M15,EMPLOI!A:J,5),"") | K15: =IF(I15>=$J$1,J15,"") | M15: {=IF(OR(WEEKDAY($A15,2)=7,WEEKDAY($A15,2)=6),"",IFERROR(INDEX(Tableau1[],MATCH(1,('HEURES DE PRÉSENCE'!A15>=Tableau1[[DATE DEBUT ]])*(Tableau1[DATE FIN]>='HEURES DE PRÉSENCE'!A15),0),1),""))}
A16: =A15+1 -> 42750 | D16: =IF(OR(C16="",B16=""),0,C16-B16)/1 -> 0 | G16: =IF(OR(F16="",E16=""),0,F16-E16)/1 -> 0 | I16: =SUM(D16+G16) -> 0 | J16: =IFERROR(VLOOKUP(M16,EMPLOI!A:J,5),"") | K16: =IF(I16>=$J$1,J16,"") | M16: {=IF(OR(WEEKDAY($A16,2)=7,WEEKDAY($A16,2)=6),"",IFERROR(INDEX(Tableau1[],MATCH(1,('HEURES DE PRÉSENCE'!A16>=Tableau1[[DATE DEBUT ]])*(Tableau1[DATE FIN]>='HEURES DE PRÉSENCE'!A16),0),1),""))}
A17: =A16+1 -> 42751 | D17: =IF(OR(C17="",B17=""),0,C17-B17)/1 -> 0 | G17: =IF(OR(F17="",E17=""),0,F17-E17)/1 -> 0 | I17: =SUM(D17+G17) -> 0 | J17: =IFERROR(VLOOKUP(M17,EMPLOI!A:J,5),"") | K17: =IF(I17>=$J$1,J17,"") | L17: {=IF(WEEKDAY(A17)=6,SUMPRODUCT(IFERROR((_xlfn.ISOWEEKNUM($A$2:$A$367)=_xlfn.ISOWEEKNUM($A17))*($K$2:$K$367),0)),"")} | M17: {=IF(OR(WEEKDAY($A17,2)=7,WEEKDAY($A17,2)=6),"",IFERROR(INDEX(Tableau1[],MATCH(1,('HEURES DE PRÉSENCE'!A17>=Tableau1[[DATE DEBUT ]])*(Tableau1[DATE FIN]>='HEURES DE PRÉSENCE'!A17),0),1),""))}
A18: =A17+1 -> 42752 | D18: =IF(OR(C18="",B18=""),0,C18-B18)/1 -> 0 | G18: =IF(OR(F18="",E18=""),0,F18-E18)/1 -> 0 | I18: =SUM(D18+G18) -> 0 | J18: =IFERROR(VLOOKUP(M18,EMPLOI!A:J,5),"") | K18: =IF(I18>=$J$1,J18,"") | L18: {=IF(WEEKDAY(A18)=6,SUMPRODUCT(IFERROR((_xlfn.ISOWEEKNUM($A$2:$A$367)=_xlfn.ISOWEEKNUM($A18))*($K$2:$K$367),0)),"")} | M18: {=IF(OR(WEEKDAY($A18,2)=7,WEEKDAY($A18,2)=6),"",IFERROR(INDEX(Tableau1[],MATCH(1,('HEURES DE PRÉSENCE'!A18>=Tableau1[[DATE DEBUT ]])*(Tableau1[DATE FIN]>='HEURES DE PRÉSENCE'!A18),0),1),""))}
A19: =A18+1 -> 42753 | D19: =IF(OR(C19="",B19=""),0,C19-B19)/1 -> 0 | G19: =IF(OR(F19="",E19=""),0,F19-E19)/1 -> 0 | I19: =SUM(D19+G19) -> 0 | J19: =IFERROR(VLOOKUP(M19,EMPLOI!A:J,5),"") | K19: =IF(I19>=$J$1,J19,"") | L19: {=IF(WEEKDAY(A19)=6,SUMPRODUCT(IFERROR((_xlfn.ISOWEEKNUM($A$2:$A$367)=_xlfn.ISOWEEKNUM($A19))*($K$2:$K$367),0)),"")} | M19: {=IF(OR(WEEKDAY($A19,2)=7,WEEKDAY($A19,2)=6),"",IFERROR(INDEX(Tableau1[],MATCH(1,('HEURES DE PRÉSENCE'!A19>=Tableau1[[DATE DEBUT ]])*(Tableau1[DATE FIN]>='HEURES DE PRÉSENCE'!A19),0),1),""))}
A20: =A19+1 -> 42754 | D20: =IF(OR(C20="",B20=""),0,C20-B20)/1 -> 0 | G20: =IF(OR(F20="",E20=""),0,F20-E20)/1 -> 0 | I20: =SUM(D20+G20) -> 0 | J20: =IFERROR(VLOOKUP(M20,EMPLOI!A:J,5),"") | K20: =IF(I20>=$J$1,J20,"") | L20: {=IF(WEEKDAY(A20)=6,SUMPRODUCT(IFERROR((_xlfn.ISOWEEKNUM($A$2:$A$367)=_xlfn.ISOWEEKNUM($A20))*($K$2:$K$367),0)),"")} | M20: {=IF(OR(WEEKDAY($A20,2)=7,WEEKDAY($A20,2)=6),"",IFERROR(INDEX(Tableau1[],MATCH(1,('HEURES DE PRÉSENCE'!A20>=Tableau1[[DATE DEBUT ]])*(Tableau1[DATE FIN]>='HEURES DE PRÉSENCE'!A20),0),1),""))}
A21: =A20+1 -> 42755 | D21: =IF(OR(C21="",B21=""),0,C21-B21)/1 -> 0 | G21: =IF(OR(F21="",E21=""),0,F21-E21)/1 -> 0 | I21: =SUM(D21+G21) -> 0 | J21: =IFERROR(VLOOKUP(M21,EMPLOI!A:J,5),"") | K21: =IF(I21>=$J$1,J21,"") | L21: {=IF(WEEKDAY(A21)=6,SUMPRODUCT(IFERROR((_xlfn.ISOWEEKNUM($A$2:$A$367)=_xlfn.ISOWEEKNUM($A21))*($K$2:$K$367),0)),"")} -> 0 | M21: {=IF(OR(WEEKDAY($A21,2)=7,WEEKDAY($A21,2)=6),"",IFERROR(INDEX(Tableau1[],MATCH(1,('HEURES DE PRÉSENCE'!A21>=Tableau1[[DATE DEBUT ]])*(Tableau1[DATE FIN]>='HEURES DE PRÉSENCE'!A21),0),1),""))}
A22: =A21+1 -> 42756 | D22: =IF(OR(C22="",B22=""),0,C22-B22)/1 -> 0 | G22: =IF(OR(F22="",E22=""),0,F22-E22)/1 -> 0 | I22: =SUM(D22+G22) -> 0 | J22: =IFERROR(VLOOKUP(M22,EMPLOI!A:J,5),"") | K22: =IF(I22>=$J$1,J22,"") | M22: {=IF(OR(WEEKDAY($A22,2)=7,WEEKDAY($A22,2)=6),"",IFERROR(INDEX(Tableau1[],MATCH(1,('HEURES DE PRÉSENCE'!A22>=Tableau1[[DATE DEBUT ]])*(Tableau1[DATE FIN]>='HEURES DE PRÉSENCE'!A22),0),1),""))}
A23: =A22+1 -> 42757 | D23: =IF(OR(C23="",B23=""),0,C23-B23)/1 -> 0 | G23: =IF(OR(F23="",E23=""),0,F23-E23)/1 -> 0 | I23: =SUM(D23+G23) -> 0 | J23: =IFERROR(VLOOKUP(M23,EMPLOI!A:J,5),"") | K23: =IF(I23>=$J$1,J23,"") | M23: {=IF(OR(WEEKDAY($A23,2)=7,WEEKDAY($A23,2)=6),"",IFERROR(INDEX(Tableau1[],MATCH(1,('HEURES DE PRÉSENCE'!A23>=Tableau1[[DATE DEBUT ]])*(Tableau1[DATE FIN]>='HEURES DE PRÉSENCE'!A23),0),1),""))}
A24: =A23+1 -> 42758 | D24: =IF(OR(C24="",B24=""),0,C24-B24)/1 -> 0 | G24: =IF(OR(F24="",E24=""),0,F24-E24)/1 -> 0 | I24: =SUM(D24+G24) -> 0 | J24: =IFERROR(VLOOKUP(M24,EMPLOI!A:J,5),"") | K24: =IF(I24>=$J$1,J24,"") | L24: {=IF(WEEKDAY(A24)=6,SUMPRODUCT(IFERROR((_xlfn.ISOWEEKNUM($A$2:$A$367)=_xlfn.ISOWEEKNUM($A24))*($K$2:$K$367),0)),"")} | M24: {=IF(OR(WEEKDAY($A24,2)=7,WEEKDAY($A24,2)=6),"",IFERROR(INDEX(Tableau1[],MATCH(1,('HEURES DE PRÉSENCE'!A24>=Tableau1[[DATE DEBUT ]])*(Tableau1[DATE FIN]>='HEURES DE PRÉSENCE'!A24),0),1),""))}
A25: =A24+1 -> 42759 | D25: =IF(OR(C25="",B25=""),0,C25-B25)/1 -> 0 | G25: =IF(OR(F25="",E25=""),0,F25-E25)/1 -> 0 | I25: =SUM(D25+G25) -> 0 | J25: =IFERROR(VLOOKUP(M25,EMPLOI!A:J,5),"") | K25: =IF(I25>=$J$1,J25,"") | L25: {=IF(WEEKDAY(A25)=6,SUMPRODUCT(IFERROR((_xlfn.ISOWEEKNUM($A$2:$A$367)=_xlfn.ISOWEEKNUM($A25))*($K$2:$K$367),0)),"")} | M25: {=IF(OR(WEEKDAY($A25,2)=7,WEEKDAY($A25,2)=6),"",IFERROR(INDEX(Tableau1[],MATCH(1,('HEURES DE PRÉSENCE'!A25>=Tableau1[[DATE DEBUT ]])*(Tableau1[DATE FIN]>='HEURES DE PRÉSENCE'!A25),0),1),""))}
A26: =A25+1 -> 42760 | D26: =IF(OR(C26="",B26=""),0,C26-B26)/1 -> 0 | G26: =IF(OR(F26="",E26=""),0,F26-E26)/1 -> 0 | I26: =SUM(D26+G26) -> 0 | J26: =IFERROR(VLOOKUP(M26,EMPLOI!A:J,5),"") | K26: =IF(I26>=$J$1,J26,"") | L26: {=IF(WEEKDAY(A26)=6,SUMPRODUCT(IFERROR((_xlfn.ISOWEEKNUM($A$2:$A$367)=_xlfn.ISOWEEKNUM($A26))*($K$2:$K$367),0)),"")} | M26: {=IF(OR(WEEKDAY($A26,2)=7,WEEKDAY($A26,2)=6),"",IFERROR(INDEX(Tableau1[],MATCH(1,('HEURES DE PRÉSENCE'!A26>=Tableau1[[DATE DEBUT ]])*(Tableau1[DATE FIN]>='HEURES DE PRÉSENCE'!A26),0),1),""))}
A27: =A26+1 -> 42761 | D27: =IF(OR(C27="",B27=""),0,C27-B27)/1 -> 0 | G27: =IF(OR(F27="",E27=""),0,F27-E27)/1 -> 0 | I27: =SUM(D27+G27) -> 0 | J27: =IFERROR(VLOOKUP(M27,EMPLOI!A:J,5),"") | K27: =IF(I27>=$J$1,J27,"") | L27: {=IF(WEEKDAY(A27)=6,SUMPRODUCT(IFERROR((_xlfn.ISOWEEKNUM($A$2:$A$367)=_xlfn.ISOWEEKNUM($A27))*($K$2:$K$367),0)),"")} | M27: {=IF(OR(WEEKDAY($A27,2)=7,WEEKDAY($A27,2)=6),"",IFERROR(INDEX(Tableau1[],MATCH(1,('HEURES DE PRÉSENCE'!A27>=Tableau1[[DATE DEBUT ]])*(Tableau1[DATE FIN]>='HEURES DE PRÉSENCE'!A27),0),1),""))}
A28: =A27+1 -> 42762 | D28: =IF(OR(C28="",B28=""),0,C28-B28)/1 -> 0 | G28: =IF(OR(F28="",E28=""),0,F28-E28)/1 -> 0 | I28: =SUM(D28+G28) -> 0 | J28: =IFERROR(VLOOKUP(M28,EMPLOI!A:J,5),"") | K28: =IF(I28>=$J$1,J28,"") | L28: {=IF(WEEKDAY(A28)=6,SUMPRODUCT(IFERROR((_xlfn.ISOWEEKNUM($A$2:$A$367)=_xlfn.ISOWEEKNUM($A28))*($K$2:$K$367),0)),"")} -> 0 | M28: {=IF(OR(WEEKDAY($A28,2)=7,WEEKDAY($A28,2)=6),"",IFERROR(INDEX(Tableau1[],MATCH(1,('HEURES DE PRÉSENCE'!A28>=Tableau1[[DATE DEBUT ]])*(Tableau1[DATE FIN]>='HEURES DE PRÉSENCE'!A28),0),1),""))}
A29: =A28+1 -> 42763 | D29: =IF(OR(C29="",B29=""),0,C29-B29)/1 -> 0 | G29: =IF(OR(F29="",E29=""),0,F29-E29)/1 -> 0 | I29: =SUM(D29+G29) -> 0 | J29: =IFERROR(VLOOKUP(M29,EMPLOI!A:J,5),"") | K29: =IF(I29>=$J$1,J29,"") | M29: {=IF(OR(WEEKDAY($A29,2)=7,WEEKDAY($A29,2)=6),"",IFERROR(INDEX(Tableau1[],MATCH(1,('HEURES DE PRÉSENCE'!A29>=Tableau1[[DATE DEBUT ]])*(Tableau1[DATE FIN]>='HEURES DE PRÉSENCE'!A29),0),1),""))}
A30: =A29+1 -> 42764 | D30: =IF(OR(C30="",B30=""),0,C30-B30)/1 -> 0 | G30: =IF(OR(F30="",E30=""),0,F30-E30)/1 -> 0 | I30: =SUM(D30+G30) -> 0 | J30: =IFERROR(VLOOKUP(M30,EMPLOI!A:J,5),"") | K30: =IF(I30>=$J$1,J30,"") | M30: {=IF(OR(WEEKDAY($A30,2)=7,WEEKDAY($A30,2)=6),"",IFERROR(INDEX(Tableau1[],MATCH(1,('HEURES DE PRÉSENCE'!A30>=Tableau1[[DATE DEBUT ]])*(Tableau1[DATE FIN]>='HEURES DE PRÉSENCE'!A30),0),1),""))}
A31: =A30+1 -> 42765 | D31: =IF(OR(C31="",B31=""),0,C31-B31)/1 -> 0 | G31: =IF(OR(F31="",E31=""),0,F31-E31)/1 -> 0 | I31: =SUM(D31+G31) -> 0 | J31: =IFERROR(VLOOKUP(M31,EMPLOI!A:J,5),"") | K31: =IF(I31>=$J$1,J31,"") | L31: {=IF(WEEKDAY(A31)=6,SUMPRODUCT(IFERROR((_xlfn.ISOWEEKNUM($A$2:$A$367)=_xlfn.ISOWEEKNUM($A31))*($K$2:$K$367),0)),"")} | M31: {=IF(OR(WEEKDAY($A31,2)=7,WEEKDAY($A31,2)=6),"",IFERROR(INDEX(Tableau1[],MATCH(1,('HEURES DE PRÉSENCE'!A31>=Tableau1[[DATE DEBUT ]])*(Tableau1[DATE FIN]>='HEURES DE PRÉSENCE'!A31),0),1),""))}
A32: =A31+1 -> 42766 | D32: =IF(OR(C32="",B32=""),0,C32-B32)/1 -> 0 | G32: =IF(OR(F32="",E32=""),0,F32-E32)/1 -> 0 | I32: =SUM(D32+G32) -> 0 | J32: =IFERROR(VLOOKUP(M32,EMPLOI!A:J,5),"") | K32: =IF(I32>=$J$1,J32,"") | L32: {=IF(WEEKDAY(A32)=6,SUMPRODUCT(IFERROR((_xlfn.ISOWEEKNUM($A$2:$A$367)=_xlfn.ISOWEEKNUM($A32))*($K$2:$K$367),0)),"")} | M32: {=IF(OR(WEEKDAY($A32,2)=7,WEEKDAY($A32,2)=6),"",IFERROR(INDEX(Tableau1[],MATCH(1,('HEURES DE PRÉSENCE'!A32>=Tableau1[[DATE DEBUT ]])*(Tableau1[DATE FIN]>='HEURES DE PRÉSENCE'!A32),0),1),""))}
A33: =A32+1 -> 42767 | D33: =IF(OR(C33="",B33=""),0,C33-B33)/1 -> 0 | G33: =IF(OR(F33="",E33=""),0,F33-E33)/1 -> 0 | I33: =SUM(D33+G33) -> 0 | J33: =IFERROR(VLOOKUP(M33,EMPLOI!A:J,5),"") | K33: =IF(I33>=$J$1,J33,"") | L33: {=IF(WEEKDAY(A33)=6,SUMPRODUCT(IFERROR((_xlfn.ISOWEEKNUM($A$2:$A$367)=_xlfn.ISOWEEKNUM($A33))*($K$2:$K$367),0)),"")} | M33: {=IF(OR(WEEKDAY($A33,2)=7,WEEKDAY($A33,2)=6),"",IFERROR(INDEX(Tableau1[],MATCH(1,('HEURES DE PRÉSENCE'!A33>=Tableau1[[DATE DEBUT ]])*(Tableau1[DATE FIN]>='HEURES DE PRÉSENCE'!A33),0),1),""))}
A34: =A33+1 -> 42768 | D34: =IF(OR(C34="",B34=""),0,C34-B34)/1 -> 0 | G34: =IF(OR(F34="",E34=""),0,F34-E34)/1 -> 0 | I34: =SUM(D34+G34) -> 0 | J34: =IFERROR(VLOOKUP(M34,EMPLOI!A:J,5),"") | K34: =IF(I34>=$J$1,J34,"") | L34: {=IF(WEEKDAY(A34)=6,SUMPRODUCT(IFERROR((_xlfn.ISOWEEKNUM($A$2:$A$367)=_xlfn.ISOWEEKNUM($A34))*($K$2:$K$367),0)),"")} | M34: {=IF(OR(WEEKDAY($A34,2)=7,WEEKDAY($A34,2)=6),"",IFERROR(INDEX(Tableau1[],MATCH(1,('HEURES DE PRÉSENCE'!A34>=Tableau1[[DATE DEBUT ]])*(Tableau1[DATE FIN]>='HEURES DE PRÉSENCE'!A34),0),1),""))}
A35: =A34+1 -> 42769 | D35: =IF(OR(C35="",B35=""),0,C35-B35)/1 -> 0 | G35: =IF(OR(F35="",E35=""),0,F35-E35)/1 -> 0 | I35: =SUM(D35+G35) -> 0 | J35: =IFERROR(VLOOKUP(M35,EMPLOI!A:J,5),"") | K35: =IF(I35>=$J$1,J35,"") | L35: {=IF(WEEKDAY(A35)=6,SUMPRODUCT(IFERROR((_xlfn.ISOWEEKNUM($A$2:$A$367)=_xlfn.ISOWEEKNUM($A35))*($K$2:$K$367),0)),"")} -> 0 | M35: {=IF(OR(WEEKDAY($A35,2)=7,WEEKDAY($A35,2)=6),"",IFERROR(INDEX(Tableau1[],MATCH(1,('HEURES DE PRÉSENCE'!A35>=Tableau1[[DATE DEBUT ]])*(Tableau1[DATE FIN]>='HEURES DE PRÉSENCE'!A35),0),1),""))}
A36: =A35+1 -> 42770 | D36: =IF(OR(C36="",B36=""),0,C36-B36)/1 -> 0 | G36: =IF(OR(F36="",E36=""),0,F36-E36)/1 -> 0 | I36: =SUM(D36+G36) -> 0 | J36: =IFERROR(VLOOKUP(M36,EMPLOI!A:J,5),"") | K36: =IF(I36>=$J$1,J36,"") | M36: {=IF(OR(WEEKDAY($A36,2)=7,WEEKDAY($A36,2)=6),"",IFERROR(INDEX(Tableau1[],MATCH(1,('HEURES DE PRÉSENCE'!A36>=Tableau1[[DATE DEBUT ]])*(Tableau1[DATE FIN]>='HEURES DE PRÉSENCE'!A36),0),1),""))}
A37: =A36+1 -> 42771 | D37: =IF(OR(C37="",B37=""),0,C37-B37)/1 -> 0 | G37: =IF(OR(F37="",E37=""),0,F37-E37)/1 -> 0 | I37: =SUM(D37+G37) -> 0 | J37: =IFERROR(VLOOKUP(M37,EMPLOI!A:J,5),"") | K37: =IF(I37>=$J$1,J37,"") | M37: {=IF(OR(WEEKDAY($A37,2)=7,WEEKDAY($A37,2)=6),"",IFERROR(INDEX(Tableau1[],MATCH(1,('HEURES DE PRÉSENCE'!A37>=Tableau1[[DATE DEBUT ]])*(Tableau1[DATE FIN]>='HEURES DE PRÉSENCE'!A37),0),1),""))}
A38: =A37+1 -> 42772 | D38: =IF(OR(C38="",B38=""),0,C38-B38)/1 -> 0 | G38: =IF(OR(F38="",E38=""),0,F38-E38)/1 -> 0 | I38: =SUM(D38+G38) -> 0 | J38: =IFERROR(VLOOKUP(M38,EMPLOI!A:J,5),"") | K38: =IF(I38>=$J$1,J38,"") | L38: {=IF(WEEKDAY(A38)=6,SUMPRODUCT(IFERROR((_xlfn.ISOWEEKNUM($A$2:$A$367)=_xlfn.ISOWEEKNUM($A38))*($K$2:$K$367),0)),"")} | M38: {=IF(OR(WEEKDAY($A38,2)=7,WEEKDAY($A38,2)=6),"",IFERROR(INDEX(Tableau1[],MATCH(1,('HEURES DE PRÉSENCE'!A38>=Tableau1[[DATE DEBUT ]])*(Tableau1[DATE FIN]>='HEURES DE PRÉSENCE'!A38),0),1),""))}
A39: =A38+1 -> 42773 | D39: =IF(OR(C39="",B39=""),0,C39-B39)/1 -> 0 | G39: =IF(OR(F39="",E39=""),0,F39-E39)/1 -> 0 | I39: =SUM(D39+G39) -> 0 | J39: =IFERROR(VLOOKUP(M39,EMPLOI!A:J,5),"") | K39: =IF(I39>=$J$1,J39,"") | L39: {=IF(WEEKDAY(A39)=6,SUMPRODUCT(IFERROR((_xlfn.ISOWEEKNUM($A$2:$A$367)=_xlfn.ISOWEEKNUM($A39))*($K$2:$K$367),0)),"")} | M39: {=IF(OR(WEEKDAY($A39,2)=7,WEEKDAY($A39,2)=6),"",IFERROR(INDEX(Tableau1[],MATCH(1,('HEURES DE PRÉSENCE'!A39>=Tableau1[[DATE DEBUT ]])*(Tableau1[DATE FIN]>='HEURES DE PRÉSENCE'!A39),0),1),""))}
A40: =A39+1 -> 42774 | D40: =IF(OR(C40="",B40=""),0,C40-B40)/1 -> 0 | G40: =IF(OR(F40="",E40=""),0,F40-E40)/1 -> 0 | I40: =SUM(D40+G40) -> 0 | J40: =IFERROR(VLOOKUP(M40,EMPLOI!A:J,5),"") | K40: =IF(I40>=$J$1,J40,"") | L40: {=IF(WEEKDAY(A40)=6,SUMPRODUCT(IFERROR((_xlfn.ISOWEEKNUM($A$2:$A$367)=_xlfn.ISOWEEKNUM($A40))*($K$2:$K$367),0)),"")} | M40: {=IF(OR(WEEKDAY($A40,2)=7,WEEKDAY($A40,2)=6),"",IFERROR(INDEX(Tableau1[],MATCH(1,('HEURES DE PRÉSENCE'!A40>=Tableau1[[DATE DEBUT ]])*(Tableau1[DATE FIN]>='HEURES DE PRÉSENCE'!A40),0),1),""))}
A41: =A40+1 -> 42775 | D41: =IF(OR(C41="",B41=""),0,C41-B41)/1 -> 0 | G41: =IF(OR(F41="",E41=""),0,F41-E41)/1 -> 0 | I41: =SUM(D41+G41) -> 0 | J41: =IFERROR(VLOOKUP(M41,EMPLOI!A:J,5),"") | K41: =IF(I41>=$J$1,J41,"") | L41: {=IF(WEEKDAY(A41)=6,SUMPRODUCT(IFERROR((_xlfn.ISOWEEKNUM($A$2:$A$367)=_xlfn.ISOWEEKNUM($A41))*($K$2:$K$367),0)),"")} | M41: {=IF(OR(WEEKDAY($A41,2)=7,WEEKDAY($A41,2)=6),"",IFERROR(INDEX(Tableau1[],MATCH(1,('HEURES DE PRÉSENCE'!A41>=Tableau1[[DATE DEBUT ]])*(Tableau1[DATE FIN]>='HEURES DE PRÉSENCE'!A41),0),1),""))}
A42: =A41+1 -> 42776 | D42: =IF(OR(C42="",B42=""),0,C42-B42)/1 -> 0 | G42: =IF(OR(F42="",E42=""),0,F42-E42)/1 -> 0 | I42: =SUM(D42+G42) -> 0 | J42: =IFERROR(VLOOKUP(M42,EMPLOI!A:J,5),"") | K42: =IF(I42>=$J$1,J42,"") | L42: {=IF(WEEKDAY(A42)=6,SUMPRODUCT(IFERROR((_xlfn.ISOWEEKNUM($A$2:$A$367)=_xlfn.ISOWEEKNUM($A42))*($K$2:$K$367),0)),"")} -> 0 | M42: {=IF(OR(WEEKDAY($A42,2)=7,WEEKDAY($A42,2)=6),"",IFERROR(INDEX(Tableau1[],MATCH(1,('HEURES DE PRÉSENCE'!A42>=Tableau1[[DATE DEBUT ]])*(Tableau1[DATE FIN]>='HEURES DE PRÉSENCE'!A42),0),1),""))}
A43: =A42+1 -> 42777 | D43: =IF(OR(C43="",B43=""),0,C43-B43)/1 -> 0 | G43: =IF(OR(F43="",E43=""),0,F43-E43)/1 -> 0 | I43: =SUM(D43+G43) -> 0 | J43: =IFERROR(VLOOKUP(M43,EMPLOI!A:J,5),"") | K43: =IF(I43>=$J$1,J43,"") | M43: {=IF(OR(WEEKDAY($A43,2)=7,WEEKDAY($A43,2)=6),"",IFERROR(INDEX(Tableau1[],MATCH(1,('HEURES DE PRÉSENCE'!A43>=Tableau1[[DATE DEBUT ]])*(Tableau1[DATE FIN]>='HEURES DE PRÉSENCE'!A43),0),1),""))}
A44: =A43+1 -> 42778 | D44: =IF(OR(C44="",B44=""),0,C44-B44)/1 -> 0 | G44: =IF(OR(F44="",E44=""),0,F44-E44)/1 -> 0 | I44: =SUM(D44+G44) -> 0 | J44: =IFERROR(VLOOKUP(M44,EMPLOI!A:J,5),"") | K44: =IF(I44>=$J$1,J44,"") | M44: {=IF(OR(WEEKDAY($A44,2)=7,WEEKDAY($A44,2)=6),"",IFERROR(INDEX(Tableau1[],MATCH(1,('HEURES DE PRÉSENCE'!A44>=Tableau1[[DATE DEBUT ]])*(Tableau1[DATE FIN]>='HEURES DE PRÉSENCE'!A44),0),1),""))}
A45: =A44+1 -> 42779 | D45: =IF(OR(C45="",B45=""),0,C45-B45)/1 -> 0 | G45: =IF(OR(F45="",E45=""),0,F45-E45)/1 -> 0 | I45: =SUM(D45+G45) -> 0 | J45: =IFERROR(VLOOKUP(M45,EMPLOI!A:J,5),"") | K45: =IF(I45>=$J$1,J45,"") | L45: {=IF(WEEKDAY(A45)=6,SUMPRODUCT(IFERROR((_xlfn.ISOWEEKNUM($A$2:$A$367)=_xlfn.ISOWEEKNUM($A45))*($K$2:$K$367),0)),"")} | M45: {=IF(OR(WEEKDAY($A45,2)=7,WEEKDAY($A45,2)=6),"",IFERROR(INDEX(Tableau1[],MATCH(1,('HEURES DE PRÉSENCE'!A45>=Tableau1[[DATE DEBUT ]])*(Tableau1[DATE FIN]>='HEURES DE PRÉSENCE'!A45),0),1),""))}
A46: =A45+1 -> 42780 | D46: =IF(OR(C46="",B46=""),0,C46-B46)/1 -> 0 | G46: =IF(OR(F46="",E46=""),0,F46-E46)/1 -> 0 | I46: =SUM(D46+G46) -> 0 | J46: =IFERROR(VLOOKUP(M46,EMPLOI!A:J,5),"") | K46: =IF(I46>=$J$1,J46,"") | L46: {=IF(WEEKDAY(A46)=6,SUMPRODUCT(IFERROR((_xlfn.ISOWEEKNUM($A$2:$A$367)=_xlfn.ISOWEEKNUM($A46))*($K$2:$K$367),0)),"")} | M46: {=IF(OR(WEEKDAY($A46,2)=7,WEEKDAY($A46,2)=6),"",IFERROR(INDEX(Tableau1[],MATCH(1,('HEURES DE PRÉSENCE'!A46>=Tableau1[[DATE DEBUT ]])*(Tableau1[DATE FIN]>='HEURES DE PRÉSENCE'!A46),0),1),""))}
A47: =A46+1 -> 42781 | D47: =IF(OR(C47="",B47=""),0,C47-B47)/1 -> 0 | G47: =IF(OR(F47="",E47=""),0,F47-E47)/1 -> 0 | I47: =SUM(D47+G47) -> 0 | J47: =IFERROR(VLOOKUP(M47,EMPLOI!A:J,5),"") | K47: =IF(I47>=$J$1,J47,"") | L47: {=IF(WEEKDAY(A47)=6,SUMPRODUCT(IFERROR((_xlfn.ISOWEEKNUM($A$2:$A$367)=_xlfn.ISOWEEKNUM($A47))*($K$2:$K$367),0)),"")} | M47: {=IF(OR(WEEKDAY($A47,2)=7,WEEKDAY($A47,2)=6),"",IFERROR(INDEX(Tableau1[],MATCH(1,('HEURES DE PRÉSENCE'!A47>=Tableau1[[DATE DEBUT ]])*(Tableau1[DATE FIN]>='HEURES DE PRÉSENCE'!A47),0),1),""))}
A48: =A47+1 -> 42782 | D48: =IF(OR(C48="",B48=""),0,C48-B48)/1 -> 0 | G48: =IF(OR(F48="",E48=""),0,F48-E48)/1 -> 0 | I48: =SUM(D48+G48) -> 0 | J48: =IFERROR(VLOOKUP(M48,EMPLOI!A:J,5),"") | K48: =IF(I48>=$J$1,J48,"") | L48: {=IF(WEEKDAY(A48)=6,SUMPRODUCT(IFERROR((_xlfn.ISOWEEKNUM($A$2:$A$367)=_xlfn.ISOWEEKNUM($A48))*($K$2:$K$367),0)),"")} | M48: {=IF(OR(WEEKDAY($A48,2)=7,WEEKDAY($A48,2)=6),"",IFERROR(INDEX(Tableau1[],MATCH(1,('HEURES DE PRÉSENCE'!A48>=Tableau1[[DATE DEBUT ]])*(Tableau1[DATE FIN]>='HEURES DE PRÉSENCE'!A48),0),1),""))}
A49: =A48+1 -> 42783 | D49: =IF(OR(C49="",B49=""),0,C49-B49)/1 -> 0 | G49: =IF(OR(F49="",E49=""),0,F49-E49)/1 -> 0 | I49: =SUM(D49+G49) -> 0 | J49: =IFERROR(VLOOKUP(M49,EMPLOI!A:J,5),"") | K49: =IF(I49>=$J$1,J49,"") | L49: {=IF(WEEKDAY(A49)=6,SUMPRODUCT(IFERROR((_xlfn.ISOWEEKNUM($A$2:$A$367)=_xlfn.ISOWEEKNUM($A49))*($K$2:$K$367),0)),"")} -> 0 | M49: {=IF(OR(WEEKDAY($A49,2)=7,WEEKDAY($A49,2)=6),"",IFERROR(INDEX(Tableau1[],MATCH(1,('HEURES DE PRÉSENCE'!A49>=Tableau1[[DATE DEBUT ]])*(Tableau1[DATE FIN]>='HEURES DE PRÉSENCE'!A49),0),1),""))}
A50: =A49+1 -> 42784 | D50: =IF(OR(C50="",B50=""),0,C50-B50)/1 -> 0 | G50: =IF(OR(F50="",E50=""),0,F50-E50)/1 -> 0 | I50: =SUM(D50+G50) -> 0 | J50: =IFERROR(VLOOKUP(M50,EMPLOI!A:J,5),"") | K50: =IF(I50>=$J$1,J50,"") | M50: {=IF(OR(WEEKDAY($A50,2)=7,WEEKDAY($A50,2)=6),"",IFERROR(INDEX(Tableau1[],MATCH(1,('HEURES DE PRÉSENCE'!A50>=Tableau1[[DATE DEBUT ]])*(Tableau1[DATE FIN]>='HEURES DE PRÉSENCE'!A50),0),1),""))}
A51: =A50+1 -> 42785 | D51: =IF(OR(C51="",B51=""),0,C51-B51)/1 -> 0 | G51: =IF(OR(F51="",E51=""),0,F51-E51)/1 -> 0 | I51: =SUM(D51+G51) -> 0 | J51: =IFERROR(VLOOKUP(M51,EMPLOI!A:J,5),"") | K51: =IF(I51>=$J$1,J51,"") | M51: {=IF(OR(WEEKDAY($A51,2)=7,WEEKDAY($A51,2)=6),"",IFERROR(INDEX(Tableau1[],MATCH(1,('HEURES DE PRÉSENCE'!A51>=Tableau1[[DATE DEBUT ]])*(Tableau1[DATE FIN]>='HEURES DE PRÉSENCE'!A51),0),1),""))}
A52: =A51+1 -> 42786 | D52: =IF(OR(C52="",B52=""),0,C52-B52)/1 -> 0 | G52: =IF(OR(F52="",E52=""),0,F52-E52)/1 -> 0 | I52: =SUM(D52+G52) -> 0 | J52: =IFERROR(VLOOKUP(M52,EMPLOI!A:J,5),"") | K52: =IF(I52>=$J$1,J52,"") | L52: {=IF(WEEKDAY(A52)=6,SUMPRODUCT(IFERROR((_xlfn.ISOWEEKNUM($A$2:$A$367)=_xlfn.ISOWEEKNUM($A52))*($K$2:$K$367),0)),"")} | M52: {=IF(OR(WEEKDAY($A52,2)=7,WEEKDAY($A52,2)=6),"",IFERROR(INDEX(Tableau1[],MATCH(1,('HEURES DE PRÉSENCE'!A52>=Tableau1[[DATE DEBUT ]])*(Tableau1[DATE FIN]>='HEURES DE PRÉSENCE'!A52),0),1),""))}
A53: =A52+1 -> 42787 | D53: =IF(OR(C53="",B53=""),0,C53-B53)/1 -> 0 | G53: =IF(OR(F53="",E53=""),0,F53-E53)/1 -> 0 | I53: =SUM(D53+G53) -> 0 | J53: =IFERROR(VLOOKUP(M53,EMPLOI!A:J,5),"") | K53: =IF(I53>=$J$1,J53,"") | L53: {=IF(WEEKDAY(A53)=6,SUMPRODUCT(IFERROR((_xlfn.ISOWEEKNUM($A$2:$A$367)=_xlfn.ISOWEEKNUM($A53))*($K$2:$K$367),0)),"")} | M53: {=IF(OR(WEEKDAY($A53,2)=7,WEEKDAY($A53,2)=6),"",IFERROR(INDEX(Tableau1[],MATCH(1,('HEURES DE PRÉSENCE'!A53>=Tableau1[[DATE DEBUT ]])*(Tableau1[DATE FIN]>='HEURES DE PRÉSENCE'!A53),0),1),""))}
A54: =A53+1 -> 42788 | D54: =IF(OR(C54="",B54=""),0,C54-B54)/1 -> 0 | G54: =IF(OR(F54="",E54=""),0,F54-E54)/1 -> 0 | I54: =SUM(D54+G54) -> 0 | J54: =IFERROR(VLOOKUP(M54,EMPLOI!A:J,5),"") | K54: =IF(I54>=$J$1,J54,"") | L54: {=IF(WEEKDAY(A54)=6,SUMPRODUCT(IFERROR((_xlfn.ISOWEEKNUM($A$2:$A$367)=_xlfn.ISOWEEKNUM($A54))*($K$2:$K$367),0)),"")} | M54: {=IF(OR(WEEKDAY($A54,2)=7,WEEKDAY($A54,2)=6),"",IFERROR(INDEX(Tableau1[],MATCH(1,('HEURES DE PRÉSENCE'!A54>=Tableau1[[DATE DEBUT ]])*(Tableau1[DATE FIN]>='HEURES DE PRÉSENCE'!A54),0),1),""))}
A55: =A54+1 -> 42789 | D55: =IF(OR(C55="",B55=""),0,C55-B55)/1 -> 0 | G55: =IF(OR(F55="",E55=""),0,F55-E55)/1 -> 0 | I55: =SUM(D55+G55) -> 0 | J55: =IFERROR(VLOOKUP(M55,EMPLOI!A:J,5),"") | K55: =IF(I55>=$J$1,J55,"") | L55: {=IF(WEEKDAY(A55)=6,SUMPRODUCT(IFERROR((_xlfn.ISOWEEKNUM($A$2:$A$367)=_xlfn.ISOWEEKNUM($A55))*($K$2:$K$367),0)),"")} | M55: {=IF(OR(WEEKDAY($A55,2)=7,WEEKDAY($A55,2)=6),"",IFERROR(INDEX(Tableau1[],MATCH(1,('HEURES DE PRÉSENCE'!A55>=Tableau1[[DATE DEBUT ]])*(Tableau1[DATE FIN]>='HEURES DE PRÉSENCE'!A55),0),1),""))}
A56: =A55+1 -> 42790 | D56: =IF(OR(C56="",B56=""),0,C56-B56)/1 -> 0 | G56: =IF(OR(F56="",E56=""),0,F56-E56)/1 -> 0 | I56: =SUM(D56+G56) -> 0 | J56: =IFERROR(VLOOKUP(M56,EMPLOI!A:J,5),"") | K56: =IF(I56>=$J$1,J56,"") | L56: {=IF(WEEKDAY(A56)=6,SUMPRODUCT(IFERROR((_xlfn.ISOWEEKNUM($A$2:$A$367)=_xlfn.ISOWEEKNUM($A56))*($K$2:$K$367),0)),"")} -> 0 | M56: {=IF(OR(WEEKDAY($A56,2)=7,WEEKDAY($A56,2)=6),"",IFERROR(INDEX(Tableau1[],MATCH(1,('HEURES DE PRÉSENCE'!A56>=Tableau1[[DATE DEBUT ]])*(Tableau1[DATE FIN]>='HEURES DE PRÉSENCE'!A56),0),1),""))}
A57: =A56+1 -> 42791 | D57: =IF(OR(C57="",B57=""),0,C57-B57)/1 -> 0 | G57: =IF(OR(F57="",E57=""),0,F57-E57)/1 -> 0 | I57: =SUM(D57+G57) -> 0 | J57: =IFERROR(VLOOKUP(M57,EMPLOI!A:J,5),"") | K57: =IF(I57>=$J$1,J57,"") | M57: {=IF(OR(WEEKDAY($A57,2)=7,WEEKDAY($A57,2)=6),"",IFERROR(INDEX(Tableau1[],MATCH(1,('HEURES DE PRÉSENCE'!A57>=Tableau1[[DATE DEBUT ]])*(Tableau1[DATE FIN]>='HEURES DE PRÉSENCE'!A57),0),1),""))}
A58: =A57+1 -> 42792 | D58: =IF(OR(C58="",B58=""),0,C58-B58)/1 -> 0 | G58: =IF(OR(F58="",E58=""),0,F58-E58)/1 -> 0 | I58: =SUM(D58+G58) -> 0 | J58: =IFERROR(VLOOKUP(M58,EMPLOI!A:J,5),"") | K58: =IF(I58>=$J$1,J58,"") | M58: {=IF(OR(WEEKDAY($A58,2)=7,WEEKDAY($A58,2)=6),"",IFERROR(INDEX(Tableau1[],MATCH(1,('HEURES DE PRÉSENCE'!A58>=Tableau1[[DATE DEBUT ]])*(Tableau1[DATE FIN]>='HEURES DE PRÉSENCE'!A58),0),1),""))}
A59: =A58+1 -> 42793 | D59: =IF(OR(C59="",B59=""),0,C59-B59)/1 -> 0 | G59: =IF(OR(F59="",E59=""),0,F59-E59)/1 -> 0 | I59: =SUM(D59+G59) -> 0 | J59: =IFERROR(VLOOKUP(M59,EMPLOI!A:J,5),"") | K59: =IF(I59>=$J$1,J59,"") | L59: {=IF(WEEKDAY(A59)=6,SUMPRODUCT(IFERROR((_xlfn.ISOWEEKNUM($A$2:$A$367)=_xlfn.ISOWEEKNUM($A59))*($K$2:$K$367),0)),"")} | M59: {=IF(OR(WEEKDAY($A59,2)=7,WEEKDAY($A59,2)=6),"",IFERROR(INDEX(Tableau1[],MATCH(1,('HEURES DE PRÉSENCE'!A59>=Tableau1[[DATE DEBUT ]])*(Tableau1[DATE FIN]>='HEURES DE PRÉSENCE'!A59),0),1),""))}
A60: =A59+1 -> 42794 | D60: =IF(OR(C60="",B60=""),0,C60-B60)/1 -> 0 | G60: =IF(OR(F60="",E60=""),0,F60-E60)/1 -> 0 | I60: =SUM(D60+G60) -> 0 | J60: =IFERROR(VLOOKUP(M60,EMPLOI!A:J,5),"") | K60: =IF(I60>=$J$1,J60,"") | L60: {=IF(WEEKDAY(A60)=6,SUMPRODUCT(IFERROR((_xlfn.ISOWEEKNUM($A$2:$A$367)=_xlfn.ISOWEEKNUM($A60))*($K$2:$K$367),0)),"")} | M60: {=IF(OR(WEEKDAY($A60,2)=7,WEEKDAY($A60,2)=6),"",IFERROR(INDEX(Tableau1[],MATCH(1,('HEURES DE PRÉSENCE'!A60>=Tableau1[[DATE DEBUT ]])*(Tableau1[DATE FIN]>='HEURES DE PRÉSENCE'!A60),0),1),""))}
A61: =A60+1 -> 42795 | D61: =IF(OR(C61="",B61=""),0,C61-B61)/1 -> 0 | G61: =IF(OR(F61="",E61=""),0,F61-E61)/1 -> 0 | I61: =SUM(D61+G61) -> 0 | J61: =IFERROR(VLOOKUP(M61,EMPLOI!A:J,5),"") | K61: =IF(I61>=$J$1,J61,"") | L61: {=IF(WEEKDAY(A61)=6,SUMPRODUCT(IFERROR((_xlfn.ISOWEEKNUM($A$2:$A$367)=_xlfn.ISOWEEKNUM($A61))*($K$2:$K$367),0)),"")} | M61: {=IF(OR(WEEKDAY($A61,2)=7,WEEKDAY($A61,2)=6),"",IFERROR(INDEX(Tableau1[],MATCH(1,('HEURES DE PRÉSENCE'!A61>=Tableau1[[DATE DEBUT ]])*(Tableau1[DATE FIN]>='HEURES DE PRÉSENCE'!A61),0),1),""))}
A62: =A61+1 -> 42796 | D62: =IF(OR(C62="",B62=""),0,C62-B62)/1 -> 0 | G62: =IF(OR(F62="",E62=""),0,F62-E62)/1 -> 0 | I62: =SUM(D62+G62) -> 0 | J62: =IFERROR(VLOOKUP(M62,EMPLOI!A:J,5),"") | K62: =IF(I62>=$J$1,J62,"") | L62: {=IF(WEEKDAY(A62)=6,SUMPRODUCT(IFERROR((_xlfn.ISOWEEKNUM($A$2:$A$367)=_xlfn.ISOWEEKNUM($A62))*($K$2:$K$367),0)),"")} | M62: {=IF(OR(WEEKDAY($A62,2)=7,WEEKDAY($A62,2)=6),"",IFERROR(INDEX(Tableau1[],MATCH(1,('HEURES DE PRÉSENCE'!A62>=Tableau1[[DATE DEBUT ]])*(Tableau1[DATE FIN]>='HEURES DE PRÉSENCE'!A62),0),1),""))}
A63: =A62+1 -> 42797 | D63: =IF(OR(C63="",B63=""),0,C63-B63)/1 -> 0 | G63: =IF(OR(F63="",E63=""),0,F63-E63)/1 -> 0 | I63: =SUM(D63+G63) -> 0 | J63: =IFERROR(VLOOKUP(M63,EMPLOI!A:J,5),"") | K63: =IF(I63>=$J$1,J63,"") | L63: {=IF(WEEKDAY(A63)=6,SUMPRODUCT(IFERROR((_xlfn.ISOWEEKNUM($A$2:$A$367)=_xlfn.ISOWEEKNUM($A63))*($K$2:$K$367),0)),"")} -> 0 | M63: {=IF(OR(WEEKDAY($A63,2)=7,WEEKDAY($A63,2)=6),"",IFERROR(INDEX(Tableau1[],MATCH(1,('HEURES DE PRÉSENCE'!A63>=Tableau1[[DATE DEBUT ]])*(Tableau1[DATE FIN]>='HEURES DE PRÉSENCE'!A63),0),1),""))}
A64: =A63+1 -> 42798 | D64: =IF(OR(C64="",B64=""),0,C64-B64)/1 -> 0 | G64: =IF(OR(F64="",E64=""),0,F64-E64)/1 -> 0 | I64: =SUM(D64+G64) -> 0 | J64: =IFERROR(VLOOKUP(M64,EMPLOI!A:J,5),"") | K64: =IF(I64>=$J$1,J64,"") | M64: {=IF(OR(WEEKDAY($A64,2)=7,WEEKDAY($A64,2)=6),"",IFERROR(INDEX(Tableau1[],MATCH(1,('HEURES DE PRÉSENCE'!A64>=Tableau1[[DATE DEBUT ]])*(Tableau1[DATE FIN]>='HEURES DE PRÉSENCE'!A64),0),1),""))}
A65: =A64+1 -> 42799 | D65: =IF(OR(C65="",B65=""),0,C65-B65)/1 -> 0 | G65: =IF(OR(F65="",E65=""),0,F65-E65)/1 -> 0 | I65: =SUM(D65+G65) -> 0 | J65: =IFERROR(VLOOKUP(M65,EMPLOI!A:J,5),"") | K65: =IF(I65>=$J$1,J65,"") | M65: {=IF(OR(WEEKDAY($A65,2)=7,WEEKDAY($A65,2)=6),"",IFERROR(INDEX(Tableau1[],MATCH(1,('HEURES DE PRÉSENCE'!A65>=Tableau1[[DATE DEBUT ]])*(Tableau1[DATE FIN]>='HEURES DE PRÉSENCE'!A65),0),1),""))}
A66: =A65+1 -> 42800 | D66: =IF(OR(C66="",B66=""),0,C66-B66)/1 -> 0 | G66: =IF(OR(F66="",E66=""),0,F66-E66)/1 -> 0 | I66: =SUM(D66+G66) -> 0 | J66: =IFERROR(VLOOKUP(M66,EMPLOI!A:J,5),"") | K66: =IF(I66>=$J$1,J66,"") | L66: {=IF(WEEKDAY(A66)=6,SUMPRODUCT(IFERROR((_xlfn.ISOWEEKNUM($A$2:$A$367)=_xlfn.ISOWEEKNUM($A66))*($K$2:$K$367),0)),"")} | M66: {=IF(OR(WEEKDAY($A66,2)=7,WEEKDAY($A66,2)=6),"",IFERROR(INDEX(Tableau1[],MATCH(1,('HEURES DE PRÉSENCE'!A66>=Tableau1[[DATE DEBUT ]])*(Tableau1[DATE FIN]>='HEURES DE PRÉSENCE'!A66),0),1),""))}
A67: =A66+1 -> 42801 | D67: =IF(OR(C67="",B67=""),0,C67-B67)/1 -> 0 | G67: =IF(OR(F67="",E67=""),0,F67-E67)/1 -> 0 | I67: =SUM(D67+G67) -> 0 | J67: =IFERROR(VLOOKUP(M67,EMPLOI!A:J,5),"") | K67: =IF(I67>=$J$1,J67,"") | L67: {=IF(WEEKDAY(A67)=6,SUMPRODUCT(IFERROR((_xlfn.ISOWEEKNUM($A$2:$A$367)=_xlfn.ISOWEEKNUM($A67))*($K$2:$K$367),0)),"")} | M67: {=IF(OR(WEEKDAY($A67,2)=7,WEEKDAY($A67,2)=6),"",IFERROR(INDEX(Tableau1[],MATCH(1,('HEURES DE PRÉSENCE'!A67>=Tableau1[[DATE DEBUT ]])*(Tableau1[DATE FIN]>='HEURES DE PRÉSENCE'!A67),0),1),""))}
A68: =A67+1 -> 42802 | D68: =IF(OR(C68="",B68=""),0,C68-B68)/1 -> 0 | G68: =IF(OR(F68="",E68=""),0,F68-E68)/1 -> 0 | I68: =SUM(D68+G68) -> 0 | J68: =IFERROR(VLOOKUP(M68,EMPLOI!A:J,5),"") | K68: =IF(I68>=$J$1,J68,"") | L68: {=IF(WEEKDAY(A68)=6,SUMPRODUCT(IFERROR((_xlfn.ISOWEEKNUM($A$2:$A$367)=_xlfn.ISOWEEKNUM($A68))*($K$2:$K$367),0)),"")} | M68: {=IF(OR(WEEKDAY($A68,2)=7,WEEKDAY($A68,2)=6),"",IFERROR(INDEX(Tableau1[],MATCH(1,('HEURES DE PRÉSENCE'!A68>=Tableau1[[DATE DEBUT ]])*(Tableau1[DATE FIN]>='HEURES DE PRÉSENCE'!A68),0),1),""))}
A69: =A68+1 -> 42803 | D69: =IF(OR(C69="",B69=""),0,C69-B69)/1 -> 0 | G69: =IF(OR(F69="",E69=""),0,F69-E69)/1 -> 0 | I69: =SUM(D69+G69) -> 0 | J69: =IFERROR(VLOOKUP(M69,EMPLOI!A:J,5),"") | K69: =IF(I69>=$J$1,J69,"") | L69: {=IF(WEEKDAY(A69)=6,SUMPRODUCT(IFERROR((_xlfn.ISOWEEKNUM($A$2:$A$367)=_xlfn.ISOWEEKNUM($A69))*($K$2:$K$367),0)),"")} | M69: {=IF(OR(WEEKDAY($A69,2)=7,WEEKDAY($A69,2)=6),"",IFERROR(INDEX(Tableau1[],MATCH(1,('HEURES DE PRÉSENCE'!A69>=Tableau1[[DATE DEBUT ]])*(Tableau1[DATE FIN]>='HEURES DE PRÉSENCE'!A69),0),1),""))}
A70: =A69+1 -> 42804 | D70: =IF(OR(C70="",B70=""),0,C70-B70)/1 -> 0 | G70: =IF(OR(F70="",E70=""),0,F70-E70)/1 -> 0 | I70: =SUM(D70+G70) -> 0 | J70: =IFERROR(VLOOKUP(M70,EMPLOI!A:J,5),"") | K70: =IF(I70>=$J$1,J70,"") | L70: {=IF(WEEKDAY(A70)=6,SUMPRODUCT(IFERROR((_xlfn.ISOWEEKNUM($A$2:$A$367)=_xlfn.ISOWEEKNUM($A70))*($K$2:$K$367),0)),"")} -> 0 | M70: {=IF(OR(WEEKDAY($A70,2)=7,WEEKDAY($A70,2)=6),"",IFERROR(INDEX(Tableau1[],MATCH(1,('HEURES DE PRÉSENCE'!A70>=Tableau1[[DATE DEBUT ]])*(Tableau1[DATE FIN]>='HEURES DE PRÉSENCE'!A70),0),1),""))}
A71: =A70+1 -> 42805 | D71: =IF(OR(C71="",B71=""),0,C71-B71)/1 -> 0 | G71: =IF(OR(F71="",E71=""),0,F71-E71)/1 -> 0 | I71: =SUM(D71+G71) -> 0 | J71: =IFERROR(VLOOKUP(M71,EMPLOI!A:J,5),"") | K71: =IF(I71>=$J$1,J71,"") | M71: {=IF(OR(WEEKDAY($A71,2)=7,WEEKDAY($A71,2)=6),"",IFERROR(INDEX(Tableau1[],MATCH(1,('HEURES DE PRÉSENCE'!A71>=Tableau1[[DATE DEBUT ]])*(Tableau1[DATE FIN]>='HEURES DE PRÉSENCE'!A71),0),1),""))}
A72: =A71+1 -> 42806 | D72: =IF(OR(C72="",B72=""),0,C72-B72)/1 -> 0 | G72: =IF(OR(F72="",E72=""),0,F72-E72)/1 -> 0 | I72: =SUM(D72+G72) -> 0 | J72: =IFERROR(VLOOKUP(M72,EMPLOI!A:J,5),"") | K72: =IF(I72>=$J$1,J72,"") | M72: {=IF(OR(WEEKDAY($A72,2)=7,WEEKDAY($A72,2)=6),"",IFERROR(INDEX(Tableau1[],MATCH(1,('HEURES DE PRÉSENCE'!A72>=Tableau1[[DATE DEBUT ]])*(Tableau1[DATE FIN]>='HEURES DE PRÉSENCE'!A72),0),1),""))}
A73: =A72+1 -> 42807 | D73: =IF(OR(C73="",B73=""),0,C73-B73)/1 -> 0 | G73: =IF(OR(F73="",E73=""),0,F73-E73)/1 -> 0 | I73: =SUM(D73+G73) -> 0 | J73: =IFERROR(VLOOKUP(M73,EMPLOI!A:J,5),"") | K73: =IF(I73>=$J$1,J73,"") | L73: {=IF(WEEKDAY(A73)=6,SUMPRODUCT(IFERROR((_xlfn.ISOWEEKNUM($A$2:$A$367)=_xlfn.ISOWEEKNUM($A73))*($K$2:$K$367),0)),"")} | M73: {=IF(OR(WEEKDAY($A73,2)=7,WEEKDAY($A73,2)=6),"",IFERROR(INDEX(Tableau1[],MATCH(1,('HEURES DE PRÉSENCE'!A73>=Tableau1[[DATE DEBUT ]])*(Tableau1[DATE FIN]>='HEURES DE PRÉSENCE'!A73),0),1),""))}
A74: =A73+1 -> 42808 | D74: =IF(OR(C74="",B74=""),0,C74-B74)/1 -> 0 | G74: =IF(OR(F74="",E74=""),0,F74-E74)/1 -> 0 | I74: =SUM(D74+G74) -> 0 | J74: =IFERROR(VLOOKUP(M74,EMPLOI!A:J,5),"") | K74: =IF(I74>=$J$1,J74,"") | L74: {=IF(WEEKDAY(A74)=6,SUMPRODUCT(IFERROR((_xlfn.ISOWEEKNUM($A$2:$A$367)=_xlfn.ISOWEEKNUM($A74))*($K$2:$K$367),0)),"")} | M74: {=IF(OR(WEEKDAY($A74,2)=7,WEEKDAY($A74,2)=6),"",IFERROR(INDEX(Tableau1[],MATCH(1,('HEURES DE PRÉSENCE'!A74>=Tableau1[[DATE DEBUT ]])*(Tableau1[DATE FIN]>='HEURES DE PRÉSENCE'!A74),0),1),""))}
A75: =A74+1 -> 42809 | D75: =IF(OR(C75="",B75=""),0,C75-B75)/1 -> 0 | G75: =IF(OR(F75="",E75=""),0,F75-E75)/1 -> 0 | I75: =SUM(D75+G75) -> 0 | J75: =IFERROR(VLOOKUP(M75,EMPLOI!A:J,5),"") | K75: =IF(I75>=$J$1,J75,"") | L75: {=IF(WEEKDAY(A75)=6,SUMPRODUCT(IFERROR((_xlfn.ISOWEEKNUM($A$2:$A$367)=_xlfn.ISOWEEKNUM($A75))*($K$2:$K$367),0)),"")} | M75: {=IF(OR(WEEKDAY($A75,2)=7,WEEKDAY($A75,2)=6),"",IFERROR(INDEX(Tableau1[],MATCH(1,('HEURES DE PRÉSENCE'!A75>=Tableau1[[DATE DEBUT ]])*(Tableau1[DATE FIN]>='HEURES DE PRÉSENCE'!A75),0),1),""))}
A76: =A75+1 -> 42810 | D76: =IF(OR(C76="",B76=""),0,C76-B76)/1 -> 0 | G76: =IF(OR(F76="",E76=""),0,F76-E76)/1 -> 0 | I76: =SUM(D76+G76) -> 0 | J76: =IFERROR(VLOOKUP(M76,EMPLOI!A:J,5),"") | K76: =IF(I76>=$J$1,J76,"") | L76: {=IF(WEEKDAY(A76)=6,SUMPRODUCT(IFERROR((_xlfn.ISOWEEKNUM($A$2:$A$367)=_xlfn.ISOWEEKNUM($A76))*($K$2:$K$367),0)),"")} | M76: {=IF(OR(WEEKDAY($A76,2)=7,WEEKDAY($A76,2)=6),"",IFERROR(INDEX(Tableau1[],MATCH(1,('HEURES DE PRÉSENCE'!A76>=Tableau1[[DATE DEBUT ]])*(Tableau1[DATE FIN]>='HEURES DE PRÉSENCE'!A76),0),1),""))}
A77: =A76+1 -> 42811 | D77: =IF(OR(C77="",B77=""),0,C77-B77)/1 -> 0 | G77: =IF(OR(F77="",E77=""),0,F77-E77)/1 -> 0 | I77: =SUM(D77+G77) -> 0 | J77: =IFERROR(VLOOKUP(M77,EMPLOI!A:J,5),"") | K77: =IF(I77>=$J$1,J77,"") | L77: {=IF(WEEKDAY(A77)=6,SUMPRODUCT(IFERROR((_xlfn.ISOWEEKNUM($A$2:$A$367)=_xlfn.ISOWEEKNUM($A77))*($K$2:$K$367),0)),"")} -> 0 | M77: {=IF(OR(WEEKDAY($A77,2)=7,WEEKDAY($A77,2)=6),"",IFERROR(INDEX(Tableau1[],MATCH(1,('HEURES DE PRÉSENCE'!A77>=Tableau1[[DATE DEBUT ]])*(Tableau1[DATE FIN]>='HEURES DE PRÉSENCE'!A77),0),1),""))}
A78: =A77+1 -> 42812 | D78: =IF(OR(C78="",B78=""),0,C78-B78)/1 -> 0 | G78: =IF(OR(F78="",E78=""),0,F78-E78)/1 -> 0 | I78: =SUM(D78+G78) -> 0 | J78: =IFERROR(VLOOKUP(M78,EMPLOI!A:J,5),"") | K78: =IF(I78>=$J$1,J78,"") | M78: {=IF(OR(WEEKDAY($A78,2)=7,WEEKDAY($A78,2)=6),"",IFERROR(INDEX(Tableau1[],MATCH(1,('HEURES DE PRÉSENCE'!A78>=Tableau1[[DATE DEBUT ]])*(Tableau1[DATE FIN]>='HEURES DE PRÉSENCE'!A78),0),1),""))}
A79: =A78+1 -> 42813 | D79: =IF(OR(C79="",B79=""),0,C79-B79)/1 -> 0 | G79: =IF(OR(F79="",E79=""),0,F79-E79)/1 -> 0 | I79: =SUM(D79+G79) -> 0 | J79: =IFERROR(VLOOKUP(M79,EMPLOI!A:J,5),"") | K79: =IF(I79>=$J$1,J79,"") | M79: {=IF(OR(WEEKDAY($A79,2)=7,WEEKDAY($A79,2)=6),"",IFERROR(INDEX(Tableau1[],MATCH(1,('HEURES DE PRÉSENCE'!A79>=Tableau1[[DATE DEBUT ]])*(Tableau1[DATE FIN]>='HEURES DE PRÉSENCE'!A79),0),1),""))}
A80: =A79+1 -> 42814 | D80: =IF(OR(C80="",B80=""),0,C80-B80)/1 -> 0 | G80: =IF(OR(F80="",E80=""),0,F80-E80)/1 -> 0 | I80: =SUM(D80+G80) -> 0 | J80: =IFERROR(VLOOKUP(M80,EMPLOI!A:J,5),"") | K80: =IF(I80>=$J$1,J80,"") | L80: {=IF(WEEKDAY(A80)=6,SUMPRODUCT(IFERROR((_xlfn.ISOWEEKNUM($A$2:$A$367)=_xlfn.ISOWEEKNUM($A80))*($K$2:$K$367),0)),"")} | M80: {=IF(OR(WEEKDAY($A80,2)=7,WEEKDAY($A80,2)=6),"",IFERROR(INDEX(Tableau1[],MATCH(1,('HEURES DE PRÉSENCE'!A80>=Tableau1[[DATE DEBUT ]])*(Tableau1[DATE FIN]>='HEURES DE PRÉSENCE'!A80),0),1),""))}
A81: =A80+1 -> 42815 | D81: =IF(OR(C81="",B81=""),0,C81-B81)/1 -> 0 | G81: =IF(OR(F81="",E81=""),0,F81-E81)/1 -> 0 | I81: =SUM(D81+G81) -> 0 | J81: =IFERROR(VLOOKUP(M81,EMPLOI!A:J,5),"") | K81: =IF(I81>=$J$1,J81,"") | L81: {=IF(WEEKDAY(A81)=6,SUMPRODUCT(IFERROR((_xlfn.ISOWEEKNUM($A$2:$A$367)=_xlfn.ISOWEEKNUM($A81))*($K$2:$K$367),0)),"")} | M81: {=IF(OR(WEEKDAY($A81,2)=7,WEEKDAY($A81,2)=6),"",IFERROR(INDEX(Tableau1[],MATCH(1,('HEURES DE PRÉSENCE'!A81>=Tableau1[[DATE DEBUT ]])*(Tableau1[DATE FIN]>='HEURES DE PRÉSENCE'!A81),0),1),""))}
A82: =A81+1 -> 42816 | D82: =IF(OR(C82="",B82=""),0,C82-B82)/1 -> 0 | G82: =IF(OR(F82="",E82=""),0,F82-E82)/1 -> 0 | I82: =SUM(D82+G82) -> 0 | J82: =IFERROR(VLOOKUP(M82,EMPLOI!A:J,5),"") | K82: =IF(I82>=$J$1,J82,"") | L82: {=IF(WEEKDAY(A82)=6,SUMPRODUCT(IFERROR((_xlfn.ISOWEEKNUM($A$2:$A$367)=_xlfn.ISOWEEKNUM($A82))*($K$2:$K$367),0)),"")} | M82: {=IF(OR(WEEKDAY($A82,2)=7,WEEKDAY($A82,2)=6),"",IFERROR(INDEX(Tableau1[],MATCH(1,('HEURES DE PRÉSENCE'!A82>=Tableau1[[DATE DEBUT ]])*(Tableau1[DATE FIN]>='HEURES DE PRÉSENCE'!A82),0),1),""))}
A83: =A82+1 -> 42817 | D83: =IF(OR(C83="",B83=""),0,C83-B83)/1 -> 0 | G83: =IF(OR(F83="",E83=""),0,F83-E83)/1 -> 0 | I83: =SUM(D83+G83) -> 0 | J83: =IFERROR(VLOOKUP(M83,EMPLOI!A:J,5),"") | K83: =IF(I83>=$J$1,J83,"") | L83: {=IF(WEEKDAY(A83)=6,SUMPRODUCT(IFERROR((_xlfn.ISOWEEKNUM($A$2:$A$367)=_xlfn.ISOWEEKNUM($A83))*($K$2:$K$367),0)),"")} | M83: {=IF(OR(WEEKDAY($A83,2)=7,WEEKDAY($A83,2)=6),"",IFERROR(INDEX(Tableau1[],MATCH(1,('HEURES DE PRÉSENCE'!A83>=Tableau1[[DATE DEBUT ]])*(Tableau1[DATE FIN]>='HEURES DE PRÉSENCE'!A83),0),1),""))}
A84: =A83+1 -> 42818 | D84: =IF(OR(C84="",B84=""),0,C84-B84)/1 -> 0 | G84: =IF(OR(F84="",E84=""),0,F84-E84)/1 -> 0 | I84: =SUM(D84+G84) -> 0 | J84: =IFERROR(VLOOKUP(M84,EMPLOI!A:J,5),"") | K84: =IF(I84>=$J$1,J84,"") | L84: {=IF(WEEKDAY(A84)=6,SUMPRODUCT(IFERROR((_xlfn.ISOWEEKNUM($A$2:$A$367)=_xlfn.ISOWEEKNUM($A84))*($K$2:$K$367),0)),"")} -> 0 | M84: {=IF(OR(WEEKDAY($A84,2)=7,WEEKDAY($A84,2)=6),"",IFERROR(INDEX(Tableau1[],MATCH(1,('HEURES DE PRÉSENCE'!A84>=Tableau1[[DATE DEBUT ]])*(Tableau1[DATE FIN]>='HEURES DE PRÉSENCE'!A84),0),1),""))}
A85: =A84+1 -> 42819 | D85: =IF(OR(C85="",B85=""),0,C85-B85)/1 -> 0 | G85: =IF(OR(F85="",E85=""),0,F85-E85)/1 -> 0 | I85: =SUM(D85+G85) -> 0 | J85: =IFERROR(VLOOKUP(M85,EMPLOI!A:J,5),"") | K85: =IF(I85>=$J$1,J85,"") | M85: {=IF(OR(WEEKDAY($A85,2)=7,WEEKDAY($A85,2)=6),"",IFERROR(INDEX(Tableau1[],MATCH(1,('HEURES DE PRÉSENCE'!A85>=Tableau1[[DATE DEBUT ]])*(Tableau1[DATE FIN]>='HEURES DE PRÉSENCE'!A85),0),1),""))}
A86: =A85+1 -> 42820 | D86: =IF(OR(C86="",B86=""),0,C86-B86)/1 -> 0 | G86: =IF(OR(F86="",E86=""),0,F86-E86)/1 -> 0 | I86: =SUM(D86+G86) -> 0 | J86: =IFERROR(VLOOKUP(M86,EMPLOI!A:J,5),"") | K86: =IF(I86>=$J$1,J86,"") | M86: {=IF(OR(WEEKDAY($A86,2)=7,WEEKDAY($A86,2)=6),"",IFERROR(INDEX(Tableau1[],MATCH(1,('HEURES DE PRÉSENCE'!A86>=Tableau1[[DATE DEBUT ]])*(Tableau1[DATE FIN]>='HEURES DE PRÉSENCE'!A86),0),1),""))}
A87: =A86+1 -> 42821 | D87: =IF(OR(C87="",B87=""),0,C87-B87)/1 -> 0 | G87: =IF(OR(F87="",E87=""),0,F87-E87)/1 -> 0 | I87: =SUM(D87+G87) -> 0 | J87: =IFERROR(VLOOKUP(M87,EMPLOI!A:J,5),"") | K87: =IF(I87>=$J$1,J87,"") | L87: {=IF(WEEKDAY(A87)=6,SUMPRODUCT(IFERROR((_xlfn.ISOWEEKNUM($A$2:$A$367)=_xlfn.ISOWEEKNUM($A87))*($K$2:$K$367),0)),"")} | M87: {=IF(OR(WEEKDAY($A87,2)=7,WEEKDAY($A87,2)=6),"",IFERROR(INDEX(Tableau1[],MATCH(1,('HEURES DE PRÉSENCE'!A87>=Tableau1[[DATE DEBUT ]])*(Tableau1[DATE FIN]>='HEURES DE PRÉSENCE'!A87),0),1),""))}
A88: =A87+1 -> 42822 | D88: =IF(OR(C88="",B88=""),0,C88-B88)/1 -> 0 | G88: =IF(OR(F88="",E88=""),0,F88-E88)/1 -> 0 | I88: =SUM(D88+G88) -> 0 | J88: =IFERROR(VLOOKUP(M88,EMPLOI!A:J,5),"") | K88: =IF(I88>=$J$1,J88,"") | L88: {=IF(WEEKDAY(A88)=6,SUMPRODUCT(IFERROR((_xlfn.ISOWEEKNUM($A$2:$A$367)=_xlfn.ISOWEEKNUM($A88))*($K$2:$K$367),0)),"")} | M88: {=IF(OR(WEEKDAY($A88,2)=7,WEEKDAY($A88,2)=6),"",IFERROR(INDEX(Tableau1[],MATCH(1,('HEURES DE PRÉSENCE'!A88>=Tableau1[[DATE DEBUT ]])*(Tableau1[DATE FIN]>='HEURES DE PRÉSENCE'!A88),0),1),""))}
A89: =A88+1 -> 42823 | D89: =IF(OR(C89="",B89=""),0,C89-B89)/1 -> 0 | G89: =IF(OR(F89="",E89=""),0,F89-E89)/1 -> 0 | I89: =SUM(D89+G89) -> 0 | J89: =IFERROR(VLOOKUP(M89,EMPLOI!A:J,5),"") | K89: =IF(I89>=$J$1,J89,"") | L89: {=IF(WEEKDAY(A89)=6,SUMPRODUCT(IFERROR((_xlfn.ISOWEEKNUM($A$2:$A$367)=_xlfn.ISOWEEKNUM($A89))*($K$2:$K$367),0)),"")} | M89: {=IF(OR(WEEKDAY($A89,2)=7,WEEKDAY($A89,2)=6),"",IFERROR(INDEX(Tableau1[],MATCH(1,('HEURES DE PRÉSENCE'!A89>=Tableau1[[DATE DEBUT ]])*(Tableau1[DATE FIN]>='HEURES DE PRÉSENCE'!A89),0),1),""))}
A90: =A89+1 -> 42824 | D90: =IF(OR(C90="",B90=""),0,C90-B90)/1 -> 0 | G90: =IF(OR(F90="",E90=""),0,F90-E90)/1 -> 0 | I90: =SUM(D90+G90) -> 0 | J90: =IFERROR(VLOOKUP(M90,EMPLOI!A:J,5),"") | K90: =IF(I90>=$J$1,J90,"") | L90: {=IF(WEEKDAY(A90)=6,SUMPRODUCT(IFERROR((_xlfn.ISOWEEKNUM($A$2:$A$367)=_xlfn.ISOWEEKNUM($A90))*($K$2:$K$367),0)),"")} | M90: {=IF(OR(WEEKDAY($A90,2)=7,WEEKDAY($A90,2)=6),"",IFERROR(INDEX(Tableau1[],MATCH(1,('HEURES DE PRÉSENCE'!A90>=Tableau1[[DATE DEBUT ]])*(Tableau1[DATE FIN]>='HEURES DE PRÉSENCE'!A90),0),1),""))}
A91: =A90+1 -> 42825 | D91: =IF(OR(C91="",B91=""),0,C91-B91)/1 -> 0 | G91: =IF(OR(F91="",E91=""),0,F91-E91)/1 -> 0 | I91: =SUM(D91+G91) -> 0 | J91: =IFERROR(VLOOKUP(M91,EMPLOI!A:J,5),"") | K91: =IF(I91>=$J$1,J91,"") | L91: {=IF(WEEKDAY(A91)=6,SUMPRODUCT(IFERROR((_xlfn.ISOWEEKNUM($A$2:$A$367)=_xlfn.ISOWEEKNUM($A91))*($K$2:$K$367),0)),"")} -> 0 | M91: {=IF(OR(WEEKDAY($A91,2)=7,WEEKDAY($A91,2)=6),"",IFERROR(INDEX(Tableau1[],MATCH(1,('HEURES DE PRÉSENCE'!A91>=Tableau1[[DATE DEBUT ]])*(Tableau1[DATE FIN]>='HEURES DE PRÉSENCE'!A91),0),1),""))}
A92: =A91+1 -> 42826 | D92: =IF(OR(C92="",B92=""),0,C92-B92)/1 -> 0 | G92: =IF(OR(F92="",E92=""),0,F92-E92)/1 -> 0 | I92: =SUM(D92+G92) -> 0 | J92: =IFERROR(VLOOKUP(M92,EMPLOI!A:J,5),"") | K92: =IF(I92>=$J$1,J92,"") | M92: {=IF(OR(WEEKDAY($A92,2)=7,WEEKDAY($A92,2)=6),"",IFERROR(INDEX(Tableau1[],MATCH(1,('HEURES DE PRÉSENCE'!A92>=Tableau1[[DATE DEBUT ]])*(Tableau1[DATE FIN]>='HEURES DE PRÉSENCE'!A92),0),1),""))}
A93: =A92+1 -> 42827 | D93: =IF(OR(C93="",B93=""),0,C93-B93)/1 -> 0 | G93: =IF(OR(F93="",E93=""),0,F93-E93)/1 -> 0 | I93: =SUM(D93+G93) -> 0 | J93: =IFERROR(VLOOKUP(M93,EMPLOI!A:J,5),"") | K93: =IF(I93>=$J$1,J93,"") | M93: {=IF(OR(WEEKDAY($A93,2)=7,WEEKDAY($A93,2)=6),"",IFERROR(INDEX(Tableau1[],MATCH(1,('HEURES DE PRÉSENCE'!A93>=Tableau1[[DATE DEBUT ]])*(Tableau1[DATE FIN]>='HEURES DE PRÉSENCE'!A93),0),1),""))}
A94: =A93+1 -> 42828 | D94: =IF(OR(C94="",B94=""),0,C94-B94)/1 -> 0 | G94: =IF(OR(F94="",E94=""),0,F94-E94)/1 -> 0 | I94: =SUM(D94+G94) -> 0 | J94: =IFERROR(VLOOKUP(M94,EMPLOI!A:J,5),"") | K94: =IF(I94>=$J$1,J94,"") | L94: {=IF(WEEKDAY(A94)=6,SUMPRODUCT(IFERROR((_xlfn.ISOWEEKNUM($A$2:$A$367)=_xlfn.ISOWEEKNUM($A94))*($K$2:$K$367),0)),"")} | M94: {=IF(OR(WEEKDAY($A94,2)=7,WEEKDAY($A94,2)=6),"",IFERROR(INDEX(Tableau1[],MATCH(1,('HEURES DE PRÉSENCE'!A94>=Tableau1[[DATE DEBUT ]])*(Tableau1[DATE FIN]>='HEURES DE PRÉSENCE'!A94),0),1),""))}
A95: =A94+1 -> 42829 | B95: 0.33333333 | C95: 0.48958333 | D95: =IF(OR(C95="",B95=""),0,C95-B95)/1 -> 0.15625 | E95: 0.53125 | F95: 0.66666667 | G95: =IF(OR(F95="",E95=""),0,F95-E95)/1 -> 0.13541667 | I95: =SUM(D95+G95) -> 0.29166667 | J95: =IFERROR(VLOOKUP(M95,EMPLOI!A:J,5),"") -> 70.6 | K95: =IF(I95>=$J$1,J95,"") -> 70.6 | L95: {=IF(WEEKDAY(A95)=6,SUMPRODUCT(IFERROR((_xlfn.ISOWEEKNUM($A$2:$A$367)=_xlfn.ISOWEEKNUM($A95))*($K$2:$K$367),0)),"")} | M95: {=IF(OR(WEEKDAY($A95,2)=7,WEEKDAY($A95,2)=6),"",IFERROR(INDEX(Tableau1[],MATCH(1,('HEURES DE PRÉSENCE'!A95>=Tableau1[[DATE DEBUT ]])*(Tableau1[DATE FIN]>='HEURES DE PRÉSENCE'!A95),0),1),""))} -> 1
A96: =A95+1 -> 42830 | B96: 0.33333333 | C96: 0.48958333 | D96: =IF(OR(C96="",B96=""),0,C96-B96)/1 -> 0.15625 | E96: 0.53125 | F96: 0.66666667 | G96: =IF(OR(F96="",E96=""),0,F96-E96)/1 -> 0.13541667 | I96: =SUM(D96+G96) -> 0.29166667 | J96: =IFERROR(VLOOKUP(M96,EMPLOI!A:J,5),"") -> 70.6 | K96: =IF(I96>=$J$1,J96,"") -> 70.6 | L96: {=IF(WEEKDAY(A96)=6,SUMPRODUCT(IFERROR((_xlfn.ISOWEEKNUM($A$2:$A$367)=_xlfn.ISOWEEKNUM($A96))*($K$2:$K$367),0)),"")} | M96: {=IF(OR(WEEKDAY($A96,2)=7,WEEKDAY($A96,2)=6),"",IFERROR(INDEX(Tableau1[],MATCH(1,('HEURES DE PRÉSENCE'!A96>=Tableau1[[DATE DEBUT ]])*(Tableau1[DATE FIN]>='HEURES DE PRÉSENCE'!A96),0),1),""))} -> 1
A97: =A96+1 -> 42831 | B97: 0.33333333 | C97: 0.48958333 | D97: =IF(OR(C97="",B97=""),0,C97-B97)/1 -> 0.15625 | E97: 0.53125 | F97: 0.66666667 | G97: =IF(OR(F97="",E97=""),0,F97-E97)/1 -> 0.13541667 | I97: =SUM(D97+G97) -> 0.29166667 | J97: =IFERROR(VLOOKUP(M97,EMPLOI!A:J,5),"") -> 70.6 | K97: =IF(I97>=$J$1,J97,"") -> 70.6 | L97: {=IF(WEEKDAY(A97)=6,SUMPRODUCT(IFERROR((_xlfn.ISOWEEKNUM($A$2:$A$367)=_xlfn.ISOWEEKNUM($A97))*($K$2:$K$367),0)),"")} | M97: {=IF(OR(WEEKDAY($A97,2)=7,WEEKDAY($A97,2)=6),"",IFERROR(INDEX(Tableau1[],MATCH(1,('HEURES DE PRÉSENCE'!A97>=Tableau1[[DATE DEBUT ]])*(Tableau1[DATE FIN]>='HEURES DE PRÉSENCE'!A97),0),1),""))} -> 1
A98: =A97+1 -> 42832 | B98: 0.33333333 | C98: 0.48958333 | D98: =IF(OR(C98="",B98=""),0,C98-B98)/1 -> 0.15625 | E98: 0.53125 | F98: 0.66666667 | G98: =IF(OR(F98="",E98=""),0,F98-E98)/1 -> 0.13541667 | I98: =SUM(D98+G98) -> 0.29166667 | J98: =IFERROR(VLOOKUP(M98,EMPLOI!A:J,5),"") -> 70.6 | K98: =IF(I98>=$J$1,J98,"") -> 70.6 | L98: {=IF(WEEKDAY(A98)=6,SUMPRODUCT(IFERROR((_xlfn.ISOWEEKNUM($A$2:$A$367)=_xlfn.ISOWEEKNUM($A98))*($K$2:$K$367),0)),"")} -> 282.4 | M98: {=IF(OR(WEEKDAY($A98,2)=7,WEEKDAY($A98,2)=6),"",IFERROR(INDEX(Tableau1[],MATCH(1,('HEURES DE PRÉSENCE'!A98>=Tableau1[[DATE DEBUT ]])*(Tableau1[DATE FIN]>='HEURES DE PRÉSENCE'!A98),0),1),""))} -> 1
A99: =A98+1 -> 42833 | D99: =IF(OR(C99="",B99=""),0,C99-B99)/1 -> 0 | G99: =IF(OR(F99="",E99=""),0,F99-E99)/1 -> 0 | I99: =SUM(D99+G99) -> 0 | J99: =IFERROR(VLOOKUP(M99,EMPLOI!A:J,5),"") | K99: =IF(I99>=$J$1,J99,"") | M99: {=IF(OR(WEEKDAY($A99,2)=7,WEEKDAY($A99,2)=6),"",IFERROR(INDEX(Tableau1[],MATCH(1,('HEURES DE PRÉSENCE'!A99>=Tableau1[[DATE DEBUT ]])*(Tableau1[DATE FIN]>='HEURES DE PRÉSENCE'!A99),0),1),""))}
A100: =A99+1 -> 42834 | D100: =IF(OR(C100="",B100=""),0,C100-B100)/1 -> 0 | G100: =IF(OR(F100="",E100=""),0,F100-E100)/1 -> 0 | I100: =SUM(D100+G100) -> 0 | J100: =IFERROR(VLOOKUP(M100,EMPLOI!A:J,5),"") | K100: =IF(I100>=$J$1,J100,"") | M100: {=IF(OR(WEEKDAY($A100,2)=7,WEEKDAY($A100,2)=6),"",IFERROR(INDEX(Tableau1[],MATCH(1,('HEURES DE PRÉSENCE'!A100>=Tableau1[[DATE DEBUT ]])*(Tableau1[DATE FIN]>='HEURES DE PRÉSENCE'!A100),0),1),""))}
...

Sheet EMPLOI
A1: NOM ENTREPRISE | B1: BASE TAUX HORAIRE | C1: 13ème MOIS / H | D1: PANIER / JOUR | E1: Km | F1: DATE DEBUT | G1: DATE FIN | H1: NOMBRE JOUR | I1: NOMBRE HEURE | J1: AGENCE
A2: 1 | B2: 9.76 | E2: 70.6 | F2: 42829 | G2: 42832 | H2: =SUMPRODUCT(('HEURES DE PRÉSENCE'!$A$2:$A$367>=EMPLOI!F2)*('HEURES DE PRÉSENCE'!$A$2:$A$367<=G2)*('HEURES DE PRÉSENCE'!$M$2:$M$367=A2)) -> 4 | I2: =SUMPRODUCT(('HEURES DE PRÉSENCE'!$A$2:$A$367>=EMPLOI!F2)*('HEURES DE PRÉSENCE'!$A$2:$A$367<=G2)*('HEURES DE PRÉSENCE'!$I$2:$I$367)) -> 1.1666667 | J2: a
A3: 2 | B3: 9.76 | C3: 0.81 | D3: 6.4 | E3: 79.7 | F3: 42858 | G3: 42916 | H3: =SUMPRODUCT(('HEURES DE PRÉSENCE'!$A$2:$A$367>=EMPLOI!F3)*('HEURES DE PRÉSENCE'!$A$2:$A$367<=G3)*('HEURES DE PRÉSENCE'!$M$2:$M$367=A3)) -> 43 | I3: =SUMPRODUCT(('HEURES DE PRÉSENCE'!$A$2:$A$367>=EMPLOI!F3)*('HEURES DE PRÉSENCE'!$A$2:$A$367<=G3)*('HEURES DE PRÉSENCE'!$I$2:$I$367)) -> 12.170139 | J3: b
A4: 3 | B4: 9.76 | D4: =1+6.4 -> 7.4 | E4: 100 | F4: 42926 | G4: 42930 | H4: =SUMPRODUCT(('HEURES DE PRÉSENCE'!$A$2:$A$367>=EMPLOI!F4)*('HEURES DE PRÉSENCE'!$A$2:$A$367<=G4)*('HEURES DE PRÉSENCE'!$M$2:$M$367=A4)) -> 4 | I4: =SUMPRODUCT(('HEURES DE PRÉSENCE'!$A$2:$A$367>=EMPLOI!F4)*('HEURES DE PRÉSENCE'!$A$2:$A$367<=G4)*('HEURES DE PRÉSENCE'!$I$2:$I$367)) -> 0 | J4: 100
H5: =SUMPRODUCT(('HEURES DE PRÉSENCE'!$A$2:$A$367>=EMPLOI!F5)*('HEURES DE PRÉSENCE'!$A$2:$A$367<=G5)*('HEURES DE PRÉSENCE'!$M$2:$M$367=A5)) -> 0 | I5: =SUMPRODUCT(('HEURES DE PRÉSENCE'!$A$2:$A$367>=EMPLOI!F5)*('HEURES DE PRÉSENCE'!$A$2:$A$367<=G5)*('HEURES DE PRÉSENCE'!$I$2:$I$367)) -> 0

Sheet Feuil2
