Workbook
Name Août: 'source liste'!$B$11:$F$11
Name Avril: 'source liste'!$B$7:$E$7
Name Décembre: 'source liste'!$B$15:$E$15
Name Février: 'source liste'!$B$5:$E$5
Name Janvier: 'source liste'!$B$4:$E$4
Name Juillet: 'source liste'!$B$10:$E$10
Name Juin: 'source liste'!$B$9:$F$9
Name Mai: 'source liste'!$B$8:$E$8
Name Mars: 'source liste'!$B$6:$F$6
Name Mois2018: 'source liste'!$A$4:$A$15
Name Novembre: 'source liste'!$B$14:$F$14
Name OBJ: [1]DONNEES!$J$2:$J$36
Name Octobre: 'source liste'!$B$13:$E$13
Name Septembre: 'source liste'!$B$12:$E$12

Sheet TOP SCORE
B3: JANVIER
A5: Mois de : | B5: Janvier | C5: Semaine : | D5: 1
A9: Ventes Brutes | E9: Rétractation | I9: Ventes Nettes | M9: Evol ventes nettes
A10: Position | B10: Magasin | C10: Score | E10: Position | F10: Magasin | G10: Score | I10: Position | J10: Magasin | K10: Score | M10: Position | N10: Magasin | O10: Score
A11: 1 | B11: {=INDEX(Tableau1[Magasin],MATCH('TOP SCORE'!$C11,Tableau1[Ventes brutes]+(1/10000*ROW(Tableau1[Ventes brutes])),0))} -> Aix-en-Provence | C11: {=LARGE(IF((Tableau1[Mois]='TOP SCORE'!$B$5)*(Tableau1[Semaine]='TOP SCORE'!$D$5),Tableau1[Ventes brutes]+(1/10000*ROW(Tableau1[Ventes brutes]))),ROWS($1:1))} -> 500.0008 | E11: 1 | F11: {=INDEX(Tableau1[Magasin],MATCH('TOP SCORE'!$G11,Tableau1[Rétractation]+(1/10000*ROW(Tableau1[Rétractation])),0))} -> Aix-en-Provence | G11: {=LARGE(IF((Tableau1[Mois]='TOP SCORE'!$B$5)*(Tableau1[Semaine]='TOP SCORE'!$D$5),Tableau1[Rétractation]+(1/10000*ROW(Tableau1[Rétractation]))),ROWS($1:1))} -> 200.0008 | I11: 1 | M11: 1
A12: =IF(ROUND($C12,2)=ROUND($C11,2),RANK($C11,$C$11:$C$20,0)&" exaequo",RANK($C12,$C$11:$C$20,0)) -> 2 | B12: {=INDEX(Tableau1[Magasin],MATCH('TOP SCORE'!$C12,Tableau1[Ventes brutes]+(1/10000*ROW(Tableau1[Ventes brutes])),0))} -> Grenoble | C12: {=LARGE(IF((Tableau1[Mois]='TOP SCORE'!$B$5)*(Tableau1[Semaine]='TOP SCORE'!$D$5),Tableau1[Ventes brutes]+(1/10000*ROW(Tableau1[Ventes brutes]))),ROWS($1:2))} -> 280.0017 | E12: =IF(ROUND($G12,2)=ROUND($G11,2),RANK($G11,$C$11:$C$20,0)&" exaequo",RANK($G12,$G$11:$G$20,0)) -> 2 | F12: {=INDEX(Tableau1[Magasin],MATCH('TOP SCORE'!$G12,Tableau1[Rétractation]+(1/10000*ROW(Tableau1[Rétractation])),0))} -> Annecy | G12: {=LARGE(IF((Tableau1[Mois]='TOP SCORE'!$B$5)*(Tableau1[Semaine]='TOP SCORE'!$D$5),Tableau1[Rétractation]+(1/10000*ROW(Tableau1[Rétractation]))),ROWS($1:2))} -> 52.0015 | I12: 2 | M12: 2
A13: =IF(ROUND($C13,2)=ROUND($C12,2),RANK($C12,$C$11:$C$20,0)&" exaequo",RANK($C13,$C$11:$C$20,0)) -> 3 | B13: {=INDEX(Tableau1[Magasin],MATCH('TOP SCORE'!$C13,Tableau1[Ventes brutes]+(1/10000*ROW(Tableau1[Ventes brutes])),0))} -> Strasbourg | C13: {=LARGE(IF((Tableau1[Mois]='TOP SCORE'!$B$5)*(Tableau1[Semaine]='TOP SCORE'!$D$5),Tableau1[Ventes brutes]+(1/10000*ROW(Tableau1[Ventes brutes]))),ROWS($1:3))} -> 250.001 | E13: =IF(ROUND($G13,2)=ROUND($G12,2),RANK($G12,$C$11:$C$20,0)&" exaequo",RANK($G13,$G$11:$G$20,0)) -> 3 | F13: {=INDEX(Tableau1[Magasin],MATCH('TOP SCORE'!$G13,Tableau1[Rétractation]+(1/10000*ROW(Tableau1[Rétractation])),0))} -> Lille | G13: {=LARGE(IF((Tableau1[Mois]='TOP SCORE'!$B$5)*(Tableau1[Semaine]='TOP SCORE'!$D$5),Tableau1[Rétractation]+(1/10000*ROW(Tableau1[Rétractation]))),ROWS($1:3))} -> 36.0011 | I13: 3 | M13: 3
A14: =IF(ROUND($C14,2)=ROUND($C13,2),RANK($C13,$C$11:$C$20,0)&" exaequo",RANK($C14,$C$11:$C$20,0)) -> 4 | B14: {=INDEX(Tableau1[Magasin],MATCH('TOP SCORE'!$C14,Tableau1[Ventes brutes]+(1/10000*ROW(Tableau1[Ventes brutes])),0))} -> Lille | C14: {=LARGE(IF((Tableau1[Mois]='TOP SCORE'!$B$5)*(Tableau1[Semaine]='TOP SCORE'!$D$5),Tableau1[Ventes brutes]+(1/10000*ROW(Tableau1[Ventes brutes]))),ROWS($1:4))} -> 190.0011 | E14: =IF(ROUND($G14,2)=ROUND($G13,2),RANK($G13,$C$11:$C$20,0)&" exaequo",RANK($G14,$G$11:$G$20,0)) -> 4 | F14: {=INDEX(Tableau1[Magasin],MATCH('TOP SCORE'!$G14,Tableau1[Rétractation]+(1/10000*ROW(Tableau1[Rétractation])),0))} -> Strasbourg | G14: {=LARGE(IF((Tableau1[Mois]='TOP SCORE'!$B$5)*(Tableau1[Semaine]='TOP SCORE'!$D$5),Tableau1[Rétractation]+(1/10000*ROW(Tableau1[Rétractation]))),ROWS($1:4))} -> 25.001 | I14: 4 | M14: 4
A15: =IF(ROUND($C15,2)=ROUND($C14,2),RANK($C14,$C$11:$C$20,0)&" exaequo",RANK($C15,$C$11:$C$20,0)) -> 5 | B15: {=INDEX(Tableau1[Magasin],MATCH('TOP SCORE'!$C15,Tableau1[Ventes brutes]+(1/10000*ROW(Tableau1[Ventes brutes])),0))} -> Annecy | C15: {=LARGE(IF((Tableau1[Mois]='TOP SCORE'!$B$5)*(Tableau1[Semaine]='TOP SCORE'!$D$5),Tableau1[Ventes brutes]+(1/10000*ROW(Tableau1[Ventes brutes]))),ROWS($1:5))} -> 180.0015 | E15: =IF(ROUND($G15,2)=ROUND($G14,2),RANK($G14,$C$11:$C$20,0)&" exaequo",RANK($G15,$G$11:$G$20,0)) -> 5 | F15: {=INDEX(Tableau1[Magasin],MATCH('TOP SCORE'!$G15,Tableau1[Rétractation]+(1/10000*ROW(Tableau1[Rétractation])),0))} -> Grenoble | G15: {=LARGE(IF((Tableau1[Mois]='TOP SCORE'!$B$5)*(Tableau1[Semaine]='TOP SCORE'!$D$5),Tableau1[Rétractation]+(1/10000*ROW(Tableau1[Rétractation]))),ROWS($1:5))} -> 20.0017 | I15: 5 | M15: 5
A16: =IF(ROUND($C16,2)=ROUND($C15,2),RANK($C15,$C$11:$C$20,0)&" exaequo",RANK($C16,$C$11:$C$20,0)) -> 6 | B16: {=INDEX(Tableau1[Magasin],MATCH('TOP SCORE'!$C16,Tableau1[Ventes brutes]+(1/10000*ROW(Tableau1[Ventes brutes])),0))} -> Fréjus | C16: {=LARGE(IF((Tableau1[Mois]='TOP SCORE'!$B$5)*(Tableau1[Semaine]='TOP SCORE'!$D$5),Tableau1[Ventes brutes]+(1/10000*ROW(Tableau1[Ventes brutes]))),ROWS($1:6))} -> 145.0016 | E16: =IF(ROUND($G16,2)=ROUND($G15,2),RANK($G15,$C$11:$C$20,0)&" exaequo",RANK($G16,$G$11:$G$20,0)) -> 6 | F16: {=INDEX(Tableau1[Magasin],MATCH('TOP SCORE'!$G16,Tableau1[Rétractation]+(1/10000*ROW(Tableau1[Rétractation])),0))} -> Fréjus | G16: {=LARGE(IF((Tableau1[Mois]='TOP SCORE'!$B$5)*(Tableau1[Semaine]='TOP SCORE'!$D$5),Tableau1[Rétractation]+(1/10000*ROW(Tableau1[Rétractation]))),ROWS($1:6))} -> 13.0016 | I16: 6 | M16: 6
A17: =IF(ROUND($C17,2)=ROUND($C16,2),RANK($C16,$C$11:$C$20,0)&" exaequo",RANK($C17,$C$11:$C$20,0)) -> 7 | B17: {=INDEX(Tableau1[Magasin],MATCH('TOP SCORE'!$C17,Tableau1[Ventes brutes]+(1/10000*ROW(Tableau1[Ventes brutes])),0))} -> Nice | C17: {=LARGE(IF((Tableau1[Mois]='TOP SCORE'!$B$5)*(Tableau1[Semaine]='TOP SCORE'!$D$5),Tableau1[Ventes brutes]+(1/10000*ROW(Tableau1[Ventes brutes]))),ROWS($1:7))} -> 140.0009 | E17: =IF(ROUND($G17,2)=ROUND($G16,2),RANK($G16,$C$11:$C$20,0)&" exaequo",RANK($G17,$G$11:$G$20,0)) -> 7 | F17: {=INDEX(Tableau1[Magasin],MATCH('TOP SCORE'!$G17,Tableau1[Rétractation]+(1/10000*ROW(Tableau1[Rétractation])),0))} -> Montpellier | G17: {=LARGE(IF((Tableau1[Mois]='TOP SCORE'!$B$5)*(Tableau1[Semaine]='TOP SCORE'!$D$5),Tableau1[Rétractation]+(1/10000*ROW(Tableau1[Rétractation]))),ROWS($1:7))} -> 12.0012 | I17: 7 | M17: 7
A18: =IF(ROUND($C18,2)=ROUND($C17,2),RANK($C17,$C$11:$C$20,0)&" exaequo",RANK($C18,$C$11:$C$20,0)) -> 8 | B18: {=INDEX(Tableau1[Magasin],MATCH('TOP SCORE'!$C18,Tableau1[Ventes brutes]+(1/10000*ROW(Tableau1[Ventes brutes])),0))} -> Nantes | C18: {=LARGE(IF((Tableau1[Mois]='TOP SCORE'!$B$5)*(Tableau1[Semaine]='TOP SCORE'!$D$5),Tableau1[Ventes brutes]+(1/10000*ROW(Tableau1[Ventes brutes]))),ROWS($1:8))} -> 100.0007 | E18: =IF(ROUND($G18,2)=ROUND($G17,2),RANK($G17,$C$11:$C$20,0)&" exaequo",RANK($G18,$G$11:$G$20,0)) -> 8 | F18: {=INDEX(Tableau1[Magasin],MATCH('TOP SCORE'!$G18,Tableau1[Rétractation]+(1/10000*ROW(Tableau1[Rétractation])),0))} -> Bordeaux | G18: {=LARGE(IF((Tableau1[Mois]='TOP SCORE'!$B$5)*(Tableau1[Semaine]='TOP SCORE'!$D$5),Tableau1[Rétractation]+(1/10000*ROW(Tableau1[Rétractation]))),ROWS($1:8))} -> 10.0004 | I18: 8 | M18: 8
A19: =IF(ROUND($C19,2)=ROUND($C18,2),RANK($C18,$C$11:$C$20,0)&" exaequo",RANK($C19,$C$11:$C$20,0)) -> 8 exaequo | B19: {=INDEX(Tableau1[Magasin],MATCH('TOP SCORE'!$C19,Tableau1[Ventes brutes]+(1/10000*ROW(Tableau1[Ventes brutes])),0))} -> Bordeaux | C19: {=LARGE(IF((Tableau1[Mois]='TOP SCORE'!$B$5)*(Tableau1[Semaine]='TOP SCORE'!$D$5),Tableau1[Ventes brutes]+(1/10000*ROW(Tableau1[Ventes brutes]))),ROWS($1:9))} -> 100.0004 | E19: =IF(ROUND($G19,2)=ROUND($G18,2),RANK($G18,$C$11:$C$20,0)&" exaequo",RANK($G19,$G$11:$G$20,0)) -> 9 | F19: {=INDEX(Tableau1[Magasin],MATCH('TOP SCORE'!$G19,Tableau1[Rétractation]+(1/10000*ROW(Tableau1[Rétractation])),0))} -> Toulouse | G19: {=LARGE(IF((Tableau1[Mois]='TOP SCORE'!$B$5)*(Tableau1[Semaine]='TOP SCORE'!$D$5),Tableau1[Rétractation]+(1/10000*ROW(Tableau1[Rétractation]))),ROWS($1:9))} -> 7.0005 | I19: 9 | M19: 9
A20: =IF(ROUND($C20,2)=ROUND($C19,2),RANK($C20,$C$11:$C$20,0)&" exaequo",RANK($C20,$C$11:$C$20,0)) -> 10 | B20: {=INDEX(Tableau1[Magasin],MATCH('TOP SCORE'!$C20,Tableau1[Ventes brutes]+(1/10000*ROW(Tableau1[Ventes brutes])),0))} -> Montpellier | C20: {=LARGE(IF((Tableau1[Mois]='TOP SCORE'!$B$5)*(Tableau1[Semaine]='TOP SCORE'!$D$5),Tableau1[Ventes brutes]+(1/10000*ROW(Tableau1[Ventes brutes]))),ROWS($1:10))} -> 85.0012 | E20: =IF(ROUND($G20,2)=ROUND($G19,2),RANK($G19,$C$11:$C$20,0)&" exaequo",RANK($G20,$G$11:$G$20,0)) -> 10 | F20: {=INDEX(Tableau1[Magasin],MATCH('TOP SCORE'!$G20,Tableau1[Rétractation]+(1/10000*ROW(Tableau1[Rétractation])),0))} -> Nantes | G20: {=LARGE(IF((Tableau1[Mois]='TOP SCORE'!$B$5)*(Tableau1[Semaine]='TOP SCORE'!$D$5),Tableau1[Rétractation]+(1/10000*ROW(Tableau1[Rétractation]))),ROWS($1:10))} -> 4.0007 | I20: 10 | M20: 10
E21: Attention uniquement rétractations > 2
E22: (pour que ce soit significatif)
B26: FEVRIER
A28: Mois de : | B28: Janvier | C28: Semaine : | D28: 1
A32: Ventes Brutes | E32: Rétractation | I32: Ventes Nettes | M32: Evol ventes nettes
A33: Position | B33: Magasin | C33: Score | E33: Position | F33: Magasin | G33: Score | I33: Position | J33: Magasin | K33: Score | M33: Position | N33: Magasin | O33: Score
A34: 1 | E34: 1 | I34: 1 | M34: 1
A35: 2 | E35: 2 | I35: 2 | M35: 2
A36: 3 | E36: 3 | I36: 3 | M36: 3
A37: 4 | E37: 4 | I37: 4 | M37: 4
A38: 5 | E38: 5 | I38: 5 | M38: 5
A39: 6 | E39: 6 | I39: 6 | M39: 6
A40: 7 | E40: 7 | I40: 7 | M40: 7
A41: 8 | E41: 8 | I41: 8 | M41: 8
A42: 9 | E42: 9 | I42: 9 | M42: 9
A43: 10 | E43: 10 | I43: 10 | M43: 10
E44: Attention uniquement rétractations > 2
E45: (pour que ce soit significatif)

Sheet données
A1: Performances Vendeurs 2018 / magasin
A3: Mois | B3: Semaine | C3: Vendeur | D3: Magasin | E3: Ventes brutes | F3: Rétractation | G3: Ventes Nettes | H3: Evolution ventes nettes
A4: Janvier | B4: 1 | C4: Pierre | D4: Bordeaux | E4: 100 | F4: 10 | G4: =E4-F4 -> 90 | H4: -
A5: Janvier | B5: 1 | C5: Paul | D5: Toulouse | E5: 50 | F5: 7 | G5: =E5-F5 -> 43 | H5: -
A6: Janvier | B6: 1 | C6: Jacques | D6: Marseille | E6: 60 | F6: 3 | G6: =E6-F6 -> 57 | H6: -
A7: Janvier | B7: 1 | C7: Caroline | D7: Nantes | E7: 100 | F7: 4 | G7: =E7-F7 -> 96 | H7: -
A8: Janvier | B8: 1 | C8: Bernard | D8: Aix-en-Provence | E8: 500 | F8: 200 | G8: =E8-F8 -> 300 | H8: -
A9: Janvier | B9: 1 | C9: Ines | D9: Nice | E9: 140 | F9: 1 | G9: =E9-F9 -> 139 | H9: -
A10: Janvier | B10: 1 | C10: John | D10: Strasbourg | E10: 250 | F10: 25 | G10: =E10-F10 -> 225 | H10: -
A11: Janvier | B11: 1 | C11: Emilie | D11: Lille | E11: 190 | F11: 36 | G11: =E11-F11 -> 154 | H11: -
A12: Janvier | B12: 1 | C12: Gisèle | D12: Montpellier | E12: 85 | F12: 12 | G12: =E12-F12 -> 73 | H12: -
A13: Janvier | B13: 1 | C13: Marc | D13: Metz | E13: 69 | F13: 2 | G13: =E13-F13 -> 67 | H13: -
A14: Janvier | B14: 1 | C14: Pauline | D14: Lyon | E14: 58 | F14: 3 | G14: =E14-F14 -> 55 | H14: -
A15: Janvier | B15: 1 | C15: Maxime | D15: Annecy | E15: 180 | F15: 52 | G15: =E15-F15 -> 128 | H15: -
... A17: Janvier | B17: 1 | C17: Monia | D17: Grenoble | E17: 280 | F17: 20 | G17: =E17-F17 -> 260 | H17: -
A18: Janvier | B18: 2 | C18: Pierre | D18: Bordeaux | E18: 21 | F18: 10 | G18: =E18-F18 -> 11 | H18: =(G18-G4)/G4 -> -0.87777778
A19: Janvier | B19: 2 | C19: Paul | D19: Toulouse | E19: 98 | F19: 53 | G19: =E19-F19 -> 45 | H19: =(G19-G5)/G5 -> 0.046511628
A20: Janvier | B20: 2 | C20: Jacques | D20: Marseille | E20: 54 | F20: 2 | G20: =E20-F20 -> 52 | H20: =(G20-G6)/G6 -> -0.087719298
A21: Janvier | B21: 2 | C21: Caroline | D21: Nantes | E21: 125 | F21: 15 | G21: =E21-F21 -> 110 | H21: =(G21-G7)/G7 -> 0.14583333
A22: Janvier | B22: 2 | C22: Bernard | D22: Aix-en-Provence | E22: 129 | F22: 13 | G22: =E22-F22 -> 116 | H22: =(G22-G8)/G8 -> -0.61333333
A23: Janvier | B23: 2 | C23: Ines | D23: Nice | E23: 178 | F23: 25 | G23: =E23-F23 -> 153 | H23: =(G23-G9)/G9 -> 0.10071942
A24: Janvier | B24: 2 | C24: John | D24: Strasbourg | E24: 59 | F24: 1 | G24: =E24-F24 -> 58 | H24: =(G24-G10)/G10 -> -0.74222222
A25: Janvier | B25: 2 | C25: Emilie | D25: Lille | E25: 189 | F25: 65 | G25: =E25-F25 -> 124 | H25: =(G25-G11)/G11 -> -0.19480519
A26: Janvier | B26: 2 | C26: Gisèle | D26: Montpellier | E26: 135 | F26: 3 | G26: =E26-F26 -> 132 | H26: =(G26-G12)/G12 -> 0.80821918
A27: Janvier | B27: 2 | C27: Marc | D27: Metz | E27: 68 | F27: 4 | G27: =E27-F27 -> 64 | H27: =(G27-G13)/G13 -> -0.044776119
A28: Janvier | B28: 2 | C28: Pauline | D28: Lyon | E28: 215 | F28: 60 | G28: =E28-F28 -> 155 | H28: =(G28-G14)/G14 -> 1.8181818
A29: Janvier | B29: 2 | C29: Maxime | D29: Annecy | E29: 160 | F29: 20 | G29: =E29-F29 -> 140 | H29: =(G29-G15)/G15 -> 0.09375
... A31: Janvier | B31: 2 | C31: Monia | D31: Grenoble | E31: 260 | F31: 23 | G31: =E31-F31 -> 237 | H31: =(G31-G17)/G17 -> -0.088461538

Sheet Calendrier
J1: CALENDRIER 2018
B4: 43101 | K4: 43132 | T4: 43160 | AC4: 43191
B5: n° | C5: Lu | D5: Ma | E5: Me | F5: Je | G5: Ve | H5: Sa | I5: Di | K5: n° | L5: Lu | M5: Ma | N5: Me | O5: Je | P5: Ve | Q5: Sa | R5: Di | T5: n° | U5: Lu | V5: Ma | W5: Me | X5: Je | Y5: Ve | Z5: Sa | AA5: Di | AC5: n° | AD5: Lu | AE5: Ma | AF5: Me | AG5: Je | AH5: Ve | AI5: Sa | AJ5: Di
B6: 1 | C6: 1 | D6: 2 | E6: 3 | F6: 4 | G6: 5 | H6: 6 | I6: 7 | K6: 5 | O6: 1 | P6: 2 | Q6: 3 | R6: 4 | T6: 9 | X6: 1 | Y6: 2 | Z6: 3 | AA6: 4 | AC6: 13 | AJ6: 1
B7: 2 | C7: 8 | D7: 9 | E7: 10 | F7: 11 | G7: 12 | H7: 13 | I7: 14 | K7: 6 | L7: 5 | M7: 6 | N7: 7 | O7: 8 | P7: 9 | Q7: 10 | R7: 11 | T7: 10 | U7: 5 | V7: 6 | W7: 7 | X7: 8 | Y7: 9 | Z7: 10 | AA7: 11 | AC7: 14 | AD7: 2 | AE7: 3 | AF7: 4 | AG7: 5 | AH7: 6 | AI7: 7 | AJ7: 8
B8: 3 | C8: 15 | D8: 16 | E8: 17 | F8: 18 | G8: 19 | H8: 20 | I8: 21 | K8: 7 | L8: 12 | M8: 13 | N8: 14 | O8: 15 | P8: 16 | Q8: 17 | R8: 18 | T8: 11 | U8: 12 | V8: 13 | W8: 14 | X8: 15 | Y8: 16 | Z8: 17 | AA8: 18 | AC8: 15 | AD8: 9 | AE8: 10 | AF8: 11 | AG8: 12 | AH8: 13 | AI8: 14 | AJ8: 15
B9: 4 | C9: 22 | D9: 23 | E9: 24 | F9: 25 | G9: 26 | H9: 27 | I9: 28 | K9: 8 | L9: 19 | M9: 20 | N9: 21 | O9: 22 | P9: 23 | Q9: 24 | R9: 25 | T9: 12 | U9: 19 | V9: 20 | W9: 21 | X9: 22 | Y9: 23 | Z9: 24 | AA9: 25 | AC9: 16 | AD9: 16 | AE9: 17 | AF9: 18 | AG9: 19 | AH9: 20 | AI9: 21 | AJ9: 22
B10: 5 | C10: 29 | D10: 30 | E10: 31 | K10: 9 | L10: 26 | M10: 27 | N10: 28 | T10: 13 | U10: 26 | V10: 27 | W10: 28 | X10: 29 | Y10: 30 | Z10: 31 | AC10: 17 | AD10: 23 | AE10: 24 | AF10: 25 | AG10: 26 | AH10: 27 | AI10: 28 | AJ10: 29
AC11: 18 | AD11: 30
B13: 43221 | K13: 43252 | T13: 43282 | AC13: 43313
B14: n° | C14: Lu | D14: Ma | E14: Me | F14: Je | G14: Ve | H14: Sa | I14: Di | K14: n° | L14: Lu | M14: Ma | N14: Me | O14: Je | P14: Ve | Q14: Sa | R14: Di | T14: n° | U14: Lu | V14: Ma | W14: Me | X14: Je | Y14: Ve | Z14: Sa | AA14: Di | AC14: n° | AD14: Lu | AE14: Ma | AF14: Me | AG14: Je | AH14: Ve | AI14: Sa | AJ14: Di
B15: 18 | D15: 1 | E15: 2 | F15: 3 | G15: 4 | H15: 5 | I15: 6 | K15: 22 | P15: 1 | Q15: 2 | R15: 3 | T15: 26 | AA15: 1 | AC15: 31 | AF15: 1 | AG15: 2 | AH15: 3 | AI15: 4 | AJ15: 5
B16: 19 | C16: 7 | D16: 8 | E16: 9 | F16: 10 | G16: 11 | H16: 12 | I16: 13 | K16: 23 | L16: 4 | M16: 5 | N16: 6 | O16: 7 | P16: 8 | Q16: 9 | R16: 10 | T16: 27 | U16: 2 | V16: 3 | W16: 4 | X16: 5 | Y16: 6 | Z16: 7 | AA16: 8 | AC16: 32 | AD16: 6 | AE16: 7 | AF16: 8 | AG16: 9 | AH16: 10 | AI16: 11 | AJ16: 12
B17: 20 | C17: 14 | D17: 15 | E17: 16 | F17: 17 | G17: 18 | H17: 19 | I17: 20 | K17: 24 | L17: 11 | M17: 12 | N17: 13 | O17: 14 | P17: 15 | Q17: 16 | R17: 17 | T17: 28 | U17: 9 | V17: 10 | W17: 11 | X17: 12 | Y17: 13 | Z17: 14 | AA17: 15 | AC17: 33 | AD17: 13 | AE17: 14 | AF17: 15 | AG17: 16 | AH17: 17 | AI17: 18 | AJ17: 19
B18: 21 | C18: 21 | D18: 22 | E18: 23 | F18: 24 | G18: 25 | H18: 26 | I18: 27 | K18: 25 | L18: 18 | M18: 19 | N18: 20 | O18: 21 | P18: 22 | Q18: 23 | R18: 24 | T18: 29 | U18: 16 | V18: 17 | W18: 18 | X18: 19 | Y18: 20 | Z18: 21 | AA18: 22 | AC18: 34 | AD18: 20 | AE18: 21 | AF18: 22 | AG18: 23 | AH18: 24 | AI18: 25 | AJ18: 26
B19: 22 | C19: 28 | D19: 29 | E19: 30 | F19: 31 | K19: 26 | L19: 25 | M19: 26 | N19: 27 | O19: 28 | P19: 29 | Q19: 30 | T19: 30 | U19: 23 | V19: 24 | W19: 25 | X19: 26 | Y19: 27 | Z19: 28 | AA19: 29 | AC19: 35 | AD19: 27 | AE19: 28 | AF19: 29 | AG19: 30 | AH19: 31
T20: 31 | U20: 30 | V20: 31
B22: 43344 | K22: 43374 | T22: 43405 | AC22: 43435
B23: n° | C23: Lu | D23: Ma | E23: Me | F23: Je | G23: Ve | H23: Sa | I23: Di | K23: n° | L23: Lu | M23: Ma | N23: Me | O23: Je | P23: Ve | Q23: Sa | R23: Di | T23: n° | U23: Lu | V23: Ma | W23: Me | X23: Je | Y23: Ve | Z23: Sa | AA23: Di | AC23: n° | AD23: Lu | AE23: Ma | AF23: Me | AG23: Je | AH23: Ve | AI23: Sa | AJ23: Di
B24: 35 | H24: 1 | I24: 2 | K24: 40 | L24: 1 | M24: 2 | N24: 3 | O24: 4 | P24: 5 | Q24: 6 | R24: 7 | T24: 44 | X24: 1 | Y24: 2 | Z24: 3 | AA24: 4 | AC24: 48 | AI24: 1 | AJ24: 2
B25: 36 | C25: 3 | D25: 4 | E25: 5 | F25: 6 | G25: 7 | H25: 8 | I25: 9 | K25: 41 | L25: 8 | M25: 9 | N25: 10 | O25: 11 | P25: 12 | Q25: 13 | R25: 14 | T25: 45 | U25: 5 | V25: 6 | W25: 7 | X25: 8 | Y25: 9 | Z25: 10 | AA25: 11 | AC25: 49 | AD25: 3 | AE25: 4 | AF25: 5 | AG25: 6 | AH25: 7 | AI25: 8 | AJ25: 9
B26: 37 | C26: 10 | D26: 11 | E26: 12 | F26: 13 | G26: 14 | H26: 15 | I26: 16 | K26: 42 | L26: 15 | M26: 16 | N26: 17 | O26: 18 | P26: 19 | Q26: 20 | R26: 21 | T26: 46 | U26: 12 | V26: 13 | W26: 14 | X26: 15 | Y26: 16 | Z26: 17 | AA26: 18 | AC26: 50 | AD26: 10 | AE26: 11 | AF26: 12 | AG26: 13 | AH26: 14 | AI26: 15 | AJ26: 16
B27: 38 | C27: 17 | D27: 18 | E27: 19 | F27: 20 | G27: 21 | H27: 22 | I27: 23 | K27: 43 | L27: 22 | M27: 23 | N27: 24 | O27: 25 | P27: 26 | Q27: 27 | R27: 28 | T27: 47 | U27: 19 | V27: 20 | W27: 21 | X27: 22 | Y27: 23 | Z27: 24 | AA27: 25 | AC27: 51 | AD27: 17 | AE27: 18 | AF27: 19 | AG27: 20 | AH27: 21 | AI27: 22 | AJ27: 23
B28: 39 | C28: 24 | D28: 25 | E28: 26 | F28: 27 | G28: 28 | H28: 29 | I28: 30 | K28: 44 | L28: 29 | M28: 30 | N28: 31 | T28: 48 | U28: 26 | V28: 27 | W28: 28 | X28: 29 | Y28: 30 | AC28: 52 | AD28: 24 | AE28: 25 | AF28: 26 | AG28: 27 | AH28: 28 | AI28: 29 | AJ28: 30
AC29: 1 | AD29: 31

Sheet source liste
A4: Janvier | B4: 1 | C4: 2 | D4: 3 | E4: 4
A5: Février | B5: 5 | C5: 6 | D5: 7 | E5: 8
A6: Mars | B6: 9 | C6: 10 | D6: 11 | E6: 12 | F6: 13
A7: Avril | B7: 14 | C7: 15 | D7: 16 | E7: 17
A8: Mai | B8: 18 | C8: 19 | D8: 20 | E8: 21
A9: Juin | B9: 22 | C9: 23 | D9: 24 | E9: 25 | F9: 26
A10: Juillet | B10: 27 | C10: 28 | D10: 29 | E10: 30
A11: Août | B11: 31 | C11: 32 | D11: 33 | E11: 34 | F11: 35
A12: Septembre | B12: 36 | C12: 37 | D12: 38 | E12: 39
A13: Octobre | B13: 40 | C13: 41 | D13: 42 | E13: 43
A14: Novembre | B14: 44 | C14: 45 | D14: 46 | E14: 47 | F14: 48
A15: Décembre | B15: 49 | C15: 50 | D15: 51 | E15: 52
