Workbook
Name f_equipe: OFFSET(p_equipe,0,0,NB.VAL(l_equipe),1)
Name l_equipe: 'sources listes deroulantes'!$A:$A
Name liste_equipe: 'MATRICE VOIE'!$D$2
Name p_equipe: 'sources listes deroulantes'!$A$1

Sheet MATRICE VOIE
C1: Matrice des Compétences AQUITAINE
B2: EQUIPE : | D2: UP7 EQUIPE VOIE PERIGUEUX GARE
A5: mise à jour du :
A7: Technologies/ Savoir-faire | E7: SECURITE | T7: ADV | AM7: Nivellement | AV7: Rails | BA7: Tournées | BK7: PN | BU7: Autres VOIE | CC7: Documentation | CF7: Encadrement | CJ7: Permis
E8: RPTX | J8: AS / annonce | O8: IS | P8: Elec | R8: CCH | S8: Autre | T8: RCE | W8: MI | AA8: MC3 | AB8: Autres opérations | AM8: RCE | AQ8: Géométrie | AU8: Stab | AV8: Maint | AY8: Autre | BA8: Tournée voie | BE8: Tournée specifiques | BK8: Reprise | BM8: Gardien | BQ8: Entretien | BU8: Joints | BZ8: RCE Conso | CB8: LTV | CJ8: Route | CM8: Engin | CP8: ASTREINTE
A9: CP | B9: NOM | C9: PRENON | E9: Competence1 | F9: Competence2 | G9: Competence3 | H9: Competence4 | I9: Competence5 | J9: Competence6 | K9: Competence7 | L9: Competence8 | M9: Competence9 | N9: Competence10 | O9: Competence11 | P9: Competence12 | Q9: Competence13 | R9: Competence14 | S9: Competence15 | T9: Competence16 | U9: Competence17 | V9: Competence18 | W9: Competence19 | X9: Competence20 | Y9: Competence21 | Z9: Competence22 | AA9: Competence23 | AB9: Competence24 | AC9: Competence25 | AD9: Competence26 | AE9: Competence27 | AF9: Competence28 | AG9: Competence29 | AH9: Competence30 | AI9: Competence31 | AJ9: Competence32 | AK9: Competence33 | AL9: Competence34 | AM9: Competence35 | AN9: Competence36 | AO9: Competence37 | AP9: Competence38 | AQ9: Competence39 | AR9: Competence40 | AS9: Competence41 | AT9: Competence42 | AU9: Competence43 | AV9: Competence44 | AW9: Competence45 | AX9: Competence46 | AY9: Competence47 | AZ9: Competence48 | BA9: Competence49 | BB9: Competence50 | BC9: Competence51 | BD9: Competence52 | BE9: Competence53 | BF9: Competence54 | BG9: Competence55 | BH9: Competence56 | BI9: Competence57 | BJ9: Competence58 | BK9: Competence59 | BL9: Competence60 | BM9: Competence61 | BN9: Competence62 | BO9: Competence63 | BP9: Competence64 | BQ9: Competence65 | BR9: Competence66 | BS9: Competence67 | BT9: Competence68 | BU9: Competence69 | BV9: Competence70 | BW9: Competence71 | BX9: Competence72 | BY9: Competence73 | BZ9: Competence74 | CA9: Competence75 | CB9: Competence76 | CC9: Competence77 | CD9: Competence78 | CE9: Competence79 | CF9: Competence80 | CG9: Competence81 | CH9: Competence82 | CI9: Competence83 | CJ9: Competence84 | CK9: Competence85 | CL9: Competence86 | CM9: Competence87 | CN9: Competence88 | CO9: Competence89 | CP9: Maintien ?
E10: RPTX | F10: RPTX | G10: RPTX | H10: RPTX | I10: RPTX | J10: AS | K10: AS | L10: AS | M10: Annonceur | N10: Annonceur | O10: IS | P10: CO | Q10: CO | R10: MI | T10: MI | U10: MI | V10: MI | W10: MI | X10: MI | Y10: MI | Z10: MI | AA10: MC3 | AB10: MI | AM10: MI | AN10: MI | AO10: MI | AP10: MI | AQ10: MI | AR10: MI | AS10: MI | AT10: MI | AU10: MI | AV10: MI | AW10: MI | AX10: MI | BA10: MI | BB10: MI | BC10: MI | BD10: MI | BE10: MI | BF10: MI | BG10: MI | BH10: MI | BI10: MI | BJ10: MI | BK10: PN | BL10: PN | BM10: G PN | BN10: G PN | BO10: G PN | BP10: G PN | BW10: MI | BX10: MI | BY10: MI | BZ10: MI | CA10: MI | CE10: MI | CP10: MI + SECU + PN + PERMIS
A11: Habilitations = TES & TSAE Operationnelles (TSAE Op) | C11: Autorisation = TSAE Organisationnelle (TSAEorg) | E11: TES | F11: TES | G11: TES | H11: TES | I11: TES
A12: Objectif : agents formateurs
A13: Objectif : agents autonomes
A14: {=IFERROR(INDEX(Tableau1[N°salarié],SMALL(IF(Tableau1[Libellé UO Hiérarchique]=liste_equipe,ROW(Tableau1[N°salarié])-1),ROWS($1:1))),"")} -> 5915575Y | B14: =IFERROR(INDEX(Tableau1[[Nom ]],MATCH('MATRICE VOIE'!A14,Tableau1[N°salarié],0)),"") -> NOM42 | C14: =IFERROR(INDEX(Tableau1[Prénom],MATCH('MATRICE VOIE'!A14,Tableau1[N°salarié],0)),"") -> PRENOM42
A15: {=IFERROR(INDEX(Tableau1[N°salarié],SMALL(IF(Tableau1[Libellé UO Hiérarchique]=liste_equipe,ROW(Tableau1[N°salarié])-1),ROWS($1:2))),"")} -> 6010096N | B15: =IFERROR(INDEX(Tableau1[[Nom ]],MATCH('MATRICE VOIE'!A15,Tableau1[N°salarié],0)),"") -> NOM62 | C15: =IFERROR(INDEX(Tableau1[Prénom],MATCH('MATRICE VOIE'!A15,Tableau1[N°salarié],0)),"") -> PRENOM62
A16: {=IFERROR(INDEX(Tableau1[N°salarié],SMALL(IF(Tableau1[Libellé UO Hiérarchique]=liste_equipe,ROW(Tableau1[N°salarié])-1),ROWS($1:3))),"")} -> 6213871H | B16: =IFERROR(INDEX(Tableau1[[Nom ]],MATCH('MATRICE VOIE'!A16,Tableau1[N°salarié],0)),"") -> NOM138 | C16: =IFERROR(INDEX(Tableau1[Prénom],MATCH('MATRICE VOIE'!A16,Tableau1[N°salarié],0)),"") -> PRENOM138
A17: {=IFERROR(INDEX(Tableau1[N°salarié],SMALL(IF(Tableau1[Libellé UO Hiérarchique]=liste_equipe,ROW(Tableau1[N°salarié])-1),ROWS($1:4))),"")} -> 6301848K | B17: =IFERROR(INDEX(Tableau1[[Nom ]],MATCH('MATRICE VOIE'!A17,Tableau1[N°salarié],0)),"") -> NOM148 | C17: =IFERROR(INDEX(Tableau1[Prénom],MATCH('MATRICE VOIE'!A17,Tableau1[N°salarié],0)),"") -> PRENOM148
A18: {=IFERROR(INDEX(Tableau1[N°salarié],SMALL(IF(Tableau1[Libellé UO Hiérarchique]=liste_equipe,ROW(Tableau1[N°salarié])-1),ROWS($1:5))),"")} -> 6512111G | B18: =IFERROR(INDEX(Tableau1[[Nom ]],MATCH('MATRICE VOIE'!A18,Tableau1[N°salarié],0)),"") -> NOM221 | C18: =IFERROR(INDEX(Tableau1[Prénom],MATCH('MATRICE VOIE'!A18,Tableau1[N°salarié],0)),"") -> PRENOM221
A19: {=IFERROR(INDEX(Tableau1[N°salarié],SMALL(IF(Tableau1[Libellé UO Hiérarchique]=liste_equipe,ROW(Tableau1[N°salarié])-1),ROWS($1:6))),"")} -> 6601925F | B19: =IFERROR(INDEX(Tableau1[[Nom ]],MATCH('MATRICE VOIE'!A19,Tableau1[N°salarié],0)),"") -> NOM236 | C19: =IFERROR(INDEX(Tableau1[Prénom],MATCH('MATRICE VOIE'!A19,Tableau1[N°salarié],0)),"") -> PRENOM236
A20: {=IFERROR(INDEX(Tableau1[N°salarié],SMALL(IF(Tableau1[Libellé UO Hiérarchique]=liste_equipe,ROW(Tableau1[N°salarié])-1),ROWS($1:7))),"")} -> 7203609K | B20: =IFERROR(INDEX(Tableau1[[Nom ]],MATCH('MATRICE VOIE'!A20,Tableau1[N°salarié],0)),"") -> NOM417 | C20: =IFERROR(INDEX(Tableau1[Prénom],MATCH('MATRICE VOIE'!A20,Tableau1[N°salarié],0)),"") -> PRENOM417
A21: {=IFERROR(INDEX(Tableau1[N°salarié],SMALL(IF(Tableau1[Libellé UO Hiérarchique]=liste_equipe,ROW(Tableau1[N°salarié])-1),ROWS($1:8))),"")} -> 8108896T | B21: =IFERROR(INDEX(Tableau1[[Nom ]],MATCH('MATRICE VOIE'!A21,Tableau1[N°salarié],0)),"") -> NOM670 | C21: =IFERROR(INDEX(Tableau1[Prénom],MATCH('MATRICE VOIE'!A21,Tableau1[N°salarié],0)),"") -> PRENOM670
A22: {=IFERROR(INDEX(Tableau1[N°salarié],SMALL(IF(Tableau1[Libellé UO Hiérarchique]=liste_equipe,ROW(Tableau1[N°salarié])-1),ROWS($1:9))),"")} | B22: =IFERROR(INDEX(Tableau1[[Nom ]],MATCH('MATRICE VOIE'!A22,Tableau1[N°salarié],0)),"") | C22: =IFERROR(INDEX(Tableau1[Prénom],MATCH('MATRICE VOIE'!A22,Tableau1[N°salarié],0)),"")
A23: {=IFERROR(INDEX(Tableau1[N°salarié],SMALL(IF(Tableau1[Libellé UO Hiérarchique]=liste_equipe,ROW(Tableau1[N°salarié])-1),ROWS($1:10))),"")} | B23: =IFERROR(INDEX(Tableau1[[Nom ]],MATCH('MATRICE VOIE'!A23,Tableau1[N°salarié],0)),"") | C23: =IFERROR(INDEX(Tableau1[Prénom],MATCH('MATRICE VOIE'!A23,Tableau1[N°salarié],0)),"")
A24: {=IFERROR(INDEX(Tableau1[N°salarié],SMALL(IF(Tableau1[Libellé UO Hiérarchique]=liste_equipe,ROW(Tableau1[N°salarié])-1),ROWS($1:11))),"")} | B24: =IFERROR(INDEX(Tableau1[[Nom ]],MATCH('MATRICE VOIE'!A24,Tableau1[N°salarié],0)),"") | C24: =IFERROR(INDEX(Tableau1[Prénom],MATCH('MATRICE VOIE'!A24,Tableau1[N°salarié],0)),"")
A25: {=IFERROR(INDEX(Tableau1[N°salarié],SMALL(IF(Tableau1[Libellé UO Hiérarchique]=liste_equipe,ROW(Tableau1[N°salarié])-1),ROWS($1:12))),"")} | B25: =IFERROR(INDEX(Tableau1[[Nom ]],MATCH('MATRICE VOIE'!A25,Tableau1[N°salarié],0)),"") | C25: =IFERROR(INDEX(Tableau1[Prénom],MATCH('MATRICE VOIE'!A25,Tableau1[N°salarié],0)),"")
A26: {=IFERROR(INDEX(Tableau1[N°salarié],SMALL(IF(Tableau1[Libellé UO Hiérarchique]=liste_equipe,ROW(Tableau1[N°salarié])-1),ROWS($1:13))),"")} | B26: =IFERROR(INDEX(Tableau1[[Nom ]],MATCH('MATRICE VOIE'!A26,Tableau1[N°salarié],0)),"") | C26: =IFERROR(INDEX(Tableau1[Prénom],MATCH('MATRICE VOIE'!A26,Tableau1[N°salarié],0)),"")
A27: {=IFERROR(INDEX(Tableau1[N°salarié],SMALL(IF(Tableau1[Libellé UO Hiérarchique]=liste_equipe,ROW(Tableau1[N°salarié])-1),ROWS($1:14))),"")} | B27: =IFERROR(INDEX(Tableau1[[Nom ]],MATCH('MATRICE VOIE'!A27,Tableau1[N°salarié],0)),"") | C27: =IFERROR(INDEX(Tableau1[Prénom],MATCH('MATRICE VOIE'!A27,Tableau1[N°salarié],0)),"")
A28: {=IFERROR(INDEX(Tableau1[N°salarié],SMALL(IF(Tableau1[Libellé UO Hiérarchique]=liste_equipe,ROW(Tableau1[N°salarié])-1),ROWS($1:15))),"")} | B28: =IFERROR(INDEX(Tableau1[[Nom ]],MATCH('MATRICE VOIE'!A28,Tableau1[N°salarié],0)),"") | C28: =IFERROR(INDEX(Tableau1[Prénom],MATCH('MATRICE VOIE'!A28,Tableau1[N°salarié],0)),"")
A29: {=IFERROR(INDEX(Tableau1[N°salarié],SMALL(IF(Tableau1[Libellé UO Hiérarchique]=liste_equipe,ROW(Tableau1[N°salarié])-1),ROWS($1:16))),"")} | B29: =IFERROR(INDEX(Tableau1[[Nom ]],MATCH('MATRICE VOIE'!A29,Tableau1[N°salarié],0)),"") | C29: =IFERROR(INDEX(Tableau1[Prénom],MATCH('MATRICE VOIE'!A29,Tableau1[N°salarié],0)),"")
A30: {=IFERROR(INDEX(Tableau1[N°salarié],SMALL(IF(Tableau1[Libellé UO Hiérarchique]=liste_equipe,ROW(Tableau1[N°salarié])-1),ROWS($1:17))),"")} | B30: =IFERROR(INDEX(Tableau1[[Nom ]],MATCH('MATRICE VOIE'!A30,Tableau1[N°salarié],0)),"") | C30: =IFERROR(INDEX(Tableau1[Prénom],MATCH('MATRICE VOIE'!A30,Tableau1[N°salarié],0)),"")
A31: {=IFERROR(INDEX(Tableau1[N°salarié],SMALL(IF(Tableau1[Libellé UO Hiérarchique]=liste_equipe,ROW(Tableau1[N°salarié])-1),ROWS($1:18))),"")} | B31: =IFERROR(INDEX(Tableau1[[Nom ]],MATCH('MATRICE VOIE'!A31,Tableau1[N°salarié],0)),"") | C31: =IFERROR(INDEX(Tableau1[Prénom],MATCH('MATRICE VOIE'!A31,Tableau1[N°salarié],0)),"")
A32: {=IFERROR(INDEX(Tableau1[N°salarié],SMALL(IF(Tableau1[Libellé UO Hiérarchique]=liste_equipe,ROW(Tableau1[N°salarié])-1),ROWS($1:19))),"")} | B32: =IFERROR(INDEX(Tableau1[[Nom ]],MATCH('MATRICE VOIE'!A32,Tableau1[N°salarié],0)),"") | C32: =IFERROR(INDEX(Tableau1[Prénom],MATCH('MATRICE VOIE'!A32,Tableau1[N°salarié],0)),"")
A33: {=IFERROR(INDEX(Tableau1[N°salarié],SMALL(IF(Tableau1[Libellé UO Hiérarchique]=liste_equipe,ROW(Tableau1[N°salarié])-1),ROWS($1:20))),"")} | B33: =IFERROR(INDEX(Tableau1[[Nom ]],MATCH('MATRICE VOIE'!A33,Tableau1[N°salarié],0)),"") | C33: =IFERROR(INDEX(Tableau1[Prénom],MATCH('MATRICE VOIE'!A33,Tableau1[N°salarié],0)),"")
A34: {=IFERROR(INDEX(Tableau1[N°salarié],SMALL(IF(Tableau1[Libellé UO Hiérarchique]=liste_equipe,ROW(Tableau1[N°salarié])-1),ROWS($1:21))),"")} | B34: =IFERROR(INDEX(Tableau1[[Nom ]],MATCH('MATRICE VOIE'!A34,Tableau1[N°salarié],0)),"") | C34: =IFERROR(INDEX(Tableau1[Prénom],MATCH('MATRICE VOIE'!A34,Tableau1[N°salarié],0)),"")
A35: {=IFERROR(INDEX(Tableau1[N°salarié],SMALL(IF(Tableau1[Libellé UO Hiérarchique]=liste_equipe,ROW(Tableau1[N°salarié])-1),ROWS($1:22))),"")} | B35: =IFERROR(INDEX(Tableau1[[Nom ]],MATCH('MATRICE VOIE'!A35,Tableau1[N°salarié],0)),"") | C35: =IFERROR(INDEX(Tableau1[Prénom],MATCH('MATRICE VOIE'!A35,Tableau1[N°salarié],0)),"")
A36: {=IFERROR(INDEX(Tableau1[N°salarié],SMALL(IF(Tableau1[Libellé UO Hiérarchique]=liste_equipe,ROW(Tableau1[N°salarié])-1),ROWS($1:23))),"")} | B36: =IFERROR(INDEX(Tableau1[[Nom ]],MATCH('MATRICE VOIE'!A36,Tableau1[N°salarié],0)),"") | C36: =IFERROR(INDEX(Tableau1[Prénom],MATCH('MATRICE VOIE'!A36,Tableau1[N°salarié],0)),"")
A37: {=IFERROR(INDEX(Tableau1[N°salarié],SMALL(IF(Tableau1[Libellé UO Hiérarchique]=liste_equipe,ROW(Tableau1[N°salarié])-1),ROWS($1:24))),"")} | B37: =IFERROR(INDEX(Tableau1[[Nom ]],MATCH('MATRICE VOIE'!A37,Tableau1[N°salarié],0)),"") | C37: =IFERROR(INDEX(Tableau1[Prénom],MATCH('MATRICE VOIE'!A37,Tableau1[N°salarié],0)),"")
A38: {=IFERROR(INDEX(Tableau1[N°salarié],SMALL(IF(Tableau1[Libellé UO Hiérarchique]=liste_equipe,ROW(Tableau1[N°salarié])-1),ROWS($1:25))),"")} | B38: =IFERROR(INDEX(Tableau1[[Nom ]],MATCH('MATRICE VOIE'!A38,Tableau1[N°salarié],0)),"") | C38: =IFERROR(INDEX(Tableau1[Prénom],MATCH('MATRICE VOIE'!A38,Tableau1[N°salarié],0)),"")
A39: {=IFERROR(INDEX(Tableau1[N°salarié],SMALL(IF(Tableau1[Libellé UO Hiérarchique]=liste_equipe,ROW(Tableau1[N°salarié])-1),ROWS($1:26))),"")} | B39: =IFERROR(INDEX(Tableau1[[Nom ]],MATCH('MATRICE VOIE'!A39,Tableau1[N°salarié],0)),"") | C39: =IFERROR(INDEX(Tableau1[Prénom],MATCH('MATRICE VOIE'!A39,Tableau1[N°salarié],0)),"")
A40: {=IFERROR(INDEX(Tableau1[N°salarié],SMALL(IF(Tableau1[Libellé UO Hiérarchique]=liste_equipe,ROW(Tableau1[N°salarié])-1),ROWS($1:27))),"")} | B40: =IFERROR(INDEX(Tableau1[[Nom ]],MATCH('MATRICE VOIE'!A40,Tableau1[N°salarié],0)),"") | C40: =IFERROR(INDEX(Tableau1[Prénom],MATCH('MATRICE VOIE'!A40,Tableau1[N°salarié],0)),"")
A41: {=IFERROR(INDEX(Tableau1[N°salarié],SMALL(IF(Tableau1[Libellé UO Hiérarchique]=liste_equipe,ROW(Tableau1[N°salarié])-1),ROWS($1:28))),"")} | B41: =IFERROR(INDEX(Tableau1[[Nom ]],MATCH('MATRICE VOIE'!A41,Tableau1[N°salarié],0)),"") | C41: =IFERROR(INDEX(Tableau1[Prénom],MATCH('MATRICE VOIE'!A41,Tableau1[N°salarié],0)),"")
A42: {=IFERROR(INDEX(Tableau1[N°salarié],SMALL(IF(Tableau1[Libellé UO Hiérarchique]=liste_equipe,ROW(Tableau1[N°salarié])-1),ROWS($1:29))),"")} | B42: =IFERROR(INDEX(Tableau1[[Nom ]],MATCH('MATRICE VOIE'!A42,Tableau1[N°salarié],0)),"") | C42: =IFERROR(INDEX(Tableau1[Prénom],MATCH('MATRICE VOIE'!A42,Tableau1[N°salarié],0)),"")
A43: {=IFERROR(INDEX(Tableau1[N°salarié],SMALL(IF(Tableau1[Libellé UO Hiérarchique]=liste_equipe,ROW(Tableau1[N°salarié])-1),ROWS($1:30))),"")} | B43: =IFERROR(INDEX(Tableau1[[Nom ]],MATCH('MATRICE VOIE'!A43,Tableau1[N°salarié],0)),"") | C43: =IFERROR(INDEX(Tableau1[Prénom],MATCH('MATRICE VOIE'!A43,Tableau1[N°salarié],0)),"")
A44: {=IFERROR(INDEX(Tableau1[N°salarié],SMALL(IF(Tableau1[Libellé UO Hiérarchique]=liste_equipe,ROW(Tableau1[N°salarié])-1),ROWS($1:31))),"")} | B44: =IFERROR(INDEX(Tableau1[[Nom ]],MATCH('MATRICE VOIE'!A44,Tableau1[N°salarié],0)),"") | C44: =IFERROR(INDEX(Tableau1[Prénom],MATCH('MATRICE VOIE'!A44,Tableau1[N°salarié],0)),"")
A45: {=IFERROR(INDEX(Tableau1[N°salarié],SMALL(IF(Tableau1[Libellé UO Hiérarchique]=liste_equipe,ROW(Tableau1[N°salarié])-1),ROWS($1:32))),"")} | B45: =IFERROR(INDEX(Tableau1[[Nom ]],MATCH('MATRICE VOIE'!A45,Tableau1[N°salarié],0)),"") | C45: =IFERROR(INDEX(Tableau1[Prénom],MATCH('MATRICE VOIE'!A45,Tableau1[N°salarié],0)),"")
A46: {=IFERROR(INDEX(Tableau1[N°salarié],SMALL(IF(Tableau1[Libellé UO Hiérarchique]=liste_equipe,ROW(Tableau1[N°salarié])-1),ROWS($1:33))),"")} | B46: =IFERROR(INDEX(Tableau1[[Nom ]],MATCH('MATRICE VOIE'!A46,Tableau1[N°salarié],0)),"") | C46: =IFERROR(INDEX(Tableau1[Prénom],MATCH('MATRICE VOIE'!A46,Tableau1[N°salarié],0)),"")
A47: {=IFERROR(INDEX(Tableau1[N°salarié],SMALL(IF(Tableau1[Libellé UO Hiérarchique]=liste_equipe,ROW(Tableau1[N°salarié])-1),ROWS($1:34))),"")} | B47: =IFERROR(INDEX(Tableau1[[Nom ]],MATCH('MATRICE VOIE'!A47,Tableau1[N°salarié],0)),"") | C47: =IFERROR(INDEX(Tableau1[Prénom],MATCH('MATRICE VOIE'!A47,Tableau1[N°salarié],0)),"")
A48: {=IFERROR(INDEX(Tableau1[N°salarié],SMALL(IF(Tableau1[Libellé UO Hiérarchique]=liste_equipe,ROW(Tableau1[N°salarié])-1),ROWS($1:35))),"")} | B48: =IFERROR(INDEX(Tableau1[[Nom ]],MATCH('MATRICE VOIE'!A48,Tableau1[N°salarié],0)),"") | C48: =IFERROR(INDEX(Tableau1[Prénom],MATCH('MATRICE VOIE'!A48,Tableau1[N°salarié],0)),"")
A49: {=IFERROR(INDEX(Tableau1[N°salarié],SMALL(IF(Tableau1[Libellé UO Hiérarchique]=liste_equipe,ROW(Tableau1[N°salarié])-1),ROWS($1:36))),"")} | B49: =IFERROR(INDEX(Tableau1[[Nom ]],MATCH('MATRICE VOIE'!A49,Tableau1[N°salarié],0)),"") | C49: =IFERROR(INDEX(Tableau1[Prénom],MATCH('MATRICE VOIE'!A49,Tableau1[N°salarié],0)),"")
A50: {=IFERROR(INDEX(Tableau1[N°salarié],SMALL(IF(Tableau1[Libellé UO Hiérarchique]=liste_equipe,ROW(Tableau1[N°salarié])-1),ROWS($1:37))),"")} | B50: =IFERROR(INDEX(Tableau1[[Nom ]],MATCH('MATRICE VOIE'!A50,Tableau1[N°salarié],0)),"") | C50: =IFERROR(INDEX(Tableau1[Prénom],MATCH('MATRICE VOIE'!A50,Tableau1[N°salarié],0)),"")
A51: {=IFERROR(INDEX(Tableau1[N°salarié],SMALL(IF(Tableau1[Libellé UO Hiérarchique]=liste_equipe,ROW(Tableau1[N°salarié])-1),ROWS($1:38))),"")} | B51: =IFERROR(INDEX(Tableau1[[Nom ]],MATCH('MATRICE VOIE'!A51,Tableau1[N°salarié],0)),"") | C51: =IFERROR(INDEX(Tableau1[Prénom],MATCH('MATRICE VOIE'!A51,Tableau1[N°salarié],0)),"")
A52: TOTAL | C52: Agents formateurs | E52: =COUNTIF(E14:E51,30) -> 0 | F52: =COUNTIF(F14:F51,30) -> 0 | G52: =COUNTIF(G14:G51,30) -> 0 | H52: =COUNTIF(H14:H51,30) -> 0 | I52: =COUNTIF(I14:I51,30) -> 0 | J52: =COUNTIF(J14:J51,30) -> 0 | K52: =COUNTIF(K14:K51,30) -> 0 | L52: =COUNTIF(L14:L51,30) -> 0 | ... CO52: =COUNTIF(CO14:CO51,30) -> 0
C53: agents Autonomes | E53: =COUNTIF(E14:E51,20) -> 0 | F53: =COUNTIF(F14:F51,200) -> 0 | G53: =COUNTIF(G14:G51,200) -> 0 | H53: =COUNTIF(H14:H51,200) -> 0 | I53: =COUNTIF(I14:I51,200) -> 0 | J53: =COUNTIF(J14:J51,200) -> 0 | K53: =COUNTIF(K14:K51,200) -> 0 | L53: =COUNTIF(L14:L51,200) -> 0 | M53: =COUNTIF(M14:M51,200) -> 0 | ... CO53: =COUNTIF(CO14:CO51,200) -> 0
A54: RESSOURCES DISPO / BESOINS | C54: Agents formateurs | E54: =IF(E52<E12,E52-E12,"") | F54: =IF(F52<F12,F52-F12,"") | G54: =IF(G52<G12,G52-G12,"") | H54: =IF(H52<H12,H52-H12,"") | I54: =IF(I52<I12,I52-I12,"") | J54: =IF(J52<J12,J52-J12,"") | K54: =IF(K52<K12,K52-K12,"") | L54: =IF(L52<L12,L52-L12,"") | ... CO54: =IF(CO52<CO12,CO52-CO12,"")
C55: agents Autonomes | E55: =IF(E53<E13,E53-E13,"") | F55: =IF(F53<F13,F53-F13,"") | G55: =IF(G53<G13,G53-G13,"") | H55: =IF(H53<H13,H53-H13,"") | I55: =IF(I53<I13,I53-I13,"") | J55: =IF(J53<J13,J53-J13,"") | K55: =IF(K53<K13,K53-K13,"") | L55: =IF(L53<L13,L53-L13,"") | ... CO55: =IF(CO53<CO13,CO53-CO13,"")
C57: Niveau de Compétences
C58: 0 – Non habilité (si soumis)
D59: 01 | E59: Savoir connaitre le fonctionnement théorique (j'ai appris la théorie)
D60: 02 | E60: Savoir connaitre le fonctionnement détaillé réel (j'ai vu en local)
C61: 1 – Habilité ou savoir-faire non soumis à habilitation
D62: 10 | E62: Novice - Je peux mais n'ai jamais fait et/ou ne sais pas faire
D63: 15 | E63: Je pratique peu ou n'ai pas pratiqué depuis longtemps/ besoin d'appui
D64: 20 | E64: Autonome - Je peux et je sais faire
D65: 30 | E65: Confirmé - Je peux et je sais montrer

Sheet Auto-eval
A1: Auto-évaluation - Secteur VOIE VZ
A3: Technologies/ Savoir-faire | E3: SECURITE | T3: ADV | AM3: Nivellement | AV3: Rails
E4: RPTX | J4: AS / annonce | O4: IS | P4: Elec | R4: CCH | S4: Autre | T4: RCE | W4: MI | AA4: MC3 | AB4: Autres opérations | AM4: RCE | AQ4: Géométrie | AU4: Stab | AV4: Maint | AY4: Autre
A5: NOM | B5: PRENOM | C5: DATE NAISSANCE | D5: CP | E5: S9 Avec 1 TTX | F5: S9 Multi TTX | G5: S9 avec 1 ou plus LAM | H5: S9 sans TTX | I5: S6 DATIS | J5: AS VS Gare VZ | K5: AS VP Gare Vz | L5: AS Secteurs ligne | M5: Annonceur | N5: Annonce utilisation syst automatique | O5: Pose de Datis | P5: C01 1500v | Q5: C02 25000v | R5: CCH | S5: Couverture d'obstacle | T5: Rplct bois appareil | U5: Remplct cœur | V5: Remplct 1/2 aiguillage | W5: ADV Famille A | X5: Adv familles B | Y5: Visites de sécurité | Z5: Adv Gauche | AA5: Meulage aiguille | AB5: Utilisation règle payot | AC5: Cotes adv : simples | AD5: Cotes adv : jeu butées | AE5: Cotes adv : usure aiguille contre aiguille | AF5: Cotes adv : relevé de flèche | AG5: Cotes adv : côtes X | AH5: Cotes adv : Côtes AD | AI5: Utilisation chaise | AJ5: Tronçonnage bois | AK5: Entaillage bois | AL5: Utilisation Taloche | AM5: Marquage de chantier | AN5: Nivellement manuel soufflage | AO5: Nivellement manuel jackson | AP5: Dressage | AQ5: Géométrie G3 | AR5: Géométrie Nivellement | AS5: Géométrie rippage | AT5: Géométrie Prépa BML | AU5: Stabilité Voie | AV5: Rplct Rails LRS | AW5: Libération | AX5: Rplct Rails Barres Normales | AY5: Tronçonnage rail | AZ5: Aide soudeur
A8: Technologies/ Savoir-faire | E8: Tournées | O8: PN | Y8: Autres VOIE | AG8: Documentation | AJ8: Encadrement | AN8: Permis | AT8: ASTREINTE
E9: Tournée voie | I9: Tournée specifiques | O9: Reprise | Q9: Gardien | U9: Entretien | Y9: Joints | AD9: RCE Conso | AF9: LTV | AN9: Route | AQ9: Engin
A10: NOM | B10: PRENOM | C10: DATE NAISSANCE | D10: CP | E10: Recherches défauts courants et abords | F10: Recherche défauts nivellement dressage | G10: Recherche défauts adv, éclissage et équipement | H10: Vérifications de points particuliers OA OT | I10: Tournée Rail | J10: Tournée ADV | K10: Tournée de conformité | L10: Tournée Abords | M10: Tournée de chaleur à pied | N10: Tournées chaleur TCT TFCT | O10: Agent PN en travaux | P10: Agent PN en déangement | Q10: PN barrière manuelle | R10: PN avec FC | S10: PN équipé SAL2 | T10: PN équipé SAL4 | U10: Montage strail | V10: Montage chapsol | W10: Montage BVF | X10: Montage bois | Y10: Joints : relevés de joints et de JGP | Z10: Inspections et graissage de joints | AA10: Régularisation d'ouverture de joint et JGP | AB10: Confection de JIC | AC10: Maintenance Joints isolants | AD10: Sur traverses bois de tout type | AE10: Sur traverses Béton | AF10: Montage de LTV | AG10: Recherche de normes | AH10: Lecture de plans | AI10: Utilisation mémento voie | AJ10: EVS | AK10: CRUS | AL10: Utilisation outil tournée | AM10: Mails | AN10: Permis E | AO10: Permis B | AP10: Permis D | AQ10: CACES mini pelle | AR10: CACES autre à définir | AS10: Manipulation de grue camion
D14: Niveau de Compétences
D15: 0 – Non habilité (si soumis)
E16: 01 | F16: Savoir connaitre le fonctionnement théorique (j'ai appris la théorie)
E17: 02 | F17: Savoir connaitre le fonctionnement détaillé réel (j'ai vu en local)
D18: 1 – Habilité ou savoir-faire non soumis à habilitation
E19: 10 | F19: Novice - Je peux mais n'ai jamais fait et/ou ne sais pas faire
E20: 15 | F20: Je pratique peu ou n'ai pas pratiqué depuis longtemps/ besoin d'appui
E21: 20 | F21: Autonome - Je peux et je sais faire
E22: 30 | F22: Confirmé - Je peux et je sais montrer

Sheet sources listes deroulantes
A1: UP1 EQUIPE VOIE BASSENS APPONTEMENT
A2: UP1 EQUIPE VOIE BORDEAUX BASTIDE
A3: UP1 EQUIPE VOIE BORDEAUX SAINT JEAN NORD
A4: UP1 EQUIPE VOIE BORDEAUX SAINT JEAN SUD
A5: UP1 EQUIPE VOIE CAUDERAN
A6: UP1 EQUIPE VOIE COUTRAS
A7: UP1 EQUIPE VOIE LESPARRE
A8: UP1 EQUIPE VOIE LIBOURNE
A9: UP1 EQUIPE VOIE SAINT AIGULIN
A10: UP1 EQUIPE VOIE SAINT ANDRE DE CUBZAC
A11: UP1 EQUIPE VOIE VILLENAVE
A12: UP1 SECTEUR VOIE BORDEAUX HOURCADE
... A57: UP7 VOIE SEG PERIGORD

Sheet sources agents
A1: Libellé UO Hiérarchique | B1: N°salarié | C1: Nom | D1: Prénom
A2: UP6 EQUIPE CATENAIRE BORDEAUX SAINT JEAN | B2: 5212318N | C2: NOM1 | D2: PRENOM1
A3: NOYAU DUR TRAVAUX AQUITAINE DAX | B3: 5512125R | C3: NOM2 | D3: PRENOM2
A4: UP6 CATENAIRES BORDEAUX NORD-AQUITAINE | B4: 5514950L | C4: NOM3 | D4: PRENOM3
A5: UP3 EQUIPE VOIE PAU | B5: 5609501J | C5: NOM4 | D5: PRENOM4
A6: UP3 VOIE SUD-AQUITAINE | B6: 5618994C | C6: NOM5 | D6: PRENOM5
A7: NOYAU DUR TRAVAUX AQUITAINE DAX | B7: 5705391M | C7: NOM6 | D7: PRENOM6
A8: UP TRAVAUX AQUITAINE | B8: 5712211A | C8: NOM7 | D8: PRENOM7
A9: UP TRAVAUX AQUITAINE | B9: 5713624L | C9: NOM8 | D9: PRENOM8
A10: UP3 VOIE SUD-AQUITAINE | B10: 5716275T | C10: NOM9 | D10: PRENOM9
A11: POLE IT | B11: 5716287F | C11: NOM10 | D11: PRENOM10
A12: UP3 VOIE SUD-AQUITAINE | B12: 5716375B | C12: NOM11 | D12: PRENOM11
... A886: POLE ORGANISATION TECHNIQUE PRODUCTION | B886: 9816810W | C886: NOM885 | D886: PRENOM885

Sheet Feuil3
B5: =SI(D2<>"";DECALER(f_equipe);EQUIV(D2&"*";f_equipe;0)-1;;NB.SI(f_equipe;D2&"*");1);f_equipe)
