Workbook

Sheet stock
B1: groupe | C1: marque | D1: produit (ref) | E1: stock départ | F1: stock | G1: operation faites sur chaque produit
B2: CARREAUX DE SOLE | C2: SUPER KENITRA 41/41 | D2: 41108 | E2: 111 | F2: =E2-SUMPRODUCT((ventes!$D$2:$D$10=stock!$D2)*(ventes!$E$2:$E$10)) -> 111 | G2: =COUNTIF(ventes!$D$2:D10,D2) -> 0
B3: CARREAUX DE SOLE | C3: SUPER KENITRA 41/41 | D3: 41121 | E3: 121 | F3: =E3-SUMPRODUCT((ventes!$D$2:$D$10=stock!$D3)*(ventes!$E$2:$E$10)) -> 121 | G3: =COUNTIF(ventes!$D$2:D11,D3) -> 0
B4: CARREAUX DE SOLE | C4: SUPER KENITRA 41/41 | D4: 41122 | E4: 211 | F4: =E4-SUMPRODUCT((ventes!$D$2:$D$10=stock!$D4)*(ventes!$E$2:$E$10)) -> 196 | G4: =COUNTIF(ventes!$D$2:D12,D4) -> 1
B5: CARREAUX DE SOLE | C5: SUPER KENITRA 41/41 | D5: 41123 | E5: 84 | F5: =E5-SUMPRODUCT((ventes!$D$2:$D$10=stock!$D5)*(ventes!$E$2:$E$10)) -> 0 | G5: =COUNTIF(ventes!$D$2:D13,D5) -> 4
B6: CARREAUX DE SOLE | C6: SUPER KENITRA 41/41 | D6: 41124 | E6: 300 | F6: =E6-SUMPRODUCT((ventes!$D$2:$D$10=stock!$D6)*(ventes!$E$2:$E$10)) -> 220 | G6: =COUNTIF(ventes!$D$2:D14,D6) -> 2
B7: CARREAUX DE SOLE | C7: SUPER KENITRA 41/41 | D7: 41134 | E7: 500 | F7: =E7-SUMPRODUCT((ventes!$D$2:$D$10=stock!$D7)*(ventes!$E$2:$E$10)) -> 500 | G7: =COUNTIF(ventes!$D$2:D15,D7) -> 0
B8: CARREAUX DE SOLE | C8: SUPER KENITRA 41/41 | D8: 41366 blan | E8: 80 | F8: =E8-SUMPRODUCT((ventes!$D$2:$D$10=stock!$D8)*(ventes!$E$2:$E$10)) -> 80 | G8: =COUNTIF(ventes!$D$2:D16,D8) -> 0
B9: CARREAUX DE SOLE | C9: SUPER KENITRA 41/41 | D9: 41367 noir | E9: 10 | F9: =E9-SUMPRODUCT((ventes!$D$2:$D$10=stock!$D9)*(ventes!$E$2:$E$10)) -> 5 | G9: =COUNTIF(ventes!$D$2:D17,D9) -> 1
B10: CARREAUX DE SOLE | C10: SUPER berchid 41/41 | D10: 82004 3oud marron | E10: 3 | F10: =E10-SUMPRODUCT((ventes!$D$2:$D$10=stock!$D10)*(ventes!$E$2:$E$10)) -> 3 | G10: =COUNTIF(ventes!$D$2:D18,D10) -> 0
B11: CARREAUX DE SOLE | C11: SUPER berchid 41/42 | D11: NRG 41/41 | E11: 16 | F11: =E11-SUMPRODUCT((ventes!$D$2:$D$10=stock!$D11)*(ventes!$E$2:$E$10)) -> 16 | G11: =COUNTIF(ventes!$D$2:D19,D11) -> 0
B12: CARREAUX DE SOLE | C12: SUPER berchid 41/43 | D12: 82511 | E12: 25 | F12: =E12-SUMPRODUCT((ventes!$D$2:$D$10=stock!$D12)*(ventes!$E$2:$E$10)) -> 25 | G12: =COUNTIF(ventes!$D$2:D20,D12) -> 0
F15: doit étre
C16: Exemple | D16: 41122 | F16: 196
D17: 41123 | F17: 137
D18: 41124 | F18: 220
D19: 41367 noir | F19: 5

Sheet ventes
B1: N-Operation | C1: nom cliens | D1: produits (ref) | E1: quantité vendu | F1: stock | G1: stock restant | H1: les ventes exercer sur le produit | I1: incrémentation des ventes de chaque produit
A2: SUPER KENITRA 41/41 | B2: 1 | C2: ossama | D2: 41122 | E2: 15 | F2: =LOOKUP(D2,stock!D:D,stock!F:F) -> 196 | G2: =F2-E2 -> 181 | H2: =COUNTIF($D$2:D10,D2) -> 1 | I2: =(IF(COUNTIF(D$2:D$29,D2)>1,COUNTIF(D$2:D2,D2),1)) -> 1
A3: SUPER KENITRA 41/41 | B3: 1 | C3: ossama | D3: 41123 | E3: 20 | F3: =LOOKUP(D3,stock!D:D,stock!F:F) -> 0 | G3: =F3-E3 -> -20 | H3: =COUNTIF($D$2:D11,D3) -> 4 | I3: =(IF(COUNTIF(D$2:D$29,D3)>1,COUNTIF(D$2:D3,D3),1)) -> 1
A4: SUPER KENITRA 41/41 | B4: 2 | C4: meriem | D4: 41124 | E4: 30 | F4: =LOOKUP(D4,stock!D:D,stock!F:F) -> 220 | G4: =F4-E4 -> 190 | H4: =COUNTIF($D$2:D12,D4) -> 2 | I4: =(IF(COUNTIF(D$2:D$29,D4)>1,COUNTIF(D$2:D4,D4),1)) -> 1
A5: SUPER KENITRA 41/41 | B5: 2 | C5: meriem | D5: 41366 blanc | E5: 12 | F5: =LOOKUP(D5,stock!D:D,stock!F:F) -> 80 | G5: =F5-E5 -> 68 | H5: =COUNTIF($D$2:D13,D5) -> 1 | I5: =(IF(COUNTIF(D$2:D$29,D5)>1,COUNTIF(D$2:D5,D5),1)) -> 1
A6: SUPER KENITRA 41/41 | B6: 2 | C6: meriem | D6: 41123 | E6: 12 | F6: =LOOKUP(D6,stock!D:D,stock!F:F) -> 0 | G6: =F6-E6 -> -12 | H6: =COUNTIF($D$2:D14,D6) -> 4 | I6: =(IF(COUNTIF(D$2:D$29,D6)>1,COUNTIF(D$2:D6,D6),1)) -> 2
A7: SUPER KENITRA 41/41 | B7: 3 | C7: nour | D7: 41367 noir | E7: 5 | F7: =LOOKUP(D7,stock!D:D,stock!F:F) -> 5 | G7: =F7-E7 -> 0 | H7: =COUNTIF($D$2:D15,D7) -> 1 | I7: =(IF(COUNTIF(D$2:D$29,D7)>1,COUNTIF(D$2:D7,D7),1)) -> 1
A8: SUPER KENITRA 41/41 | B8: 4 | C8: jamal | D8: 41123 | E8: 40 | F8: =LOOKUP(D8,stock!D:D,stock!F:F) -> 0 | G8: =F8-E8 -> -40 | H8: =COUNTIF($D$2:D16,D8) -> 4 | I8: =(IF(COUNTIF(D$2:D$29,D8)>1,COUNTIF(D$2:D8,D8),1)) -> 3
A9: SUPER KENITRA 41/41 | B9: 5 | C9: fatima | D9: 41124 | E9: 50 | F9: =LOOKUP(D9,stock!D:D,stock!F:F) -> 220 | G9: =F9-E9 -> 170 | H9: =COUNTIF($D$2:D17,D9) -> 2 | I9: =(IF(COUNTIF(D$2:D$29,D9)>1,COUNTIF(D$2:D9,D9),1)) -> 2
A10: SUPER KENITRA 41/41 | B10: 5 | C10: fatima | D10: 41123 | E10: 12 | F10: =LOOKUP(D10,stock!D:D,stock!F:F) -> 0 | G10: =F10-E10 -> -12 | H10: =COUNTIF($D$2:D18,D10) -> 4 | I10: =(IF(COUNTIF(D$2:D$29,D10)>1,COUNTIF(D$2:D10,D10),1)) -> 4
B14: bonjour,
B15: je vient de m'inscrire dans ce magnifique forum et je voudrais que vous m aider SVP à résoudre un problème que j ai rencontré sur mon classeur.
B16: en faite j ai deux feuilles une pour les produit et leur stock
B17: l autre pour les ventes
B18: le problème c'est que je n arrive pas a mètre a jour le stock de la première feuille selon les ventes effectuer dans la feuille (ventes) .
B20: exemple pour le produit (41123) est vendu 4 fois:
F21: 221
F22: 201
F23: 189
F24: 149 | G24: 137
B26: alors dans chaque enregistrement de vente le stock doit ce maitre a jour
