Workbook

Sheet EXTRACTION
A1: Matric. | B1: Nom | C1: Prénom | D1: Date | E1: Evnement planning | F1: DIR | G1: SECTION
A2: 1234 | B2: DURANT | C2: MARIE | D2: 2020/03/17 | E2: CP | F2: COMMERCE | G2: PARIS
A3: 9999 | B3: DUUPONT | C3: ANNIE | D3: 2020/03/17 | E3: ECOLE | F3: COMMERCE | G3: BRETAGNE
A4: 1234 | B4: DURANT | C4: MARIE | D4: 2020/03/18 | E4: CP | F4: COMMERCE | G4: PARIS
A5: 9999 | B5: DUUPONT | C5: ANNIE | D5: 2020/03/18 | E5: ECOLE | F5: COMMERCE | G5: BRETAGNE
A6: 1234 | B6: DURANT | C6: MARIE | D6: 2020/03/19 | E6: CP | F6: COMMERCE | G6: PARIS
A7: 9999 | B7: DUUPONT | C7: ANNIE | D7: 2020/03/19 | E7: ECOLE | F7: COMMERCE | G7: BRETAGNE
A8: 1234 | B8: DURANT | C8: MARIE | D8: 2020/03/20 | E8: CP | F8: COMMERCE | G8: PARIS
A9: 9999 | B9: DUUPONT | C9: ANNIE | D9: 2020/03/20 | E9: ECOLE | F9: COMMERCE | G9: BRETAGNE
A10: 1234 | B10: DURANT | C10: MARIE | D10: 2020/03/21 | E10: CP | F10: COMMERCE | G10: PARIS
A11: 9999 | B11: DUUPONT | C11: ANNIE | D11: 2020/03/21 | F11: COMMERCE | G11: BRETAGNE
A12: 1234 | B12: DURANT | C12: MARIE | D12: 2020/03/22 | E12: CP | F12: COMMERCE | G12: PARIS
A13: 9999 | B13: DUUPONT | C13: ANNIE | D13: 2020/03/22 | F13: COMMERCE | G13: BRETAGNE
A14: 1234 | B14: DURANT | C14: MARIE | D14: 2020/03/23 | E14: CP | F14: COMMERCE | G14: PARIS
A15: 9999 | B15: DUUPONT | C15: ANNIE | D15: 2020/03/23 | F15: COMMERCE | G15: BRETAGNE
A16: 1234 | B16: DURANT | C16: MARIE | D16: 2020/03/24 | E16: CP | F16: COMMERCE | G16: PARIS
A17: 9999 | B17: DUUPONT | C17: ANNIE | D17: 2020/03/24 | F17: COMMERCE | G17: BRETAGNE
A18: 1234 | B18: DURANT | C18: MARIE | D18: 2020/03/25 | E18: CP | F18: COMMERCE | G18: PARIS
A19: 9999 | B19: DUUPONT | C19: ANNIE | D19: 2020/03/25 | F19: COMMERCE | G19: BRETAGNE
A20: 1234 | B20: DURANT | C20: MARIE | D20: 2020/03/26 | E20: CP | F20: COMMERCE | G20: PARIS
A21: 9999 | B21: DUUPONT | C21: ANNIE | D21: 2020/03/26 | F21: COMMERCE | G21: BRETAGNE
A22: 1234 | B22: DURANT | C22: MARIE | D22: 2020/03/27 | E22: CP | F22: COMMERCE | G22: PARIS
A23: 9999 | B23: DUUPONT | C23: ANNIE | D23: 2020/03/27 | F23: COMMERCE | G23: BRETAGNE
A24: 1234 | B24: DURANT | C24: MARIE | D24: 2020/03/28 | F24: COMMERCE | G24: PARIS
A25: 9999 | B25: DUUPONT | C25: ANNIE | D25: 2020/03/28 | F25: COMMERCE | G25: BRETAGNE
A26: 1234 | B26: DURANT | C26: MARIE | D26: 2020/03/29 | F26: COMMERCE | G26: PARIS
A27: 9999 | B27: DUUPONT | C27: ANNIE | D27: 2020/03/29 | F27: COMMERCE | G27: BRETAGNE
A28: 1234 | B28: DURANT | C28: MARIE | D28: 2020/03/30 | F28: COMMERCE | G28: PARIS
A29: 9999 | B29: DUUPONT | C29: ANNIE | D29: 2020/03/30 | E29: ECOLE | F29: COMMERCE | G29: BRETAGNE
A30: 1234 | B30: DURANT | C30: MARIE | D30: 2020/03/31 | F30: COMMERCE | G30: PARIS
A31: 9999 | B31: DUUPONT | C31: ANNIE | D31: 2020/03/31 | E31: ECOLE | F31: COMMERCE | G31: BRETAGNE
A32: 1234 | B32: DURANT | C32: MARIE | D32: 2020/04/01 | F32: COMMERCE | G32: PARIS
A33: 9999 | B33: DUUPONT | C33: ANNIE | D33: 2020/04/01 | E33: ECOLE | F33: COMMERCE | G33: BRETAGNE
A34: 1234 | B34: DURANT | C34: MARIE | D34: 2020/04/02 | F34: COMMERCE | G34: PARIS
A35: 9999 | B35: DUUPONT | C35: ANNIE | D35: 2020/04/02 | E35: ECOLE | F35: COMMERCE | G35: BRETAGNE
A36: 1234 | B36: DURANT | C36: MARIE | D36: 2020/04/03 | F36: COMMERCE | G36: PARIS
A37: 9999 | B37: DUUPONT | C37: ANNIE | D37: 2020/04/03 | E37: ECOLE | F37: COMMERCE | G37: BRETAGNE
A38: 1234 | B38: DURANT | C38: MARIE | D38: 2020/04/04 | F38: COMMERCE | G38: PARIS
A39: 9999 | B39: DUUPONT | C39: ANNIE | D39: 2020/04/04 | F39: COMMERCE | G39: BRETAGNE
A40: 1234 | B40: DURANT | C40: MARIE | D40: 2020/04/05 | F40: COMMERCE | G40: PARIS
...

Sheet planning
A1: {=IFERROR(INDEX(Tableau1[[#All],[Matric.]],SMALL(IF(MATCH(Tableau1[[#All],[Matric.]],Tableau1[[#All],[Matric.]])=ROW(Tableau1[[#All],[Matric.]]),ROW(Tableau1[[#All],[Matric.]])),ROW(1:1))),"")} -> Matric. | B1: Nom | C1: Prénom | D1: Date | E1: Dir | F1: SECTION | G1: {=MIN(DATEVALUE(Tableau1[[Date]:[Date]]))} -> 43907 | H1: =G$1+1 -> 43908 | I1: =H$1+1 -> 43909 | J1: =I$1+1 -> 43910 | K1: =J$1+1 -> 43911 | L1: =K$1+1 -> 43912 | M1: =L$1+1 -> 43913
A2: {=IFERROR(INDEX(Tableau1[[#All],[Matric.]],SMALL(IF(MATCH(Tableau1[[#All],[Matric.]],Tableau1[[#All],[Matric.]])=ROW(Tableau1[[#All],[Matric.]]),ROW(Tableau1[[#All],[Matric.]])),ROW(2:2))),"")} -> 1234 | B2: =VLOOKUP($A2,Tableau1[],COLUMNS($A:B),0) -> DURANT | C2: =VLOOKUP($A2,Tableau1[],COLUMNS($A:C),0) -> MARIE | D2: =VLOOKUP($A2,Tableau1[],COLUMNS($A:D),0) -> 2020/03/17 | E2: =VLOOKUP($A2,Tableau1[],COLUMNS($A:F),0) -> COMMERCE | F2: =VLOOKUP($A2,Tableau1[],COLUMNS($A:G),0) -> PARIS | G2: =INDEX(Tableau1[[Evnement planning]:[Evnement planning]],SUMPRODUCT((Tableau1[[Matric.]:[Matric.]]=planning!$A2)*(DATEVALUE(Tableau1[[Date]:[Date]])=planning!G$1)*(ROW(Tableau1[[Matric.]:[Matric.]])-1))) -> CP | H2: =INDEX(Tableau1[[Evnement planning]:[Evnement planning]],SUMPRODUCT((Tableau1[[Matric.]:[Matric.]]=planning!$A2)*(DATEVALUE(Tableau1[[Date]:[Date]])=planning!H$1)*(ROW(Tableau1[[Matric.]:[Matric.]])-1))) -> CP | I2: =INDEX(Tableau1[[Evnement planning]:[Evnement planning]],SUMPRODUCT((Tableau1[[Matric.]:[Matric.]]=planning!$A2)*(DATEVALUE(Tableau1[[Date]:[Date]])=planning!I$1)*(ROW(Tableau1[[Matric.]:[Matric.]])-1))) -> CP | J2: =INDEX(Tableau1[[Evnement planning]:[Evnement planning]],SUMPRODUCT((Tableau1[[Matric.]:[Matric.]]=planning!$A2)*(DATEVALUE(Tableau1[[Date]:[Date]])=planning!J$1)*(ROW(Tableau1[[Matric.]:[Matric.]])-1))) -> CP | K2: =INDEX(Tableau1[[Evnement planning]:[Evnement planning]],SUMPRODUCT((Tableau1[[Matric.]:[Matric.]]=planning!$A2)*(DATEVALUE(Tableau1[[Date]:[Date]])=planning!K$1)*(ROW(Tableau1[[Matric.]:[Matric.]])-1))) -> CP | L2: =INDEX(Tableau1[[Evnement planning]:[Evnement planning]],SUMPRODUCT((Tableau1[[Matric.]:[Matric.]]=planning!$A2)*(DATEVALUE(Tableau1[[Date]:[Date]])=planning!L$1)*(ROW(Tableau1[[Matric.]:[Matric.]])-1))) -> CP | M2: =INDEX(Tableau1[[Evnement planning]:[Evnement planning]],SUMPRODUCT((Tableau1[[Matric.]:[Matric.]]=planning!$A2)*(DATEVALUE(Tableau1[[Date]:[Date]])=planning!M$1)*(ROW(Tableau1[[Matric.]:[Matric.]])-1))) -> CP
A3: {=IFERROR(INDEX(Tableau1[[#All],[Matric.]],SMALL(IF(MATCH(Tableau1[[#All],[Matric.]],Tableau1[[#All],[Matric.]])=ROW(Tableau1[[#All],[Matric.]]),ROW(Tableau1[[#All],[Matric.]])),ROW(3:3))),"")} -> 9999 | B3: =VLOOKUP($A3,Tableau1[],COLUMNS($A:B),0) -> DUUPONT | C3: =VLOOKUP($A3,Tableau1[],COLUMNS($A:C),0) -> ANNIE | D3: =VLOOKUP($A3,Tableau1[],COLUMNS($A:D),0) -> 2020/03/17 | E3: =VLOOKUP($A3,Tableau1[],COLUMNS($A:F),0) -> COMMERCE | F3: =VLOOKUP($A3,Tableau1[],COLUMNS($A:G),0) -> BRETAGNE | G3: =INDEX(Tableau1[[Evnement planning]:[Evnement planning]],SUMPRODUCT((Tableau1[[Matric.]:[Matric.]]=planning!$A3)*(DATEVALUE(Tableau1[[Date]:[Date]])=planning!G$1)*(ROW(Tableau1[[Matric.]:[Matric.]])-1))) -> ECOLE | H3: =INDEX(Tableau1[[Evnement planning]:[Evnement planning]],SUMPRODUCT((Tableau1[[Matric.]:[Matric.]]=planning!$A3)*(DATEVALUE(Tableau1[[Date]:[Date]])=planning!H$1)*(ROW(Tableau1[[Matric.]:[Matric.]])-1))) -> ECOLE | I3: =INDEX(Tableau1[[Evnement planning]:[Evnement planning]],SUMPRODUCT((Tableau1[[Matric.]:[Matric.]]=planning!$A3)*(DATEVALUE(Tableau1[[Date]:[Date]])=planning!I$1)*(ROW(Tableau1[[Matric.]:[Matric.]])-1))) -> ECOLE | J3: =INDEX(Tableau1[[Evnement planning]:[Evnement planning]],SUMPRODUCT((Tableau1[[Matric.]:[Matric.]]=planning!$A3)*(DATEVALUE(Tableau1[[Date]:[Date]])=planning!J$1)*(ROW(Tableau1[[Matric.]:[Matric.]])-1))) -> ECOLE | K3: =INDEX(Tableau1[[Evnement planning]:[Evnement planning]],SUMPRODUCT((Tableau1[[Matric.]:[Matric.]]=planning!$A3)*(DATEVALUE(Tableau1[[Date]:[Date]])=planning!K$1)*(ROW(Tableau1[[Matric.]:[Matric.]])-1))) -> 0 | L3: =INDEX(Tableau1[[Evnement planning]:[Evnement planning]],SUMPRODUCT((Tableau1[[Matric.]:[Matric.]]=planning!$A3)*(DATEVALUE(Tableau1[[Date]:[Date]])=planning!L$1)*(ROW(Tableau1[[Matric.]:[Matric.]])-1))) -> 0 | M3: =INDEX(Tableau1[[Evnement planning]:[Evnement planning]],SUMPRODUCT((Tableau1[[Matric.]:[Matric.]]=planning!$A3)*(DATEVALUE(Tableau1[[Date]:[Date]])=planning!M$1)*(ROW(Tableau1[[Matric.]:[Matric.]])-1))) -> 0
A4: {=IFERROR(INDEX(Tableau1[[#All],[Matric.]],SMALL(IF(MATCH(Tableau1[[#All],[Matric.]],Tableau1[[#All],[Matric.]])=ROW(Tableau1[[#All],[Matric.]]),ROW(Tableau1[[#All],[Matric.]])),ROW(4:4))),"")}
A5: {=IFERROR(INDEX(Tableau1[[#All],[Matric.]],SMALL(IF(MATCH(Tableau1[[#All],[Matric.]],Tableau1[[#All],[Matric.]])=ROW(Tableau1[[#All],[Matric.]]),ROW(Tableau1[[#All],[Matric.]])),ROW(5:5))),"")}
A6: {=IFERROR(INDEX(Tableau1[[#All],[Matric.]],SMALL(IF(MATCH(Tableau1[[#All],[Matric.]],Tableau1[[#All],[Matric.]])=ROW(Tableau1[[#All],[Matric.]]),ROW(Tableau1[[#All],[Matric.]])),ROW(6:6))),"")}
A7: {=IFERROR(INDEX(Tableau1[[#All],[Matric.]],SMALL(IF(MATCH(Tableau1[[#All],[Matric.]],Tableau1[[#All],[Matric.]])=ROW(Tableau1[[#All],[Matric.]]),ROW(Tableau1[[#All],[Matric.]])),ROW(7:7))),"")}
A8: {=IFERROR(INDEX(Tableau1[[#All],[Matric.]],SMALL(IF(MATCH(Tableau1[[#All],[Matric.]],Tableau1[[#All],[Matric.]])=ROW(Tableau1[[#All],[Matric.]]),ROW(Tableau1[[#All],[Matric.]])),ROW(8:8))),"")}
A9: {=IFERROR(INDEX(Tableau1[[#All],[Matric.]],SMALL(IF(MATCH(Tableau1[[#All],[Matric.]],Tableau1[[#All],[Matric.]])=ROW(Tableau1[[#All],[Matric.]]),ROW(Tableau1[[#All],[Matric.]])),ROW(9:9))),"")}
A10: {=IFERROR(INDEX(Tableau1[[#All],[Matric.]],SMALL(IF(MATCH(Tableau1[[#All],[Matric.]],Tableau1[[#All],[Matric.]])=ROW(Tableau1[[#All],[Matric.]]),ROW(Tableau1[[#All],[Matric.]])),ROW(10:10))),"")}
A11: {=IFERROR(INDEX(Tableau1[[#All],[Matric.]],SMALL(IF(MATCH(Tableau1[[#All],[Matric.]],Tableau1[[#All],[Matric.]])=ROW(Tableau1[[#All],[Matric.]]),ROW(Tableau1[[#All],[Matric.]])),ROW(11:11))),"")}
