Workbook
Name BD: Chasseurs!$B$7:$P$25
Name CI: Inviteur!$B$7:$O$31
Name N°_ordre: Chasseurs!$B$7:$B$23

Sheet Fiche
D1: =E1+1 -> 2025 | E1: 2024
B2: =IF(E1 <> "", "Fiche : Chasseurs : " & E1, "") &" - " & D1 -> Fiche : Chasseurs : 2024 - 2025
B4: NOM C | F4: N° d'Ordre C | G4: 3
B6: Informations Chasseurs | F6: Informations Assurance
B8: Nom : | C8: =IF(ISBLANK($G$4),"",IF(VLOOKUP($G$4,BD,3)=0,"",VLOOKUP($G$4,BD,3))) -> Jordan | D8: =IF(ISBLANK($G$4),"",IF(VLOOKUP($G$4,BD,2)=0,"",VLOOKUP($G$4,BD,2))) -> Act | E8: =IF(D8="Act","Actionnaire","Invité") -> Actionnaire | K8: Gestionnaire de Nom
B9: Adresse : | C9: =IF(ISBLANK($G$4),"",IF(VLOOKUP($G$4,BD,9)=0,"",VLOOKUP($G$4,BD,9))) | F9: N° Police : | G9: =IF(ISBLANK($G$4),"",IF(VLOOKUP($G$4,BD,5)=0,"",VLOOKUP($G$4,BD,5))) -> 4237910G 002 | J9: BD | K9: =Chasseurs!$B$7:$P$25
B10: Adresse 2 : | C10: =IF(ISBLANK($G$4),"",IF(VLOOKUP($G$4,BD,10)=0,"",VLOOKUP($G$4,BD,10))) | F10: Cie Assurance : | G10: =IF(ISBLANK($G$4),"",IF(VLOOKUP($G$4,BD,6)=0,"",VLOOKUP($G$4,BD,6))) -> BS ASSURANCES | J10: N°_ordre | K10: =Chasseurs!$B$7:$B$23
B11: Code Postal : | C11: =IF(ISBLANK($G$4),"",IF(VLOOKUP($G$4,BD,11)=0,"",VLOOKUP($G$4,BD,11))) | F11: N° de Valid. : | G11: =IF(ISBLANK($G$4),"",IF(VLOOKUP($G$4,BD,7)=0,"",VLOOKUP($G$4,BD,7))) -> 11978
B12: Ville : | C12: =IF(ISBLANK($G$4),"",IF(VLOOKUP($G$4,BD,12)=0,"",VLOOKUP($G$4,BD,12))) | F12: N° Permis : | G12: =IF(ISBLANK($G$4),"",IF(VLOOKUP($G$4,BD,8)=0,"",VLOOKUP($G$4,BD,8))) -> 20009922526
B13: Téléphone : | C13: =IF(ISBLANK($G$4),"",IF(VLOOKUP($G$4,BD,13)=0,"",VLOOKUP($G$4,BD,13))) -> 380808080
B14: Mail : | C14: =IF(ISBLANK($G$4),"",IF(VLOOKUP($G$4,BD,14)=0,"",VLOOKUP($G$4,BD,14)))
B15: Dossier : | C15: =IF(ISBLANK($G$4),"",IF(VLOOKUP($G$4,BD,4)=0,"",VLOOKUP($G$4,BD,4))) -> OK | F15: =IF(C15="A compléter","Remplir les Infos Assurance (si colorées)","")
C18: Ci-dessous je souhaiterais avoir les données de la feuille INVITEUR en reprenant les dates du tableau.
B19: suivant le N° Ordre en G4 je voudrais avoir les personnes qui sont dans la colonne correspondante à la date
H20: x | I20: gilles
B21: Exemple : | G21: 18 19 Oct 24 | H21: {=SUMPRODUCT((ISTEXT(Inviteur!$F$7:$O$30)*(Inviteur!$D$7:$D$30=Fiche!$C$8)*(Inviteur!$F$6:$O$6=Fiche!$G21)))} -> 0 | I21: {=SUMPRODUCT((ISTEXT(Inviteur!$F$7:$O$30)*(Inviteur!$D$7:$D$30="gilles")*(Inviteur!$F$6:$O$6=Fiche!$G21)))} -> 3 | J21: Gestionnaire de Nom
B22: Jordan | C22: le n° 3 | D22: Jordan il a 3 personnes. | G22: 01 02 Nov 24 | H22: {=SUMPRODUCT((ISTEXT(Inviteur!$F$7:$O$30)*(Inviteur!$D$7:$D$30=Fiche!$C$8)*(Inviteur!$F$6:$O$6=Fiche!$G22)))} -> 2 | I22: {=SUMPRODUCT((ISTEXT(Inviteur!$F$7:$O$30)*(Inviteur!$D$7:$D$30="gilles")*(Inviteur!$F$6:$O$6=Fiche!$G22)))} -> 0 | J22: CI | K22: =Inviteur!$B$7:$O$31
G23: 15 16 Nov 24 | H23: {=SUMPRODUCT((ISTEXT(Inviteur!$F$7:$O$30)*(Inviteur!$D$7:$D$30=Fiche!$C$8)*(Inviteur!$F$6:$O$6=Fiche!$G23)))} -> 0 | I23: {=SUMPRODUCT((ISTEXT(Inviteur!$F$7:$O$30)*(Inviteur!$D$7:$D$30="gilles")*(Inviteur!$F$6:$O$6=Fiche!$G23)))} -> 3
B24: 01 02 Nov 24 | C24: Stéphane | G24: 29 30 Nov 24 | H24: {=SUMPRODUCT((ISTEXT(Inviteur!$F$7:$O$30)*(Inviteur!$D$7:$D$30=Fiche!$C$8)*(Inviteur!$F$6:$O$6=Fiche!$G24)))} -> 0 | I24: {=SUMPRODUCT((ISTEXT(Inviteur!$F$7:$O$30)*(Inviteur!$D$7:$D$30="gilles")*(Inviteur!$F$6:$O$6=Fiche!$G24)))} -> 6
C25: Michel | G25: 13 14 Déc 24 | H25: {=SUMPRODUCT((ISTEXT(Inviteur!$F$7:$O$30)*(Inviteur!$D$7:$D$30=Fiche!$C$8)*(Inviteur!$F$6:$O$6=Fiche!$G25)))} -> 1 | I25: {=SUMPRODUCT((ISTEXT(Inviteur!$F$7:$O$30)*(Inviteur!$D$7:$D$30="gilles")*(Inviteur!$F$6:$O$6=Fiche!$G25)))} -> 0
B26: 13 14 Déc 24 | C26: Damien | G26: 20 21 Déc 24 | H26: {=SUMPRODUCT((ISTEXT(Inviteur!$F$7:$O$30)*(Inviteur!$D$7:$D$30=Fiche!$C$8)*(Inviteur!$F$6:$O$6=Fiche!$G26)))} -> 0 | I26: {=SUMPRODUCT((ISTEXT(Inviteur!$F$7:$O$30)*(Inviteur!$D$7:$D$30="gilles")*(Inviteur!$F$6:$O$6=Fiche!$G26)))} -> 1
G27: 10 11 Jan 25 | H27: {=SUMPRODUCT((ISTEXT(Inviteur!$F$7:$O$30)*(Inviteur!$D$7:$D$30=Fiche!$C$8)*(Inviteur!$F$6:$O$6=Fiche!$G27)))} -> 0 | I27: {=SUMPRODUCT((ISTEXT(Inviteur!$F$7:$O$30)*(Inviteur!$D$7:$D$30="gilles")*(Inviteur!$F$6:$O$6=Fiche!$G27)))} -> 0
B28: le pire c'est | C28: le n° 7 | D28: Gilles il a 15 personnes. | G28: 24 25 Jan 25 | H28: {=SUMPRODUCT((ISTEXT(Inviteur!$F$7:$O$30)*(Inviteur!$D$7:$D$30=Fiche!$C$8)*(Inviteur!$F$6:$O$6=Fiche!$G28)))} -> 0 | I28: {=SUMPRODUCT((ISTEXT(Inviteur!$F$7:$O$30)*(Inviteur!$D$7:$D$30="gilles")*(Inviteur!$F$6:$O$6=Fiche!$G28)))} -> 1
B29: Gilles | G29: 07 08 Fév 25 | H29: {=SUMPRODUCT((ISTEXT(Inviteur!$F$7:$O$30)*(Inviteur!$D$7:$D$30=Fiche!$C$8)*(Inviteur!$F$6:$O$6=Fiche!$G29)))} -> 0 | I29: {=SUMPRODUCT((ISTEXT(Inviteur!$F$7:$O$30)*(Inviteur!$D$7:$D$30="gilles")*(Inviteur!$F$6:$O$6=Fiche!$G29)))} -> 1
B30: 18 19 Oct 24 | C30: Sébastien | E30: L'important c'est de savoir | G30: 21 22 Fév 25 | H30: {=SUMPRODUCT((ISTEXT(Inviteur!$F$7:$O$30)*(Inviteur!$D$7:$D$30=Fiche!$C$8)*(Inviteur!$F$6:$O$6=Fiche!$G30)))} -> 0 | I30: {=SUMPRODUCT((ISTEXT(Inviteur!$F$7:$O$30)*(Inviteur!$D$7:$D$30="gilles")*(Inviteur!$F$6:$O$6=Fiche!$G30)))} -> 0
C31: Marion | E31: combien de personnes
C32: Claude | E32: présentes le jour de la battue
B33: 15 16 Nov 24 | C33: Sébastien
C34: Mickael
C35: Mathieu | E35: Index Equiv
B36: 29 30 Nov 24 | C36: Emmanuelle
C37: William | E37: =INDEX(CI,MATCH(G4,CI,0),3) -> #N/A
C38: Franck
C39: Marion
C40: Laurent
C41: Hervé
B42: 20 21 Déc 24 | C42: Sébastien
B43: 24 25 Jan 25 | C43: Hervé
B44: 07 08 Fév 25 | C44: Alain

Sheet Chasseurs
B6: N° ordre | C6: Adherents | D6: Nom | E6: Dossier | F6: N° Police | G6: Cie Assurance | H6: N° Validation | I6: N° Permis | J6: Adresse | K6: Adresse 2 | L6: Code PTT | M6: Ville | N6: N° Tel | O6: Mail | P6: Commentaires
B7: =IF(INDIRECT("D"&ROW())="","",INDIRECT("A"&ROW()-1)+1) -> 1 | C7: Act | D7: Romain | E7: =IF(COUNTIFS(F7:I7,""),"A compléter","OK") -> A compléter | F7: 380187920 | G7: GROUPAMA | H7: 876164 | J7: de la chouette | L7: 21000 | M7: DIJON | N7: 380808080 | O7: ddddddddd@orange.fr | P7: A surveiller
B8: =IF(INDIRECT("D"&ROW())="","",INDIRECT("B"&ROW()-1)+1) -> 2 | C8: Act | D8: Eric | E8: =IF(COUNTIFS(F8:I8,""),"A compléter","OK") -> A compléter | F8: 171597 08 | G8: BS ASSURANCES | H8: 100906 | N8: 380808080 | O8: aaaaaa@gmail.fr
B9: =IF(INDIRECT("D"&ROW())="","",INDIRECT("B"&ROW()-1)+1) -> 3 | C9: Act | D9: Jordan | E9: =IF(COUNTIFS(F9:I9,""),"A compléter","OK") -> OK | F9: 4237910G 002 | G9: BS ASSURANCES | H9: 11978 | I9: 20009922526 | N9: 380808080
B10: =IF(INDIRECT("D"&ROW())="","",INDIRECT("B"&ROW()-1)+1) -> 4 | C10: Act | D10: Alvine | E10: =IF(COUNTIFS(F10:I10,""),"A compléter","OK") -> A compléter | F10: 4237910G 003 | G10: GROUPAMA | H10: 189706 | N10: 380808080
B11: =IF(INDIRECT("D"&ROW())="","",INDIRECT("B"&ROW()-1)+1) -> 5 | C11: Act | D11: Jean Michel | E11: =IF(COUNTIFS(F11:I11,""),"A compléter","OK") -> OK | F11: 4237910G 004 | G11: BS ASSURANCES | H11: 2581000 | I11: 200906980326 | N11: 380808080
B12: =IF(INDIRECT("D"&ROW())="","",INDIRECT("B"&ROW()-1)+1) -> 6 | C12: Act | D12: David | E12: =IF(COUNTIFS(F12:I12,""),"A compléter","OK") -> A compléter | F12: 4237910G 005 | G12: AXA | H12: 345900 | N12: 380808080
B13: =IF(INDIRECT("D"&ROW())="","",INDIRECT("B"&ROW()-1)+1) -> 7 | C13: Act | D13: Gilles | E13: =IF(COUNTIFS(F13:I13,""),"A compléter","OK") -> OK | F13: 4237910G 006 | G13: ALLIANZ | H13: 12345678 | I13: 31009922526 | J13: 4 rue du | L13: 21000 | M13: DIJON | N13: 380808080
B14: =IF(INDIRECT("D"&ROW())="","",INDIRECT("B"&ROW()-1)+1) -> 8 | C14: Act | D14: Anthony | E14: =IF(COUNTIFS(F14:I14,""),"A compléter","OK") -> A compléter | F14: 4237910G 007 | G14: GMF | H14: 987654321 | N14: 06 08 08 08 08
B15: =IF(INDIRECT("D"&ROW())="","",INDIRECT("B"&ROW()-1)+1) -> 9 | C15: Act | D15: William | E15: =IF(COUNTIFS(F15:I15,""),"A compléter","OK") -> A compléter | F15: 4237910G 008 | G15: GMF | H15: 456987
B16: =IF(INDIRECT("D"&ROW())="","",INDIRECT("B"&ROW()-1)+1) -> 10 | C16: Inv | D16: Claude | E16: =IF(COUNTIFS(F16:I16,""),"A compléter","OK") -> A compléter | F16: 4237910G 009 | G16: AXA | H16: 5632871
B17: =IF(INDIRECT("D"&ROW())="","",INDIRECT("B"&ROW()-1)+1) -> 11 | C17: Inv | D17: Laurent | E17: =IF(COUNTIFS(F17:I17,""),"A compléter","OK") -> A compléter | F17: 4237910G 010 | G17: ALLIANZ | H17: 2569874
B18: =IF(INDIRECT("D"&ROW())="","",INDIRECT("B"&ROW()-1)+1) -> 12 | C18: Inv | D18: Serge | E18: =IF(COUNTIFS(F18:I18,""),"A compléter","OK") -> A compléter | F18: 42379170G0001 | H18: 36547896
B19: =IF(INDIRECT("D"&ROW())="","",INDIRECT("B"&ROW()-1)+1) -> 13 | C19: Inv | D19: Jean Noel | E19: =IF(COUNTIFS(F19:I19,""),"A compléter","OK") -> OK | F19: 4237910G 012 | G19: GMF | H19: 2330056 | I19: 31009922526
B20: =IF(INDIRECT("D"&ROW())="","",INDIRECT("B"&ROW()-1)+1) -> 14 | C20: Inv | D20: Alexis | E20: =IF(COUNTIFS(F20:I20,""),"A compléter","OK") -> A compléter | F20: 4237910G 013 | G20: GROUPAMA | H20: 20077766
B21: =IF(INDIRECT("D"&ROW())="","",INDIRECT("B"&ROW()-1)+1) -> 15 | C21: Inv | D21: Damien | E21: =IF(COUNTIFS(F21:I21,""),"A compléter","OK") -> A compléter | F21: 4237910G 014 | H21: 204455
B22: =IF(INDIRECT("D"&ROW())="","",INDIRECT("B"&ROW()-1)+1) -> 16 | C22: Inv | D22: Didier | E22: =IF(COUNTIFS(F22:I22,""),"A compléter","OK") -> A compléter | F22: 4237910G 015 | H22: 566005
B23: =IF(INDIRECT("D"&ROW())="","",INDIRECT("B"&ROW()-1)+1) -> 17 | C23: Inv | D23: Remi | E23: =IF(COUNTIFS(F23:I23,""),"A compléter","OK") -> A compléter | F23: 4237910G 016 | H23: 660088
B24: =IF(INDIRECT("D"&ROW())="","",INDIRECT("B"&ROW()-1)+1) -> 18 | C24: Act | D24: Jean Marc | E24: =IF(COUNTIFS(F24:I24,""),"A compléter","OK") -> A compléter
B25: =IF(INDIRECT("D"&ROW())="","",INDIRECT("B"&ROW()-1)+1) | E25: =IF(COUNTIFS(F25:I25,""),"A compléter","OK") -> A compléter
B26: =IF(INDIRECT("D"&ROW())="","",INDIRECT("B"&ROW()-1)+1)
B27: =IF(INDIRECT("D"&ROW())="","",INDIRECT("B"&ROW()-1)+1)
B28: =IF(INDIRECT("D"&ROW())="","",INDIRECT("B"&ROW()-1)+1)

Sheet Inviteur
B6: N° Ordre | C6: Chasseurs | D6: Nom | E6: Nb | F6: 18 19 Oct 24 | G6: 01 02 Nov 24 | H6: 15 16 Nov 24 | I6: 29 30 Nov 24 | J6: 13 14 Déc 24 | K6: 20 21 Déc 24 | L6: 10 11 Jan 25 | M6: 24 25 Jan 25 | N6: 07 08 Fév 25 | O6: 21 22 Fév 25
B7: 1 | C7: =IF(ISBLANK(B7),"",IF(VLOOKUP(B7,BD,2)=0,"",VLOOKUP(B7,BD,2))) -> Act | D7: =IF(ISBLANK(B7),"",IF(VLOOKUP(B7,BD,3)=0,"",VLOOKUP(B7,BD,3))) -> Romain | E7: =COUNTA(F7:O7) -> 2 | F7: Thomas | I7: Bernard
B8: 2 | C8: =IF(ISBLANK(B8),"",IF(VLOOKUP(B8,BD,2)=0,"",VLOOKUP(B8,BD,2))) -> Act | D8: =IF(ISBLANK(B8),"",IF(VLOOKUP(B8,BD,3)=0,"",VLOOKUP(B8,BD,3))) -> Eric | E8: =COUNTA(F8:O8) -> 3 | F8: Francky | H8: Alix | L8: Philippe
B9: 3 | C9: =IF(ISBLANK(B9),"",IF(VLOOKUP(B9,BD,2)=0,"",VLOOKUP(B9,BD,2))) -> Act | D9: =IF(ISBLANK(B9),"",IF(VLOOKUP(B9,BD,3)=0,"",VLOOKUP(B9,BD,3))) -> Jordan | E9: =COUNTA(F9:O10) -> 3 | G9: Stéphane | J9: Damien
B10: 3 | C10: =IF(ISBLANK(B10),"",IF(VLOOKUP(B10,BD,2)=0,"",VLOOKUP(B10,BD,2))) -> Act | D10: =IF(ISBLANK(B10),"",IF(VLOOKUP(B10,BD,3)=0,"",VLOOKUP(B10,BD,3))) -> Jordan | G10: Michel | Q10: {=INDEX($G$7:$G$30,SMALL(IF($D$7:$D$30="Jordan",ROW($D$7:$D$30)-6),ROW(INDIRECT("$1:"&COUNTIF($D$7:$D$30,"Jordan")))))} -> Stéphane | R10: {=SUMPRODUCT((ISTEXT(Inviteur!$F$7:$O$30)*(Inviteur!D7:D30=Fiche!$C$8)*(Inviteur!$F$6:$O$6=Fiche!B24)))} -> 2
B11: 4 | C11: =IF(ISBLANK(B11),"",IF(VLOOKUP(B11,BD,2)=0,"",VLOOKUP(B11,BD,2))) -> Act | D11: =IF(ISBLANK(B11),"",IF(VLOOKUP(B11,BD,3)=0,"",VLOOKUP(B11,BD,3))) -> Alvine | E11: =COUNTA(F11:O11) -> 1 | K11: Olivier | Q11: Michel
B12: 5 | C12: =IF(ISBLANK(B12),"",IF(VLOOKUP(B12,BD,2)=0,"",VLOOKUP(B12,BD,2))) -> Act | D12: =IF(ISBLANK(B12),"",IF(VLOOKUP(B12,BD,3)=0,"",VLOOKUP(B12,BD,3))) -> Jean Michel | E12: =COUNTA(F12:O12) -> 1 | H12: Damien
B13: 6 | C13: =IF(ISBLANK(B13),"",IF(VLOOKUP(B13,BD,2)=0,"",VLOOKUP(B13,BD,2))) -> Act | D13: =IF(ISBLANK(B13),"",IF(VLOOKUP(B13,BD,3)=0,"",VLOOKUP(B13,BD,3))) -> David | E13: =COUNTA(F13:O13) -> 1 | I13: Laurent
B14: 7 | C14: =IF(ISBLANK(B14),"",IF(VLOOKUP(B14,BD,2)=0,"",VLOOKUP(B14,BD,2))) -> Act | D14: =IF(ISBLANK(B14),"",IF(VLOOKUP(B14,BD,3)=0,"",VLOOKUP(B14,BD,3))) -> Gilles | E14: =COUNTA(F14:O19) -> 15 | F14: Sébastien | H14: Sébastien | I14: Emmanuelle | K14: Sébastien | M14: Hervé | N14: Alain
B15: 7 | C15: =IF(ISBLANK(B15),"",IF(VLOOKUP(B15,BD,2)=0,"",VLOOKUP(B15,BD,2))) -> Act | D15: =IF(ISBLANK(B15),"",IF(VLOOKUP(B15,BD,3)=0,"",VLOOKUP(B15,BD,3))) -> Gilles | F15: Marion | H15: Mickael | I15: William
B16: 7 | C16: =IF(ISBLANK(B16),"",IF(VLOOKUP(B16,BD,2)=0,"",VLOOKUP(B16,BD,2))) -> Act | D16: =IF(ISBLANK(B16),"",IF(VLOOKUP(B16,BD,3)=0,"",VLOOKUP(B16,BD,3))) -> Gilles | F16: Claude | H16: Mathieu | I16: Franck
B17: 7 | C17: =IF(ISBLANK(B17),"",IF(VLOOKUP(B17,BD,2)=0,"",VLOOKUP(B17,BD,2))) -> Act | D17: =IF(ISBLANK(B17),"",IF(VLOOKUP(B17,BD,3)=0,"",VLOOKUP(B17,BD,3))) -> Gilles | I17: Marion
B18: 7 | C18: =IF(ISBLANK(B18),"",IF(VLOOKUP(B18,BD,2)=0,"",VLOOKUP(B18,BD,2))) -> Act | D18: =IF(ISBLANK(B18),"",IF(VLOOKUP(B18,BD,3)=0,"",VLOOKUP(B18,BD,3))) -> Gilles | I18: Laurent
B19: 7 | C19: =IF(ISBLANK(B19),"",IF(VLOOKUP(B19,BD,2)=0,"",VLOOKUP(B19,BD,2))) -> Act | D19: =IF(ISBLANK(B19),"",IF(VLOOKUP(B19,BD,3)=0,"",VLOOKUP(B19,BD,3))) -> Gilles | I19: Hervé
B20: 10 | C20: =IF(ISBLANK(B20),"",IF(VLOOKUP(B20,BD,2)=0,"",VLOOKUP(B20,BD,2))) -> Inv | D20: =IF(ISBLANK(B20),"",IF(VLOOKUP(B20,BD,3)=0,"",VLOOKUP(B20,BD,3))) -> Claude | E20: =COUNTA(F20:O20) -> 4 | J20: luka | K20: Loic | M20: Teggy | O20: Guillaume
B21: 11 | C21: =IF(ISBLANK(B21),"",IF(VLOOKUP(B21,BD,2)=0,"",VLOOKUP(B21,BD,2))) -> Inv | D21: =IF(ISBLANK(B21),"",IF(VLOOKUP(B21,BD,3)=0,"",VLOOKUP(B21,BD,3))) -> Laurent | E21: =COUNTA(F21:O21) -> 0
B22: 12 | C22: =IF(ISBLANK(B22),"",IF(VLOOKUP(B22,BD,2)=0,"",VLOOKUP(B22,BD,2))) -> Inv | D22: =IF(ISBLANK(B22),"",IF(VLOOKUP(B22,BD,3)=0,"",VLOOKUP(B22,BD,3))) -> Serge | E22: =COUNTA(F22:O22) -> 0
B23: 13 | C23: =IF(ISBLANK(B23),"",IF(VLOOKUP(B23,BD,2)=0,"",VLOOKUP(B23,BD,2))) -> Inv | D23: =IF(ISBLANK(B23),"",IF(VLOOKUP(B23,BD,3)=0,"",VLOOKUP(B23,BD,3))) -> Jean Noel | E23: =COUNTA(F23:O25) -> 8 | G23: Bernard | I23: Bruno | J23: Philippe
B24: 13 | C24: =IF(ISBLANK(B24),"",IF(VLOOKUP(B24,BD,2)=0,"",VLOOKUP(B24,BD,2))) -> Inv | D24: =IF(ISBLANK(B24),"",IF(VLOOKUP(B24,BD,3)=0,"",VLOOKUP(B24,BD,3))) -> Jean Noel | G24: Noel | I24: Jérome | N24: Stuwart
B25: 13 | C25: =IF(ISBLANK(B25),"",IF(VLOOKUP(B25,BD,2)=0,"",VLOOKUP(B25,BD,2))) -> Inv | D25: =IF(ISBLANK(B25),"",IF(VLOOKUP(B25,BD,3)=0,"",VLOOKUP(B25,BD,3))) -> Jean Noel | I25: Pascal | N25: Valentin
B26: 14 | C26: =IF(ISBLANK(B26),"",IF(VLOOKUP(B26,BD,2)=0,"",VLOOKUP(B26,BD,2))) -> Inv | D26: =IF(ISBLANK(B26),"",IF(VLOOKUP(B26,BD,3)=0,"",VLOOKUP(B26,BD,3))) -> Alexis | E26: =COUNTA(F26:O26) -> 3 | F26: Pierre | J26: Bernard | O26: Valentin
B27: 15 | C27: =IF(ISBLANK(B27),"",IF(VLOOKUP(B27,BD,2)=0,"",VLOOKUP(B27,BD,2))) -> Inv | D27: =IF(ISBLANK(B27),"",IF(VLOOKUP(B27,BD,3)=0,"",VLOOKUP(B27,BD,3))) -> Damien | E27: =COUNTA(F27:O27) -> 3 | L27: Loic | M27: Pauline | N27: Frédéric
B28: 16 | C28: =IF(ISBLANK(B28),"",IF(VLOOKUP(B28,BD,2)=0,"",VLOOKUP(B28,BD,2))) -> Inv | D28: =IF(ISBLANK(B28),"",IF(VLOOKUP(B28,BD,3)=0,"",VLOOKUP(B28,BD,3))) -> Didier | E28: =COUNTA(F28:O28) -> 2 | L28: Lionel | O28: Jean Jacques
B29: 17 | C29: =IF(ISBLANK(B29),"",IF(VLOOKUP(B29,BD,2)=0,"",VLOOKUP(B29,BD,2))) -> Inv | D29: =IF(ISBLANK(B29),"",IF(VLOOKUP(B29,BD,3)=0,"",VLOOKUP(B29,BD,3))) -> Remi | E29: =COUNTA(F29:O29) -> 2 | H29: Eugène | N29: Francis
B30: 18 | C30: =IF(ISBLANK(B30),"",IF(VLOOKUP(B30,BD,2)=0,"",VLOOKUP(B30,BD,2))) -> Act | D30: =IF(ISBLANK(B30),"",IF(VLOOKUP(B30,BD,3)=0,"",VLOOKUP(B30,BD,3))) -> Jean Marc | E30: =COUNTA(F30:O30) -> 5 | F30: Romain | G30: Benoit | I30: Anthony | J30: Eric | K30: Bertrand
