Workbook

Sheet s7
A1: S | B1: lundi 12 | F1: mardi 13 | J1: mercredi 14 | N1: jeudi 15 | R1: vendredi 16 | V1: TOTAL
A2: février | B2: arrivee | C2: coupure | D2: reprise | E2: depart | F2: arrivee | G2: coupure | H2: reprise | I2: depart | J2: arrivee | K2: coupure | L2: reprise | M2: depart | N2: arrivee | O2: coupure | P2: reprise | Q2: depart | R2: arrivee | S2: coupure | T2: reprise | U2: depart
A3: sarah | B3: 0.54166667 | E3: 0.71875 | F3: 0.35416667 | G3: 0.54166667 | H3: 0.57291667 | I3: 0.72916667 | J3: 0.35416667 | K3: 0.54166667 | L3: 0.57291667 | M3: 0.73958333 | N3: 0.375 | Q3: 0.5625 | R3: 0.36458333 | S3: 0.54166667 | T3: 0.57291667 | U3: 0.72916667 | V3: =(C3-B3)+(E3-D3)+(G3-F3)+(I3-H3)+(K3-J3)+(M3-L3)+(O3-N3)+(Q3-P3)+(S3-R3)+(U3-T3) -> 1.3958333 | W3: 1.4583333 | X3: =V3-W3 -> -0.0625 | Y3: =SUM(#REF!)+(#REF!)+(#REF!)+(#REF!)+(#REF!)+('s7'!X3) -> #REF!
A5: melina | B5: 0.375 | E5: 0.57291667 | N5: 0.35416667 | O5: 0.54166667 | P5: 0.57291667 | Q5: 0.70833333 | R5: 0.375 | S5: 0.54166667 | T5: 0.57291667 | U5: 0.70833333 | V5: =(C5-B5)+(E5-D5)+(G5-F5)+(I5-H5)+(K5-J5)+(M5-L5)+(O5-N5)+(Q5-P5)+(S5-R5)+(U5-T5) -> 0.82291667 | W5: 0.875 | X5: =V5-W5 -> -0.052083333 | Y5: =SUM(#REF!)+(#REF!)+(#REF!)+(#REF!)+(#REF!)+('s7'!X5) -> #REF!
A7: laurine | B7: 0.33333333 | C7: 0.54166667 | D7: 0.57291667 | E7: 0.72916667 | F7: 0.41666667 | I7: 0.57291667 | N7: 0.52083333 | O7: 0.54166667 | P7: 0.57291667 | Q7: 0.72916667 | V7: =(C7-B7)+(E7-D7)+(G7-F7)+(I7-H7)+(K7-J7)+(M7-L7)+(O7-N7)+(Q7-P7)+(S7-R7)+(U7-T7) -> 0.69791667 | W7: 1 | X7: =V7-W7 -> -0.30208333 | Y7: =SUM(#REF!)+(#REF!)+(#REF!)+(#REF!)+('s7'!X7) -> #REF!
A9: jenny | V9: =(C9-B9)+(E9-D9)+(G9-F9)+(I9-H9)+(K9-J9)+(M9-L9)+(O9-N9)+(Q9-P9)+(S9-R9)+(U9-T9) -> 0 | W9: 1.4583333 | X9: =V9-W9 -> -1.4583333
A11: EVA
C13: REPOS
C15: ABSENT
C17: ECOLE

Sheet s8
A1: S | B1: lundi 19 | F1: mardi 20 | J1: mercredi 21 | N1: jeudi 22 | R1: vendredi 23 | V1: TOTAL
A2: fevrier | B2: arrivee | C2: coupure | D2: reprise | E2: depart | F2: arrivee | G2: coupure | H2: reprise | I2: depart | J2: arrivee | K2: coupure | L2: reprise | M2: depart | N2: arrivee | O2: coupure | P2: reprise | Q2: depart | R2: arrivee | S2: coupure | T2: reprise | U2: depart
A3: sarah | B3: 0.36458333 | E3: 0.5625 | F3: 0.35416667 | I3: 0.70833333 | J3: 0.35416667 | M3: 0.71875 | N3: 0.35416667 | Q3: 0.5625 | R3: 0.5625 | U3: 0.72916667 | V3: =(C3-B3)+(E3-D3)+(G3-F3)+(I3-H3)+(K3-J3)+(M3-L3)+(O3-N3)+(Q3-P3)+(S3-R3)+(U3-T3) -> 1.2916667 | W3: 1.4583333 | X3: =V3-W3 -> -0.16666667 | Y3: =SUM(#REF!)+(#REF!)+(#REF!)+(#REF!)+(#REF!)+('s7'!X3)+('s8'!X3) -> #REF!
A5: melina | B5: 0.375 | C5: 0.54166667 | D5: 0.57291667 | E5: 0.70833333 | F5: 0.375 | I5: 0.72916667 | N5: 0.52083333 | Q5: 0.72916667 | R5: 0.36458333 | U5: 0.5625 | V5: =(C5-B5)+(E5-D5)+(G5-F5)+(I5-H5)+(K5-J5)+(M5-L5)+(O5-N5)+(Q5-P5)+(S5-R5)+(U5-T5) -> 1.0625 | W5: 1.1666667 | X5: =V5-W5 -> -0.10416667 | Y5: =SUM(#REF!)+(#REF!)+(#REF!)+(#REF!)+(#REF!)+('s7'!X5)+('s8'!X5) -> #REF!
A7: laurine | B7: 0.5625 | E7: 0.72916667 | N7: 0.39583333 | O7: 0.54166667 | P7: 0.57291667 | Q7: 0.70833333 | R7: 0.375 | S7: 0.54166667 | T7: 0.57291667 | U7: 0.70833333 | V7: =(C7-B7)+(E7-D7)+(G7-F7)+(I7-H7)+(K7-J7)+(M7-L7)+(O7-N7)+(Q7-P7)+(S7-R7)+(U7-T7) -> 0.75 | W7: 0.80208333 | X7: =V7-W7 -> -0.052083333 | Y7: =SUM(#REF!)+(#REF!)+(#REF!)+(#REF!)+('s7'!X7)+('s8'!X7) -> #REF!
G8: CONGE
A9: jenny | D9: m | E9: s | H9: j | I9: m | K9: s | M9: j | O9: e j | Q9: s | S9: l | U9: m | V9: =(C9-B9)+(E9-D9)+(G9-F9)+(I9-H9)+(K9-J9)+(M9-L9)+(O9-N9)+(Q9-P9)+(S9-R9)+(U9-T9) -> #VALUE! | W9: 1.4583333 | X9: =V9-W9 -> #VALUE!
A11: EVA | R11: horaires verifies
D12: horaires vérifiés
C13: REPOS
C15: ABSENT
C17: ECOLE

Sheet s9
A1: S | B1: lundi 26 | F1: mardi 27 | J1: mercredi 28 | N1: jeudi 29 | R1: vendredi 1 mars | V1: TOTAL
A2: janvier | B2: arrivee | C2: coupure | D2: reprise | E2: depart | F2: arrivee | G2: coupure | H2: reprise | I2: depart | J2: arrivee | K2: coupure | L2: reprise | M2: depart | N2: arrivee | O2: coupure | P2: reprise | Q2: depart | R2: arrivee | S2: coupure | T2: reprise | U2: depart
A3: sarah | B3: 0.375 | E3: 0.70833333 | F3: 0.375 | I3: 0.39583333 | J3: 0.30208333 | M3: 0.5625 | N3: 0.375 | Q3: 0.69791667 | R3: 0.33333333 | U3: 0.71875 | V3: =(C3-B3)+(E3-D3)+(G3-F3)+(I3-H3)+(K3-J3)+(M3-L3)+(O3-N3)+(Q3-P3)+(S3-R3)+(U3-T3) -> 1.3229167 | W3: 1.4583333 | X3: =V3-W3 -> -0.13541667 | Y3: =SUM('s7'!X3)+('s8'!X3)+('s9'!X3) -> -0.36458333
A5: melina | F5: 0.33333333 | I5: 0.5625 | N5: 0.47916667 | Q5: 0.72916667 | R5: 0.52083333 | U5: 0.72916667 | V5: =(C5-B5)+(E5-D5)+(G5-F5)+(I5-H5)+(K5-J5)+(M5-L5)+(O5-N5)+(Q5-P5)+(S5-R5)+(U5-T5) -> 0.6875 | W5: 0.875 | X5: =V5-W5 -> -0.1875 | Y5: =SUM('s7'!X5)+('s8'!X5)+('s9'!X5) -> -0.34375
C6: conge
A7: laurine | B7: 0.35416667 | E7: 0.5625 | F7: 0.39583333 | G7: 0.52083333 | H7: 0.5625 | I7: 0.6875 | J7: 0.54166667 | M7: 0.72916667 | R7: 0.39583333 | S7: 0.52083333 | T7: 0.5625 | U7: 0.6875 | V7: =(C7-B7)+(E7-D7)+(G7-F7)+(I7-H7)+(K7-J7)+(M7-L7)+(O7-N7)+(Q7-P7)+(S7-R7)+(U7-T7) -> 0.89583333 | W7: 1 | X7: =V7-W7 -> -0.10416667 | Y7: =SUM('s7'!X7)+('s8'!X7)+('s9'!X7) -> -0.45833333
A9: jenny | V9: =(C9-B9)+(E9-D9)+(G9-F9)+(I9-H9)+(K9-J9)+(M9-L9)+(O9-N9)+(Q9-P9)+(S9-R9)+(U9-T9) -> 0 | W9: 1.4583333 | X9: =V9-W9 -> -1.4583333
A11: EVA
C13: REPOS
C15: ABSENT
C17: ECOLE

Sheet s10
A1: S | B1: lundi 4 mars | F1: mardi 5 mars | J1: mercredi 6 mars | N1: jeudi 7 mars | R1: vendredi 8 mars | V1: TOTAL
A2: janvier | B2: arrivee | C2: coupure | D2: reprise | E2: depart | F2: arrivee | G2: coupure | H2: reprise | I2: depart | J2: arrivee | K2: coupure | L2: reprise | M2: depart | N2: arrivee | O2: coupure | P2: reprise | Q2: depart | R2: arrivee | S2: coupure | T2: reprise | U2: depart
A3: sarah | B3: 0.32291667 | E3: 0.71875 | F3: 0.375 | I3: 0.69791667 | J3: 0.35416667 | M3: 0.72916667 | N3: 0.33333333 | Q3: 0.70833333 | V3: =(C3-B3)+(E3-D3)+(G3-F3)+(I3-H3)+(K3-J3)+(M3-L3)+(O3-N3)+(Q3-P3)+(S3-R3)+(U3-T3) -> 1.46875 | W3: 1.4583333 | X3: =V3-W3 -> 0.010416667 | Y3: =SUM(#REF!)+(#REF!)+(#REF!)+(#REF!)+(#REF!)+('s7'!X3)+('s8'!X3)+('s9'!X3)+('s10'!X3) -> #REF!
A5: melina | F5: 0.35416667 | I5: 0.71875 | V5: =(C5-B5)+(E5-D5)+(G5-F5)+(I5-H5)+(K5-J5)+(M5-L5)+(O5-N5)+(Q5-P5)+(S5-R5)+(U5-T5) -> 0.36458333 | W5: 0.875 | X5: =V5-W5 -> -0.51041667 | Y5: =SUM(#REF!)+(#REF!)+(#REF!)+(#REF!)+(#REF!)+('s7'!X5)+('s8'!X5)+('s9'!X5)+('s10'!X5) -> #REF!
A7: laurine | B7: 0.35416667 | C7: 0.52083333 | D7: 0.5625 | E7: 0.6875 | N7: 0.375 | Q7: 0.69791667 | R7: 0.35416667 | U7: 0.72916667 | V7: =(C7-B7)+(E7-D7)+(G7-F7)+(I7-H7)+(K7-J7)+(M7-L7)+(O7-N7)+(Q7-P7)+(S7-R7)+(U7-T7) -> 0.98958333 | W7: 1 | X7: =V7-W7 -> -0.010416667 | Y7: =SUM(#REF!)+(#REF!)+(#REF!)+(#REF!)+('s7'!X7)+('s8'!X7)+('s9'!X7)+('s10'!X7) -> #REF!
A9: jenny | V9: =(C9-B9)+(E9-D9)+(G9-F9)+(I9-H9)+(K9-J9)+(M9-L9)+(O9-N9)+(Q9-P9)+(S9-R9)+(U9-T9) -> 0 | W9: 1.4583333 | X9: =V9-W9 -> -1.4583333
A11: EVA | S11: horaires verifies
C13: REPOS
C15: ABSENT
C17: ECOLE

Sheet s11
A1: S | B1: lundi 11 mars | F1: mardi 12 mars | J1: mercredi 13 mars | N1: jeudi 14 mars | R1: vendredi 15 mars | V1: TOTAL
A2: mars | B2: arrivee | C2: coupure | D2: reprise | E2: depart | F2: arrivee | G2: coupure | H2: reprise | I2: depart | J2: arrivee | K2: coupure | L2: reprise | M2: depart | N2: arrivee | O2: coupure | P2: reprise | Q2: depart | R2: arrivee | S2: coupure | T2: reprise | U2: depart
A3: sarah | B3: 0.5625 | E3: 0.72916667 | F3: 0.32291667 | G3: 0.54166667 | H3: 0.57291667 | I3: 0.70833333 | J3: 0.30208333 | K3: 0.54166667 | L3: 0.57291667 | M3: 0.6875 | N3: 0.32291667 | Q3: 0.6875 | R3: 0.36458333 | U3: 0.71875 | V3: =(C3-B3)+(E3-D3)+(G3-F3)+(I3-H3)+(K3-J3)+(M3-L3)+(O3-N3)+(Q3-P3)+(S3-R3)+(U3-T3) -> 1.59375 | W3: 1.4583333 | X3: =V3-W3 -> 0.13541667 | Y3: =SUM(#REF!)+(#REF!)+(#REF!)+(#REF!)+(#REF!)+('s7'!X3)+('s8'!X3)+('s9'!X3)+('s10'!X3)+('s11'!X3) -> #REF!
A5: melina | B5: 0.33333333 | C5: 0.54166667 | D5: 0.57291667 | E5: 0.70833333 | N5: 0.35416667 | Q5: 0.72916667 | R5: 0.375 | U5: 0.70833333 | V5: =(C5-B5)+(E5-D5)+(G5-F5)+(I5-H5)+(K5-J5)+(M5-L5)+(O5-N5)+(Q5-P5)+(S5-R5)+(U5-T5) -> 1.0520833 | W5: 0.875 | X5: =V5-W5 -> 0.17708333 | Y5: =SUM(#REF!)+(#REF!)+(#REF!)+(#REF!)+(#REF!)+('s7'!X5)+('s8'!X5)+('s9'!X5)+('s10'!X5)+('s11'!X5) -> #REF!
A7: laurine | B7: 0.375 | E7: 0.5625 | F7: 0.35416667 | G7: 0.54166667 | H7: 0.57291667 | I7: 0.72916667 | J7: 0.54166667 | M7: 0.72916667 | V7: =(C7-B7)+(E7-D7)+(G7-F7)+(I7-H7)+(K7-J7)+(M7-L7)+(O7-N7)+(Q7-P7)+(S7-R7)+(U7-T7) -> 0.71875 | W7: 1 | X7: =V7-W7 -> -0.28125 | Y7: =SUM(#REF!)+(#REF!)+(#REF!)+(#REF!)+('s7'!X7)+('s8'!X7)+('s9'!X7)+('s10'!X7)+('s11'!X7) -> #REF!
A9: jenny | V9: =(C9-B9)+(E9-D9)+(G9-F9)+(I9-H9)+(K9-J9)+(M9-L9)+(O9-N9)+(Q9-P9)+(S9-R9)+(U9-T9) -> 0 | W9: 1.4583333 | X9: =V9-W9 -> -1.4583333
A11: EVA
C13: REPOS
C15: ABSENT
C17: ECOLE

Sheet s12
A1: S | B1: lundi 18 mars | F1: mardi 19 mars | J1: mercredi 20 mars | N1: jeudi 21 mars | R1: vendredi 22 mars | V1: TOTAL
A2: janvier | B2: arrivee | C2: coupure | D2: reprise | E2: depart | F2: arrivee | G2: coupure | H2: reprise | I2: depart | J2: arrivee | K2: coupure | L2: reprise | M2: depart | N2: arrivee | O2: coupure | P2: reprise | Q2: depart | R2: arrivee | S2: coupure | T2: reprise | U2: depart
A3: sarah | B3: 0.36458333 | C3: 0.54166667 | D3: 0.57291667 | E3: 0.73958333 | F3: 0.35416667 | G3: 0.54166667 | H3: 0.57291667 | I3: 0.6875 | J3: 0.57291667 | M3: 0.73958333 | N3: 0.32291667 | O3: 0.54166667 | P3: 0.57291667 | Q3: 0.6875 | R3: 0.41666667 | S3: 0.54166667 | T3: 0.57291667 | U3: 0.69791667 | V3: =(C3-B3)+(E3-D3)+(G3-F3)+(I3-H3)+(K3-J3)+(M3-L3)+(O3-N3)+(Q3-P3)+(S3-R3)+(U3-T3) -> 1.3958333 | W3: 1.4583333 | X3: =V3-W3 -> -0.0625 | Y3: =SUM(#REF!)+(#REF!)+(#REF!)+(#REF!)+(#REF!)+('s7'!X3)+('s8'!X3)+('s9'!X3)+('s10'!X3)+('s11'!X3)+('s12'!X3) -> #REF!
A5: melina | F5: 0.45833333 | G5: 0.54166667 | H5: 0.57291667 | I5: 0.72916667 | N5: 0.35416667 | O5: 0.54166667 | P5: 0.57291667 | Q5: 0.72916667 | R5: 0.36458333 | S5: 0.54166667 | T5: 0.57291667 | U5: 0.72916667 | V5: =(C5-B5)+(E5-D5)+(G5-F5)+(I5-H5)+(K5-J5)+(M5-L5)+(O5-N5)+(Q5-P5)+(S5-R5)+(U5-T5) -> 0.91666667 | W5: 1.1666667 | X5: =V5-W5 -> -0.25 | Y5: =SUM(#REF!)+(#REF!)+(#REF!)+(#REF!)+(#REF!)+('s7'!X5)+('s8'!X5)+('s9'!X5)+('s10'!X5)+('s11'!X5)+('s12'!X5) -> #REF!
G6: pom dapi 1
A7: laurine | B7: 0.45833333 | E7: 0.57291667 | J7: 0.35416667 | K7: 0.57291667 | L7: 0.60416667 | M7: 0.72916667 | N7: 0.52083333 | Q7: 0.70833333 | R7: 0.35416667 | S7: 0.54166667 | T7: 0.57291667 | U7: 0.72916667 | V7: =(C7-B7)+(E7-D7)+(G7-F7)+(I7-H7)+(K7-J7)+(M7-L7)+(O7-N7)+(Q7-P7)+(S7-R7)+(U7-T7) -> 0.98958333 | W7: 1 | X7: =V7-W7 -> -0.010416667 | Y7: =SUM(#REF!)+(#REF!)+(#REF!)+(#REF!)+('s7'!X7)+('s8'!X7)+('s9'!X7)+('s10'!X7)+('s11'!X7)+( 's12'!X7) -> #REF!
A9: jenny | V9: =(C9-B9)+(E9-D9)+(G9-F9)+(I9-H9)+(K9-J9)+(M9-L9)+(O9-N9)+(Q9-P9)+(S9-R9)+(U9-T9) -> 0 | W9: 1.4583333 | X9: =V9-W9 -> -1.4583333
A11: EVA | B11: 0.42708333 | E11: 0.46875 | F11: 0.47916667 | I11: 0.52083333
C13: REPOS
C15: ABSENT
C17: ECOLE
A22: 0.32291667 | B22: 0.32291667
C23: 0.33333333 | D23: 0.33333333
E25: 0.35416667
F26: 0.36458333

Sheet s13
A1: S | B1: lundi 25 mars | F1: mardi 26 mars | J1: mercredi 27 mars | N1: jeudi 28 mars | R1: vendredi 29 mars | V1: TOTAL
A2: janvier | B2: arrivee | C2: coupure | D2: reprise | E2: depart | F2: arrivee | G2: coupure | H2: reprise | I2: depart | J2: arrivee | K2: coupure | L2: reprise | M2: depart | N2: arrivee | O2: coupure | P2: reprise | Q2: depart | R2: arrivee | S2: coupure | T2: reprise | U2: depart
A3: sarah | B3: 0.375 | E3: 0.57291667 | F3: 0.32291667 | G3: 0.54166667 | H3: 0.57291667 | I3: 0.69791667 | J3: 0.39583333 | K3: 0.54166667 | L3: 0.57291667 | M3: 0.72916667 | N3: 0.375 | Q3: 0.69791667 | R3: 0.35416667 | U3: 0.57291667 | V3: =(C3-B3)+(E3-D3)+(G3-F3)+(I3-H3)+(K3-J3)+(M3-L3)+(O3-N3)+(Q3-P3)+(S3-R3)+(U3-T3) -> 1.3854167 | W3: 1.4583333 | X3: =V3-W3 -> -0.072916667 | Y3: =SUM(#REF!)+(#REF!)+(#REF!)+(#REF!)+(#REF!)+('s7'!X3)+('s8'!X3)+('s9'!X3)+('s10'!X3)+('s11'!X3)+('s12'!X3)+('s13'!X3) -> #REF!
D4: 13 | H4: 12 | L4: 12 | P4: 13 | T4: 12
A5: melina | B5: 0.33333333 | C5: 0.53125 | D5: 0.5625 | E5: 0.69791667 | F5: 0.33333333 | G5: 0.54166667 | H5: 0.57291667 | I5: 0.73958333 | N5: 0.35416667 | Q5: 0.72916667 | R5: 0.41666667 | S5: 0.54166667 | T5: 0.57291667 | U5: 0.72916667 | V5: =(C5-B5)+(E5-D5)+(G5-F5)+(I5-H5)+(K5-J5)+(M5-L5)+(O5-N5)+(Q5-P5)+(S5-R5)+(U5-T5) -> 1.3645833 | W5: 1.1666667 | X5: =V5-W5 -> 0.19791667 | Y5: =SUM(#REF!)+(#REF!)+(#REF!)+(#REF!)+(#REF!)+('s7'!X5)+('s8'!X5)+('s9'!X5)+('s10'!X5)+('s11'!X5)+('s12'!X5)+('s13'!X5) -> #REF!
A7: laurine | B7: 0.53125 | E7: 0.72916667 | F7: 0.35416667 | I7: 0.47916667 | J7: 0.35416667 | K7: 0.54166667 | L7: 0.57291667 | M7: 0.72916667 | R7: 0.35416667 | U7: 0.73958333 | V7: =(C7-B7)+(E7-D7)+(G7-F7)+(I7-H7)+(K7-J7)+(M7-L7)+(O7-N7)+(Q7-P7)+(S7-R7)+(U7-T7) -> 1.0520833 | W7: 1 | X7: =V7-W7 -> 0.052083333 | Y7: =SUM(#REF!)+(#REF!)+(#REF!)+(#REF!)+('s7'!X7)+('s8'!X7)+('s9'!X7)+('s10'!X7)+('s11'!X7)+('s12'!X7)+('s13'!X7) -> #REF!
G8: pom dapi 1 | S8: pom dapi 1
A9: jenny | B9: 0.375 | C9: 0.57291667 | D9: 0.61458333 | E9: 0.70833333 | V9: =(C9-B9)+(E9-D9)+(G9-F9)+(I9-H9)+(K9-J9)+(M9-L9)+(O9-N9)+(Q9-P9)+(S9-R9)+(U9-T9) -> 0.29166667 | W9: 1.4583333 | X9: =V9-W9 -> -1.1666667 | Y9: =SUM('s13'!X9) -> -1.1666667
A11: EVA | R11: horaires verifiés
C13: REPOS
D14: 0.54166667 | E14: rdv sarah
C15: ABSENT | D15: 0.5625 | E15: rdv melina
D16: 0.57291667 | E16: rdv laurine
C17: ECOLE

Sheet s14
A1: S | B1: lundi 1 avril | F1: mardi 2 avril | J1: mercredi 3 avril | N1: jeudi 4 avril | R1: vendredi 5 avril | V1: TOTAL
A2: janvier | B2: arrivee | C2: coupure | D2: reprise | E2: depart | F2: arrivee | G2: coupure | H2: reprise | I2: depart | J2: arrivee | K2: coupure | L2: reprise | M2: depart | N2: arrivee | O2: coupure | P2: reprise | Q2: depart | R2: arrivee | S2: coupure | T2: reprise | U2: depart
A3: sarah | F3: 0.32291667 | I3: 0.72916667 | J3: 0.30208333 | M3: 0.72916667 | N3: 0.32291667 | Q3: 0.63541667 | R3: 0.54166667 | U3: 0.75 | V3: =(C3-B3)+(E3-D3)+(G3-F3)+(I3-H3)+(K3-J3)+(M3-L3)+(O3-N3)+(Q3-P3)+(S3-R3)+(U3-T3) -> 1.3541667 | W3: 1.1666667 | X3: =V3-W3 -> 0.1875 | Y3: =SUM(#REF!)+(#REF!)+(#REF!)+(#REF!)+(#REF!)+('s7'!X3)+('s8'!X3)+('s9'!X3)+('s10'!X3)+('s11'!X3)+('s12'!X3)+('s13'!X3)+('s14'!X3) -> #REF!
C4: FERIE | G4: pom dapi 2 | L4: pom dapi 2 | O4: pom dapi 2 | T4: pom dapi 2
A5: melina | F5: 0.35416667 | I5: 0.72916667 | N5: 0.35416667 | Q5: 0.72916667 | R5: 0.36458333 | S5: 0.54166667 | T5: 0.57291667 | U5: 0.72916667 | V5: =(C5-B5)+(E5-D5)+(G5-F5)+(I5-H5)+(K5-J5)+(M5-L5)+(O5-N5)+(Q5-P5)+(S5-R5)+(U5-T5) -> 1.0833333 | W5: 0.9375 | X5: =V5-W5 -> 0.14583333 | Y5: =SUM(#REF!)+(#REF!)+(#REF!)+(#REF!)+(#REF!)+('s7'!X5)+('s8'!X5)+('s9'!X5)+('s10'!X5)+('s11'!X5)+('s12'!X5)+('s13'!X5)+('s14'!X5) -> #REF!
C6: FERIE | G6: pom dapi 2 | O6: pom dapi 2
A7: laurine | J7: 0.32291667 | M7: 0.72916667 | T7: 0.54166667 | U7: 0.72916667 | V7: =(C7-B7)+(E7-D7)+(G7-F7)+(I7-H7)+(K7-J7)+(M7-L7)+(O7-N7)+(Q7-P7)+(S7-R7)+(U7-T7) -> 0.59375 | W7: 0.79166667 | X7: =V7-W7 -> -0.19791667 | Y7: =SUM(#REF!)+(#REF!)+(#REF!)+(#REF!)+('s7'!X7)+('s8'!X7)+('s9'!X7)+('s10'!X7)+('s11'!X7)+('s12'!X7)+('s13'!X7)+('s14'!X7) -> #REF!
C8: FERIE | G8: pom dapi 1 | O8: pom dapi 1 | S8: pom dapi 1
A9: heloise | N9: 0.375 | Q9: 0.69791667 | R9: 0.375 | S9: 0.54166667 | T9: 0.57291667 | U9: 0.69791667 | V9: =(C9-B9)+(E9-D9)+(G9-F9)+(I9-H9)+(K9-J9)+(M9-L9)+(O9-N9)+(Q9-P9)+(S9-R9)+(U9-T9) -> 0.61458333 | W9: 0.9375 | X9: =V9-W9 -> -0.32291667
C10: FERIE | K10: pom dapi 2 | P10: pom dapi 2 | S10: pom dapi 2
A11: jenny | F11: 0.32291667 | I11: 0.72916667 | J11: 0.375 | M11: 0.6875 | N11: 0.32291667 | O11: 0.625 | P11: 0.625 | Q11: 0.73958333 | R11: 0.32291667 | S11: 0.54166667 | T11: 0.58333333 | U11: 0.72916667
C12: FERIE | G12: pom dapi 3
A13: EVA | P13: 0.54166667 | Q13: 0.72916667 | R13: 0.32291667 | S13: 0.58333333
R14: horaires verifies
C20: REPOS
C22: ABSENT
C24: ECOLE

Sheet s15
A1: S | B1: lundi 8 avril | F1: mardi 9 avril | J1: mercredi 10 avril | N1: jeudi 11 avril | R1: vendredi 12 avril | V1: TOTAL
A2: janvier | B2: arrivee | C2: coupure | D2: reprise | E2: depart | F2: arrivee | G2: coupure | H2: reprise | I2: depart | J2: arrivee | K2: coupure | L2: reprise | M2: depart | N2: arrivee | O2: coupure | P2: reprise | Q2: depart | R2: arrivee | S2: coupure | T2: reprise | U2: depart
A3: sarah | B3: 0.33333333 | E3: 0.73958333 | F3: 0.32291667 | G3: 0.54166667 | J3: 0.30208333 | M3: 0.73958333 | N3: 0.33333333 | Q3: 0.73958333 | R3: 0.53125 | U3: 0.73958333 | V3: =(C3-B3)+(E3-D3)+(G3-F3)+(I3-H3)+(K3-J3)+(M3-L3)+(O3-N3)+(Q3-P3)+(S3-R3)+(U3-T3) -> 1.6770833 | W3: 1.4583333 | X3: =V3-W3 -> 0.21875 | Y3: =SUM(#REF!)+(#REF!)+(#REF!)+(#REF!)+(#REF!)+('s7'!X3)+('s8'!X3)+('s9'!X3)+('s10'!X3)+('s11'!X3)+('s12'!X3)+('s13'!X3)+('s14'!X3)+('s15'!X3) -> #REF! | AA3: sarah
C4: pom dapi 2 | G4: pom dapi 2 | K4: pom dapi 3 | O4: pom dapi 2 | S4: pom dapi 2
A5: melina | B5: 0.375 | E5: 0.70833333 | F5: 0.33333333 | G5: 0.53125 | H5: 0.5625 | I5: 0.70833333 | N5: 0.36458333 | Q5: 0.72916667 | R5: 0.375 | S5: 0.53125 | T5: 0.5625 | U5: 0.70833333 | V5: =(C5-B5)+(E5-D5)+(G5-F5)+(I5-H5)+(K5-J5)+(M5-L5)+(O5-N5)+(Q5-P5)+(S5-R5)+(U5-T5) -> 1.34375 | W5: 1.1666667 | X5: =V5-W5 -> 0.17708333 | Y5: =SUM(#REF!)+(#REF!)+(#REF!)+(#REF!)+(#REF!)+('s7'!X5)+('s8'!X5)+('s9'!X5)+('s10'!X5)+('s11'!X5)+('s12'!X5)+('s13'!X5)+('s14'!X5)+('s15'!X5) -> #REF! | AA5: melina
C6: pom dapi 2 | G6: pom dapi 2 | O6: pom dapi 2 | S6: pom dapi 2
A7: laurine | B7: 0.35416667 | C7: 0.54166667 | F7: 0.45833333 | I7: 0.71875 | J7: 0.33333333 | K7: 0.54166667 | N7: 0.45833333 | Q7: 0.72916667 | R7: 0.45833333 | U7: 0.71875 | V7: =(C7-B7)+(E7-D7)+(G7-F7)+(I7-H7)+(K7-J7)+(M7-L7)+(O7-N7)+(Q7-P7)+(S7-R7)+(U7-T7) -> 1.1875 | W7: 1 | X7: =V7-W7 -> 0.1875 | Y7: =SUM(#REF!)+(#REF!)+(#REF!)+(#REF!)+('s7'!X7)+('s8'!X7)+('s9'!X7)+('s10'!X7)+('s11'!X7)+('s12'!X7)+('s13'!X7)+('s14'!X7)+('s15'!X7) -> #REF! | AA7: laurine
C8: pom dapi 1 | G8: pom dapi 1 | K8: pom dapi 3 | O8: pom dapi 1 | S8: pom dapi 1
A9: heloise | B9: 0.35416667 | E9: 0.69791667 | H9: 0.53125 | I9: 0.73958333 | L9: 0.54166667 | M9: 0.70833333 | N9: 0.36458333 | Q9: 0.70833333 | R9: 0.35416667 | U9: 0.5625 | V9: =(C9-B9)+(E9-D9)+(G9-F9)+(I9-H9)+(K9-J9)+(M9-L9)+(O9-N9)+(Q9-P9)+(S9-R9)+(U9-T9) -> 1.2708333 | W9: 1.1666667 | X9: =V9-W9 -> 0.10416667 | Y9: =SUM('s14'!X9)+('s15'!X9) -> -0.21875 | AA9: heloise
C10: pom dapi 3 | G10: pom dapi 2 | O10: pom dapi 3 | S10: pom dapi 2
A11: jenny | B11: 0.32291667 | E11: 0.72916667 | F11: 0.375 | I11: 0.73958333 | N11: 0.32291667 | Q11: 0.72916667 | R11: 0.32291667 | U11: 0.73958333
C12: pom dapi 3 | G12: pom dapi 2 | K12: repos
A13: EVA
F14: horaires verifies
C20: REPOS
C22: ABSENT
C24: ECOLE

Sheet s16
A1: S | B1: lundi 15 avril | F1: mardi 16 avril | J1: mercredi 17 avril | N1: jeudi 18 avril | R1: vendredi 19 avril | V1: TOTAL
A2: janvier | B2: arrivee | C2: coupure | D2: reprise | E2: depart | F2: arrivee | G2: coupure | H2: reprise | I2: depart | J2: arrivee | K2: coupure | L2: reprise | M2: depart | N2: arrivee | O2: coupure | P2: reprise | Q2: depart | R2: arrivee | S2: coupure | T2: reprise | U2: depart
A3: sarah | B3: 0.33333333 | E3: 0.72916667 | F3: 0.32291667 | I3: 0.57291667 | J3: 0.32291667 | M3: 0.72916667 | V3: =(C3-B3)+(E3-D3)+(G3-F3)+(I3-H3)+(K3-J3)+(M3-L3)+(O3-N3)+(Q3-P3)+(S3-R3)+(U3-T3) -> 1.0520833 | W3: 0.875 | X3: =V3-W3 -> 0.17708333 | Y3: =SUM(#REF!)+(#REF!)+(#REF!)+(#REF!)+(#REF!)+('s7'!X3)+('s8'!X3)+('s9'!X3)+('s10'!X3)+('s11'!X3)+('s12'!X3)+('s13'!X3)+('s14'!X3)+('s15'!X3)+('s16'!X3) -> #REF! | AA3: sarah
O4: arret maladie | S4: arret maladie
A5: melina | B5: 0.375 | E5: 0.70833333 | F5: 0.34375 | G5: 0.54166667 | H5: 0.57291667 | I5: 0.6875 | N5: 0.36458333 | Q5: 0.70833333 | R5: 0.375 | S5: 0.53125 | T5: 0.5625 | U5: 0.70833333 | V5: =(C5-B5)+(E5-D5)+(G5-F5)+(I5-H5)+(K5-J5)+(M5-L5)+(O5-N5)+(Q5-P5)+(S5-R5)+(U5-T5) -> 1.2916667 | W5: 1.1666667 | X5: =V5-W5 -> 0.125 | Y5: =SUM(#REF!)+(#REF!)+(#REF!)+(#REF!)+(#REF!)+('s7'!X5)+('s8'!X5)+('s9'!X5)+('s10'!X5)+('s11'!X5)+('s12'!X5)+('s13'!X5)+('s14'!X5)+('s15'!X5)+('s16'!X5) -> #REF! | AA5: melina
A7: laurine | H7: 0.54166667 | I7: 0.71875 | J7: 0.38541667 | M7: 0.72916667 | P7: 0.54166667 | Q7: 0.73958333 | T7: 0.53125 | U7: 0.72916667 | V7: =(C7-B7)+(E7-D7)+(G7-F7)+(I7-H7)+(K7-J7)+(M7-L7)+(O7-N7)+(Q7-P7)+(S7-R7)+(U7-T7) -> 0.91666667 | W7: 1 | X7: =V7-W7 -> -0.083333333 | Y7: =SUM(#REF!)+(#REF!)+(#REF!)+(#REF!)+('s7'!X7)+('s8'!X7)+('s9'!X7)+('s10'!X7)+('s11'!X7)+('s12'!X7)+('s13'!X7)+('s14'!X7)+('s15'!X7)+('s16'!X7) -> #REF! | AA7: laurine
G8: pom dapi 1 | K8: pom dapi 3 | O8: pom dapi 3 | S8: pom dapi 2
A9: heloise | B9: 0.33333333 | E9: 0.71875 | F9: 0.54166667 | I9: 0.72916667 | L9: 0.54166667 | M9: 0.6875 | N9: 0.35416667 | Q9: 0.54166667 | R9: 0.35416667 | U9: 0.5625 | V9: =(C9-B9)+(E9-D9)+(G9-F9)+(I9-H9)+(K9-J9)+(M9-L9)+(O9-N9)+(Q9-P9)+(S9-R9)+(U9-T9) -> 1.1145833 | W9: 1.1666667 | X9: =V9-W9 -> -0.052083333 | Y9: =SUM('s14'!X9)+('s15'!X9)+ ('s16'!X9) -> -0.27083333 | AA9: heloise
O10: pom dapi 3 | S10: pom dapi 2
A11: EVA | S11: horaires verifies
C13: REPOS
C15: ABSENT
C17: ECOLE

Sheet s17
A1: S | B1: lundi 22 avril | F1: mardi 23 avril | J1: mercredi 24 avril | N1: jeudi 25 avril | R1: vendredi 26 avril | V1: TOTAL
A2: janvier | B2: arrivee | C2: coupure | D2: reprise | E2: depart | F2: arrivee | G2: coupure | H2: reprise | I2: depart | J2: arrivee | K2: coupure | L2: reprise | M2: depart | N2: arrivee | O2: coupure | P2: reprise | Q2: depart | R2: arrivee | S2: coupure | T2: reprise | U2: depart
A3: sarah | V3: =(C3-B3)+(E3-D3)+(G3-F3)+(I3-H3)+(K3-J3)+(M3-L3)+(O3-N3)+(Q3-P3)+(S3-R3)+(U3-T3) -> 0 | W3: 0 | X3: =V3-W3 -> 0 | Y3: =SUM(#REF!)+(#REF!)+(#REF!)+(#REF!)+(#REF!)+('s7'!X3)+('s8'!X3)+('s9'!X3)+('s10'!X3)+('s11'!X3)+('s12'!X3)+('s13'!X3)+('s14'!X3)+('s15'!X3)+('s16'!X3)+('s17'!X3) -> #REF! | AA3: sarah
C4: arret | F4: arret | K4: arret | P4: arret | S4: arret
A5: melina | V5: =(C5-B5)+(E5-D5)+(G5-F5)+(I5-H5)+(K5-J5)+(M5-L5)+(O5-N5)+(Q5-P5)+(S5-R5)+(U5-T5) -> 0 | W5: 0 | X5: =V5-W5 -> 0 | Y5: =SUM(#REF!)+(#REF!)+(#REF!)+(#REF!)+(#REF!)+('s7'!X5)+('s8'!X5)+('s9'!X5)+('s10'!X5)+('s11'!X5)+('s12'!X5)+('s13'!X5)+('s14'!X5)+('s15'!X5)+('s16'!X5)+('s17'!X5) -> #REF! | AA5: melina
C6: conge | G6: conge | N6: conge | S6: conge
A7: laurine | B7: 0.32291667 | E7: 0.4375 | F7: 0.33333333 | I7: 0.72916667 | N7: 0.33333333 | Q7: 0.70833333 | R7: 0.375 | S7: 0.54166667 | T7: 0.57291667 | U7: 0.70833333 | V7: =(C7-B7)+(E7-D7)+(G7-F7)+(I7-H7)+(K7-J7)+(M7-L7)+(O7-N7)+(Q7-P7)+(S7-R7)+(U7-T7) -> 1.1875 | W7: 1 | X7: =V7-W7 -> 0.1875 | Y7: =SUM(#REF!)+(#REF!)+(#REF!)+(#REF!)+('s7'!X7)+('s8'!X7)+('s9'!X7)+('s10'!X7)+('s11'!X7)+('s12'!X7)+('s13'!X7)+('s14'!X7)+('s15'!X7)+('s16'!X7)+('s17'!X7) -> #REF! | AA7: laurine
B8: pa1 | F8: pa1 | K8: repos | O8: pom dapi 1 | S8: pom dapi 3
A9: heloise | R9: 0.35416667 | S9: 0.54166667 | T9: 0.57291667 | U9: 0.72916667 | V9: =(C9-B9)+(E9-D9)+(G9-F9)+(I9-H9)+(K9-J9)+(M9-L9)+(O9-N9)+(Q9-P9)+(S9-R9)+(U9-T9) -> 0.34375 | W9: 1.1666667 | X9: =V9-W9 -> -0.82291667 | Y9: =SUM('s14'!X9)+('s15'!X9)+('s16'!X9)+('s17'!X9) -> -1.09375 | AA9: heloise
C10: repos | G10: repos | K10: repos | O10: repos | S10: 3
A11: EVA | S11: horaires verifies
C13: REPOS
C15: ABSENT
C17: ECOLE

Sheet s18
A1: S | B1: lundi 29 avril | F1: mardi 30 avril | J1: mercredi 1 mai | N1: jeudi 2 mai | R1: vendredi 3 mai | V1: TOTAL
A2: janvier | B2: arrivee | C2: coupure | D2: reprise | E2: depart | F2: arrivee | G2: coupure | H2: reprise | I2: depart | J2: arrivee | K2: coupure | L2: reprise | M2: depart | N2: arrivee | O2: coupure | P2: reprise | Q2: depart | R2: arrivee | S2: coupure | T2: reprise | U2: depart
A3: sarah | V3: =(C3-B3)+(E3-D3)+(G3-F3)+(I3-H3)+(K3-J3)+(M3-L3)+(O3-N3)+(Q3-P3)+(S3-R3)+(U3-T3) -> 0 | W3: 0 | X3: =V3-W3 -> 0 | Y3: =SUM(#REF!)+(#REF!)+(#REF!)+(#REF!)+(#REF!)+('s7'!X3)+('s8'!X3)+('s9'!X3)+('s10'!X3)+('s11'!X3)+('s12'!X3)+('s13'!X3)+('s14'!X3)+('s15'!X3)+('s16'!X3)+('s17'!X3)+('s18'!X3) -> #REF! | AA3: sarah
C4: arret | G4: arret | L4: arret | P4: arret | T4: arret
A5: melina | N5: 0.36458333 | Q5: 0.70833333 | R5: 0.33333333 | U5: 0.70833333 | V5: =(C5-B5)+(E5-D5)+(G5-F5)+(I5-H5)+(K5-J5)+(M5-L5)+(O5-N5)+(Q5-P5)+(S5-R5)+(U5-T5) -> 0.71875 | W5: 1.1666667 | X5: =V5-W5 -> -0.44791667 | Y5: =SUM(#REF!)+(#REF!)+(#REF!)+(#REF!)+(#REF!)+('s7'!X5)+('s8'!X5)+('s9'!X5)+('s10'!X5)+('s11'!X5)+('s12'!X5)+('s13'!X5)+('s14'!X5)+('s15'!X5)+('s16'!X5)+('s17'!X5)+('s18'!X5) -> #REF! | AA5: melina
G6: repos
A7: laurine | B7: 0.35416667 | E7: 0.72916667 | F7: 0.54166667 | I7: 0.71875 | V7: =(C7-B7)+(E7-D7)+(G7-F7)+(I7-H7)+(K7-J7)+(M7-L7)+(O7-N7)+(Q7-P7)+(S7-R7)+(U7-T7) -> 0.55208333 | W7: 0.79166667 | X7: =V7-W7 -> -0.23958333 | Y7: =SUM(#REF!)+(#REF!)+(#REF!)+(#REF!)+('s7'!X7)+('s8'!X7)+('s9'!X7)+('s10'!X7)+('s11'!X7)+('s12'!X7)+('s13'!X7)+('s14'!X7)+('s15'!X7)+('s16'!X7)+('s17'!X7)+('s18'!X7) -> #REF! | AA7: laurine
K8: ferie | O8: repos | S8: repos
A9: heloise | V9: =(C9-B9)+(E9-D9)+(G9-F9)+(I9-H9)+(K9-J9)+(M9-L9)+(O9-N9)+(Q9-P9)+(S9-R9)+(U9-T9) -> 0 | W9: 0.9375 | X9: =V9-W9 -> -0.9375 | Y9: =SUM('s14'!X9)+('s15'!X9)+('s16'!X9)+('s17'!X9)+('s18'!X9) -> -2.03125 | AA9: heloise
C10: repos | G10: repos | O10: repos | S10: repos
A11: EVA | S11: horaires verifies
C13: REPOS
C15: ABSENT
C17: ECOLE

Sheet s19
A1: S | B1: lundi 6 mai | F1: mardi 7 mai | J1: mercredi 8 mai | N1: jeudi 9 mai | R1: vendredi 10 mai | V1: TOTAL
A2: janvier | B2: arrivee | C2: coupure | D2: reprise | E2: depart | F2: arrivee | G2: coupure | H2: reprise | I2: depart | J2: arrivee | K2: coupure | L2: reprise | M2: depart | N2: arrivee | O2: coupure | P2: reprise | Q2: depart | R2: arrivee | S2: coupure | T2: reprise | U2: depart
A3: sarah | V3: =(C3-B3)+(E3-D3)+(G3-F3)+(I3-H3)+(K3-J3)+(M3-L3)+(O3-N3)+(Q3-P3)+(S3-R3)+(U3-T3) -> 0 | W3: 0 | X3: =V3-W3 -> 0 | Y3: =SUM(#REF!)+(#REF!)+(#REF!)+(#REF!)+(#REF!)+('s7'!X3)+('s8'!X3)+('s9'!X3)+('s10'!X3)+('s11'!X3)+('s12'!X3)+('s13'!X3)+('s14'!X3)+('s15'!X3)+('s16'!X3)+('s17'!X3)+('s18'!X3)+('s19'!X3) -> #REF! | AA3: sarah
A5: melina | B5: 0.375 | E5: 0.70833333 | F5: 0.33333333 | G5: 0.51041667 | H5: 0.54166667 | I5: 0.72916667 | V5: =(C5-B5)+(E5-D5)+(G5-F5)+(I5-H5)+(K5-J5)+(M5-L5)+(O5-N5)+(Q5-P5)+(S5-R5)+(U5-T5) -> 0.69791667 | W5: 0.58333333 | X5: =V5-W5 -> 0.11458333 | Y5: =SUM(#REF!)+(#REF!)+(#REF!)+(#REF!)+(#REF!)+('s7'!X5)+('s8'!X5)+('s9'!X5)+('s10'!X5)+('s11'!X5)+('s12'!X5)+('s13'!X5)+('s14'!X5)+('s15'!X5)+('s16'!X5)+('s17'!X5)+('s18'!X5)+('s19'!X5) -> #REF! | AA5: melina
K6: FERIE | O6: FERIE | S6: FERME
A7: laurine | F7: 0.375 | G7: 0.54166667 | H7: 0.57291667 | I7: 0.70833333 | V7: =(C7-B7)+(E7-D7)+(G7-F7)+(I7-H7)+(K7-J7)+(M7-L7)+(O7-N7)+(Q7-P7)+(S7-R7)+(U7-T7) -> 0.30208333 | W7: 0.39583333 | X7: =V7-W7 -> -0.09375 | Y7: =SUM(#REF!)+(#REF!)+(#REF!)+(#REF!)+('s7'!X7)+('s8'!X7)+('s9'!X7)+('s10'!X7)+('s11'!X7)+('s12'!X7)+('s13'!X7)+('s14'!X7)+('s15'!X7)+('s16'!X7)+('s17'!X7)+('s18'!X7)+('s19'!X7) -> #REF! | AA7: laurine
A9: heloise | B9: 0.33333333 | E9: 0.69791667 | F9: 0.45833333 | G9: 0.55208333 | H9: 0.58333333 | I9: 0.70833333 | V9: =(C9-B9)+(E9-D9)+(G9-F9)+(I9-H9)+(K9-J9)+(M9-L9)+(O9-N9)+(Q9-P9)+(S9-R9)+(U9-T9) -> 0.58333333 | W9: 0.45833333 | X9: =V9-W9 -> 0.125 | Y9: =SUM('s14'!X9)+('s15'!X9)+('s16'!X9)+('s17'!X9)+('s18'!X9)+('s19'!X9) -> -1.90625 | AA9: heloise
A11: EVA | G11: manque depart heloise mardi
C13: REPOS
C15: ABSENT
C17: ECOLE

Sheet s20
A1: S | B1: lundi 13 mai | F1: mardi 14 mai | J1: mercredi 15 mai | N1: jeudi 16 mai | R1: vendredi 17 mai | V1: TOTAL
A2: janvier | B2: arrivee | C2: coupure | D2: reprise | E2: depart | F2: arrivee | G2: coupure | H2: reprise | I2: depart | J2: arrivee | K2: coupure | L2: reprise | M2: depart | N2: arrivee | O2: coupure | P2: reprise | Q2: depart | R2: arrivee | S2: coupure | T2: reprise | U2: depart
A3: sarah | V3: =(C3-B3)+(E3-D3)+(G3-F3)+(I3-H3)+(K3-J3)+(M3-L3)+(O3-N3)+(Q3-P3)+(S3-R3)+(U3-T3) -> 0 | W3: 0 | X3: =V3-W3 -> 0 | Y3: =SUM(#REF!)+(#REF!)+(#REF!)+(#REF!)+(#REF!)+('s7'!X3)+('s8'!X3)+('s9'!X3)+('s10'!X3)+('s11'!X3)+('s12'!X3)+('s13'!X3)+('s14'!X3)+('s15'!X3)+('s16'!X3)+('s17'!X3)+('s18'!X3)+('s19'!X3)+('s20'!X3) -> #REF! | AA3: sarah
C4: arret
A5: melina | B5: 0.375 | E5: 0.70833333 | V5: =(C5-B5)+(E5-D5)+(G5-F5)+(I5-H5)+(K5-J5)+(M5-L5)+(O5-N5)+(Q5-P5)+(S5-R5)+(U5-T5) -> 0.33333333 | W5: 0.25 | X5: =V5-W5 -> 0.083333333 | Y5: =SUM(#REF!)+(#REF!)+(#REF!)+(#REF!)+(#REF!)+('s7'!X5)+('s8'!X5)+('s9'!X5)+('s10'!X5)+('s11'!X5)+('s12'!X5)+('s13'!X5)+('s14'!X5)+('s15'!X5)+('s16'!X5)+('s17'!X5)+('s18'!X5)+('s19'!X5)+('s20'!X5) -> #REF! | AA5: melina
G6: ARRET | O6: ARRET | S6: arret
A7: laurine | B7: 0.35416667 | E7: 0.69791667 | F7: 0.39583333 | G7: 0.54166667 | H7: 0.57291667 | I7: 0.69791667 | J7: 0.32291667 | M7: 0.72916667 | N7: 0.36458333 | Q7: 0.72916667 | R7: 0.35416667 | U7: 0.6875 | V7: =(C7-B7)+(E7-D7)+(G7-F7)+(I7-H7)+(K7-J7)+(M7-L7)+(O7-N7)+(Q7-P7)+(S7-R7)+(U7-T7) -> 1.71875 | W7: 1 | X7: =V7-W7 -> 0.71875 | Y7: =SUM(#REF!)+(#REF!)+(#REF!)+(#REF!)+('s7'!X7)+('s8'!X7)+('s9'!X7)+('s10'!X7)+('s11'!X7)+('s12'!X7)+('s13'!X7)+('s14'!X7)+('s15'!X7)+('s16'!X7)+('s17'!X7)+('s18'!X7)+('s19'!X7)+('s20'!X7) -> #REF! | AA7: laurine
Q8: a verifier
A9: heloise | B9: 0.32291667 | E9: 0.72916667 | F9: 0.375 | G9: 0.54166667 | H9: 0.57291667 | I9: 0.72916667 | J9: 0.54166667 | M9: 0.69791667 | N9: 0.35416667 | Q9: 0.72916667 | R9: 0.375 | S9: 0.54166667 | T9: 0.57291667 | U9: 0.66666667 | V9: =(C9-B9)+(E9-D9)+(G9-F9)+(I9-H9)+(K9-J9)+(M9-L9)+(O9-N9)+(Q9-P9)+(S9-R9)+(U9-T9) -> 1.5208333 | W9: 1.1666667 | X9: =V9-W9 -> 0.35416667 | Y9: =SUM('s14'!X9)+('s15'!X9)+('s16'!X9)+('s17'!X9)+('s18'!X9)+('s19'!X9)+('s20'!X9) -> -1.5520833 | AA9: heloise
A11: EVA | B11: 0.33333333 | D11: 0.73958333 | K11: horaires verifies | N11: 0.33333333 | P11: 0.73958333
C12: 2 | G12: horaires verifies | O12: 2
C13: REPOS
C15: ABSENT
C17: ECOLE

Sheet s21
A1: S | B1: lundi 20 mai | F1: mardi 21 mai | J1: mercredi 22 mai | N1: jeudi 23 mai | R1: vendredi 24 mai | V1: TOTAL
A2: janvier | B2: arrivee | C2: coupure | D2: reprise | E2: depart | F2: arrivee | G2: coupure | H2: reprise | I2: depart | J2: arrivee | K2: coupure | L2: reprise | M2: depart | N2: arrivee | O2: coupure | P2: reprise | Q2: depart | R2: arrivee | S2: coupure | T2: reprise | U2: depart
A3: sarah | V3: =(C3-B3)+(E3-D3)+(G3-F3)+(I3-H3)+(K3-J3)+(M3-L3)+(O3-N3)+(Q3-P3)+(S3-R3)+(U3-T3) -> 0 | W3: 0 | X3: =V3-W3 -> 0 | Y3: =SUM(#REF!)+(#REF!)+(#REF!)+(#REF!)+(#REF!)+('s7'!X3)+('s8'!X3)+('s9'!X3)+('s10'!X3)+('s11'!X3)+('s12'!X3)+('s13'!X3)+('s14'!X3)+('s15'!X3)+('s16'!X3)+('s17'!X3)+('s18'!X3)+('s19'!X3)+('s20'!X3)+('s21'!X3) -> #REF! | AA3: sarah
C4: ferie | G4: arret | O4: 3 | S4: 2
A5: melina | F5: 0.36458333 | G5: 0.54166667 | H5: 0.57291667 | I5: 0.70833333 | N5: 0.36458333 | Q5: 0.70833333 | R5: 0.36458333 | U5: 0.72916667 | V5: =(C5-B5)+(E5-D5)+(G5-F5)+(I5-H5)+(K5-J5)+(M5-L5)+(O5-N5)+(Q5-P5)+(S5-R5)+(U5-T5) -> 1.0208333 | W5: 0.83333333 | X5: =V5-W5 -> 0.1875 | Y5: =SUM(#REF!)+(#REF!)+(#REF!)+(#REF!)+(#REF!)+('s7'!X5)+('s8'!X5)+('s9'!X5)+('s10'!X5)+('s11'!X5)+('s12'!X5)+('s13'!X5)+('s14'!X5)+('s15'!X5)+('s16'!X5)+('s17'!X5)+('s18'!X5)+('s19'!X5)+('s20'!X5)+('s21'!X5) -> #REF! | AA5: melina
C6: ferie
A7: laurine | J7: 0.3125 | M7: 0.72916667 | N7: 0.39583333 | Q7: 0.71875 | V7: =(C7-B7)+(E7-D7)+(G7-F7)+(I7-H7)+(K7-J7)+(M7-L7)+(O7-N7)+(Q7-P7)+(S7-R7)+(U7-T7) -> 0.73958333 | W7: 1 | X7: =V7-W7 -> -0.26041667 | Y7: =SUM(#REF!)+(#REF!)+(#REF!)+(#REF!)+('s7'!X7)+('s8'!X7)+('s9'!X7)+('s10'!X7)+('s11'!X7)+('s12'!X7)+('s13'!X7)+('s14'!X7)+('s15'!X7)+('s16'!X7)+('s17'!X7)+('s18'!X7)+('s19'!X7)+('s20'!X7)+('s21'!X7) -> #REF! | AA7: laurine
C8: ferie
A9: heloise | F9: 0.33333333 | G9: 0.54166667 | H9: 0.57291667 | I9: 0.72916667 | J9: 0.54166667 | M9: 0.6875 | N9: 0.35416667 | Q9: 0.72916667 | R9: 0.375 | U9: 0.70833333 | V9: =(C9-B9)+(E9-D9)+(G9-F9)+(I9-H9)+(K9-J9)+(M9-L9)+(O9-N9)+(Q9-P9)+(S9-R9)+(U9-T9) -> 1.21875 | W9: 0.92708333 | X9: =V9-W9 -> 0.29166667 | Y9: =SUM('s14'!X9)+('s15'!X9)+('s16'!X9)+('s17'!X9)+('s18'!X9)+('s19'!X9)+('s20'!X9)+('s21'!X9) -> -1.2604167 | AA9: heloise
C10: ferie
A11: EVA | S11: horaires verifies
C13: REPOS
C15: ABSENT
C17: ECOLE

Sheet s22
A1: S | B1: lundi 27mai | F1: mardi 28 mai | J1: mercredi 29mai | N1: jeudi 30 mai | R1: vendredi 31 mai | V1: TOTAL
A2: janvier | B2: arrivee | C2: coupure | D2: reprise | E2: depart | F2: arrivee | G2: coupure | H2: reprise | I2: depart | J2: arrivee | K2: coupure | L2: reprise | M2: depart | N2: arrivee | O2: coupure | P2: reprise | Q2: depart | R2: arrivee | S2: coupure | T2: reprise | U2: depart
A3: sarah | V3: =(C3-B3)+(E3-D3)+(G3-F3)+(I3-H3)+(K3-J3)+(M3-L3)+(O3-N3)+(Q3-P3)+(S3-R3)+(U3-T3) -> 0 | W3: 0 | X3: =V3-W3 -> 0 | Y3: =SUM(#REF!)+(#REF!)+(#REF!)+(#REF!)+(#REF!)+('s7'!X3)+('s8'!X3)+('s9'!X3)+('s10'!X3)+('s11'!X3)+('s12'!X3)+('s13'!X3)+('s14'!X3)+('s15'!X3)+('s16'!X3)+('s17'!X3)+('s18'!X3)+('s19'!X3)+('s20'!X3)+('s21'!X3)+('s22'!X3) -> #REF! | AA3: sarah
A5: melina | B5: 0.375 | E5: 0.70833333 | F5: 0.35416667 | I5: 0.72916667 | N5: 0.36458333 | Q5: 0.70833333 | R5: 0.33541667 | U5: 0.72916667 | V5: =(C5-B5)+(E5-D5)+(G5-F5)+(I5-H5)+(K5-J5)+(M5-L5)+(O5-N5)+(Q5-P5)+(S5-R5)+(U5-T5) -> 1.4458333 | W5: 1.125 | X5: =V5-W5 -> 0.32083333 | Y5: =SUM(#REF!)+(#REF!)+(#REF!)+(#REF!)+(#REF!)+('s7'!X5)+('s8'!X5)+('s9'!X5)+('s10'!X5)+('s11'!X5)+('s12'!X5)+('s13'!X5)+('s14'!X5)+('s15'!X5)+('s16'!X5)+('s17'!X5)+('s18'!X5)+('s19'!X5)+('s20'!X5)+('s21'!X5)+('s22'!X5) -> #REF! | AA5: melina
I6: hidaya | R6: RETARD
A7: laurine | B7: 0.33333333 | C7: 0.54166667 | D7: 0.57291667 | E7: 0.6875 | F7: 0.39583333 | I7: 0.55208333 | J7: 0.32291667 | M7: 0.375 | N7: 0.39583333 | Q7: 0.54166667 | R7: 0.375 | U7: 0.72916667 | V7: =(C7-B7)+(E7-D7)+(G7-F7)+(I7-H7)+(K7-J7)+(M7-L7)+(O7-N7)+(Q7-P7)+(S7-R7)+(U7-T7) -> 1.03125 | W7: 1 | X7: =V7-W7 -> 0.03125 | Y7: =SUM(#REF!)+(#REF!)+(#REF!)+(#REF!)+('s7'!X7)+('s8'!X7)+('s9'!X7)+('s10'!X7)+('s11'!X7)+('s12'!X7)+('s13'!X7)+('s14'!X7)+('s15'!X7)+('s16'!X7)+('s17'!X7)+('s18'!X7)+('s19'!X7)+('s20'!X7)+('s21'!X7)+('s22'!X7) -> #REF! | AA7: laurine
L8: reparti car malade...
A9: heloise | B9: 0.32291667 | E9: 0.72916667 | F9: 0.33333333 | I9: 0.73958333 | J9: 0.36458333 | M9: 0.55208333 | N9: 0.32291667 | Q9: 0.72916667 | V9: =(C9-B9)+(E9-D9)+(G9-F9)+(I9-H9)+(K9-J9)+(M9-L9)+(O9-N9)+(Q9-P9)+(S9-R9)+(U9-T9) -> 1.40625 | W9: 1.1666667 | X9: =V9-W9 -> 0.23958333 | Y9: =SUM('s14'!X9)+('s15'!X9)+('s16'!X9)+('s17'!X9)+('s18'!X9)+('s19'!X9)+('s20'!X9)+('s21'!X9)+('s22'!X9) -> -1.0208333 | AA9: heloise
A11: EVA | J11: 0.54166667 | M11: 0.70833333
C13: REPOS
C15: ABSENT
C17: ECOLE

Sheet s23
A1: S | B1: lundi 3 juin | F1: mardi 4 juin | J1: mercredi 5 juin | N1: jeudi 6 juin | R1: vendredi 7 juin | V1: TOTAL
A2: janvier | B2: arrivee | C2: coupure | D2: reprise | E2: depart | F2: arrivee | G2: coupure | H2: reprise | I2: depart | J2: arrivee | K2: coupure | L2: reprise | M2: depart | N2: arrivee | O2: coupure | P2: reprise | Q2: depart | R2: arrivee | S2: coupure | T2: reprise | U2: depart
A3: sarah | V3: =(C3-B3)+(E3-D3)+(G3-F3)+(I3-H3)+(K3-J3)+(M3-L3)+(O3-N3)+(Q3-P3)+(S3-R3)+(U3-T3) -> 0 | W3: 0 | X3: =V3-W3 -> 0 | Y3: =SUM(#REF!)+(#REF!)+(#REF!)+(#REF!)+(#REF!)+('s7'!X3)+('s8'!X3)+('s9'!X3)+('s10'!X3)+('s11'!X3)+('s12'!X3)+('s13'!X3)+('s14'!X3)+('s15'!X3)+('s16'!X3)+('s17'!X3)+('s18'!X3)+('s19'!X3)+('s20'!X3)+('s21'!X3)+('s22'!X3)+('s23'!X3) -> #REF! | AA3: sarah
A5: melina | B5: 0.32847222 | E5: 0.72916667 | F5: 0.36458333 | I5: 0.72916667 | N5: 0.36944444 | Q5: 0.72916667 | R5: 0.36458333 | U5: 0.70833333 | V5: =(C5-B5)+(E5-D5)+(G5-F5)+(I5-H5)+(K5-J5)+(M5-L5)+(O5-N5)+(Q5-P5)+(S5-R5)+(U5-T5) -> 1.46875 | W5: 1.125 | X5: =V5-W5 -> 0.34375 | Y5: =SUM(#REF!)+(#REF!)+(#REF!)+(#REF!)+(#REF!)+('s7'!X5)+('s8'!X5)+('s9'!X5)+('s10'!X5)+('s11'!X5)+('s12'!X5)+('s13'!X5)+('s14'!X5)+('s15'!X5)+('s16'!X5)+('s17'!X5)+('s18'!X5)+('s19'!X5)+('s20'!X5)+('s21'!X5)+('s22'!X5)+('s23'!X5) -> #REF! | AA5: melina
B6: RETARD | N6: RETARD
A7: laurine | F7: 0.32291667 | I7: 0.72916667 | J7: 0.32291667 | K7: 0.52083333 | L7: 0.55208333 | M7: 0.70833333 | R7: 0.35416667 | U7: 0.73958333 | V7: =(C7-B7)+(E7-D7)+(G7-F7)+(I7-H7)+(K7-J7)+(M7-L7)+(O7-N7)+(Q7-P7)+(S7-R7)+(U7-T7) -> 1.1458333 | W7: 1 | X7: =V7-W7 -> 0.14583333 | Y7: =SUM(#REF!)+(#REF!)+(#REF!)+(#REF!)+('s7'!X7)+('s8'!X7)+('s9'!X7)+('s10'!X7)+('s11'!X7)+('s12'!X7)+('s13'!X7)+('s14'!X7)+('s15'!X7)+('s16'!X7)+('s17'!X7)+('s18'!X7)+('s19'!X7)+('s20'!X7)+('s21'!X7)+('s22'!X7)+('s23'!X7) -> #REF! | AA7: laurine
G8: pa3
A9: heloise | B9: 0.375 | E9: 0.72916667 | J9: 0.39583333 | M9: 0.59375 | N9: 0.35416667 | Q9: 0.73958333 | R9: 0.33333333 | U9: 0.70833333 | V9: =(C9-B9)+(E9-D9)+(G9-F9)+(I9-H9)+(K9-J9)+(M9-L9)+(O9-N9)+(Q9-P9)+(S9-R9)+(U9-T9) -> 1.3125 | W9: 1.1666667 | X9: =V9-W9 -> 0.14583333 | Y9: =SUM('s14'!X9)+('s15'!X9)+('s16'!X9)+('s17'!X9)+('s18'!X9)+('s19'!X9)+('s20'!X9)+('s21'!X9)+('s22'!X9)+('s23'!X9) -> -0.875 | AA9: heloise
A11: EVA
C13: REPOS
C15: ABSENT
C17: ECOLE

Sheet s24
A1: S | B1: lundi 10 juin | F1: mardi 11 juin | J1: mercredi 12 juin | N1: jeudi 13 juin | R1: vendredi 14 juin | V1: TOTAL
A2: janvier | B2: arrivee | C2: coupure | D2: reprise | E2: depart | F2: arrivee | G2: coupure | H2: reprise | I2: depart | J2: arrivee | K2: coupure | L2: reprise | M2: depart | N2: arrivee | O2: coupure | P2: reprise | Q2: depart | R2: arrivee | S2: coupure | T2: reprise | U2: depart
A3: sarah | V3: =(C3-B3)+(E3-D3)+(G3-F3)+(I3-H3)+(K3-J3)+(M3-L3)+(O3-N3)+(Q3-P3)+(S3-R3)+(U3-T3) -> 0 | W3: 0 | X3: =V3-W3 -> 0 | Y3: =SUM(#REF!)+(#REF!)+(#REF!)+(#REF!)+(#REF!)+('s7'!X3)+('s8'!X3)+('s9'!X3)+('s10'!X3)+('s11'!X3)+('s12'!X3)+('s13'!X3)+('s14'!X3)+('s15'!X3)+('s16'!X3)+('s17'!X3)+('s18'!X3)+('s19'!X3)+('s20'!X3)+('s21'!X3)+('s22'!X3)+('s23'!X3)+('s24'!X3) -> #REF! | AA3: sarah
A5: melina | B5: 0.375 | E5: 0.70833333 | N5: 0.36458333 | Q5: 0.70833333 | R5: 0.36458333 | U5: 0.71875 | V5: =(C5-B5)+(E5-D5)+(G5-F5)+(I5-H5)+(K5-J5)+(M5-L5)+(O5-N5)+(Q5-P5)+(S5-R5)+(U5-T5) -> 1.03125 | W5: 1.25 | X5: =V5-W5 -> -0.21875 | Y5: =SUM(#REF!)+(#REF!)+(#REF!)+(#REF!)+(#REF!)+('s7'!X5)+('s8'!X5)+('s9'!X5)+('s10'!X5)+('s11'!X5)+('s12'!X5)+('s13'!X5)+('s14'!X5)+('s15'!X5)+('s16'!X5)+('s17'!X5)+('s18'!X5)+('s19'!X5)+('s20'!X5)+('s21'!X5)+('s22'!X5)+('s23'!X5)+('s24'!X5) -> #REF! | AA5: melina
A7: laurine | B7: 0.34375 | E7: 0.72222222 | F7: 0.32291667 | I7: 0.72916667 | J7: 0.32291667 | M7: 0.5625 | N7: 0.35416667 | Q7: 0.52083333 | V7: =(C7-B7)+(E7-D7)+(G7-F7)+(I7-H7)+(K7-J7)+(M7-L7)+(O7-N7)+(Q7-P7)+(S7-R7)+(U7-T7) -> 1.1909722 | W7: 1 | X7: =V7-W7 -> 0.19097222 | Y7: =SUM(#REF!)+(#REF!)+(#REF!)+(#REF!)+('s7'!X7)+('s8'!X7)+('s9'!X7)+('s10'!X7)+('s11'!X7)+('s12'!X7)+('s13'!X7)+('s14'!X7)+('s15'!X7)+('s16'!X7)+('s17'!X7)+('s18'!X7)+('s19'!X7)+('s20'!X7)+('s21'!X7)+('s22'!X7)+('s23'!X7)+('s24'!X7) -> #REF! | AA7: laurine
D8: pa1 | G8: pa3 | K8: pa3 | O8: pa3 | T8: pa1
A9: heloise | B9: 0.32291667 | E9: 0.72916667 | F9: 0.36458333 | I9: 0.72916667 | J9: 0.5625 | M9: 0.69791667 | N9: 0.52083333 | Q9: 0.72916667 | R9: 0.33333333 | U9: 0.70833333 | V9: =(C9-B9)+(E9-D9)+(G9-F9)+(I9-H9)+(K9-J9)+(M9-L9)+(O9-N9)+(Q9-P9)+(S9-R9)+(U9-T9) -> 1.4895833 | W9: 1.1666667 | X9: =V9-W9 -> 0.32291667 | Y9: =SUM('s14'!X9)+('s15'!X9)+('s16'!X9)+('s17'!X9)+('s18'!X9)+('s19'!X9)+('s20'!X9)+('s21'!X9)+('s22'!X9)+('s23'!X9)+('s24'!X9) -> -0.55208333 | AA9: heloise
C10: pa3 | G10: pa2 | L10: pa3 | O10: pa3 | T10: pa3
A11: EVA
C13: REPOS
C15: ABSENT
C17: ECOLE

Sheet s25
A1: S | B1: lundi 17 juin | F1: mardi 18 juin | J1: mercredi 19 juin | N1: jeudi 20 juin | R1: vendredi 21 juin | V1: TOTAL
A2: janvier | B2: arrivee | C2: coupure | D2: reprise | E2: depart | F2: arrivee | G2: coupure | H2: reprise | I2: depart | J2: arrivee | K2: coupure | L2: reprise | M2: depart | N2: arrivee | O2: coupure | P2: reprise | Q2: depart | R2: arrivee | S2: coupure | T2: reprise | U2: depart
A3: sarah | V3: =(C3-B3)+(E3-D3)+(G3-F3)+(I3-H3)+(K3-J3)+(M3-L3)+(O3-N3)+(Q3-P3)+(S3-R3)+(U3-T3) -> 0 | W3: 0 | X3: =V3-W3 -> 0 | Y3: =SUM(#REF!)+(#REF!)+(#REF!)+(#REF!)+(#REF!)+('s7'!X3)+('s8'!X3)+('s9'!X3)+('s10'!X3)+('s11'!X3)+('s12'!X3)+('s13'!X3)+('s14'!X3)+('s15'!X3)+('s16'!X3)+('s17'!X3)+('s18'!X3)+('s19'!X3)+('s20'!X3)+('s21'!X3)+('s22'!X3)+('s23'!X3)+('s24'!X3)+('s25'!X3) -> #REF! | AA3: sarah
A5: melina | N5: 0.375 | Q5: 0.72916667 | R5: 0.33333333 | U5: 0.72916667 | V5: =(C5-B5)+(E5-D5)+(G5-F5)+(I5-H5)+(K5-J5)+(M5-L5)+(O5-N5)+(Q5-P5)+(S5-R5)+(U5-T5) -> 0.75 | W5: 0.54166667 | X5: =V5-W5 -> 0.20833333 | Y5: =SUM(#REF!)+(#REF!)+(#REF!)+(#REF!)+(#REF!)+('s7'!X5)+('s8'!X5)+('s9'!X5)+('s10'!X5)+('s11'!X5)+('s12'!X5)+('s13'!X5)+('s14'!X5)+('s15'!X5)+('s16'!X5)+('s17'!X5)+('s18'!X5)+('s19'!X5)+('s20'!X5)+('s21'!X5)+('s22'!X5)+('s23'!X5)+('s24'!X5)+('s25'!X5) -> #REF! | AA5: melina
D6: arret | G6: arret
A7: laurine | B7: 0.32291667 | E7: 0.72916667 | F7: 0.35416667 | I7: 0.56597222 | J7: 0.32291667 | M7: 0.54513889 | N7: 0.47916667 | Q7: 0.73958333 | V7: =(C7-B7)+(E7-D7)+(G7-F7)+(I7-H7)+(K7-J7)+(M7-L7)+(O7-N7)+(Q7-P7)+(S7-R7)+(U7-T7) -> 1.1006944 | W7: 1 | X7: =V7-W7 -> 0.10069444 | Y7: =SUM(#REF!)+(#REF!)+(#REF!)+(#REF!)+('s7'!X7)+('s8'!X7)+('s9'!X7)+('s10'!X7)+('s11'!X7)+('s12'!X7)+('s13'!X7)+('s14'!X7)+('s15'!X7)+('s16'!X7)+('s17'!X7)+('s18'!X7)+('s19'!X7)+('s20'!X7)+('s21'!X7)+('s22'!X7)+('s23'!X7)+('s24'!X7)+('s25'!X7) -> #REF! | AA7: laurine
D8: pa2 | G8: pa3 | K8: pa3 | T8: pa1
A9: heloise | B9: 0.54166667 | E9: 0.72916667 | F9: 0.54166667 | I9: 0.72916667 | J9: 0.54166667 | M9: 0.70833333 | N9: 0.35416667 | Q9: 0.70833333 | V9: =(C9-B9)+(E9-D9)+(G9-F9)+(I9-H9)+(K9-J9)+(M9-L9)+(O9-N9)+(Q9-P9)+(S9-R9)+(U9-T9) -> 0.89583333 | W9: 1.1666667 | X9: =V9-W9 -> -0.27083333 | Y9: =SUM('s14'!X9)+('s15'!X9)+('s16'!X9)+('s17'!X9)+('s18'!X9)+('s19'!X9)+('s20'!X9)+('s21'!X9)+('s22'!X9)+('s23'!X9)+('s24'!X9)+('s25'!X9) -> -0.82291667 | AA9: heloise
C10: pa3 | G10: pa3 | L10: pa3 | O10: pa3 | T10: pa3
A11: EVA
C13: REPOS
C15: ABSENT
C17: ECOLE

Sheet s26
B1: lundi 24 juin | F1: mardi 25 juin | J1: mercredi 26 juin | N1: jeudi 27 juin | R1: vendredi 28 juin | V1: TOTAL
A2: janvier | B2: arrivee | C2: coupure | D2: reprise | E2: depart | F2: arrivee | G2: coupure | H2: reprise | I2: depart | J2: arrivee | K2: coupure | L2: reprise | M2: depart | N2: arrivee | O2: coupure | P2: reprise | Q2: depart | R2: arrivee | S2: coupure | T2: reprise | U2: depart
A3: sarah | B3: 0.29166667 | E3: 0.73958333 | J3: 0.47916667 | M3: 0.72916667 | N3: 0.375 | Q3: 0.57291667 | R3: 0.29166667 | U3: 0.73958333 | V3: =(C3-B3)+(E3-D3)+(G3-F3)+(I3-H3)+(K3-J3)+(M3-L3)+(O3-N3)+(Q3-P3)+(S3-R3)+(U3-T3) -> 1.34375 | W3: 1.4583333 | X3: =V3-W3 -> -0.11458333 | Y3: =SUM(#REF!)+(#REF!)+(#REF!)+(#REF!)+(#REF!)+('s7'!X3)+('s8'!X3)+('s9'!X3)+('s10'!X3)+('s11'!X3)+('s12'!X3)+('s13'!X3)+('s14'!X3)+('s15'!X3)+('s16'!X3)+('s17'!X3)+('s18'!X3)+('s19'!X3)+('s20'!X3)+('s21'!X3)+('s22'!X3)+('s23'!X3)+('s24'!X3)+('s25'!X3)+('s26'!X3) -> #REF! | AA3: sarah
D4: pa2 | K4: pa3 | O4: pa2 | S4: pa3
A5: melina | F5: 0.35416667 | G5: 0.54166667 | H5: 0.57291667 | I5: 0.72916667 | N5: 0.35416667 | O5: 0.54166667 | P5: 0.57291667 | Q5: 0.72916667 | R5: 0.35416667 | U5: 0.72916667 | V5: =(C5-B5)+(E5-D5)+(G5-F5)+(I5-H5)+(K5-J5)+(M5-L5)+(O5-N5)+(Q5-P5)+(S5-R5)+(U5-T5) -> 1.0625 | W5: 0.84375 | X5: =V5-W5 -> 0.21875 | Y5: =SUM(#REF!)+(#REF!)+(#REF!)+(#REF!)+(#REF!)+('s7'!X5)+('s8'!X5)+('s9'!X5)+('s10'!X5)+('s11'!X5)+('s12'!X5)+('s13'!X5)+('s14'!X5)+('s15'!X5)+('s16'!X5)+('s17'!X5)+('s18'!X5)+('s19'!X5)+('s20'!X5)+('s21'!X5)+('s22'!X5)+('s23'!X5)+('s24'!X5)+('s25'!X5)+('s26'!X5) -> #REF! | AA5: melina
C6: conge
A7: laurine | F7: 0.4375 | G7: 0.54166667 | H7: 0.57291667 | I7: 0.71875 | J7: 0.32291667 | M7: 0.71527778 | N7: 0.4375 | O7: 0.55208333 | P7: 0.58333333 | Q7: 0.72916667 | V7: =(C7-B7)+(E7-D7)+(G7-F7)+(I7-H7)+(K7-J7)+(M7-L7)+(O7-N7)+(Q7-P7)+(S7-R7)+(U7-T7) -> 0.90277778 | W7: 1 | X7: =V7-W7 -> -0.097222222 | Y7: =SUM(#REF!)+(#REF!)+(#REF!)+(#REF!)+('s7'!X7)+('s8'!X7)+('s9'!X7)+('s10'!X7)+('s11'!X7)+('s12'!X7)+('s13'!X7)+('s14'!X7)+('s15'!X7)+('s16'!X7)+('s17'!X7)+('s18'!X7)+('s19'!X7)+('s20'!X7)+('s21'!X7)+('s22'!X7)+('s23'!X7)+('s24'!X7)+('s25'!X7)+('s26'!X7) -> #REF! | AA7: laurine
L8: pa3
A9: heloise | F9: 0.375 | I9: 0.70833333 | N9: 0.51041667 | Q9: 0.70833333 | R9: 0.33333333 | U9: 0.70833333 | V9: =(C9-B9)+(E9-D9)+(G9-F9)+(I9-H9)+(K9-J9)+(M9-L9)+(O9-N9)+(Q9-P9)+(S9-R9)+(U9-T9) -> 0.90625 | W9: 1.1666667 | X9: =V9-W9 -> -0.26041667 | Y9: =SUM('s14'!X9)+('s15'!X9)+('s16'!X9)+('s17'!X9)+('s18'!X9)+('s19'!X9)+('s20'!X9)+('s21'!X9)+('s22'!X9)+('s23'!X9)+('s24'!X9)+('s25'!X9)+('s26'!X9) -> -1.0833333 | AA9: heloise
H10: pa2 | O10: pa2 | S10: pa3
A11: EVA
T12: horaires verifies
C13: REPOS
C15: ABSENT
C17: ECOLE

Sheet s27
B1: lundi 1 juillet | F1: mardi 2 juillet | J1: mercredi 3 juillet | N1: jeudi 4 juillet | R1: vendredi 5 juillet | V1: TOTAL
A2: janvier | B2: arrivee | C2: coupure | D2: reprise | E2: depart | F2: arrivee | G2: coupure | H2: reprise | I2: depart | J2: arrivee | K2: coupure | L2: reprise | M2: depart | N2: arrivee | O2: coupure | P2: reprise | Q2: depart | R2: arrivee | S2: coupure | T2: reprise | U2: depart
A3: sarah | B3: 0.375 | E3: 0.73958333 | F3: 0.29166667 | I3: 0.57291667 | J3: 0.41666667 | M3: 0.70833333 | N3: 0.54166667 | Q3: 0.70833333 | R3: 0.32291667 | U3: 0.54166667 | V3: =(C3-B3)+(E3-D3)+(G3-F3)+(I3-H3)+(K3-J3)+(M3-L3)+(O3-N3)+(Q3-P3)+(S3-R3)+(U3-T3) -> 1.3229167 | W3: 1.4583333 | X3: =V3-W3 -> -0.13541667 | Y3: =SUM(#REF!)+(#REF!)+(#REF!)+(#REF!)+(#REF!)+('s7'!X3)+('s8'!X3)+('s9'!X3)+('s10'!X3)+('s11'!X3)+('s12'!X3)+('s13'!X3)+('s14'!X3)+('s15'!X3)+('s16'!X3)+('s17'!X3)+('s18'!X3)+('s19'!X3)+('s20'!X3)+('s21'!X3)+('s22'!X3)+('s23'!X3)+('s24'!X3)+('s25'!X3)+('s26'!X3)+('s27'!X3) -> #REF! | AA3: sarah
A5: melina | F5: 0.32291667 | G5: 0.54166667 | H5: 0.57291667 | I5: 0.72916667 | N5: 0.35416667 | O5: 0.54166667 | P5: 0.57291667 | Q5: 0.72916667 | R5: 0.34375 | S5: 0.54166667 | T5: 0.57291667 | U5: 0.72916667 | V5: =(C5-B5)+(E5-D5)+(G5-F5)+(I5-H5)+(K5-J5)+(M5-L5)+(O5-N5)+(Q5-P5)+(S5-R5)+(U5-T5) -> 1.0729167 | W5: 1.1666667 | X5: =V5-W5 -> -0.09375 | Y5: =SUM(#REF!)+(#REF!)+(#REF!)+(#REF!)+(#REF!)+('s7'!X5)+('s8'!X5)+('s9'!X5)+('s10'!X5)+('s11'!X5)+('s12'!X5)+('s13'!X5)+('s14'!X5)+('s15'!X5)+('s16'!X5)+('s17'!X5)+('s18'!X5)+('s19'!X5)+('s20'!X5)+('s21'!X5)+('s22'!X5)+('s23'!X5)+('s24'!X5)+('s25'!X5)+('s26'!X5)+('s27'!X5) -> #REF! | AA5: melina
A7: laurine | B7: 0.35416667 | C7: 0.54166667 | D7: 0.57291667 | E7: 0.6875 | F7: 0.39583333 | G7: 0.54166667 | H7: 0.57291667 | I7: 0.6875 | J7: 0.32291667 | M7: 0.57291667 | N7: 0.39583333 | O7: 0.54166667 | P7: 0.57291667 | Q7: 0.6875 | R7: 0.39583333 | S7: 0.54166667 | T7: 0.57291667 | U7: 0.6875 | V7: =(C7-B7)+(E7-D7)+(G7-F7)+(I7-H7)+(K7-J7)+(M7-L7)+(O7-N7)+(Q7-P7)+(S7-R7)+(U7-T7) -> 1.3333333 | W7: 1 | X7: =V7-W7 -> 0.33333333 | Y7: =SUM(#REF!)+(#REF!)+(#REF!)+(#REF!)+('s7'!X7)+('s8'!X7)+('s9'!X7)+('s10'!X7)+('s11'!X7)+('s12'!X7)+('s13'!X7)+('s14'!X7)+('s15'!X7)+('s16'!X7)+('s17'!X7)+('s18'!X7)+('s19'!X7)+('s20'!X7)+('s21'!X7)+('s22'!X7)+('s23'!X7)+('s24'!X7)+('s25'!X7)+('s26'!X7)+('s27'!X7) -> #REF! | AA7: laurine
C8: pa1
A9: heloise | B9: 0.32291667 | E9: 0.69791667 | F9: 0.54166667 | I9: 0.70833333 | J9: 0.57291667 | M9: 0.70833333 | N9: 0.375 | Q9: 0.54166667 | R9: 0.54166667 | U9: 0.70833333 | V9: =(C9-B9)+(E9-D9)+(G9-F9)+(I9-H9)+(K9-J9)+(M9-L9)+(O9-N9)+(Q9-P9)+(S9-R9)+(U9-T9) -> 1.0104167 | W9: 1.1666667 | X9: =V9-W9 -> -0.15625 | Y9: =SUM('s14'!X9)+('s15'!X9)+('s16'!X9)+('s17'!X9)+('s18'!X9)+('s19'!X9)+('s20'!X9)+('s21'!X9)+('s22'!X9)+('s23'!X9)+('s24'!X9)+('s25'!X9)+('s26'!X9)+('s27'!X9) -> -1.2395833 | AA9: heloise
A11: EVA
C13: REPOS
C15: ABSENT
C17: ECOLE

Sheet s28
B1: lundi 8 juillet | F1: mardi 9 juillet | J1: mercredi 10 juillet | N1: jeudi 11 juillet | R1: vendredi 12 juillet | V1: TOTAL
B2: arrivee | C2: coupure | D2: reprise | E2: depart | F2: arrivee | G2: coupure | H2: reprise | I2: depart | J2: arrivee | K2: coupure | L2: reprise | M2: depart | N2: arrivee | O2: coupure | P2: reprise | Q2: depart | R2: arrivee | S2: coupure | T2: reprise | U2: depart
A3: sarah | B3: 0.29166667 | E3: 0.57291667 | F3: 0.51041667 | I3: 0.71875 | J3: 0.29166667 | M3: 0.57291667 | N3: 0.33333333 | Q3: 0.73958333 | R3: 0.375 | U3: 0.57291667 | V3: =(C3-B3)+(E3-D3)+(G3-F3)+(I3-H3)+(K3-J3)+(M3-L3)+(O3-N3)+(Q3-P3)+(S3-R3)+(U3-T3) -> 1.375 | W3: 1.4583333 | X3: =V3-W3 -> -0.083333333 | Y3: =SUM(#REF!)+(#REF!)+(#REF!)+(#REF!)+(#REF!)+('s7'!X3)+('s8'!X3)+('s9'!X3)+('s10'!X3)+('s11'!X3)+('s12'!X3)+('s13'!X3)+('s14'!X3)+('s15'!X3)+('s16'!X3)+('s17'!X3)+('s18'!X3)+('s19'!X3)+('s20'!X3)+('s21'!X3)+('s22'!X3)+('s23'!X3)+('s24'!X3)+('s25'!X3)+('s26'!X3)+('s27'!X3)+('s28'!X3) -> #REF! | AA3: sarah
A5: melina | B5: 0.35416667 | C5: 0.54166667 | D5: 0.57291667 | E5: 0.72916667 | F5: 0.35416667 | G5: 0.54166667 | H5: 0.57291667 | I5: 0.73958333 | N5: 0.35416667 | O5: 0.54166667 | P5: 0.57291667 | Q5: 0.72916667 | R5: 0.35416667 | U5: 0.52083333 | V5: =(C5-B5)+(E5-D5)+(G5-F5)+(I5-H5)+(K5-J5)+(M5-L5)+(O5-N5)+(Q5-P5)+(S5-R5)+(U5-T5) -> 1.2083333 | W5: 1.1666667 | X5: =V5-W5 -> 0.041666667 | Y5: =SUM(#REF!)+(#REF!)+(#REF!)+(#REF!)+(#REF!)+('s7'!X5)+('s8'!X5)+('s9'!X5)+('s10'!X5)+('s11'!X5)+('s12'!X5)+('s13'!X5)+('s14'!X5)+('s15'!X5)+('s16'!X5)+('s17'!X5)+('s18'!X5)+('s19'!X5)+('s20'!X5)+('s21'!X5)+('s22'!X5)+('s23'!X5)+('s24'!X5)+('s25'!X5)+('s26'!X5)+('s27'!X5)+('s28'!X5) -> #REF! | AA5: melina
A7: laurine | B7: 0.375 | C7: 0.54166667 | D7: 0.57291667 | E7: 0.69791667 | F7: 0.39583333 | I7: 0.69791667 | N7: 0.39583333 | O7: 0.54166667 | P7: 0.57291667 | Q7: 0.69791667 | V7: =(C7-B7)+(E7-D7)+(G7-F7)+(I7-H7)+(K7-J7)+(M7-L7)+(O7-N7)+(Q7-P7)+(S7-R7)+(U7-T7) -> 0.86458333 | W7: 1 | X7: =V7-W7 -> -0.13541667 | Y7: =SUM(#REF!)+(#REF!)+(#REF!)+(#REF!)+('s7'!X7)+('s8'!X7)+('s9'!X7)+('s10'!X7)+('s11'!X7)+('s12'!X7)+('s13'!X7)+('s14'!X7)+('s15'!X7)+('s16'!X7)+('s17'!X7)+('s18'!X7)+('s19'!X7)+('s20'!X7)+('s21'!X7)+('s22'!X7)+('s23'!X7)+('s24'!X7)+('s25'!X7)+('s26'!X7)+('s27'!X7)+('s28'!X7) -> #REF! | AA7: laurine
A9: heloise | B9: 0.51041667 | E9: 0.72916667 | F9: 0.32291667 | I9: 0.51041667 | J9: 0.45833333 | K9: 0.55208333 | L9: 0.58333333 | M9: 0.72916667 | N9: 0.375 | Q9: 0.72916667 | R9: 0.57291667 | U9: 0.72916667 | V9: =(C9-B9)+(E9-D9)+(G9-F9)+(I9-H9)+(K9-J9)+(M9-L9)+(O9-N9)+(Q9-P9)+(S9-R9)+(U9-T9) -> 1.15625 | W9: 1.1666667 | X9: =V9-W9 -> -0.010416667 | Y9: =SUM('s14'!X9)+('s15'!X9)+('s16'!X9)+('s17'!X9)+('s18'!X9)+('s19'!X9)+('s20'!X9)+('s21'!X9)+('s22'!X9)+('s23'!X9)+('s24'!X9)+('s25'!X9)+('s26'!X9)+('s27'!X9)+('s28'!X9) -> -1.25 | AA9: heloise
A11: EVA
C13: REPOS
C15: ABSENT
C17: ECOLE

Sheet s29
B1: lundi 15 juillet | F1: mardi 16 juillet | J1: mercredi 17 juillet | N1: jeudi 18 juillet | R1: vendredi 19 juillet | V1: TOTAL
B2: arrivee | C2: coupure | D2: reprise | E2: depart | F2: arrivee | G2: coupure | H2: reprise | I2: depart | J2: arrivee | K2: coupure | L2: reprise | M2: depart | N2: arrivee | O2: coupure | P2: reprise | Q2: depart | R2: arrivee | S2: coupure | T2: reprise | U2: depart
A3: sarah | B3: 0.29166667 | E3: 0.57291667 | F3: 0.29166667 | G3: 0.54166667 | H3: 0.57291667 | I3: 0.66666667 | J3: 0.29166667 | M3: 0.72916667 | N3: 0.375 | O3: 0.54166667 | P3: 0.57291667 | Q3: 0.625 | V3: =(C3-B3)+(E3-D3)+(G3-F3)+(I3-H3)+(K3-J3)+(M3-L3)+(O3-N3)+(Q3-P3)+(S3-R3)+(U3-T3) -> 1.28125 | W3: 1.4583333 | X3: =V3-W3 -> -0.17708333 | Y3: =SUM(#REF!)+(#REF!)+(#REF!)+(#REF!)+(#REF!)+('s7'!X3)+('s8'!X3)+('s9'!X3)+('s10'!X3)+('s11'!X3)+('s12'!X3)+('s13'!X3)+('s14'!X3)+('s15'!X3)+('s16'!X3)+('s17'!X3)+('s18'!X3)+('s19'!X3)+('s20'!X3)+('s21'!X3)+('s22'!X3)+('s23'!X3)+('s24'!X3)+('s25'!X3)+('s26'!X3)+('s27'!X3)+('s28'!X3)+('s29'!X3) -> #REF! | AA3: sarah
A5: melina | B5: 0.39583333 | E5: 0.70833333 | F5: 0.35416667 | G5: 0.54166667 | H5: 0.57291667 | I5: 0.70833333 | N5: 0.35416667 | O5: 0.54166667 | P5: 0.57291667 | Q5: 0.73958333 | R5: 0.35416667 | U5: 0.55208333 | V5: =(C5-B5)+(E5-D5)+(G5-F5)+(I5-H5)+(K5-J5)+(M5-L5)+(O5-N5)+(Q5-P5)+(S5-R5)+(U5-T5) -> 1.1875 | W5: 1.1666667 | X5: =V5-W5 -> 0.020833333 | Y5: =SUM(#REF!)+(#REF!)+(#REF!)+(#REF!)+(#REF!)+('s7'!X5)+('s8'!X5)+('s9'!X5)+('s10'!X5)+('s11'!X5)+('s12'!X5)+('s13'!X5)+('s14'!X5)+('s15'!X5)+('s16'!X5)+('s17'!X5)+('s18'!X5)+('s19'!X5)+('s20'!X5)+('s21'!X5)+('s22'!X5)+('s23'!X5)+('s24'!X5)+('s25'!X5)+('s26'!X5)+('s27'!X5)+('s28'!X5)+('s29'!X5) -> #REF! | AA5: melina
A7: laurine | F7: 0.39583333 | G7: 0.54166667 | H7: 0.57291667 | I7: 0.6875 | N7: 0.39583333 | O7: 0.54166667 | P7: 0.57291667 | Q7: 0.6875 | V7: =(C7-B7)+(E7-D7)+(G7-F7)+(I7-H7)+(K7-J7)+(M7-L7)+(O7-N7)+(Q7-P7)+(S7-R7)+(U7-T7) -> 0.52083333 | W7: 1 | X7: =V7-W7 -> -0.47916667 | Y7: =SUM(#REF!)+(#REF!)+(#REF!)+(#REF!)+('s7'!X7)+('s8'!X7)+('s9'!X7)+('s10'!X7)+('s11'!X7)+('s12'!X7)+('s13'!X7)+('s14'!X7)+('s15'!X7)+('s16'!X7)+('s17'!X7)+('s18'!X7)+('s19'!X7)+('s20'!X7)+('s21'!X7)+('s22'!X7)+('s23'!X7)+('s24'!X7)+('s25'!X7)+('s26'!X7)+('s27'!X7)+('s28'!X7)+('s29'!X7) -> #REF! | AA7: laurine
A9: heloise | B9: 0.52083333 | E9: 0.72916667 | F9: 0.375 | G9: 0.54166667 | H9: 0.57291667 | I9: 0.72916667 | J9: 0.52083333 | M9: 0.72916667 | N9: 0.39583333 | O9: 0.54166667 | P9: 0.57291667 | Q9: 0.72916667 | R9: 0.39583333 | S9: 0.54166667 | T9: 0.57291667 | U9: 0.72916667 | V9: =(C9-B9)+(E9-D9)+(G9-F9)+(I9-H9)+(K9-J9)+(M9-L9)+(O9-N9)+(Q9-P9)+(S9-R9)+(U9-T9) -> 1.34375 | W9: 1.1666667 | X9: =V9-W9 -> 0.17708333 | Y9: =SUM('s14'!X9)+('s15'!X9)+('s16'!X9)+('s17'!X9)+('s18'!X9)+('s19'!X9)+('s20'!X9)+('s21'!X9)+('s22'!X9)+('s23'!X9)+('s24'!X9)+('s25'!X9)+('s26'!X9)+('s27'!X9)+('s28'!X9)+('s29'!X9) -> -1.0729167 | AA9: heloise
A11: EVA
C13: REPOS
C15: ABSENT
C17: ECOLE

Sheet s30
B1: lundi 22 juillet | F1: mardi 23 juillet | J1: mercredi 24 juillet | N1: jeudi 25 juillet | R1: vendredi 26 juillet | V1: TOTAL
B2: arrivee | C2: coupure | D2: reprise | E2: depart | F2: arrivee | G2: coupure | H2: reprise | I2: depart | J2: arrivee | K2: coupure | L2: reprise | M2: depart | N2: arrivee | O2: coupure | P2: reprise | Q2: depart | R2: arrivee | S2: coupure | T2: reprise | U2: depart
A3: sarah | B3: 0.29166667 | E3: 0.54166667 | F3: 0.29166667 | I3: 0.54166667 | J3: 0.29166667 | M3: 0.46875 | N3: 0.375 | Q3: 0.57291667 | R3: 0.375 | S3: 0.54166667 | T3: 0.57291667 | U3: 0.72916667 | V3: =(C3-B3)+(E3-D3)+(G3-F3)+(I3-H3)+(K3-J3)+(M3-L3)+(O3-N3)+(Q3-P3)+(S3-R3)+(U3-T3) -> 1.1979167 | W3: 1.4583333 | X3: =V3-W3 -> -0.26041667 | Y3: =SUM(#REF!)+(#REF!)+(#REF!)+(#REF!)+(#REF!)+('s7'!X3)+('s8'!X3)+('s9'!X3)+('s10'!X3)+('s11'!X3)+('s12'!X3)+('s13'!X3)+('s14'!X3)+('s15'!X3)+('s16'!X3)+('s17'!X3)+('s18'!X3)+('s19'!X3)+('s20'!X3)+('s21'!X3)+('s22'!X3)+('s23'!X3)+('s24'!X3)+('s25'!X3)+('s26'!X3)+('s27'!X3)+('s28'!X3)+('s29'!X3)+('s30'!X3) -> #REF! | AA3: sarah
A5: melina | B5: 0.39583333 | E5: 0.70833333 | F5: 0.36458333 | I5: 0.70833333 | N5: 0.39583333 | O5: 0.54166667 | P5: 0.57291667 | Q5: 0.70833333 | R5: 0.34375 | U5: 0.70833333 | V5: =(C5-B5)+(E5-D5)+(G5-F5)+(I5-H5)+(K5-J5)+(M5-L5)+(O5-N5)+(Q5-P5)+(S5-R5)+(U5-T5) -> 1.3020833 | W5: 1.1666667 | X5: =V5-W5 -> 0.13541667 | Y5: =SUM(#REF!)+(#REF!)+(#REF!)+(#REF!)+(#REF!)+('s7'!X5)+('s8'!X5)+('s9'!X5)+('s10'!X5)+('s11'!X5)+('s12'!X5)+('s13'!X5)+('s14'!X5)+('s15'!X5)+('s16'!X5)+('s17'!X5)+('s18'!X5)+('s19'!X5)+('s20'!X5)+('s21'!X5)+('s22'!X5)+('s23'!X5)+('s24'!X5)+('s25'!X5)+('s26'!X5)+('s27'!X5)+('s28'!X5)+('s29'!X5)+('s30'!X5) -> #REF! | AA5: melina
A7: laurine | F7: 0.51041667 | I7: 0.66666667 | N7: 0.51041667 | Q7: 0.70833333 | R7: 0.35416667 | U7: 0.58333333 | V7: =(C7-B7)+(E7-D7)+(G7-F7)+(I7-H7)+(K7-J7)+(M7-L7)+(O7-N7)+(Q7-P7)+(S7-R7)+(U7-T7) -> 0.58333333 | W7: 1 | X7: =V7-W7 -> -0.41666667 | Y7: =SUM(#REF!)+(#REF!)+(#REF!)+(#REF!)+('s7'!X7)+('s8'!X7)+('s9'!X7)+('s10'!X7)+('s11'!X7)+('s12'!X7)+('s13'!X7)+('s14'!X7)+('s15'!X7)+('s16'!X7)+('s17'!X7)+('s18'!X7)+('s19'!X7)+('s20'!X7)+('s21'!X7)+('s22'!X7)+('s23'!X7)+('s24'!X7)+('s25'!X7)+('s26'!X7)+('s27'!X7)+('s28'!X7)+('s29'!X7)+('s30'!X7) -> #REF! | AA7: laurine
A9: heloise | B9: 0.32291667 | C9: 0.54166667 | D9: 0.57291667 | E9: 0.72916667 | F9: 0.32291667 | G9: 0.54166667 | H9: 0.57291667 | I9: 0.73958333 | J9: 0.54166667 | M9: 0.72916667 | N9: 0.35416667 | O9: 0.54166667 | P9: 0.57291667 | Q9: 0.72916667 | V9: =(C9-B9)+(E9-D9)+(G9-F9)+(I9-H9)+(K9-J9)+(M9-L9)+(O9-N9)+(Q9-P9)+(S9-R9)+(U9-T9) -> 1.2916667 | W9: 1.1666667 | X9: =V9-W9 -> 0.125 | Y9: =SUM('s14'!X9)+('s15'!X9)+('s16'!X9)+('s17'!X9)+('s18'!X9)+('s19'!X9)+('s20'!X9)+('s21'!X9)+('s22'!X9)+('s23'!X9)+('s24'!X9)+('s25'!X9)+('s26'!X9)+('s27'!X9)+('s28'!X9)+('s29'!X9)+('s30'!X9) -> -0.94791667 | AA9: heloise
A11: EVA | T11: horaires verifies
C13: REPOS
C15: ABSENT
C17: ECOLE

Sheet s31
B1: lundi 29 juillet | F1: mardi 30 juillet | J1: mercredi 31 juillet | N1: jeudi 1 aout | R1: vendredi 2 aout | V1: TOTAL
B2: arrivee | C2: coupure | D2: reprise | E2: depart | F2: arrivee | G2: coupure | H2: reprise | I2: depart | J2: arrivee | K2: coupure | L2: reprise | M2: depart | N2: arrivee | O2: coupure | P2: reprise | Q2: depart | R2: arrivee | S2: coupure | T2: reprise | U2: depart
A3: sarah | B3: 0.29166667 | E3: 0.54166667 | F3: 0.29166667 | I3: 0.54166667 | J3: 0.29166667 | K3: 0.54166667 | L3: 0.57291667 | M3: 0.72916667 | N3: 0.39583333 | Q3: 0.54166667 | R3: 0.35416667 | U3: 0.5625 | V3: =(C3-B3)+(E3-D3)+(G3-F3)+(I3-H3)+(K3-J3)+(M3-L3)+(O3-N3)+(Q3-P3)+(S3-R3)+(U3-T3) -> 1.2604167 | W3: 1.4583333 | X3: =V3-W3 -> -0.19791667 | Y3: =SUM(#REF!)+(#REF!)+(#REF!)+(#REF!)+(#REF!)+('s7'!X3)+('s8'!X3)+('s9'!X3)+('s10'!X3)+('s11'!X3)+('s12'!X3)+('s13'!X3)+('s14'!X3)+('s15'!X3)+('s16'!X3)+('s17'!X3)+('s18'!X3)+('s19'!X3)+('s20'!X3)+('s21'!X3)+('s22'!X3)+('s23'!X3)+('s24'!X3)+('s25'!X3)+('s26'!X3)+('s27'!X3)+('s28'!X3)+('s29'!X3)+('s30'!X3)+('s31'!X3) -> #REF! | AA3: sarah
A5: melina | B5: 0.39583333 | C5: 0.54166667 | D5: 0.57291667 | E5: 0.71875 | F5: 0.375 | I5: 0.70833333 | N5: 0.375 | Q5: 0.70833333 | R5: 0.35416667 | U5: 0.70833333 | V5: =(C5-B5)+(E5-D5)+(G5-F5)+(I5-H5)+(K5-J5)+(M5-L5)+(O5-N5)+(Q5-P5)+(S5-R5)+(U5-T5) -> 1.3125 | W5: 1.1666667 | X5: =V5-W5 -> 0.14583333 | Y5: =SUM(#REF!)+(#REF!)+(#REF!)+(#REF!)+(#REF!)+('s7'!X5)+('s8'!X5)+('s9'!X5)+('s10'!X5)+('s11'!X5)+('s12'!X5)+('s13'!X5)+('s14'!X5)+('s15'!X5)+('s16'!X5)+('s17'!X5)+('s18'!X5)+('s19'!X5)+('s20'!X5)+('s21'!X5)+('s22'!X5)+('s23'!X5)+('s24'!X5)+('s25'!X5)+('s26'!X5)+('s27'!X5)+('s28'!X5)+('s29'!X5)+('s30'!X5)+('s31'!X5) -> #REF! | AA5: melina
A7: laurine | B7: 0.54166667 | E7: 0.72916667 | F7: 0.54166667 | I7: 0.72916667 | N7: 0.54166667 | Q7: 0.72916667 | R7: 0.39583333 | S7: 0.54166667 | T7: 0.57291667 | U7: 0.72916667 | V7: =(C7-B7)+(E7-D7)+(G7-F7)+(I7-H7)+(K7-J7)+(M7-L7)+(O7-N7)+(Q7-P7)+(S7-R7)+(U7-T7) -> 0.86458333 | W7: 1 | X7: =V7-W7 -> -0.13541667 | Y7: =SUM(#REF!)+(#REF!)+(#REF!)+(#REF!)+('s7'!X7)+('s8'!X7)+('s9'!X7)+('s10'!X7)+('s11'!X7)+('s12'!X7)+('s13'!X7)+('s14'!X7)+('s15'!X7)+('s16'!X7)+('s17'!X7)+('s18'!X7)+('s19'!X7)+('s20'!X7)+('s21'!X7)+('s22'!X7)+('s23'!X7)+('s24'!X7)+('s25'!X7)+('s26'!X7)+('s27'!X7)+('s28'!X7)+('s29'!X7)+('s30'!X7)+('s31'!X7) -> #REF! | AA7: laurine
K8: repos
A9: heloise | B9: 0.32291667 | E9: 0.70833333 | J9: 0.5625 | M9: 0.72916667 | N9: 0.35416667 | O9: 0.54166667 | P9: 0.57291667 | Q9: 0.70833333 | V9: =(C9-B9)+(E9-D9)+(G9-F9)+(I9-H9)+(K9-J9)+(M9-L9)+(O9-N9)+(Q9-P9)+(S9-R9)+(U9-T9) -> 0.875 | W9: 1.1666667 | X9: =V9-W9 -> -0.29166667 | Y9: =SUM('s14'!X9)+('s15'!X9)+('s16'!X9)+('s17'!X9)+('s18'!X9)+('s19'!X9)+('s20'!X9)+('s21'!X9)+('s22'!X9)+('s23'!X9)+('s24'!X9)+('s25'!X9)+('s26'!X9)+('s27'!X9)+('s28'!X9)+('s29'!X9)+('s30'!X9)+('s31'!X9) -> -1.2395833 | AA9: heloise
G10: repos | S10: repos
A11: EVA
C13: REPOS
C15: ABSENT
C17: ECOLE

Sheet s32
