Workbook

Sheet s7
A1: S | B1: lundi 12 | F1: mardi 13 | J1: mercredi 14 | N1: jeudi 15 | R1: vendredi 16 | V1: TOTAL
A2: février | B2: arrivee | C2: coupure | D2: reprise | E2: depart | F2: arrivee | G2: coupure | H2: reprise | I2: depart | J2: arrivee | K2: coupure | L2: reprise | M2: depart | N2: arrivee | O2: coupure | P2: reprise | Q2: depart | R2: arrivee | S2: coupure | T2: reprise | U2: depart
A3: sarah | B3: 0.54166667 | E3: 0.71875 | F3: 0.35416667 | G3: 0.54166667 | H3: 0.57291667 | I3: 0.72916667 | J3: 0.35416667 | K3: 0.54166667 | L3: 0.57291667 | M3: 0.73958333 | N3: 0.375 | Q3: 0.5625 | R3: 0.36458333 | S3: 0.54166667 | T3: 0.57291667 | U3: 0.72916667 | V3: =(C3-B3)+(E3-D3)+(G3-F3)+(I3-H3)+(K3-J3)+(M3-L3)+(O3-N3)+(Q3-P3)+(S3-R3)+(U3-T3) -> 1.3958333 | W3: 1.4583333 | X3: =V3-W3 -> -0.0625 | Y3: =SUM(#REF!)+(#REF!)+(#REF!)+(#REF!)+(#REF!)+('s7'!X3) -> #REF!
A5: melina | B5: 0.375 | E5: 0.57291667 | N5: 0.35416667 | O5: 0.54166667 | P5: 0.57291667 | Q5: 0.70833333 | R5: 0.375 | S5: 0.54166667 | T5: 0.57291667 | U5: 0.70833333 | V5: =(C5-B5)+(E5-D5)+(G5-F5)+(I5-H5)+(K5-J5)+(M5-L5)+(O5-N5)+(Q5-P5)+(S5-R5)+(U5-T5) -> 0.82291667 | W5: 0.875 | X5: =V5-W5 -> -0.052083333 | Y5: =SUM(#REF!)+(#REF!)+(#REF!)+(#REF!)+(#REF!)+('s7'!X5) -> #REF!
A7: laurine | B7: 0.33333333 | C7: 0.54166667 | D7: 0.57291667 | E7: 0.72916667 | F7: 0.41666667 | I7: 0.57291667 | N7: 0.52083333 | O7: 0.54166667 | P7: 0.57291667 | Q7: 0.72916667 | V7: =(C7-B7)+(E7-D7)+(G7-F7)+(I7-H7)+(K7-J7)+(M7-L7)+(O7-N7)+(Q7-P7)+(S7-R7)+(U7-T7) -> 0.69791667 | W7: 1 | X7: =V7-W7 -> -0.30208333 | Y7: =SUM(#REF!)+(#REF!)+(#REF!)+(#REF!)+('s7'!X7) -> #REF!
A9: jenny | V9: =(C9-B9)+(E9-D9)+(G9-F9)+(I9-H9)+(K9-J9)+(M9-L9)+(O9-N9)+(Q9-P9)+(S9-R9)+(U9-T9) -> 0 | W9: 1.4583333 | X9: =V9-W9 -> -1.4583333
A11: EVA
C13: REPOS
C15: ABSENT
C17: ECOLE

Sheet s8
A1: S | B1: lundi 19 | F1: mardi 20 | J1: mercredi 21 | N1: jeudi 22 | R1: vendredi 23 | V1: TOTAL
A2: fevrier | B2: arrivee | C2: coupure | D2: reprise | E2: depart | F2: arrivee | G2: coupure | H2: reprise | I2: depart | J2: arrivee | K2: coupure | L2: reprise | M2: depart | N2: arrivee | O2: coupure | P2: reprise | Q2: depart | R2: arrivee | S2: coupure | T2: reprise | U2: depart
A3: sarah | B3: 0.36458333 | E3: 0.5625 | F3: 0.35416667 | I3: 0.70833333 | J3: 0.35416667 | M3: 0.71875 | N3: 0.35416667 | Q3: 0.5625 | R3: 0.5625 | U3: 0.72916667 | V3: =(C3-B3)+(E3-D3)+(G3-F3)+(I3-H3)+(K3-J3)+(M3-L3)+(O3-N3)+(Q3-P3)+(S3-R3)+(U3-T3) -> 1.2916667 | W3: 1.4583333 | X3: =V3-W3 -> -0.16666667 | Y3: =SUM(#REF!)+(#REF!)+(#REF!)+(#REF!)+(#REF!)+('s7'!X3)+('s8'!X3) -> #REF!
A5: melina | B5: 0.375 | C5: 0.54166667 | D5: 0.57291667 | E5: 0.70833333 | F5: 0.375 | I5: 0.72916667 | N5: 0.52083333 | Q5: 0.72916667 | R5: 0.36458333 | U5: 0.5625 | V5: =(C5-B5)+(E5-D5)+(G5-F5)+(I5-H5)+(K5-J5)+(M5-L5)+(O5-N5)+(Q5-P5)+(S5-R5)+(U5-T5) -> 1.0625 | W5: 1.1666667 | X5: =V5-W5 -> -0.10416667 | Y5: =SUM(#REF!)+(#REF!)+(#REF!)+(#REF!)+(#REF!)+('s7'!X5)+('s8'!X5) -> #REF!
A7: laurine | B7: 0.5625 | E7: 0.72916667 | N7: 0.39583333 | O7: 0.54166667 | P7: 0.57291667 | Q7: 0.70833333 | R7: 0.375 | S7: 0.54166667 | T7: 0.57291667 | U7: 0.70833333 | V7: =(C7-B7)+(E7-D7)+(G7-F7)+(I7-H7)+(K7-J7)+(M7-L7)+(O7-N7)+(Q7-P7)+(S7-R7)+(U7-T7) -> 0.75 | W7: 0.80208333 | X7: =V7-W7 -> -0.052083333 | Y7: =SUM(#REF!)+(#REF!)+(#REF!)+(#REF!)+('s7'!X7)+('s8'!X7) -> #REF!
G8: CONGE
A9: jenny | D9: m | E9: s | H9: j | I9: m | K9: s | M9: j | O9: e j | Q9: s | S9: l | U9: m | V9: =(C9-B9)+(E9-D9)+(G9-F9)+(I9-H9)+(K9-J9)+(M9-L9)+(O9-N9)+(Q9-P9)+(S9-R9)+(U9-T9) -> #VALUE! | W9: 1.4583333 | X9: =V9-W9 -> #VALUE!
A11: EVA | R11: horaires verifies
D12: horaires vérifiés
C13: REPOS
C15: ABSENT
C17: ECOLE

Sheet s9
A1: S | B1: lundi 26 | F1: mardi 27 | J1: mercredi 28 | N1: jeudi 29 | R1: vendredi 1 mars | V1: TOTAL
A2: janvier | B2: arrivee | C2: coupure | D2: reprise | E2: depart | F2: arrivee | G2: coupure | H2: reprise | I2: depart | J2: arrivee | K2: coupure | L2: reprise | M2: depart | N2: arrivee | O2: coupure | P2: reprise | Q2: depart | R2: arrivee | S2: coupure | T2: reprise | U2: depart
A3: sarah | B3: 0.375 | E3: 0.70833333 | F3: 0.375 | I3: 0.39583333 | J3: 0.30208333 | M3: 0.5625 | N3: 0.375 | Q3: 0.69791667 | R3: 0.33333333 | U3: 0.71875 | V3: =(C3-B3)+(E3-D3)+(G3-F3)+(I3-H3)+(K3-J3)+(M3-L3)+(O3-N3)+(Q3-P3)+(S3-R3)+(U3-T3) -> 1.3229167 | W3: 1.4583333 | X3: =V3-W3 -> -0.13541667 | Y3: =SUM('s7'!X3)+('s8'!X3)+('s9'!X3) -> -0.36458333
A5: melina | F5: 0.33333333 | I5: 0.5625 | N5: 0.47916667 | Q5: 0.72916667 | R5: 0.52083333 | U5: 0.72916667 | V5: =(C5-B5)+(E5-D5)+(G5-F5)+(I5-H5)+(K5-J5)+(M5-L5)+(O5-N5)+(Q5-P5)+(S5-R5)+(U5-T5) -> 0.6875 | W5: 0.875 | X5: =V5-W5 -> -0.1875 | Y5: =SUM('s7'!X5)+('s8'!X5)+('s9'!X5) -> -0.34375
C6: conge
A7: laurine | B7: 0.35416667 | E7: 0.5625 | F7: 0.39583333 | G7: 0.52083333 | H7: 0.5625 | I7: 0.6875 | J7: 0.54166667 | M7: 0.72916667 | R7: 0.39583333 | S7: 0.52083333 | T7: 0.5625 | U7: 0.6875 | V7: =(C7-B7)+(E7-D7)+(G7-F7)+(I7-H7)+(K7-J7)+(M7-L7)+(O7-N7)+(Q7-P7)+(S7-R7)+(U7-T7) -> 0.89583333 | W7: 1 | X7: =V7-W7 -> -0.10416667 | Y7: =SUM('s7'!X7)+('s8'!X7)+('s9'!X7) -> -0.45833333
A9: jenny | V9: =(C9-B9)+(E9-D9)+(G9-F9)+(I9-H9)+(K9-J9)+(M9-L9)+(O9-N9)+(Q9-P9)+(S9-R9)+(U9-T9) -> 0 | W9: 1.4583333 | X9: =V9-W9 -> -1.4583333
A11: EVA
C13: REPOS
C15: ABSENT
C17: ECOLE

Sheet s10
A1: S | B1: lundi 4 mars | F1: mardi 5 mars | J1: mercredi 6 mars | N1: jeudi 7 mars | R1: vendredi 8 mars | V1: TOTAL
A2: janvier | B2: arrivee | C2: coupure | D2: reprise | E2: depart | F2: arrivee | G2: coupure | H2: reprise | I2: depart | J2: arrivee | K2: coupure | L2: reprise | M2: depart | N2: arrivee | O2: coupure | P2: reprise | Q2: depart | R2: arrivee | S2: coupure | T2: reprise | U2: depart
A3: sarah | B3: 0.32291667 | E3: 0.71875 | F3: 0.375 | I3: 0.69791667 | J3: 0.35416667 | M3: 0.72916667 | N3: 0.33333333 | Q3: 0.70833333 | V3: =(C3-B3)+(E3-D3)+(G3-F3)+(I3-H3)+(K3-J3)+(M3-L3)+(O3-N3)+(Q3-P3)+(S3-R3)+(U3-T3) -> 1.46875 | W3: 1.4583333 | X3: =V3-W3 -> 0.010416667 | Y3: =SUM(#REF!)+(#REF!)+(#REF!)+(#REF!)+(#REF!)+('s7'!X3)+('s8'!X3)+('s9'!X3)+('s10'!X3) -> #REF!
A5: melina | F5: 0.35416667 | I5: 0.71875 | V5: =(C5-B5)+(E5-D5)+(G5-F5)+(I5-H5)+(K5-J5)+(M5-L5)+(O5-N5)+(Q5-P5)+(S5-R5)+(U5-T5) -> 0.36458333 | W5: 0.875 | X5: =V5-W5 -> -0.51041667 | Y5: =SUM(#REF!)+(#REF!)+(#REF!)+(#REF!)+(#REF!)+('s7'!X5)+('s8'!X5)+('s9'!X5)+('s10'!X5) -> #REF!
A7: laurine | B7: 0.35416667 | C7: 0.52083333 | D7: 0.5625 | E7: 0.6875 | N7: 0.375 | Q7: 0.69791667 | R7: 0.35416667 | U7: 0.72916667 | V7: =(C7-B7)+(E7-D7)+(G7-F7)+(I7-H7)+(K7-J7)+(M7-L7)+(O7-N7)+(Q7-P7)+(S7-R7)+(U7-T7) -> 0.98958333 | W7: 1 | X7: =V7-W7 -> -0.010416667 | Y7: =SUM(#REF!)+(#REF!)+(#REF!)+(#REF!)+('s7'!X7)+('s8'!X7)+('s9'!X7)+('s10'!X7) -> #REF!
A9: jenny | V9: =(C9-B9)+(E9-D9)+(G9-F9)+(I9-H9)+(K9-J9)+(M9-L9)+(O9-N9)+(Q9-P9)+(S9-R9)+(U9-T9) -> 0 | W9: 1.4583333 | X9: =V9-W9 -> -1.4583333
A11: EVA | S11: horaires verifies
C13: REPOS
C15: ABSENT
C17: ECOLE

Sheet s11
A1: S | B1: lundi 11 mars | F1: mardi 12 mars | J1: mercredi 13 mars | N1: jeudi 14 mars | R1: vendredi 15 mars | V1: TOTAL
A2: mars | B2: arrivee | C2: coupure | D2: reprise | E2: depart | F2: arrivee | G2: coupure | H2: reprise | I2: depart | J2: arrivee | K2: coupure | L2: reprise | M2: depart | N2: arrivee | O2: coupure | P2: reprise | Q2: depart | R2: arrivee | S2: coupure | T2: reprise | U2: depart
A3: sarah | B3: 0.5625 | E3: 0.72916667 | F3: 0.32291667 | G3: 0.54166667 | H3: 0.57291667 | I3: 0.70833333 | J3: 0.30208333 | K3: 0.54166667 | L3: 0.57291667 | M3: 0.6875 | N3: 0.32291667 | Q3: 0.6875 | R3: 0.36458333 | U3: 0.71875 | V3: =(C3-B3)+(E3-D3)+(G3-F3)+(I3-H3)+(K3-J3)+(M3-L3)+(O3-N3)+(Q3-P3)+(S3-R3)+(U3-T3) -> 1.59375 | W3: 1.4583333 | X3: =V3-W3 -> 0.13541667 | Y3: =SUM(#REF!)+(#REF!)+(#REF!)+(#REF!)+(#REF!)+('s7'!X3)+('s8'!X3)+('s9'!X3)+('s10'!X3)+('s11'!X3) -> #REF!
A5: melina | B5: 0.33333333 | C5: 0.54166667 | D5: 0.57291667 | E5: 0.70833333 | N5: 0.35416667 | Q5: 0.72916667 | R5: 0.375 | U5: 0.70833333 | V5: =(C5-B5)+(E5-D5)+(G5-F5)+(I5-H5)+(K5-J5)+(M5-L5)+(O5-N5)+(Q5-P5)+(S5-R5)+(U5-T5) -> 1.0520833 | W5: 0.875 | X5: =V5-W5 -> 0.17708333 | Y5: =SUM(#REF!)+(#REF!)+(#REF!)+(#REF!)+(#REF!)+('s7'!X5)+('s8'!X5)+('s9'!X5)+('s10'!X5)+('s11'!X5) -> #REF!
A7: laurine | B7: 0.375 | E7: 0.5625 | F7: 0.35416667 | G7: 0.54166667 | H7: 0.57291667 | I7: 0.72916667 | J7: 0.54166667 | M7: 0.72916667 | V7: =(C7-B7)+(E7-D7)+(G7-F7)+(I7-H7)+(K7-J7)+(M7-L7)+(O7-N7)+(Q7-P7)+(S7-R7)+(U7-T7) -> 0.71875 | W7: 1 | X7: =V7-W7 -> -0.28125 | Y7: =SUM(#REF!)+(#REF!)+(#REF!)+(#REF!)+('s7'!X7)+('s8'!X7)+('s9'!X7)+('s10'!X7)+('s11'!X7) -> #REF!
A9: jenny | V9: =(C9-B9)+(E9-D9)+(G9-F9)+(I9-H9)+(K9-J9)+(M9-L9)+(O9-N9)+(Q9-P9)+(S9-R9)+(U9-T9) -> 0 | W9: 1.4583333 | X9: =V9-W9 -> -1.4583333
A11: EVA
C13: REPOS
C15: ABSENT
C17: ECOLE

Sheet s12
A1: S | B1: lundi 18 mars | F1: mardi 19 mars | J1: mercredi 20 mars | N1: jeudi 21 mars | R1: vendredi 22 mars | V1: TOTAL
A2: janvier | B2: arrivee | C2: coupure | D2: reprise | E2: depart | F2: arrivee | G2: coupure | H2: reprise | I2: depart | J2: arrivee | K2: coupure | L2: reprise | M2: depart | N2: arrivee | O2: coupure | P2: reprise | Q2: depart | R2: arrivee | S2: coupure | T2: reprise | U2: depart
A3: sarah | B3: 0.36458333 | C3: 0.54166667 | D3: 0.57291667 | E3: 0.73958333 | F3: 0.35416667 | G3: 0.54166667 | H3: 0.57291667 | I3: 0.6875 | J3: 0.57291667 | M3: 0.73958333 | N3: 0.32291667 | O3: 0.54166667 | P3: 0.57291667 | Q3: 0.6875 | R3: 0.41666667 | S3: 0.54166667 | T3: 0.57291667 | U3: 0.69791667 | V3: =(C3-B3)+(E3-D3)+(G3-F3)+(I3-H3)+(K3-J3)+(M3-L3)+(O3-N3)+(Q3-P3)+(S3-R3)+(U3-T3) -> 1.3958333 | W3: 1.4583333 | X3: =V3-W3 -> -0.0625 | Y3: =SUM(#REF!)+(#REF!)+(#REF!)+(#REF!)+(#REF!)+('s7'!X3)+('s8'!X3)+('s9'!X3)+('s10'!X3)+('s11'!X3)+('s12'!X3) -> #REF!
A5: melina | F5: 0.45833333 | G5: 0.54166667 | H5: 0.57291667 | I5: 0.72916667 | N5: 0.35416667 | O5: 0.54166667 | P5: 0.57291667 | Q5: 0.72916667 | R5: 0.36458333 | S5: 0.54166667 | T5: 0.57291667 | U5: 0.72916667 | V5: =(C5-B5)+(E5-D5)+(G5-F5)+(I5-H5)+(K5-J5)+(M5-L5)+(O5-N5)+(Q5-P5)+(S5-R5)+(U5-T5) -> 0.91666667 | W5: 1.1666667 | X5: =V5-W5 -> -0.25 | Y5: =SUM(#REF!)+(#REF!)+(#REF!)+(#REF!)+(#REF!)+('s7'!X5)+('s8'!X5)+('s9'!X5)+('s10'!X5)+('s11'!X5)+('s12'!X5) -> #REF!
G6: pom dapi 1
A7: laurine | B7: 0.45833333 | E7: 0.57291667 | J7: 0.35416667 | K7: 0.57291667 | L7: 0.60416667 | M7: 0.72916667 | N7: 0.52083333 | Q7: 0.70833333 | R7: 0.35416667 | S7: 0.54166667 | T7: 0.57291667 | U7: 0.72916667 | V7: =(C7-B7)+(E7-D7)+(G7-F7)+(I7-H7)+(K7-J7)+(M7-L7)+(O7-N7)+(Q7-P7)+(S7-R7)+(U7-T7) -> 0.98958333 | W7: 1 | X7: =V7-W7 -> -0.010416667 | Y7: =SUM(#REF!)+(#REF!)+(#REF!)+(#REF!)+('s7'!X7)+('s8'!X7)+('s9'!X7)+('s10'!X7)+('s11'!X7)+( 's12'!X7) -> #REF!
A9: jenny | V9: =(C9-B9)+(E9-D9)+(G9-F9)+(I9-H9)+(K9-J9)+(M9-L9)+(O9-N9)+(Q9-P9)+(S9-R9)+(U9-T9) -> 0 | W9: 1.4583333 | X9: =V9-W9 -> -1.4583333
A11: EVA | B11: 0.42708333 | E11: 0.46875 | F11: 0.47916667 | I11: 0.52083333
C13: REPOS
C15: ABSENT
C17: ECOLE
A22: 0.32291667 | B22: 0.32291667
C23: 0.33333333 | D23: 0.33333333
E25: 0.35416667
F26: 0.36458333

Sheet s13
A1: S | B1: lundi 25 mars | F1: mardi 26 mars | J1: mercredi 27 mars | N1: jeudi 28 mars | R1: vendredi 29 mars | V1: TOTAL
A2: janvier | B2: arrivee | C2: coupure | D2: reprise | E2: depart | F2: arrivee | G2: coupure | H2: reprise | I2: depart | J2: arrivee | K2: coupure | L2: reprise | M2: depart | N2: arrivee | O2: coupure | P2: reprise | Q2: depart | R2: arrivee | S2: coupure | T2: reprise | U2: depart
A3: sarah | B3: 0.375 | E3: 0.57291667 | F3: 0.32291667 | G3: 0.54166667 | H3: 0.57291667 | I3: 0.69791667 | J3: 0.39583333 | K3: 0.54166667 | L3: 0.57291667 | M3: 0.72916667 | N3: 0.375 | Q3: 0.69791667 | R3: 0.35416667 | U3: 0.57291667 | V3: =(C3-B3)+(E3-D3)+(G3-F3)+(I3-H3)+(K3-J3)+(M3-L3)+(O3-N3)+(Q3-P3)+(S3-R3)+(U3-T3) -> 1.3854167 | W3: 1.4583333 | X3: =V3-W3 -> -0.072916667 | Y3: =SUM(#REF!)+(#REF!)+(#REF!)+(#REF!)+(#REF!)+('s7'!X3)+('s8'!X3)+('s9'!X3)+('s10'!X3)+('s11'!X3)+('s12'!X3)+('s13'!X3) -> #REF!
D4: 13 | H4: 12 | L4: 12 | P4: 13 | T4: 12
A5: melina | B5: 0.33333333 | C5: 0.53125 | D5: 0.5625 | E5: 0.69791667 | F5: 0.33333333 | G5: 0.54166667 | H5: 0.57291667 | I5: 0.73958333 | N5: 0.35416667 | Q5: 0.72916667 | R5: 0.41666667 | S5: 0.54166667 | T5: 0.57291667 | U5: 0.72916667 | V5: =(C5-B5)+(E5-D5)+(G5-F5)+(I5-H5)+(K5-J5)+(M5-L5)+(O5-N5)+(Q5-P5)+(S5-R5)+(U5-T5) -> 1.3645833 | W5: 1.1666667 | X5: =V5-W5 -> 0.19791667 | Y5: =SUM(#REF!)+(#REF!)+(#REF!)+(#REF!)+(#REF!)+('s7'!X5)+('s8'!X5)+('s9'!X5)+('s10'!X5)+('s11'!X5)+('s12'!X5)+('s13'!X5) -> #REF!
A7: laurine | B7: 0.53125 | E7: 0.72916667 | F7: 0.35416667 | I7: 0.47916667 | J7: 0.35416667 | K7: 0.54166667 | L7: 0.57291667 | M7: 0.72916667 | R7: 0.35416667 | U7: 0.73958333 | V7: =(C7-B7)+(E7-D7)+(G7-F7)+(I7-H7)+(K7-J7)+(M7-L7)+(O7-N7)+(Q7-P7)+(S7-R7)+(U7-T7) -> 1.0520833 | W7: 1 | X7: =V7-W7 -> 0.052083333 | Y7: =SUM(#REF!)+(#REF!)+(#REF!)+(#REF!)+('s7'!X7)+('s8'!X7)+('s9'!X7)+('s10'!X7)+('s11'!X7)+('s12'!X7)+('s13'!X7) -> #REF!
G8: pom dapi 1 | S8: pom dapi 1
A9: jenny | B9: 0.375 | C9: 0.57291667 | D9: 0.61458333 | E9: 0.70833333 | V9: =(C9-B9)+(E9-D9)+(G9-F9)+(I9-H9)+(K9-J9)+(M9-L9)+(O9-N9)+(Q9-P9)+(S9-R9)+(U9-T9) -> 0.29166667 | W9: 1.4583333 | X9: =V9-W9 -> -1.1666667 | Y9: =SUM('s13'!X9) -> -1.1666667
A11: EVA | R11: horaires verifiés
C13: REPOS
D14: 0.54166667 | E14: rdv sarah
C15: ABSENT | D15: 0.5625 | E15: rdv melina
D16: 0.57291667 | E16: rdv laurine
C17: ECOLE

Sheet s14
A1: S | B1: lundi 1 avril | F1: mardi 2 avril | J1: mercredi 3 avril | N1: jeudi 4 avril | R1: vendredi 5 avril | V1: TOTAL
A2: janvier | B2: arrivee | C2: coupure | D2: reprise | E2: depart | F2: arrivee | G2: coupure | H2: reprise | I2: depart | J2: arrivee | K2: coupure | L2: reprise | M2: depart | N2: arrivee | O2: coupure | P2: reprise | Q2: depart | R2: arrivee | S2: coupure | T2: reprise | U2: depart
A3: sarah | F3: 0.32291667 | I3: 0.72916667 | J3: 0.30208333 | M3: 0.72916667 | N3: 0.32291667 | Q3: 0.63541667 | R3: 0.54166667 | U3: 0.75 | V3: =(C3-B3)+(E3-D3)+(G3-F3)+(I3-H3)+(K3-J3)+(M3-L3)+(O3-N3)+(Q3-P3)+(S3-R3)+(U3-T3) -> 1.3541667 | W3: 1.1666667 | X3: =V3-W3 -> 0.1875 | Y3: =SUM(#REF!)+(#REF!)+(#REF!)+(#REF!)+(#REF!)+('s7'!X3)+('s8'!X3)+('s9'!X3)+('s10'!X3)+('s11'!X3)+('s12'!X3)+('s13'!X3)+('s14'!X3) -> #REF!
C4: FERIE | G4: pom dapi 2 | L4: pom dapi 2 | O4: pom dapi 2 | T4: pom dapi 2
A5: melina | F5: 0.35416667 | I5: 0.72916667 | N5: 0.35416667 | Q5: 0.72916667 | R5: 0.36458333 | S5: 0.54166667 | T5: 0.57291667 | U5: 0.72916667 | V5: =(C5-B5)+(E5-D5)+(G5-F5)+(I5-H5)+(K5-J5)+(M5-L5)+(O5-N5)+(Q5-P5)+(S5-R5)+(U5-T5) -> 1.0833333 | W5: 0.9375 | X5: =V5-W5 -> 0.14583333 | Y5: =SUM(#REF!)+(#REF!)+(#REF!)+(#REF!)+(#REF!)+('s7'!X5)+('s8'!X5)+('s9'!X5)+('s10'!X5)+('s11'!X5)+('s12'!X5)+('s13'!X5)+('s14'!X5) -> #REF!
C6: FERIE | G6: pom dapi 2 | O6: pom dapi 2
A7: laurine | J7: 0.32291667 | M7: 0.72916667 | T7: 0.54166667 | U7: 0.72916667 | V7: =(C7-B7)+(E7-D7)+(G7-F7)+(I7-H7)+(K7-J7)+(M7-L7)+(O7-N7)+(Q7-P7)+(S7-R7)+(U7-T7) -> 0.59375 | W7: 0.79166667 | X7: =V7-W7 -> -0.19791667 | Y7: =SUM(#REF!)+(#REF!)+(#REF!)+(#REF!)+('s7'!X7)+('s8'!X7)+('s9'!X7)+('s10'!X7)+('s11'!X7)+('s12'!X7)+('s13'!X7)+('s14'!X7) -> #REF!
C8: FERIE | G8: pom dapi 1 | O8: pom dapi 1 | S8: pom dapi 1
A9: heloise | N9: 0.375 | Q9: 0.69791667 | R9: 0.375 | S9: 0.54166667 | T9: 0.57291667 | U9: 0.69791667 | V9: =(C9-B9)+(E9-D9)+(G9-F9)+(I9-H9)+(K9-J9)+(M9-L9)+(O9-N9)+(Q9-P9)+(S9-R9)+(U9-T9) -> 0.61458333 | W9: 0.9375 | X9: =V9-W9 -> -0.32291667
C10: FERIE | K10: pom dapi 2 | P10: pom dapi 2 | S10: pom dapi 2
A11: jenny | F11: 0.32291667 | I11: 0.72916667 | J11: 0.375 | M11: 0.6875 | N11: 0.32291667 | O11: 0.625 | P11: 0.625 | Q11: 0.73958333 | R11: 0.32291667 | S11: 0.54166667 | T11: 0.58333333 | U11: 0.72916667
C12: FERIE | G12: pom dapi 3
A13: EVA | P13: 0.54166667 | Q13: 0.72916667 | R13: 0.32291667 | S13: 0.58333333
R14: horaires verifies
C20: REPOS
C22: ABSENT
C24: ECOLE

Sheet s15
A1: S | B1: lundi 8 avril | F1: mardi 9 avril | J1: mercredi 10 avril | N1: jeudi 11 avril | R1: vendredi 12 avril | V1: TOTAL
A2: janvier | B2: arrivee | C2: coupure | D2: reprise | E2: depart | F2: arrivee | G2: coupure | H2: reprise | I2: depart | J2: arrivee | K2: coupure | L2: reprise | M2: depart | N2: arrivee | O2: coupure | P2: reprise | Q2: depart | R2: arrivee | S2: coupure | T2: reprise | U2: depart
A3: sarah | B3: 0.33333333 | E3: 0.73958333 | F3: 0.32291667 | G3: 0.54166667 | J3: 0.30208333 | M3: 0.73958333 | N3: 0.33333333 | Q3: 0.73958333 | R3: 0.53125 | U3: 0.73958333 | V3: =(C3-B3)+(E3-D3)+(G3-F3)+(I3-H3)+(K3-J3)+(M3-L3)+(O3-N3)+(Q3-P3)+(S3-R3)+(U3-T3) -> 1.6770833 | W3: 1.4583333 | X3: =V3-W3 -> 0.21875 | Y3: =SUM(#REF!)+(#REF!)+(#REF!)+(#REF!)+(#REF!)+('s7'!X3)+('s8'!X3)+('s9'!X3)+('s10'!X3)+('s11'!X3)+('s12'!X3)+('s13'!X3)+('s14'!X3)+('s15'!X3) -> #REF! | AA3: sarah
C4: pom dapi 2 | G4: pom dapi 2 | K4: pom dapi 3 | O4: pom dapi 2 | S4: pom dapi 2
A5: melina | B5: 0.375 | E5: 0.70833333 | F5: 0.33333333 | G5: 0.53125 | H5: 0.5625 | I5: 0.70833333 | N5: 0.36458333 | Q5: 0.72916667 | R5: 0.375 | S5: 0.53125 | T5: 0.5625 | U5: 0.70833333 | V5: =(C5-B5)+(E5-D5)+(G5-F5)+(I5-H5)+(K5-J5)+(M5-L5)+(O5-N5)+(Q5-P5)+(S5-R5)+(U5-T5) -> 1.34375 | W5: 1.1666667 | X5: =V5-W5 -> 0.17708333 | Y5: =SUM(#REF!)+(#REF!)+(#REF!)+(#REF!)+(#REF!)+('s7'!X5)+('s8'!X5)+('s9'!X5)+('s10'!X5)+('s11'!X5)+('s12'!X5)+('s13'!X5)+('s14'!X5)+('s15'!X5) -> #REF! | AA5: melina
C6: pom dapi 2 | G6: pom dapi 2 | O6: pom dapi 2 | S6: pom dapi 2
A7: laurine | B7: 0.35416667 | C7: 0.54166667 | F7: 0.45833333 | I7: 0.71875 | J7: 0.33333333 | K7: 0.54166667 | N7: 0.45833333 | Q7: 0.72916667 | R7: 0.45833333 | U7: 0.71875 | V7: =(C7-B7)+(E7-D7)+(G7-F7)+(I7-H7)+(K7-J7)+(M7-L7)+(O7-N7)+(Q7-P7)+(S7-R7)+(U7-T7) -> 1.1875 | W7: 1 | X7: =V7-W7 -> 0.1875 | Y7: =SUM(#REF!)+(#REF!)+(#REF!)+(#REF!)+('s7'!X7)+('s8'!X7)+('s9'!X7)+('s10'!X7)+('s11'!X7)+('s12'!X7)+('s13'!X7)+('s14'!X7)+('s15'!X7) -> #REF! | AA7: laurine
C8: pom dapi 1 | G8: pom dapi 1 | K8: pom dapi 3 | O8: pom dapi 1 | S8: pom dapi 1
A9: heloise | B9: 0.35416667 | E9: 0.69791667 | H9: 0.53125 | I9: 0.73958333 | L9: 0.54166667 | M9: 0.70833333 | N9: 0.36458333 | Q9: 0.70833333 | R9: 0.35416667 | U9: 0.5625 | V9: =(C9-B9)+(E9-D9)+(G9-F9)+(I9-H9)+(K9-J9)+(M9-L9)+(O9-N9)+(Q9-P9)+(S9-R9)+(U9-T9) -> 1.2708333 | W9: 1.1666667 | X9: =V9-W9 -> 0.10416667 | Y9: =SUM('s14'!X9)+('s15'!X9) -> -0.21875 | AA9: heloise
C10: pom dapi 3 | G10: pom dapi 2 | O10: pom dapi 3 | S10: pom dapi 2
A11: jenny | B11: 0.32291667 | E11: 0.72916667 | F11: 0.375 | I11: 0.73958333 | N11: 0.32291667 | Q11: 0.72916667 | R11: 0.32291667 | U11: 0.73958333
C12: pom dapi 3 | G12: pom dapi 2 | K12: repos
A13: EVA
F14: horaires verifies
C20: REPOS
C22: ABSENT
C24: ECOLE

Sheet s16
A1: S | B1: lundi 15 avril | F1: mardi 16 avril | J1: mercredi 17 avril | N1: jeudi 18 avril | R1: vendredi 19 avril | V1: TOTAL
A2: janvier | B2: arrivee | C2: coupure | D2: reprise | E2: depart | F2: arrivee | G2: coupure | H2: reprise | I2: depart | J2: arrivee | K2: coupure | L2: reprise | M2: depart | N2: arrivee | O2: coupure | P2: reprise | Q2: depart | R2: arrivee | S2: coupure | T2: reprise | U2: depart
A3: sarah | B3: 0.33333333 | E3: 0.72916667 | F3: 0.32291667 | I3: 0.57291667 | J3: 0.32291667 | M3: 0.72916667 | V3: =(C3-B3)+(E3-D3)+(G3-F3)+(I3-H3)+(K3-J3)+(M3-L3)+(O3-N3)+(Q3-P3)+(S3-R3)+(U3-T3) -> 1.0520833 | W3: 0.875 | X3: =V3-W3 -> 0.17708333 | Y3: =SUM(#REF!)+(#REF!)+(#REF!)+(#REF!)+(#REF!)+('s7'!X3)+('s8'!X3)+('s9'!X3)+('s10'!X3)+('s11'!X3)+('s12'!X3)+('s13'!X3)+('s14'!X3)+('s15'!X3)+('s16'!X3) -> #REF! | AA3: sarah
O4: arret maladie | S4: arret maladie
A5: melina | B5: 0.375 | E5: 0.70833333 | F5: 0.34375 | G5: 0.54166667 | H5: 0.57291667 | I5: 0.6875 | N5: 0.36458333 | Q5: 0.70833333 | R5: 0.375 | S5: 0.53125 | T5: 0.5625 | U5: 0.70833333 | V5: =(C5-B5)+(E5-D5)+(G5-F5)+(I5-H5)+(K5-J5)+(M5-L5)+(O5-N5)+(Q5-P5)+(S5-R5)+(U5-T5) -> 1.2916667 | W5: 1.1666667 | X5: =V5-W5 -> 0.125 | Y5: =SUM(#REF!)+(#REF!)+(#REF!)+(#REF!)+(#REF!)+('s7'!X5)+('s8'!X5)+('s9'!X5)+('s10'!X5)+('s11'!X5)+('s12'!X5)+('s13'!X5)+('s14'!X5)+('s15'!X5)+('s16'!X5) -> #REF! | AA5: melina
A7: laurine | H7: 0.54166667 | I7: 0.71875 | J7: 0.38541667 | M7: 0.72916667 | P7: 0.54166667 | Q7: 0.73958333 | T7: 0.53125 | U7: 0.72916667 | V7: =(C7-B7)+(E7-D7)+(G7-F7)+(I7-H7)+(K7-J7)+(M7-L7)+(O7-N7)+(Q7-P7)+(S7-R7)+(U7-T7) -> 0.91666667 | W7: 1 | X7: =V7-W7 -> -0.083333333 | Y7: =SUM(#REF!)+(#REF!)+(#REF!)+(#REF!)+('s7'!X7)+('s8'!X7)+('s9'!X7)+('s10'!X7)+('s11'!X7)+('s12'!X7)+('s13'!X7)+('s14'!X7)+('s15'!X7)+('s16'!X7) -> #REF! | AA7: laurine
G8: pom dapi 1 | K8: pom dapi 3 | O8: pom dapi 3 | S8: pom dapi 2
A9: heloise | B9: 0.33333333 | E9: 0.71875 | F9: 0.54166667 | I9: 0.72916667 | L9: 0.54166667 | M9: 0.6875 | N9: 0.35416667 | Q9: 0.54166667 | R9: 0.35416667 | U9: 0.5625 | V9: =(C9-B9)+(E9-D9)+(G9-F9)+(I9-H9)+(K9-J9)+(M9-L9)+(O9-N9)+(Q9-P9)+(S9-R9)+(U9-T9) -> 1.1145833 | W9: 1.1666667 | X9: =V9-W9 -> -0.052083333 | Y9: =SUM('s14'!X9)+('s15'!X9)+ ('s16'!X9) -> -0.27083333 | AA9: heloise
O10: pom dapi 3 | S10: pom dapi 2
A11: EVA | S11: horaires verifies
C13: REPOS
C15: ABSENT
C17: ECOLE

Sheet s17
A1: S | B1: lundi 22 avril | F1: mardi 23 avril | J1: mercredi 24 avril | N1: jeudi 25 avril | R1: vendredi 26 avril | V1: TOTAL
A2: janvier | B2: arrivee | C2: coupure | D2: reprise | E2: depart | F2: arrivee | G2: coupure | H2: reprise | I2: depart | J2: arrivee | K2: coupure | L2: reprise | M2: depart | N2: arrivee | O2: coupure | P2: reprise | Q2: depart | R2: arrivee | S2: coupure | T2: reprise | U2: depart
A3: sarah | V3: =(C3-B3)+(E3-D3)+(G3-F3)+(I3-H3)+(K3-J3)+(M3-L3)+(O3-N3)+(Q3-P3)+(S3-R3)+(U3-T3) -> 0 | W3: 0 | X3: =V3-W3 -> 0 | Y3: =SUM(#REF!)+(#REF!)+(#REF!)+(#REF!)+(#REF!)+('s7'!X3)+('s8'!X3)+('s9'!X3)+('s10'!X3)+('s11'!X3)+('s12'!X3)+('s13'!X3)+('s14'!X3)+('s15'!X3)+('s16'!X3)+('s17'!X3) -> #REF! | AA3: sarah
C4: arret | F4: arret | K4: arret | P4: arret | S4: arret
A5: melina | V5: =(C5-B5)+(E5-D5)+(G5-F5)+(I5-H5)+(K5-J5)+(M5-L5)+(O5-N5)+(Q5-P5)+(S5-R5)+(U5-T5) -> 0 | W5: 0 | X5: =V5-W5 -> 0 | Y5: =SUM(#REF!)+(#REF!)+(#REF!)+(#REF!)+(#REF!)+('s7'!X5)+('s8'!X5)+('s9'!X5)+('s10'!X5)+('s11'!X5)+('s12'!X5)+('s13'!X5)+('s14'!X5)+('s15'!X5)+('s16'!X5)+('s17'!X5) -> #REF! | AA5: melina
C6: conge | G6: conge | N6: conge | S6: conge
A7: laurine | B7: 0.32291667 | E7: 0.4375 | F7: 0.33333333 | I7: 0.72916667 | N7: 0.33333333 | Q7: 0.70833333 | R7: 0.375 | S7: 0.54166667 | T7: 0.57291667 | U7: 0.70833333 | V7: =(C7-B7)+(E7-D7)+(G7-F7)+(I7-H7)+(K7-J7)+(M7-L7)+(O7-N7)+(Q7-P7)+(S7-R7)+(U7-T7) -> 1.1875 | W7: 1 | X7: =V7-W7 -> 0.1875 | Y7: =SUM(#REF!)+(#REF!)+(#REF!)+(#REF!)+('s7'!X7)+('s8'!X7)+('s9'!X7)+('s10'!X7)+('s11'!X7)+('s12'!X7)+('s13'!X7)+('s14'!X7)+('s15'!X7)+('s16'!X7)+('s17'!X7) -> #REF! | AA7: laurine
B8: pa1 | F8: pa1 | K8: repos | O8: pom dapi 1 | S8: pom dapi 3
A9: heloise | R9: 0.35416667 | S9: 0.54166667 | T9: 0.57291667 | U9: 0.72916667 | V9: =(C9-B9)+(E9-D9)+(G9-F9)+(I9-H9)+(K9-J9)+(M9-L9)+(O9-N9)+(Q9-P9)+(S9-R9)+(U9-T9) -> 0.34375 | W9: 1.1666667 | X9: =V9-W9 -> -0.82291667 | Y9: =SUM('s14'!X9)+('s15'!X9)+('s16'!X9)+('s17'!X9) -> -1.09375 | AA9: heloise
C10: repos | G10: repos | K10: repos | O10: repos | S10: 3
A11: EVA | S11: horaires verifies
C13: REPOS
C15: ABSENT
C17: ECOLE

Sheet s18
A1: S | B1: lundi 29 avril | F1: mardi 30 avril | J1: mercredi 1 mai | N1: jeudi 2 mai | R1: vendredi 3 mai | V1: TOTAL
A2: janvier | B2: arrivee | C2: coupure | D2: reprise | E2: depart | F2: arrivee | G2: coupure | H2: reprise | I2: depart | J2: arrivee | K2: coupure | L2: reprise | M2: depart | N2: arrivee | O2: coupure | P2: reprise | Q2: depart | R2: arrivee | S2: coupure | T2: reprise | U2: depart
A3: sarah | V3: =(C3-B3)+(E3-D3)+(G3-F3)+(I3-H3)+(K3-J3)+(M3-L3)+(O3-N3)+(Q3-P3)+(S3-R3)+(U3-T3) -> 0 | W3: 0 | X3: =V3-W3 -> 0 | Y3: =SUM(#REF!)+(#REF!)+(#REF!)+(#REF!)+(#REF!)+('s7'!X3)+('s8'!X3)+('s9'!X3)+('s10'!X3)+('s11'!X3)+('s12'!X3)+('s13'!X3)+('s14'!X3)+('s15'!X3)+('s16'!X3)+('s17'!X3)+('s18'!X3) -> #REF! | AA3: sarah
C4: arret | G4: arret | L4: arret | P4: arret | T4: arret
A5: melina | N5: 0.36458333 | Q5: 0.70833333 | R5: 0.33333333 | U5: 0.70833333 | V5: =(C5-B5)+(E5-D5)+(G5-F5)+(I5-H5)+(K5-J5)+(M5-L5)+(O5-N5)+(Q5-P5)+(S5-R5)+(U5-T5) -> 0.71875 | W5: 1.1666667 | X5: =V5-W5 -> -0.44791667 | Y5: =SUM(#REF!)+(#REF!)+(#REF!)+(#REF!)+(#REF!)+('s7'!X5)+('s8'!X5)+('s9'!X5)+('s10'!X5)+('s11'!X5)+('s12'!X5)+('s13'!X5)+('s14'!X5)+('s15'!X5)+('s16'!X5)+('s17'!X5)+('s18'!X5) -> #REF! | AA5: melina
G6: repos
A7: laurine | B7: 0.35416667 | E7: 0.72916667 | F7: 0.54166667 | I7: 0.71875 | V7: =(C7-B7)+(E7-D7)+(G7-F7)+(I7-H7)+(K7-J7)+(M7-L7)+(O7-N7)+(Q7-P7)+(S7-R7)+(U7-T7) -> 0.55208333 | W7: 0.79166667 | X7: =V7-W7 -> -0.23958333 | Y7: =SUM(#REF!)+(#REF!)+(#REF!)+(#REF!)+('s7'!X7)+('s8'!X7)+('s9'!X7)+('s10'!X7)+('s11'!X7)+('s12'!X7)+('s13'!X7)+('s14'!X7)+('s15'!X7)+('s16'!X7)+('s17'!X7)+('s18'!X7) -> #REF! | AA7: laurine
K8: ferie | O8: repos | S8: repos
A9: heloise | V9: =(C9-B9)+(E9-D9)+(G9-F9)+(I9-H9)+(K9-J9)+(M9-L9)+(O9-N9)+(Q9-P9)+(S9-R9)+(U9-T9) -> 0 | W9: 0.9375 | X9: =V9-W9 -> -0.9375 | Y9: =SUM('s14'!X9)+('s15'!X9)+('s16'!X9)+('s17'!X9)+('s18'!X9) -> -2.03125 | AA9: heloise
C10: repos | G10: repos | O10: repos | S10: repos
A11: EVA | S11: horaires verifies
C13: REPOS
C15: ABSENT
C17: ECOLE

Sheet s19
A1: S | B1: lundi 6 mai | F1: mardi 7 mai | J1: mercredi 8 mai | N1: jeudi 9 mai | R1: vendredi 10 mai | V1: TOTAL
A2: janvier | B2: arrivee | C2: coupure | D2: reprise | E2: depart | F2: arrivee | G2: coupure | H2: reprise | I2: depart | J2: arrivee | K2: coupure | L2: reprise | M2: depart | N2: arrivee | O2: coupure | P2: reprise | Q2: depart | R2: arrivee | S2: coupure | T2: reprise | U2: depart
A3: sarah | V3: =(C3-B3)+(E3-D3)+(G3-F3)+(I3-H3)+(K3-J3)+(M3-L3)+(O3-N3)+(Q3-P3)+(S3-R3)+(U3-T3) -> 0 | W3: 0 | X3: =V3-W3 -> 0 | Y3: =SUM(#REF!)+(#REF!)+(#REF!)+(#REF!)+(#REF!)+('s7'!X3)+('s8'!X3)+('s9'!X3)+('s10'!X3)+('s11'!X3)+('s12'!X3)+('s13'!X3)+('s14'!X3)+('s15'!X3)+('s16'!X3)+('s17'!X3)+('s18'!X3)+('s19'!X3) -> #REF! | AA3: sarah
A5: melina | B5: 0.375 | E5: 0.70833333 | F5: 0.33333333 | G5: 0.51041667 | H5: 0.54166667 | I5: 0.72916667 | V5: =(C5-B5)+(E5-D5)+(G5-F5)+(I5-H5)+(K5-J5)+(M5-L5)+(O5-N5)+(Q5-P5)+(S5-R5)+(U5-T5) -> 0.69791667 | W5: 0.58333333 | X5: =V5-W5 -> 0.11458333 | Y5: =SUM(#REF!)+(#REF!)+(#REF!)+(#REF!)+(#REF!)+('s7'!X5)+('s8'!X5)+('s9'!X5)+('s10'!X5)+('s11'!X5)+('s12'!X5)+('s13'!X5)+('s14'!X5)+('s15'!X5)+('s16'!X5)+('s17'!X5)+('s18'!X5)+('s19'!X5) -> #REF! | AA5: melina
K6: FERIE | O6: FERIE | S6: FERME
A7: laurine | F7: 0.375 | G7: 0.54166667 | H7: 0.57291667 | I7: 0.70833333 | V7: =(C7-B7)+(E7-D7)+(G7-F7)+(I7-H7)+(K7-J7)+(M7-L7)+(O7-N7)+(Q7-P7)+(S7-R7)+(U7-T7) -> 0.30208333 | W7: 0.39583333 | X7: =V7-W7 -> -0.09375 | Y7: =SUM(#REF!)+(#REF!)+(#REF!)+(#REF!)+('s7'!X7)+('s8'!X7)+('s9'!X7)+('s10'!X7)+('s11'!X7)+('s12'!X7)+('s13'!X7)+('s14'!X7)+('s15'!X7)+('s16'!X7)+('s17'!X7)+('s18'!X7)+('s19'!X7) -> #REF! | AA7: laurine
A9: heloise | B9: 0.33333333 | E9: 0.69791667 | F9: 0.45833333 | G9: 0.55208333 | H9: 0.58333333 | I9: 0.70833333 | V9: =(C9-B9)+(E9-D9)+(G9-F9)+(I9-H9)+(K9-J9)+(M9-L9)+(O9-N9)+(Q9-P9)+(S9-R9)+(U9-T9) -> 0.58333333 | W9: 0.45833333 | X9: =V9-W9 -> 0.125 | Y9: =SUM('s14'!X9)+('s15'!X9)+('s16'!X9)+('s17'!X9)+('s18'!X9)+('s19'!X9) -> -1.90625 | AA9: heloise
A11: EVA | G11: manque depart heloise mardi
C13: REPOS
C15: ABSENT
C17: ECOLE

Sheet s20
A1: S | B1: lundi 13 mai | F1: mardi 14 mai | J1: mercredi 15 mai | N1: jeudi 16 mai | R1: vendredi 17 mai | V1: TOTAL
A2: janvier | B2: arrivee | C2: coupure | D2: reprise | E2: depart | F2: arrivee | G2: coupure | H2: reprise | I2: depart | J2: arrivee | K2: coupure | L2: reprise | M2: depart | N2: arrivee | O2: coupure | P2: reprise | Q2: depart | R2: arrivee | S2: coupure | T2: reprise | U2: depart
A3: sarah | V3: =(C3-B3)+(E3-D3)+(G3-F3)+(I3-H3)+(K3-J3)+(M3-L3)+(O3-N3)+(Q3-P3)+(S3-R3)+(U3-T3) -> 0 | W3: 0 | X3: =V3-W3 -> 0 | Y3: =SUM(#REF!)+(#REF!)+(#REF!)+(#REF!)+(#REF!)+('s7'!X3)+('s8'!X3)+('s9'!X3)+('s10'!X3)+('s11'!X3)+('s12'!X3)+('s13'!X3)+('s14'!X3)+('s15'!X3)+('s16'!X3)+('s17'!X3)+('s18'!X3)+('s19'!X3)+('s20'!X3) -> #REF! | AA3: sarah
C4: arret
A5: melina | B5: 0.375 | E5: 0.70833333 | V5: =(C5-B5)+(E5-D5)+(G5-F5)+(I5-H5)+(K5-J5)+(M5-L5)+(O5-N5)+(Q5-P5)+(S5-R5)+(U5-T5) -> 0.33333333 | W5: 0.25 | X5: =V5-W5 -> 0.083333333 | Y5: =SUM(#REF!)+(#REF!)+(#REF!)+(#REF!)+(#REF!)+('s7'!X5)+('s8'!X5)+('s9'!X5)+('s10'!X5)+('s11'!X5)+('s12'!X5)+('s13'!X5)+('s14'!X5)+('s15'!X5)+('s16'!X5)+('s17'!X5)+('s18'!X5)+('s19'!X5)+('s20'!X5) -> #REF! | AA5: melina
G6: ARRET | O6: ARRET | S6: arret
A7: laurine | B7: 0.35416667 | E7: 0.69791667 | F7: 0.39583333 | G7: 0.54166667 | H7: 0.57291667 | I7: 0.69791667 | J7: 0.32291667 | M7: 0.72916667 | N7: 0.36458333 | Q7: 0.72916667 | R7: 0.35416667 | U7: 0.6875 | V7: =(C7-B7)+(E7-D7)+(G7-F7)+(I7-H7)+(K7-J7)+(M7-L7)+(O7-N7)+(Q7-P7)+(S7-R7)+(U7-T7) -> 1.71875 | W7: 1 | X7: =V7-W7 -> 0.71875 | Y7: =SUM(#REF!)+(#REF!)+(#REF!)+(#REF!)+('s7'!X7)+('s8'!X7)+('s9'!X7)+('s10'!X7)+('s11'!X7)+('s12'!X7)+('s13'!X7)+('s14'!X7)+('s15'!X7)+('s16'!X7)+('s17'!X7)+('s18'!X7)+('s19'!X7)+('s20'!X7) -> #REF! | AA7: laurine
Q8: a verifier
A9: heloise | B9: 0.32291667 | E9: 0.72916667 | F9: 0.375 | G9: 0.54166667 | H9: 0.57291667 | I9: 0.72916667 | J9: 0.54166667 | M9: 0.69791667 | N9: 0.35416667 | Q9: 0.72916667 | R9: 0.375 | S9: 0.54166667 | T9: 0.57291667 | U9: 0.66666667 | V9: =(C9-B9)+(E9-D9)+(G9-F9)+(I9-H9)+(K9-J9)+(M9-L9)+(O9-N9)+(Q9-P9)+(S9-R9)+(U9-T9) -> 1.5208333 | W9: 1.1666667 | X9: =V9-W9 -> 0.35416667 | Y9: =SUM('s14'!X9)+('s15'!X9)+('s16'!X9)+('s17'!X9)+('s18'!X9)+('s19'!X9)+('s20'!X9) -> -1.5520833 | AA9: heloise
A11: EVA | B11: 0.33333333 | D11: 0.73958333 | K11: horaires verifies | N11: 0.33333333 | P11: 0.73958333
C12: 2 | G12: horaires verifies | O12: 2
C13: REPOS
C15: ABSENT
C17: ECOLE

Sheet s21
A1: S | B1: lundi 20 mai | F1: mardi 21 mai | J1: mercredi 22 mai | N1: jeudi 23 mai | R1: vendredi 24 mai | V1: TOTAL
A2: janvier | B2: arrivee | C2: coupure | D2: reprise | E2: depart | F2: arrivee | G2: coupure | H2: reprise | I2: depart | J2: arrivee | K2: coupure | L2: reprise | M2: depart | N2: arrivee | O2: coupure | P2: reprise | Q2: depart | R2: arrivee | S2: coupure | T2: reprise | U2: depart
A3: sarah | V3: =(C3-B3)+(E3-D3)+(G3-F3)+(I3-H3)+(K3-J3)+(M3-L3)+(O3-N3)+(Q3-P3)+(S3-R3)+(U3-T3) -> 0 | W3: 0 | X3: =V3-W3 -> 0 | Y3: =SUM(#REF!)+(#REF!)+(#REF!)+(#REF!)+(#REF!)+('s7'!X3)+('s8'!X3)+('s9'!X3)+('s10'!X3)+('s11'!X3)+('s12'!X3)+('s13'!X3)+('s14'!X3)+('s15'!X3)+('s16'!X3)+('s17'!X3)+('s18'!X3)+('s19'!X3)+('s20'!X3)+('s21'!X3) -> #REF! | AA3: sarah
C4: ferie | G4: arret | O4: 3 | S4: 2
A5: melina | F5: 0.36458333 | G5: 0.54166667 | H5: 0.57291667 | I5: 0.70833333 | N5: 0.36458333 | Q5: 0.70833333 | R5: 0.36458333 | U5: 0.72916667 | V5: =(C5-B5)+(E5-D5)+(G5-F5)+(I5-H5)+(K5-J5)+(M5-L5)+(O5-N5)+(Q5-P5)+(S5-R5)+(U5-T5) -> 1.0208333 | W5: 0.83333333 | X5: =V5-W5 -> 0.1875 | Y5: =SUM(#REF!)+(#REF!)+(#REF!)+(#REF!)+(#REF!)+('s7'!X5)+('s8'!X5)+('s9'!X5)+('s10'!X5)+('s11'!X5)+('s12'!X5)+('s13'!X5)+('s14'!X5)+('s15'!X5)+('s16'!X5)+('s17'!X5)+('s18'!X5)+('s19'!X5)+('s20'!X5)+('s21'!X5) -> #REF! | AA5: melina
C6: ferie
A7: laurine | J7: 0.3125 | M7: 0.72916667 | N7: 0.39583333 | Q7: 0.71875 | V7: =(C7-B7)+(E7-D7)+(G7-F7)+(I7-H7)+(K7-J7)+(M7-L7)+(O7-N7)+(Q7-P7)+(S7-R7)+(U7-T7) -> 0.73958333 | W7: 1 | X7: =V7-W7 -> -0.26041667 | Y7: =SUM(#REF!)+(#REF!)+(#REF!)+(#REF!)+('s7'!X7)+('s8'!X7)+('s9'!X7)+('s10'!X7)+('s11'!X7)+('s12'!X7)+('s13'!X7)+('s14'!X7)+('s15'!X7)+('s16'!X7)+('s17'!X7)+('s18'!X7)+('s19'!X7)+('s20'!X7)+('s21'!X7) -> #REF! | AA7: laurine
C8: ferie
A9: heloise | F9: 0.33333333 | G9: 0.54166667 | H9: 0.57291667 | I9: 0.72916667 | J9: 0.54166667 | M9: 0.6875 | N9: 0.35416667 | Q9: 0.72916667 | R9: 0.375 | U9: 0.70833333 | V9: =(C9-B9)+(E9-D9)+(G9-F9)+(I9-H9)+(K9-J9)+(M9-L9)+(O9-N9)+(Q9-P9)+(S9-R9)+(U9-T9) -> 1.21875 | W9: 0.92708333 | X9: =V9-W9 -> 0.29166667 | Y9: =SUM('s14'!X9)+('s15'!X9)+('s16'!X9)+('s17'!X9)+('s18'!X9)+('s19'!X9)+('s20'!X9)+('s21'!X9) -> -1.2604167 | AA9: heloise
C10: ferie
A11: EVA | S11: horaires verifies
C13: REPOS
C15: ABSENT
C17: ECOLE

Sheet s22
A1: S | B1: lundi 27mai | F1: mardi 28 mai | J1: mercredi 29mai | N1: jeudi 30 mai | R1: vendredi 31 mai | V1: TOTAL
A2: janvier | B2: arrivee | C2: coupure | D2: reprise | E2: depart | F2: arrivee | G2: coupure | H2: reprise | I2: depart | J2: arrivee | K2: coupure | L2: reprise | M2: depart | N2: arrivee | O2: coupure | P2: reprise | Q2: depart | R2: arrivee | S2: coupure | T2: reprise | U2: depart
A3: sarah | V3: =(C3-B3)+(E3-D3)+(G3-F3)+(I3-H3)+(K3-J3)+(M3-L3)+(O3-N3)+(Q3-P3)+(S3-R3)+(U3-T3) -> 0 | W3: 0 | X3: =V3-W3 -> 0 | Y3: =SUM(#REF!)+(#REF!)+(#REF!)+(#REF!)+(#REF!)+('s7'!X3)+('s8'!X3)+('s9'!X3)+('s10'!X3)+('s11'!X3)+('s12'!X3)+('s13'!X3)+('s14'!X3)+('s15'!X3)+('s16'!X3)+('s17'!X3)+('s18'!X3)+('s19'!X3)+('s20'!X3)+('s21'!X3)+('s22'!X3) -> #REF! | AA3: sarah
A5: melina | B5: 0.375 | E5: 0.70833333 | F5: 0.35416667 | I5: 0.72916667 | N5: 0.36458333 | Q5: 0.70833333 | R5: 0.33541667 | U5: 0.72916667 | V5: =(C5-B5)+(E5-D5)+(G5-F5)+(I5-H5)+(K5-J5)+(M5-L5)+(O5-N5)+(Q5-P5)+(S5-R5)+(U5-T5) -> 1.4458333 | W5: 1.125 | X5: =V5-W5 -> 0.32083333 | Y5: =SUM(#REF!)+(#REF!)+(#REF!)+(#REF!)+(#REF!)+('s7'!X5)+('s8'!X5)+('s9'!X5)+('s10'!X5)+('s11'!X5)+('s12'!X5)+('s13'!X5)+('s14'!X5)+('s15'!X5)+('s16'!X5)+('s17'!X5)+('s18'!X5)+('s19'!X5)+('s20'!X5)+('s21'!X5)+('s22'!X5) -> #REF! | AA5: melina
I6: hidaya | R6: RETARD
A7: laurine | B7: 0.33333333 | C7: 0.54166667 | D7: 0.57291667 | E7: 0.6875 | F7: 0.39583333 | I7: 0.55208333 | J7: 0.32291667 | M7: 0.375 | N7: 0.39583333 | Q7: 0.54166667 | R7: 0.375 | U7: 0.72916667 | V7: =(C7-B7)+(E7-D7)+(G7-F7)+(I7-H7)+(K7-J7)+(M7-L7)+(O7-N7)+(Q7-P7)+(S7-R7)+(U7-T7) -> 1.03125 | W7: 1 | X7: =V7-W7 -> 0.03125 | Y7: =SUM(#REF!)+(#REF!)+(#REF!)+(#REF!)+('s7'!X7)+('s8'!X7)+('s9'!X7)+('s10'!X7)+('s11'!X7)+('s12'!X7)+('s13'!X7)+('s14'!X7)+('s15'!X7)+('s16'!X7)+('s17'!X7)+('s18'!X7)+('s19'!X7)+('s20'!X7)+('s21'!X7)+('s22'!X7) -> #REF! | AA7: laurine
L8: reparti car malade...
A9: heloise | B9: 0.32291667 | E9: 0.72916667 | F9: 0.33333333 | I9: 0.73958333 | J9: 0.36458333 | M9: 0.55208333 | N9: 0.32291667 | Q9: 0.72916667 | V9: =(C9-B9)+(E9-D9)+(G9-F9)+(I9-H9)+(K9-J9)+(M9-L9)+(O9-N9)+(Q9-P9)+(S9-R9)+(U9-T9) -> 1.40625 | W9: 1.1666667 | X9: =V9-W9 -> 0.23958333 | Y9: =SUM('s14'!X9)+('s15'!X9)+('s16'!X9)+('s17'!X9)+('s18'!X9)+('s19'!X9)+('s20'!X9)+('s21'!X9)+('s22'!X9) -> -1.0208333 | AA9: heloise
A11: EVA | J11: 0.54166667 | M11: 0.70833333
C13: REPOS
C15: ABSENT
C17: ECOLE

Sheet s23
A1: S | B1: lundi 3 juin | F1: mardi 4 juin | J1: mercredi 5 juin | N1: jeudi 6 juin | R1: vendredi 7 juin | V1: TOTAL
A2: janvier | B2: arrivee | C2: coupure | D2: reprise | E2: depart | F2: arrivee | G2: coupure | H2: reprise | I2: depart | J2: arrivee | K2: coupure | L2: reprise | M2: depart | N2: arrivee | O2: coupure | P2: reprise | Q2: depart | R2: arrivee | S2: coupure | T2: reprise | U2: depart
A3: sarah | V3: =(C3-B3)+(E3-D3)+(G3-F3)+(I3-H3)+(K3-J3)+(M3-L3)+(O3-N3)+(Q3-P3)+(S3-R3)+(U3-T3) -> 0 | W3: 0 | X3: =V3-W3 -> 0 | Y3: =SUM(#REF!)+(#REF!)+(#REF!)+(#REF!)+(#REF!)+('s7'!X3)+('s8'!X3)+('s9'!X3)+('s10'!X3)+('s11'!X3)+('s12'!X3)+('s13'!X3)+('s14'!X3)+('s15'!X3)+('s16'!X3)+('s17'!X3)+('s18'!X3)+('s19'!X3)+('s20'!X3)+('s21'!X3)+('s22'!X3)+('s23'!X3) -> #REF! | AA3: sarah
A5: melina | B5: 0.32847222 | E5: 0.72916667 | F5: 0.36458333 | I5: 0.72916667 | N5: 0.36944444 | Q5: 0.72916667 | R5: 0.36458333 | U5: 0.70833333 | V5: =(C5-B5)+(E5-D5)+(G5-F5)+(I5-H5)+(K5-J5)+(M5-L5)+(O5-N5)+(Q5-P5)+(S5-R5)+(U5-T5) -> 1.46875 | W5: 1.125 | X5: =V5-W5 -> 0.34375 | Y5: =SUM(#REF!)+(#REF!)+(#REF!)+(#REF!)+(#REF!)+('s7'!X5)+('s8'!X5)+('s9'!X5)+('s10'!X5)+('s11'!X5)+('s12'!X5)+('s13'!X5)+('s14'!X5)+('s15'!X5)+('s16'!X5)+('s17'!X5)+('s18'!X5)+('s19'!X5)+('s20'!X5)+('s21'!X5)+('s22'!X5)+('s23'!X5) -> #REF! | AA5: melina
B6: RETARD | N6: RETARD
A7: laurine | F7: 0.32291667 | I7: 0.72916667 | J7: 0.32291667 | K7: 0.52083333 | L7: 0.55208333 | M7: 0.70833333 | R7: 0.35416667 | U7: 0.73958333 | V7: =(C7-B7)+(E7-D7)+(G7-F7)+(I7-H7)+(K7-J7)+(M7-L7)+(O7-N7)+(Q7-P7)+(S7-R7)+(U7-T7) -> 1.1458333 | W7: 1 | X7: =V7-W7 -> 0.14583333 | Y7: =SUM(#REF!)+(#REF!)+(#REF!)+(#REF!)+('s7'!X7)+('s8'!X7)+('s9'!X7)+('s10'!X7)+('s11'!X7)+('s12'!X7)+('s13'!X7)+('s14'!X7)+('s15'!X7)+('s16'!X7)+('s17'!X7)+('s18'!X7)+('s19'!X7)+('s20'!X7)+('s21'!X7)+('s22'!X7)+('s23'!X7) -> #REF! | AA7: laurine
G8: pa3
A9: heloise | B9: 0.375 | E9: 0.72916667 | J9: 0.39583333 | M9: 0.59375 | N9: 0.35416667 | Q9: 0.73958333 | R9: 0.33333333 | U9: 0.70833333 | V9: =(C9-B9)+(E9-D9)+(G9-F9)+(I9-H9)+(K9-J9)+(M9-L9)+(O9-N9)+(Q9-P9)+(S9-R9)+(U9-T9) -> 1.3125 | W9: 1.1666667 | X9: =V9-W9 -> 0.14583333 | Y9: =SUM('s14'!X9)+('s15'!X9)+('s16'!X9)+('s17'!X9)+('s18'!X9)+('s19'!X9)+('s20'!X9)+('s21'!X9)+('s22'!X9)+('s23'!X9) -> -0.875 | AA9: heloise
A11: EVA
C13: REPOS
C15: ABSENT
C17: ECOLE

Sheet s24
A1: S | B1: lundi 10 juin | F1: mardi 11 juin | J1: mercredi 12 juin | N1: jeudi 13 juin | R1: vendredi 14 juin | V1: TOTAL
A2: janvier | B2: arrivee | C2: coupure | D2: reprise | E2: depart | F2: arrivee | G2: coupure | H2: reprise | I2: depart | J2: arrivee | K2: coupure | L2: reprise | M2: depart | N2: arrivee | O2: coupure | P2: reprise | Q2: depart | R2: arrivee | S2: coupure | T2: reprise | U2: depart
A3: sarah | V3: =(C3-B3)+(E3-D3)+(G3-F3)+(I3-H3)+(K3-J3)+(M3-L3)+(O3-N3)+(Q3-P3)+(S3-R3)+(U3-T3) -> 0 | W3: 0 | X3: =V3-W3 -> 0 | Y3: =SUM(#REF!)+(#REF!)+(#REF!)+(#REF!)+(#REF!)+('s7'!X3)+('s8'!X3)+('s9'!X3)+('s10'!X3)+('s11'!X3)+('s12'!X3)+('s13'!X3)+('s14'!X3)+('s15'!X3)+('s16'!X3)+('s17'!X3)+('s18'!X3)+('s19'!X3)+('s20'!X3)+('s21'!X3)+('s22'!X3)+('s23'!X3)+('s24'!X3) -> #REF! | AA3: sarah
A5: melina | B5: 0.375 | E5: 0.70833333 | N5: 0.36458333 | Q5: 0.70833333 | R5: 0.36458333 | U5: 0.71875 | V5: =(C5-B5)+(E5-D5)+(G5-F5)+(I5-H5)+(K5-J5)+(M5-L5)+(O5-N5)+(Q5-P5)+(S5-R5)+(U5-T5) -> 1.03125 | W5: 1.25 | X5: =V5-W5 -> -0.21875 | Y5: =SUM(#REF!)+(#REF!)+(#REF!)+(#REF!)+(#REF!)+('s7'!X5)+('s8'!X5)+('s9'!X5)+('s10'!X5)+('s11'!X5)+('s12'!X5)+('s13'!X5)+('s14'!X5)+('s15'!X5)+('s16'!X5)+('s17'!X5)+('s18'!X5)+('s19'!X5)+('s20'!X5)+('s21'!X5)+('s22'!X5)+('s23'!X5)+('s24'!X5) -> #REF! | AA5: melina
A7: laurine | B7: 0.34375 | E7: 0.72222222 | F7: 0.32291667 | I7: 0.72916667 | J7: 0.32291667 | M7: 0.5625 | N7: 0.35416667 | Q7: 0.52083333 | V7: =(C7-B7)+(E7-D7)+(G7-F7)+(I7-H7)+(K7-J7)+(M7-L7)+(O7-N7)+(Q7-P7)+(S7-R7)+(U7-T7) -> 1.1909722 | W7: 1 | X7: =V7-W7 -> 0.19097222 | Y7: =SUM(#REF!)+(#REF!)+(#REF!)+(#REF!)+('s7'!X7)+('s8'!X7)+('s9'!X7)+('s10'!X7)+('s11'!X7)+('s12'!X7)+('s13'!X7)+('s14'!X7)+('s15'!X7)+('s16'!X7)+('s17'!X7)+('s18'!X7)+('s19'!X7)+('s20'!X7)+('s21'!X7)+('s22'!X7)+('s23'!X7)+('s24'!X7) -> #REF! | AA7: laurine
D8: pa1 | G8: pa3 | K8: pa3 | O8: pa3 | T8: pa1
A9: heloise | B9: 0.32291667 | E9: 0.72916667 | F9: 0.36458333 | I9: 0.72916667 | J9: 0.5625 | M9: 0.69791667 | N9: 0.52083333 | Q9: 0.72916667 | R9: 0.33333333 | U9: 0.70833333 | V9: =(C9-B9)+(E9-D9)+(G9-F9)+(I9-H9)+(K9-J9)+(M9-L9)+(O9-N9)+(Q9-P9)+(S9-R9)+(U9-T9) -> 1.4895833 | W9: 1.1666667 | X9: =V9-W9 -> 0.32291667 | Y9: =SUM('s14'!X9)+('s15'!X9)+('s16'!X9)+('s17'!X9)+('s18'!X9)+('s19'!X9)+('s20'!X9)+('s21'!X9)+('s22'!X9)+('s23'!X9)+('s24'!X9) -> -0.55208333 | AA9: heloise
C10: pa3 | G10: pa2 | L10: pa3 | O10: pa3 | T10: pa3
A11: EVA
C13: REPOS
C15: ABSENT
C17: ECOLE

Sheet s25
A1: S | B1: lundi 17 juin | F1: mardi 18 juin | J1: mercredi 19 juin | N1: jeudi 20 juin | R1: vendredi 21 juin | V1: TOTAL
A2: janvier | B2: arrivee | C2: coupure | D2: reprise | E2: depart | F2: arrivee | G2: coupure | H2: reprise | I2: depart | J2: arrivee | K2: coupure | L2: reprise | M2: depart | N2: arrivee | O2: coupure | P2: reprise | Q2: depart | R2: arrivee | S2: coupure | T2: reprise | U2: depart
A3: sarah | V3: =(C3-B3)+(E3-D3)+(G3-F3)+(I3-H3)+(K3-J3)+(M3-L3)+(O3-N3)+(Q3-P3)+(S3-R3)+(U3-T3) -> 0 | W3: 0 | X3: =V3-W3 -> 0 | Y3: =SUM(#REF!)+(#REF!)+(#REF!)+(#REF!)+(#REF!)+('s7'!X3)+('s8'!X3)+('s9'!X3)+('s10'!X3)+('s11'!X3)+('s12'!X3)+('s13'!X3)+('s14'!X3)+('s15'!X3)+('s16'!X3)+('s17'!X3)+('s18'!X3)+('s19'!X3)+('s20'!X3)+('s21'!X3)+('s22'!X3)+('s23'!X3)+('s24'!X3)+('s25'!X3) -> #REF! | AA3: sarah
A5: melina | N5: 0.375 | Q5: 0.72916667 | R5: 0.33333333 | U5: 0.72916667 | V5: =(C5-B5)+(E5-D5)+(G5-F5)+(I5-H5)+(K5-J5)+(M5-L5)+(O5-N5)+(Q5-P5)+(S5-R5)+(U5-T5) -> 0.75 | W5: 0.54166667 | X5: =V5-W5 -> 0.20833333 | Y5: =SUM(#REF!)+(#REF!)+(#REF!)+(#REF!)+(#REF!)+('s7'!X5)+('s8'!X5)+('s9'!X5)+('s10'!X5)+('s11'!X5)+('s12'!X5)+('s13'!X5)+('s14'!X5)+('s15'!X5)+('s16'!X5)+('s17'!X5)+('s18'!X5)+('s19'!X5)+('s20'!X5)+('s21'!X5)+('s22'!X5)+('s23'!X5)+('s24'!X5)+('s25'!X5) -> #REF! | AA5: melina
D6: arret | G6: arret
A7: laurine | B7: 0.32291667 | E7: 0.72916667 | F7: 0.35416667 | I7: 0.56597222 | J7: 0.32291667 | M7: 0.54513889 | N7: 0.47916667 | Q7: 0.73958333 | V7: =(C7-B7)+(E7-D7)+(G7-F7)+(I7-H7)+(K7-J7)+(M7-L7)+(O7-N7)+(Q7-P7)+(S7-R7)+(U7-T7) -> 1.1006944 | W7: 1 | X7: =V7-W7 -> 0.10069444 | Y7: =SUM(#REF!)+(#REF!)+(#REF!)+(#REF!)+('s7'!X7)+('s8'!X7)+('s9'!X7)+('s10'!X7)+('s11'!X7)+('s12'!X7)+('s13'!X7)+('s14'!X7)+('s15'!X7)+('s16'!X7)+('s17'!X7)+('s18'!X7)+('s19'!X7)+('s20'!X7)+('s21'!X7)+('s22'!X7)+('s23'!X7)+('s24'!X7)+('s25'!X7) -> #REF! | AA7: laurine
D8: pa2 | G8: pa3 | K8: pa3 | T8: pa1
A9: heloise | B9: 0.54166667 | E9: 0.72916667 | F9: 0.54166667 | I9: 0.72916667 | J9: 0.54166667 | M9: 0.70833333 | N9: 0.35416667 | Q9: 0.70833333 | V9: =(C9-B9)+(E9-D9)+(G9-F9)+(I9-H9)+(K9-J9)+(M9-L9)+(O9-N9)+(Q9-P9)+(S9-R9)+(U9-T9) -> 0.89583333 | W9: 1.1666667 | X9: =V9-W9 -> -0.27083333 | Y9: =SUM('s14'!X9)+('s15'!X9)+('s16'!X9)+('s17'!X9)+('s18'!X9)+('s19'!X9)+('s20'!X9)+('s21'!X9)+('s22'!X9)+('s23'!X9)+('s24'!X9)+('s25'!X9) -> -0.82291667 | AA9: heloise
C10: pa3 | G10: pa3 | L10: pa3 | O10: pa3 | T10: pa3
A11: EVA
C13: REPOS
C15: ABSENT
C17: ECOLE

Sheet s26
B1: lundi 24 juin | F1: mardi 25 juin | J1: mercredi 26 juin | N1: jeudi 27 juin | R1: vendredi 28 juin | V1: TOTAL
A2: janvier | B2: arrivee | C2: coupure | D2: reprise | E2: depart | F2: arrivee | G2: coupure | H2: reprise | I2: depart | J2: arrivee | K2: coupure | L2: reprise | M2: depart | N2: arrivee | O2: coupure | P2: reprise | Q2: depart | R2: arrivee | S2: coupure | T2: reprise | U2: depart
A3: sarah | B3: 0.29166667 | E3: 0.73958333 | J3: 0.47916667 | M3: 0.72916667 | N3: 0.375 | Q3: 0.57291667 | R3: 0.29166667 | U3: 0.73958333 | V3: =(C3-B3)+(E3-D3)+(G3-F3)+(I3-H3)+(K3-J3)+(M3-L3)+(O3-N3)+(Q3-P3)+(S3-R3)+(U3-T3) -> 1.34375 | W3: 1.4583333 | X3: =V3-W3 -> -0.11458333 | Y3: =SUM(#REF!)+(#REF!)+(#REF!)+(#REF!)+(#REF!)+('s7'!X3)+('s8'!X3)+('s9'!X3)+('s10'!X3)+('s11'!X3)+('s12'!X3)+('s13'!X3)+('s14'!X3)+('s15'!X3)+('s16'!X3)+('s17'!X3)+('s18'!X3)+('s19'!X3)+('s20'!X3)+('s21'!X3)+('s22'!X3)+('s23'!X3)+('s24'!X3)+('s25'!X3)+('s26'!X3) -> #REF! | AA3: sarah
D4: pa2 | K4: pa3 | O4: pa2 | S4: pa3
A5: melina | F5: 0.35416667 | G5: 0.54166667 | H5: 0.57291667 | I5: 0.72916667 | N5: 0.35416667 | O5: 0.54166667 | P5: 0.57291667 | Q5: 0.72916667 | R5: 0.35416667 | U5: 0.72916667 | V5: =(C5-B5)+(E5-D5)+(G5-F5)+(I5-H5)+(K5-J5)+(M5-L5)+(O5-N5)+(Q5-P5)+(S5-R5)+(U5-T5) -> 1.0625 | W5: 0.84375 | X5: =V5-W5 -> 0.21875 | Y5: =SUM(#REF!)+(#REF!)+(#REF!)+(#REF!)+(#REF!)+('s7'!X5)+('s8'!X5)+('s9'!X5)+('s10'!X5)+('s11'!X5)+('s12'!X5)+('s13'!X5)+('s14'!X5)+('s15'!X5)+('s16'!X5)+('s17'!X5)+('s18'!X5)+('s19'!X5)+('s20'!X5)+('s21'!X5)+('s22'!X5)+('s23'!X5)+('s24'!X5)+('s25'!X5)+('s26'!X5) -> #REF! | AA5: melina
C6: conge
A7: laurine | F7: 0.4375 | G7: 0.54166667 | H7: 0.57291667 | I7: 0.71875 | J7: 0.32291667 | M7: 0.71527778 | N7: 0.4375 | O7: 0.55208333 | P7: 0.58333333 | Q7: 0.72916667 | V7: =(C7-B7)+(E7-D7)+(G7-F7)+(I7-H7)+(K7-J7)+(M7-L7)+(O7-N7)+(Q7-P7)+(S7-R7)+(U7-T7) -> 0.90277778 | W7: 1 | X7: =V7-W7 -> -0.097222222 | Y7: =SUM(#REF!)+(#REF!)+(#REF!)+(#REF!)+('s7'!X7)+('s8'!X7)+('s9'!X7)+('s10'!X7)+('s11'!X7)+('s12'!X7)+('s13'!X7)+('s14'!X7)+('s15'!X7)+('s16'!X7)+('s17'!X7)+('s18'!X7)+('s19'!X7)+('s20'!X7)+('s21'!X7)+('s22'!X7)+('s23'!X7)+('s24'!X7)+('s25'!X7)+('s26'!X7) -> #REF! | AA7: laurine
L8: pa3
A9: heloise | F9: 0.375 | I9: 0.70833333 | N9: 0.51041667 | Q9: 0.70833333 | R9: 0.33333333 | U9: 0.70833333 | V9: =(C9-B9)+(E9-D9)+(G9-F9)+(I9-H9)+(K9-J9)+(M9-L9)+(O9-N9)+(Q9-P9)+(S9-R9)+(U9-T9) -> 0.90625 | W9: 1.1666667 | X9: =V9-W9 -> -0.26041667 | Y9: =SUM('s14'!X9)+('s15'!X9)+('s16'!X9)+('s17'!X9)+('s18'!X9)+('s19'!X9)+('s20'!X9)+('s21'!X9)+('s22'!X9)+('s23'!X9)+('s24'!X9)+('s25'!X9)+('s26'!X9) -> -1.0833333 | AA9: heloise
H10: pa2 | O10: pa2 | S10: pa3
A11: EVA
T12: horaires verifies
C13: REPOS
C15: ABSENT
C17: ECOLE

Sheet s27
B1: lundi 1 juillet | F1: mardi 2 juillet | J1: mercredi 3 juillet | N1: jeudi 4 juillet | R1: vendredi 5 juillet | V1: TOTAL
A2: janvier | B2: arrivee | C2: coupure | D2: reprise | E2: depart | F2: arrivee | G2: coupure | H2: reprise | I2: depart | J2: arrivee | K2: coupure | L2: reprise | M2: depart | N2: arrivee | O2: coupure | P2: reprise | Q2: depart | R2: arrivee | S2: coupure | T2: reprise | U2: depart
A3: sarah | B3: 0.375 | E3: 0.73958333 | F3: 0.29166667 | I3: 0.57291667 | J3: 0.41666667 | M3: 0.70833333 | N3: 0.54166667 | Q3: 0.70833333 | R3: 0.32291667 | U3: 0.54166667 | V3: =(C3-B3)+(E3-D3)+(G3-F3)+(I3-H3)+(K3-J3)+(M3-L3)+(O3-N3)+(Q3-P3)+(S3-R3)+(U3-T3) -> 1.3229167 | W3: 1.4583333 | X3: =V3-W3 -> -0.13541667 | Y3: =SUM(#REF!)+(#REF!)+(#REF!)+(#REF!)+(#REF!)+('s7'!X3)+('s8'!X3)+('s9'!X3)+('s10'!X3)+('s11'!X3)+('s12'!X3)+('s13'!X3)+('s14'!X3)+('s15'!X3)+('s16'!X3)+('s17'!X3)+('s18'!X3)+('s19'!X3)+('s20'!X3)+('s21'!X3)+('s22'!X3)+('s23'!X3)+('s24'!X3)+('s25'!X3)+('s26'!X3)+('s27'!X3) -> #REF! | AA3: sarah
A5: melina | F5: 0.32291667 | G5: 0.54166667 | H5: 0.57291667 | I5: 0.72916667 | N5: 0.35416667 | O5: 0.54166667 | P5: 0.57291667 | Q5: 0.72916667 | R5: 0.34375 | S5: 0.54166667 | T5: 0.57291667 | U5: 0.72916667 | V5: =(C5-B5)+(E5-D5)+(G5-F5)+(I5-H5)+(K5-J5)+(M5-L5)+(O5-N5)+(Q5-P5)+(S5-R5)+(U5-T5) -> 1.0729167 | W5: 1.1666667 | X5: =V5-W5 -> -0.09375 | Y5: =SUM(#REF!)+(#REF!)+(#REF!)+(#REF!)+(#REF!)+('s7'!X5)+('s8'!X5)+('s9'!X5)+('s10'!X5)+('s11'!X5)+('s12'!X5)+('s13'!X5)+('s14'!X5)+('s15'!X5)+('s16'!X5)+('s17'!X5)+('s18'!X5)+('s19'!X5)+('s20'!X5)+('s21'!X5)+('s22'!X5)+('s23'!X5)+('s24'!X5)+('s25'!X5)+('s26'!X5)+('s27'!X5) -> #REF! | AA5: melina
A7: laurine | B7: 0.35416667 | C7: 0.54166667 | D7: 0.57291667 | E7: 0.6875 | F7: 0.39583333 | G7: 0.54166667 | H7: 0.57291667 | I7: 0.6875 | J7: 0.32291667 | M7: 0.57291667 | N7: 0.39583333 | O7: 0.54166667 | P7: 0.57291667 | Q7: 0.6875 | R7: 0.39583333 | S7: 0.54166667 | T7: 0.57291667 | U7: 0.6875 | V7: =(C7-B7)+(E7-D7)+(G7-F7)+(I7-H7)+(K7-J7)+(M7-L7)+(O7-N7)+(Q7-P7)+(S7-R7)+(U7-T7) -> 1.3333333 | W7: 1 | X7: =V7-W7 -> 0.33333333 | Y7: =SUM(#REF!)+(#REF!)+(#REF!)+(#REF!)+('s7'!X7)+('s8'!X7)+('s9'!X7)+('s10'!X7)+('s11'!X7)+('s12'!X7)+('s13'!X7)+('s14'!X7)+('s15'!X7)+('s16'!X7)+('s17'!X7)+('s18'!X7)+('s19'!X7)+('s20'!X7)+('s21'!X7)+('s22'!X7)+('s23'!X7)+('s24'!X7)+('s25'!X7)+('s26'!X7)+('s27'!X7) -> #REF! | AA7: laurine
C8: pa1
A9: heloise | B9: 0.32291667 | E9: 0.69791667 | F9: 0.54166667 | I9: 0.70833333 | J9: 0.57291667 | M9: 0.70833333 | N9: 0.375 | Q9: 0.54166667 | R9: 0.54166667 | U9: 0.70833333 | V9: =(C9-B9)+(E9-D9)+(G9-F9)+(I9-H9)+(K9-J9)+(M9-L9)+(O9-N9)+(Q9-P9)+(S9-R9)+(U9-T9) -> 1.0104167 | W9: 1.1666667 | X9: =V9-W9 -> -0.15625 | Y9: =SUM('s14'!X9)+('s15'!X9)+('s16'!X9)+('s17'!X9)+('s18'!X9)+('s19'!X9)+('s20'!X9)+('s21'!X9)+('s22'!X9)+('s23'!X9)+('s24'!X9)+('s25'!X9)+('s26'!X9)+('s27'!X9) -> -1.2395833 | AA9: heloise
A11: EVA
C13: REPOS
C15: ABSENT
C17: ECOLE

Sheet s28
B1: lundi 8 juillet | F1: mardi 9 juillet | J1: mercredi 10 juillet | N1: jeudi 11 juillet | R1: vendredi 12 juillet | V1: TOTAL
B2: arrivee | C2: coupure | D2: reprise | E2: depart | F2: arrivee | G2: coupure | H2: reprise | I2: depart | J2: arrivee | K2: coupure | L2: reprise | M2: depart | N2: arrivee | O2: coupure | P2: reprise | Q2: depart | R2: arrivee | S2: coupure | T2: reprise | U2: depart
A3: sarah | B3: 0.29166667 | E3: 0.57291667 | F3: 0.51041667 | I3: 0.71875 | J3: 0.29166667 | M3: 0.57291667 | N3: 0.33333333 | Q3: 0.73958333 | R3: 0.375 | U3: 0.57291667 | V3: =(C3-B3)+(E3-D3)+(G3-F3)+(I3-H3)+(K3-J3)+(M3-L3)+(O3-N3)+(Q3-P3)+(S3-R3)+(U3-T3) -> 1.375 | W3: 1.4583333 | X3: =V3-W3 -> -0.083333333 | Y3: =SUM(#REF!)+(#REF!)+(#REF!)+(#REF!)+(#REF!)+('s7'!X3)+('s8'!X3)+('s9'!X3)+('s10'!X3)+('s11'!X3)+('s12'!X3)+('s13'!X3)+('s14'!X3)+('s15'!X3)+('s16'!X3)+('s17'!X3)+('s18'!X3)+('s19'!X3)+('s20'!X3)+('s21'!X3)+('s22'!X3)+('s23'!X3)+('s24'!X3)+('s25'!X3)+('s26'!X3)+('s27'!X3)+('s28'!X3) -> #REF! | AA3: sarah
A5: melina | B5: 0.35416667 | C5: 0.54166667 | D5: 0.57291667 | E5: 0.72916667 | F5: 0.35416667 | G5: 0.54166667 | H5: 0.57291667 | I5: 0.73958333 | N5: 0.35416667 | O5: 0.54166667 | P5: 0.57291667 | Q5: 0.72916667 | R5: 0.35416667 | U5: 0.52083333 | V5: =(C5-B5)+(E5-D5)+(G5-F5)+(I5-H5)+(K5-J5)+(M5-L5)+(O5-N5)+(Q5-P5)+(S5-R5)+(U5-T5) -> 1.2083333 | W5: 1.1666667 | X5: =V5-W5 -> 0.041666667 | Y5: =SUM(#REF!)+(#REF!)+(#REF!)+(#REF!)+(#REF!)+('s7'!X5)+('s8'!X5)+('s9'!X5)+('s10'!X5)+('s11'!X5)+('s12'!X5)+('s13'!X5)+('s14'!X5)+('s15'!X5)+('s16'!X5)+('s17'!X5)+('s18'!X5)+('s19'!X5)+('s20'!X5)+('s21'!X5)+('s22'!X5)+('s23'!X5)+('s24'!X5)+('s25'!X5)+('s26'!X5)+('s27'!X5)+('s28'!X5) -> #REF! | AA5: melina
A7: laurine | B7: 0.375 | C7: 0.54166667 | D7: 0.57291667 | E7: 0.69791667 | F7: 0.39583333 | I7: 0.69791667 | N7: 0.39583333 | O7: 0.54166667 | P7: 0.57291667 | Q7: 0.69791667 | V7: =(C7-B7)+(E7-D7)+(G7-F7)+(I7-H7)+(K7-J7)+(M7-L7)+(O7-N7)+(Q7-P7)+(S7-R7)+(U7-T7) -> 0.86458333 | W7: 1 | X7: =V7-W7 -> -0.13541667 | Y7: =SUM(#REF!)+(#REF!)+(#REF!)+(#REF!)+('s7'!X7)+('s8'!X7)+('s9'!X7)+('s10'!X7)+('s11'!X7)+('s12'!X7)+('s13'!X7)+('s14'!X7)+('s15'!X7)+('s16'!X7)+('s17'!X7)+('s18'!X7)+('s19'!X7)+('s20'!X7)+('s21'!X7)+('s22'!X7)+('s23'!X7)+('s24'!X7)+('s25'!X7)+('s26'!X7)+('s27'!X7)+('s28'!X7) -> #REF! | AA7: laurine
A9: heloise | B9: 0.51041667 | E9: 0.72916667 | F9: 0.32291667 | I9: 0.51041667 | J9: 0.45833333 | K9: 0.55208333 | L9: 0.58333333 | M9: 0.72916667 | N9: 0.375 | Q9: 0.72916667 | R9: 0.57291667 | U9: 0.72916667 | V9: =(C9-B9)+(E9-D9)+(G9-F9)+(I9-H9)+(K9-J9)+(M9-L9)+(O9-N9)+(Q9-P9)+(S9-R9)+(U9-T9) -> 1.15625 | W9: 1.1666667 | X9: =V9-W9 -> -0.010416667 | Y9: =SUM('s14'!X9)+('s15'!X9)+('s16'!X9)+('s17'!X9)+('s18'!X9)+('s19'!X9)+('s20'!X9)+('s21'!X9)+('s22'!X9)+('s23'!X9)+('s24'!X9)+('s25'!X9)+('s26'!X9)+('s27'!X9)+('s28'!X9) -> -1.25 | AA9: heloise
A11: EVA
C13: REPOS
C15: ABSENT
C17: ECOLE

Sheet s29
B1: lundi 15 juillet | F1: mardi 16 juillet | J1: mercredi 17 juillet | N1: jeudi 18 juillet | R1: vendredi 19 juillet | V1: TOTAL
B2: arrivee | C2: coupure | D2: reprise | E2: depart | F2: arrivee | G2: coupure | H2: reprise | I2: depart | J2: arrivee | K2: coupure | L2: reprise | M2: depart | N2: arrivee | O2: coupure | P2: reprise | Q2: depart | R2: arrivee | S2: coupure | T2: reprise | U2: depart
A3: sarah | B3: 0.29166667 | E3: 0.57291667 | F3: 0.29166667 | G3: 0.54166667 | H3: 0.57291667 | I3: 0.66666667 | J3: 0.29166667 | M3: 0.72916667 | N3: 0.375 | O3: 0.54166667 | P3: 0.57291667 | Q3: 0.625 | V3: =(C3-B3)+(E3-D3)+(G3-F3)+(I3-H3)+(K3-J3)+(M3-L3)+(O3-N3)+(Q3-P3)+(S3-R3)+(U3-T3) -> 1.28125 | W3: 1.4583333 | X3: =V3-W3 -> -0.17708333 | Y3: =SUM(#REF!)+(#REF!)+(#REF!)+(#REF!)+(#REF!)+('s7'!X3)+('s8'!X3)+('s9'!X3)+('s10'!X3)+('s11'!X3)+('s12'!X3)+('s13'!X3)+('s14'!X3)+('s15'!X3)+('s16'!X3)+('s17'!X3)+('s18'!X3)+('s19'!X3)+('s20'!X3)+('s21'!X3)+('s22'!X3)+('s23'!X3)+('s24'!X3)+('s25'!X3)+('s26'!X3)+('s27'!X3)+('s28'!X3)+('s29'!X3) -> #REF! | AA3: sarah
A5: melina | B5: 0.39583333 | E5: 0.70833333 | F5: 0.35416667 | G5: 0.54166667 | H5: 0.57291667 | I5: 0.70833333 | N5: 0.35416667 | O5: 0.54166667 | P5: 0.57291667 | Q5: 0.73958333 | R5: 0.35416667 | U5: 0.55208333 | V5: =(C5-B5)+(E5-D5)+(G5-F5)+(I5-H5)+(K5-J5)+(M5-L5)+(O5-N5)+(Q5-P5)+(S5-R5)+(U5-T5) -> 1.1875 | W5: 1.1666667 | X5: =V5-W5 -> 0.020833333 | Y5: =SUM(#REF!)+(#REF!)+(#REF!)+(#REF!)+(#REF!)+('s7'!X5)+('s8'!X5)+('s9'!X5)+('s10'!X5)+('s11'!X5)+('s12'!X5)+('s13'!X5)+('s14'!X5)+('s15'!X5)+('s16'!X5)+('s17'!X5)+('s18'!X5)+('s19'!X5)+('s20'!X5)+('s21'!X5)+('s22'!X5)+('s23'!X5)+('s24'!X5)+('s25'!X5)+('s26'!X5)+('s27'!X5)+('s28'!X5)+('s29'!X5) -> #REF! | AA5: melina
A7: laurine | F7: 0.39583333 | G7: 0.54166667 | H7: 0.57291667 | I7: 0.6875 | N7: 0.39583333 | O7: 0.54166667 | P7: 0.57291667 | Q7: 0.6875 | V7: =(C7-B7)+(E7-D7)+(G7-F7)+(I7-H7)+(K7-J7)+(M7-L7)+(O7-N7)+(Q7-P7)+(S7-R7)+(U7-T7) -> 0.52083333 | W7: 1 | X7: =V7-W7 -> -0.47916667 | Y7: =SUM(#REF!)+(#REF!)+(#REF!)+(#REF!)+('s7'!X7)+('s8'!X7)+('s9'!X7)+('s10'!X7)+('s11'!X7)+('s12'!X7)+('s13'!X7)+('s14'!X7)+('s15'!X7)+('s16'!X7)+('s17'!X7)+('s18'!X7)+('s19'!X7)+('s20'!X7)+('s21'!X7)+('s22'!X7)+('s23'!X7)+('s24'!X7)+('s25'!X7)+('s26'!X7)+('s27'!X7)+('s28'!X7)+('s29'!X7) -> #REF! | AA7: laurine
A9: heloise | B9: 0.52083333 | E9: 0.72916667 | F9: 0.375 | G9: 0.54166667 | H9: 0.57291667 | I9: 0.72916667 | J9: 0.52083333 | M9: 0.72916667 | N9: 0.39583333 | O9: 0.54166667 | P9: 0.57291667 | Q9: 0.72916667 | R9: 0.39583333 | S9: 0.54166667 | T9: 0.57291667 | U9: 0.72916667 | V9: =(C9-B9)+(E9-D9)+(G9-F9)+(I9-H9)+(K9-J9)+(M9-L9)+(O9-N9)+(Q9-P9)+(S9-R9)+(U9-T9) -> 1.34375 | W9: 1.1666667 | X9: =V9-W9 -> 0.17708333 | Y9: =SUM('s14'!X9)+('s15'!X9)+('s16'!X9)+('s17'!X9)+('s18'!X9)+('s19'!X9)+('s20'!X9)+('s21'!X9)+('s22'!X9)+('s23'!X9)+('s24'!X9)+('s25'!X9)+('s26'!X9)+('s27'!X9)+('s28'!X9)+('s29'!X9) -> -1.0729167 | AA9: heloise
A11: EVA
C13: REPOS
C15: ABSENT
C17: ECOLE

Sheet s30
B1: lundi 22 juillet | F1: mardi 23 juillet | J1: mercredi 24 juillet | N1: jeudi 25 juillet | R1: vendredi 26 juillet | V1: TOTAL
B2: arrivee | C2: coupure | D2: reprise | E2: depart | F2: arrivee | G2: coupure | H2: reprise | I2: depart | J2: arrivee | K2: coupure | L2: reprise | M2: depart | N2: arrivee | O2: coupure | P2: reprise | Q2: depart | R2: arrivee | S2: coupure | T2: reprise | U2: depart
A3: sarah | B3: 0.29166667 | E3: 0.54166667 | F3: 0.29166667 | I3: 0.54166667 | J3: 0.29166667 | M3: 0.46875 | N3: 0.375 | Q3: 0.57291667 | R3: 0.375 | S3: 0.54166667 | T3: 0.57291667 | U3: 0.72916667 | V3: =(C3-B3)+(E3-D3)+(G3-F3)+(I3-H3)+(K3-J3)+(M3-L3)+(O3-N3)+(Q3-P3)+(S3-R3)+(U3-T3) -> 1.1979167 | W3: 1.4583333 | X3: =V3-W3 -> -0.26041667 | Y3: =SUM(#REF!)+(#REF!)+(#REF!)+(#REF!)+(#REF!)+('s7'!X3)+('s8'!X3)+('s9'!X3)+('s10'!X3)+('s11'!X3)+('s12'!X3)+('s13'!X3)+('s14'!X3)+('s15'!X3)+('s16'!X3)+('s17'!X3)+('s18'!X3)+('s19'!X3)+('s20'!X3)+('s21'!X3)+('s22'!X3)+('s23'!X3)+('s24'!X3)+('s25'!X3)+('s26'!X3)+('s27'!X3)+('s28'!X3)+('s29'!X3)+('s30'!X3) -> #REF! | AA3: sarah
A5: melina | B5: 0.39583333 | E5: 0.70833333 | F5: 0.36458333 | I5: 0.70833333 | N5: 0.39583333 | O5: 0.54166667 | P5: 0.57291667 | Q5: 0.70833333 | R5: 0.34375 | U5: 0.70833333 | V5: =(C5-B5)+(E5-D5)+(G5-F5)+(I5-H5)+(K5-J5)+(M5-L5)+(O5-N5)+(Q5-P5)+(S5-R5)+(U5-T5) -> 1.3020833 | W5: 1.1666667 | X5: =V5-W5 -> 0.13541667 | Y5: =SUM(#REF!)+(#REF!)+(#REF!)+(#REF!)+(#REF!)+('s7'!X5)+('s8'!X5)+('s9'!X5)+('s10'!X5)+('s11'!X5)+('s12'!X5)+('s13'!X5)+('s14'!X5)+('s15'!X5)+('s16'!X5)+('s17'!X5)+('s18'!X5)+('s19'!X5)+('s20'!X5)+('s21'!X5)+('s22'!X5)+('s23'!X5)+('s24'!X5)+('s25'!X5)+('s26'!X5)+('s27'!X5)+('s28'!X5)+('s29'!X5)+('s30'!X5) -> #REF! | AA5: melina
A7: laurine | F7: 0.51041667 | I7: 0.66666667 | N7: 0.51041667 | Q7: 0.70833333 | R7: 0.35416667 | U7: 0.58333333 | V7: =(C7-B7)+(E7-D7)+(G7-F7)+(I7-H7)+(K7-J7)+(M7-L7)+(O7-N7)+(Q7-P7)+(S7-R7)+(U7-T7) -> 0.58333333 | W7: 1 | X7: =V7-W7 -> -0.41666667 | Y7: =SUM(#REF!)+(#REF!)+(#REF!)+(#REF!)+('s7'!X7)+('s8'!X7)+('s9'!X7)+('s10'!X7)+('s11'!X7)+('s12'!X7)+('s13'!X7)+('s14'!X7)+('s15'!X7)+('s16'!X7)+('s17'!X7)+('s18'!X7)+('s19'!X7)+('s20'!X7)+('s21'!X7)+('s22'!X7)+('s23'!X7)+('s24'!X7)+('s25'!X7)+('s26'!X7)+('s27'!X7)+('s28'!X7)+('s29'!X7)+('s30'!X7) -> #REF! | AA7: laurine
A9: heloise | B9: 0.32291667 | C9: 0.54166667 | D9: 0.57291667 | E9: 0.72916667 | F9: 0.32291667 | G9: 0.54166667 | H9: 0.57291667 | I9: 0.73958333 | J9: 0.54166667 | M9: 0.72916667 | N9: 0.35416667 | O9: 0.54166667 | P9: 0.57291667 | Q9: 0.72916667 | V9: =(C9-B9)+(E9-D9)+(G9-F9)+(I9-H9)+(K9-J9)+(M9-L9)+(O9-N9)+(Q9-P9)+(S9-R9)+(U9-T9) -> 1.2916667 | W9: 1.1666667 | X9: =V9-W9 -> 0.125 | Y9: =SUM('s14'!X9)+('s15'!X9)+('s16'!X9)+('s17'!X9)+('s18'!X9)+('s19'!X9)+('s20'!X9)+('s21'!X9)+('s22'!X9)+('s23'!X9)+('s24'!X9)+('s25'!X9)+('s26'!X9)+('s27'!X9)+('s28'!X9)+('s29'!X9)+('s30'!X9) -> -0.94791667 | AA9: heloise
A11: EVA | T11: horaires verifies
C13: REPOS
C15: ABSENT
C17: ECOLE

Sheet s31
B1: lundi 29 juillet | F1: mardi 30 juillet | J1: mercredi 31 juillet | N1: jeudi 1 aout | R1: vendredi 2 aout | V1: TOTAL
B2: arrivee | C2: coupure | D2: reprise | E2: depart | F2: arrivee | G2: coupure | H2: reprise | I2: depart | J2: arrivee | K2: coupure | L2: reprise | M2: depart | N2: arrivee | O2: coupure | P2: reprise | Q2: depart | R2: arrivee | S2: coupure | T2: reprise | U2: depart
A3: sarah | B3: 0.29166667 | E3: 0.54166667 | F3: 0.29166667 | I3: 0.54166667 | J3: 0.29166667 | K3: 0.54166667 | L3: 0.57291667 | M3: 0.72916667 | N3: 0.39583333 | Q3: 0.54166667 | R3: 0.35416667 | U3: 0.5625 | V3: =(C3-B3)+(E3-D3)+(G3-F3)+(I3-H3)+(K3-J3)+(M3-L3)+(O3-N3)+(Q3-P3)+(S3-R3)+(U3-T3) -> 1.2604167 | W3: 1.4583333 | X3: =V3-W3 -> -0.19791667 | Y3: =SUM(#REF!)+(#REF!)+(#REF!)+(#REF!)+(#REF!)+('s7'!X3)+('s8'!X3)+('s9'!X3)+('s10'!X3)+('s11'!X3)+('s12'!X3)+('s13'!X3)+('s14'!X3)+('s15'!X3)+('s16'!X3)+('s17'!X3)+('s18'!X3)+('s19'!X3)+('s20'!X3)+('s21'!X3)+('s22'!X3)+('s23'!X3)+('s24'!X3)+('s25'!X3)+('s26'!X3)+('s27'!X3)+('s28'!X3)+('s29'!X3)+('s30'!X3)+('s31'!X3) -> #REF! | AA3: sarah
A5: melina | B5: 0.39583333 | C5: 0.54166667 | D5: 0.57291667 | E5: 0.71875 | F5: 0.375 | I5: 0.70833333 | N5: 0.375 | Q5: 0.70833333 | R5: 0.35416667 | U5: 0.70833333 | V5: =(C5-B5)+(E5-D5)+(G5-F5)+(I5-H5)+(K5-J5)+(M5-L5)+(O5-N5)+(Q5-P5)+(S5-R5)+(U5-T5) -> 1.3125 | W5: 1.1666667 | X5: =V5-W5 -> 0.14583333 | Y5: =SUM(#REF!)+(#REF!)+(#REF!)+(#REF!)+(#REF!)+('s7'!X5)+('s8'!X5)+('s9'!X5)+('s10'!X5)+('s11'!X5)+('s12'!X5)+('s13'!X5)+('s14'!X5)+('s15'!X5)+('s16'!X5)+('s17'!X5)+('s18'!X5)+('s19'!X5)+('s20'!X5)+('s21'!X5)+('s22'!X5)+('s23'!X5)+('s24'!X5)+('s25'!X5)+('s26'!X5)+('s27'!X5)+('s28'!X5)+('s29'!X5)+('s30'!X5)+('s31'!X5) -> #REF! | AA5: melina
A7: laurine | B7: 0.54166667 | E7: 0.72916667 | F7: 0.54166667 | I7: 0.72916667 | N7: 0.54166667 | Q7: 0.72916667 | R7: 0.39583333 | S7: 0.54166667 | T7: 0.57291667 | U7: 0.72916667 | V7: =(C7-B7)+(E7-D7)+(G7-F7)+(I7-H7)+(K7-J7)+(M7-L7)+(O7-N7)+(Q7-P7)+(S7-R7)+(U7-T7) -> 0.86458333 | W7: 1 | X7: =V7-W7 -> -0.13541667 | Y7: =SUM(#REF!)+(#REF!)+(#REF!)+(#REF!)+('s7'!X7)+('s8'!X7)+('s9'!X7)+('s10'!X7)+('s11'!X7)+('s12'!X7)+('s13'!X7)+('s14'!X7)+('s15'!X7)+('s16'!X7)+('s17'!X7)+('s18'!X7)+('s19'!X7)+('s20'!X7)+('s21'!X7)+('s22'!X7)+('s23'!X7)+('s24'!X7)+('s25'!X7)+('s26'!X7)+('s27'!X7)+('s28'!X7)+('s29'!X7)+('s30'!X7)+('s31'!X7) -> #REF! | AA7: laurine
K8: repos
A9: heloise | B9: 0.32291667 | E9: 0.70833333 | J9: 0.5625 | M9: 0.72916667 | N9: 0.35416667 | O9: 0.54166667 | P9: 0.57291667 | Q9: 0.70833333 | V9: =(C9-B9)+(E9-D9)+(G9-F9)+(I9-H9)+(K9-J9)+(M9-L9)+(O9-N9)+(Q9-P9)+(S9-R9)+(U9-T9) -> 0.875 | W9: 1.1666667 | X9: =V9-W9 -> -0.29166667 | Y9: =SUM('s14'!X9)+('s15'!X9)+('s16'!X9)+('s17'!X9)+('s18'!X9)+('s19'!X9)+('s20'!X9)+('s21'!X9)+('s22'!X9)+('s23'!X9)+('s24'!X9)+('s25'!X9)+('s26'!X9)+('s27'!X9)+('s28'!X9)+('s29'!X9)+('s30'!X9)+('s31'!X9) -> -1.2395833 | AA9: heloise
G10: repos | S10: repos
A11: EVA
C13: REPOS
C15: ABSENT
C17: ECOLE

Sheet s32
B1: lundi 5 aout | F1: mardi 6 aout | J1: mercredi 7 aout | N1: jeudi 8 aout | R1: vendredi 9 aout | V1: TOTAL
B2: arrivee | C2: coupure | D2: reprise | E2: depart | F2: arrivee | G2: coupure | H2: reprise | I2: depart | J2: arrivee | K2: coupure | L2: reprise | M2: depart | N2: arrivee | O2: coupure | P2: reprise | Q2: depart | R2: arrivee | S2: coupure | T2: reprise | U2: depart
A3: sarah | B3: 0.4375 | E3: 0.73958333 | F3: 0.4375 | I3: 0.73958333 | N3: 0.35416667 | Q3: 0.72916667 | R3: 0.35416667 | U3: 0.51041667 | V3: =(C3-B3)+(E3-D3)+(G3-F3)+(I3-H3)+(K3-J3)+(M3-L3)+(O3-N3)+(Q3-P3)+(S3-R3)+(U3-T3) -> 1.1354167 | W3: 1.4583333 | X3: =V3-W3 -> -0.32291667 | Y3: =SUM(#REF!)+(#REF!)+(#REF!)+(#REF!)+(#REF!)+('s7'!X3)+('s8'!X3)+('s9'!X3)+('s10'!X3)+('s11'!X3)+('s12'!X3)+('s13'!X3)+('s14'!X3)+('s15'!X3)+('s16'!X3)+('s17'!X3)+('s18'!X3)+('s19'!X3)+('s20'!X3)+('s21'!X3)+('s22'!X3)+('s23'!X3)+('s24'!X3)+('s25'!X3)+('s26'!X3)+('s27'!X3)+('s28'!X3)+('s29'!X3)+('s30'!X3)+('s31'!X3)+('s32'!X3) -> #REF! | AA3: sarah
A5: melina | B5: 0.35416667 | E5: 0.70833333 | F5: 0.375 | I5: 0.67708333 | N5: 0.53125 | Q5: 0.70833333 | R5: 0.35416667 | U5: 0.71875 | V5: =(C5-B5)+(E5-D5)+(G5-F5)+(I5-H5)+(K5-J5)+(M5-L5)+(O5-N5)+(Q5-P5)+(S5-R5)+(U5-T5) -> 1.1979167 | W5: 1.1666667 | X5: =V5-W5 -> 0.03125 | Y5: =SUM(#REF!)+(#REF!)+(#REF!)+(#REF!)+(#REF!)+('s7'!X5)+('s8'!X5)+('s9'!X5)+('s10'!X5)+('s11'!X5)+('s12'!X5)+('s13'!X5)+('s14'!X5)+('s15'!X5)+('s16'!X5)+('s17'!X5)+('s18'!X5)+('s19'!X5)+('s20'!X5)+('s21'!X5)+('s22'!X5)+('s23'!X5)+('s24'!X5)+('s25'!X5)+('s26'!X5)+('s27'!X5)+('s28'!X5)+('s29'!X5)+('s30'!X5)+('s31'!X5)+('s32'!X5) -> #REF! | AA5: melina
A7: laurine | B7: 0.35416667 | E7: 0.72916667 | F7: 0.36458333 | I7: 0.70833333 | N7: 0.375 | Q7: 0.54166667 | R7: 0.51041667 | U7: 0.72916667 | V7: =(C7-B7)+(E7-D7)+(G7-F7)+(I7-H7)+(K7-J7)+(M7-L7)+(O7-N7)+(Q7-P7)+(S7-R7)+(U7-T7) -> 1.1041667 | W7: 1 | X7: =V7-W7 -> 0.10416667 | Y7: =SUM(#REF!)+(#REF!)+(#REF!)+(#REF!)+('s7'!X7)+('s8'!X7)+('s9'!X7)+('s10'!X7)+('s11'!X7)+('s12'!X7)+('s13'!X7)+('s14'!X7)+('s15'!X7)+('s16'!X7)+('s17'!X7)+('s18'!X7)+('s19'!X7)+('s20'!X7)+('s21'!X7)+('s22'!X7)+('s23'!X7)+('s24'!X7)+('s25'!X7)+('s26'!X7)+('s27'!X7)+('s28'!X7)+('s29'!X7)+('s30'!X7)+('s31'!X7)+('s32'!X7) -> #REF! | AA7: laurine
J8: repos
A9: heloise | V9: =(C9-B9)+(E9-D9)+(G9-F9)+(I9-H9)+(K9-J9)+(M9-L9)+(O9-N9)+(Q9-P9)+(S9-R9)+(U9-T9) -> 0 | W9: 0 | X9: =V9-W9 -> 0 | Y9: =SUM('s14'!X9)+('s15'!X9)+('s16'!X9)+('s17'!X9)+('s18'!X9)+('s19'!X9)+('s20'!X9)+('s21'!X9)+('s22'!X9)+('s23'!X9)+('s24'!X9)+('s25'!X9)+('s26'!X9)+('s27'!X9)+('s28'!X9)+('s29'!X9)+('s30'!X9)+('s31'!X9)+('s32'!X9) -> -1.2395833 | AA9: heloise
A11: EVA
C13: REPOS
C15: ABSENT
C17: ECOLE

Sheet s35
B1: lundi 26 aout | F1: mardi 27 aout | J1: mercredi 28 aout | N1: jeudi 29 aout | R1: vendredi 30 aout | V1: TOTAL
B2: arrivee | C2: coupure | D2: reprise | E2: depart | F2: arrivee | G2: coupure | H2: reprise | I2: depart | J2: arrivee | K2: coupure | L2: reprise | M2: depart | N2: arrivee | O2: coupure | P2: reprise | Q2: depart | R2: arrivee | S2: coupure | T2: reprise | U2: depart
A3: sarah | B3: 0.58333333 | E3: 0.66666667 | F3: 0.29166667 | G3: 0.54166667 | H3: 0.57291667 | I3: 0.70833333 | J3: 0.5625 | M3: 0.72916667 | N3: 0.375 | O3: 0.54166667 | P3: 0.57291667 | Q3: 0.70833333 | R3: 0.29166667 | U3: 0.71875 | V3: =(C3-B3)+(E3-D3)+(G3-F3)+(I3-H3)+(K3-J3)+(M3-L3)+(O3-N3)+(Q3-P3)+(S3-R3)+(U3-T3) -> 1.3645833 | W3: 1.4583333 | X3: =V3-W3 -> -0.09375 | Y3: =SUM(#REF!)+(#REF!)+(#REF!)+(#REF!)+(#REF!)+('s7'!X3)+('s8'!X3)+('s9'!X3)+('s10'!X3)+('s11'!X3)+('s12'!X3)+('s13'!X3)+('s14'!X3)+('s15'!X3)+('s16'!X3)+('s17'!X3)+('s18'!X3)+('s19'!X3)+('s20'!X3)+('s21'!X3)+('s22'!X3)+('s23'!X3)+('s24'!X3)+('s25'!X3)+('s26'!X3)+('s27'!X3)+('s28'!X3)+('s29'!X3)+('s30'!X3)+('s31'!X3)+('s32'!X3)+('s35'!X3) -> #REF! | AA3: sarah
A5: heloïse | B5: 0.58333333 | E5: 0.66666667 | F5: 0.375 | G5: 0.54166667 | H5: 0.57291667 | I5: 0.72916667 | J5: 0.29166667 | M5: 0.5625 | N5: 0.32291667 | O5: 0.54166667 | P5: 0.57291667 | Q5: 0.73958333 | V5: =(C5-B5)+(E5-D5)+(G5-F5)+(I5-H5)+(K5-J5)+(M5-L5)+(O5-N5)+(Q5-P5)+(S5-R5)+(U5-T5) -> 1.0625 | W5: 1.1666667 | X5: =V5-W5 -> -0.10416667 | Y5: =SUM('s14'!X9)+('s15'!X9)+('s16'!X9)+('s17'!X9)+('s18'!X9)+('s19'!X9)+('s20'!X9)+('s21'!X9)+('s22'!X9)+('s23'!X9)+('s24'!X9)+('s25'!X9)+('s26'!X9)+('s27'!X9)+('s28'!X9)+('s29'!X9)+('s30'!X9)+('s31'!X9)+('s32'!X9)+('s35'!X5) -> -1.34375 | AA5: heloise
A7: laurine | B7: 0.58333333 | E7: 0.66666667 | F7: 0.36458333 | G7: 0.54166667 | H7: 0.57291667 | I7: 0.70833333 | J7: 0.36458333 | M7: 0.71875 | N7: 0.36458333 | O7: 0.54166667 | P7: 0.57291667 | Q7: 0.70833333 | V7: =(C7-B7)+(E7-D7)+(G7-F7)+(I7-H7)+(K7-J7)+(M7-L7)+(O7-N7)+(Q7-P7)+(S7-R7)+(U7-T7) -> 1.0625 | W7: 1 | X7: =V7-W7 -> 0.0625 | Y7: =SUM(#REF!)+(#REF!)+(#REF!)+(#REF!)+('s7'!X7)+('s8'!X7)+('s9'!X7)+('s10'!X7)+('s11'!X7)+('s12'!X7)+('s13'!X7)+('s14'!X7)+('s15'!X7)+('s16'!X7)+('s17'!X7)+('s18'!X7)+('s19'!X7)+('s20'!X7)+('s21'!X7)+('s22'!X7)+('s23'!X7)+('s24'!X7)+('s25'!X7)+('s26'!X7)+('s27'!X7)+('s28'!X7)+('s29'!X7)+('s30'!X7)+('s31'!X7)+('s32'!X7)+('s35'!X7) -> #REF! | AA7: laurine
A9: cypris | V9: =(C9-B9)+(E9-D9)+(G9-F9)+(I9-H9)+(K9-J9)+(M9-L9)+(O9-N9)+(Q9-P9)+(S9-R9)+(U9-T9) -> 0 | W9: 0 | X9: =V9-W9 -> 0 | AA9: cypris
A11: naila | V11: =(C11-B11)+(E11-D11)+(G11-F11)+(I11-H11)+(K11-J11)+(M11-L11)+(O11-N11)+(Q11-P11)+(S11-R11)+(U11-T11) -> 0 | W11: 0 | X11: =V11-W11 -> 0 | AA11: naila
S13: oceane | T13: 8h30 17h
C16: REPOS | F16: ABSENT
C18: ECOLE

Sheet s36 (2)
B1: lundi 2 septembre | F1: mardi 3 septembre | J1: mercredi 4 septembre | N1: jeudi 5 septembre | R1: vendredi 6 septembre | V1: TOTAL
B2: arrivee | C2: coupure | D2: reprise | E2: depart | F2: arrivee | G2: coupure | H2: reprise | I2: depart | J2: arrivee | K2: coupure | L2: reprise | M2: depart | N2: arrivee | O2: coupure | P2: reprise | Q2: depart | R2: arrivee | S2: coupure | T2: reprise | U2: depart
A3: sarah | B3: 0.33333333 | E3: 0.73958333 | F3: 0.375 | G3: 0.54166667 | H3: 0.57291667 | I3: 0.70833333 | N3: 0.375 | Q3: 0.73958333 | R3: 0.375 | S3: 0.54166667 | T3: 0.57291667 | U3: 0.70833333 | V3: =(C3-B3)+(E3-D3)+(G3-F3)+(I3-H3)+(K3-J3)+(M3-L3)+(O3-N3)+(Q3-P3)+(S3-R3)+(U3-T3) -> 1.375 | W3: 1.4583333 | X3: =V3-W3 -> -0.083333333 | Y3: =SUM('s7'!X3)+('s8'!X3)+('s9'!X3)+('s10'!X3)+('s11'!X3)+('s12'!X3)+('s13'!X3)+('s14'!X3)+('s15'!X3)+('s16'!X3)+('s17'!X3)+('s18'!X3)+('s19'!X3)+('s20'!X3)+('s21'!X3)+('s22'!X3)+('s23'!X3)+('s24'!X3)+('s25'!X3)+('s26'!X3)+('s27'!X3)+('s28'!X3)+('s29'!X3)+('s30'!X3)+('s31'!X3)+('s32'!X3)+('s35'!X3)+('s36 (2)'!X3) -> -1.2395833 | AA3: sarah | AB3: 140 h | AC3: 133 fait | AD3: 51h30
A5: heloïse | F5: 0.53125 | I5: 0.70833333 | N5: 0.54166667 | Q5: 0.72916667 | R5: 0.54166667 | U5: 0.72916667 | V5: =(C5-B5)+(E5-D5)+(G5-F5)+(I5-H5)+(K5-J5)+(M5-L5)+(O5-N5)+(Q5-P5)+(S5-R5)+(U5-T5) -> 0.55208333 | W5: 0.875 | X5: =V5-W5 -> -0.32291667 | Y5: =SUM('s14'!X9)+('s15'!X9)+('s16'!X9)+('s17'!X9)+('s18'!X9)+('s19'!X9)+('s20'!X9)+('s21'!X9)+('s22'!X9)+('s23'!X9)+('s24'!X9)+('s25'!X9)+('s26'!X9)+('s27'!X9)+('s28'!X9)+('s29'!X9)+('s30'!X9)+('s31'!X9)+('s32'!X9)+('s35'!X5)+('s36 (2)'!X5) -> -1.6666667 | AA5: heloise
C6: CONGE | G6: pa1 | O6: pa1 | S6: pa1
A7: laurine | B7: 0.35416667 | E7: 0.72916667 | F7: 0.36458333 | G7: 0.51041667 | H7: 0.54166667 | I7: 0.72916667 | N7: 0.33333333 | O7: 0.54166667 | P7: 0.57291667 | Q7: 0.6875 | R7: 0.35416667 | S7: 0.54166667 | T7: 0.57291667 | U7: 0.6875 | V7: =(C7-B7)+(E7-D7)+(G7-F7)+(I7-H7)+(K7-J7)+(M7-L7)+(O7-N7)+(Q7-P7)+(S7-R7)+(U7-T7) -> 1.3333333 | W7: 1 | X7: =V7-W7 -> 0.33333333 | Y7: =SUM('s7'!X7)+('s8'!X7)+('s9'!X7)+('s10'!X7)+('s11'!X7)+('s12'!X7)+('s13'!X7)+('s14'!X7)+('s15'!X7)+('s16'!X7)+('s17'!X7)+('s18'!X7)+('s19'!X7)+('s20'!X7)+('s21'!X7)+('s22'!X7)+('s23'!X7)+('s24'!X7)+('s25'!X7)+('s26'!X7)+('s27'!X7)+('s28'!X7)+('s29'!X7)+('s30'!X7)+('s31'!X7)+('s32'!X7)+('s35'!X7)+('s36 (2)'!X7) -> -0.45138889 | AA7: laurine | AB7: 96h | AC7: 108.75 fait | AD7: 29h
O8: pa1 | S8: pa1
A9: cypris | F9: 0.3125 | G9: 0.47916667 | H9: 0.51041667 | I9: 0.73958333 | N9: 0.33333333 | O9: 0.47916667 | P9: 0.51041667 | Q9: 0.73958333 | V9: =(C9-B9)+(E9-D9)+(G9-F9)+(I9-H9)+(K9-J9)+(M9-L9)+(O9-N9)+(Q9-P9)+(S9-R9)+(U9-T9) -> 0.77083333 | W9: 0.875 | X9: =V9-W9 -> -0.10416667 | AA9: cypris | AB9: 102h | AC9: 96 fait | AD9: 6h
A11: naila | J11: 0.33333333 | K11: 0.40625 | L11: 0.53125 | M11: 0.72916667 | R11: 0.32291667 | S11: 0.47916667 | T11: 0.51041667 | U11: 0.71875 | V11: =(C11-B11)+(E11-D11)+(G11-F11)+(I11-H11)+(K11-J11)+(M11-L11)+(O11-N11)+(Q11-P11)+(S11-R11)+(U11-T11) -> 0.63541667 | W11: 0.58333333 | X11: =V11-W11 -> 0.052083333 | AA11: naila | AB11: 95h | AC11: 91.5 fait | AD11: 3h30
A13: oceane | J13: 0.44791667 | M13: 0.57291667 | N13: 0.35416667 | O13: 0.54166667 | P13: 0.57291667 | Q13: 0.72916667 | R13: 0.33333333 | S13: 0.54166667 | T13: 0.57291667 | U13: 0.71875
C16: REPOS | F16: ABSENT
C18: ECOLE
A20: 7h00 | B20: 7h15 | C20: 7h30 | D20: 7h45 | E20: 8h00 | F20: 8h15 | G20: 8h30 | H20: 8h45 | I20: 9h00 | J20: 9h15 | K20: 9h30 | L20: 9h45 | M20: 10h00 | N20: 10h15 | O20: 10h30 | P20: 10h45 | Q20: 11h00 | R20: 11h15 | S20: 11h30 | T20: 11h45 | U20: 12h00 | V20: 12h15 | W20: 12h30 | X20: 12h45 | Y20: 13h00 | Z20: 13h15 | AA20: 13h30 | AB20: 13h45 | AC20: 14h00 | AD20: 14h15 | AE20: 14h30 | AF20: 14h45 | AG20: 15h00 | AH20: 15h15 | AI20: 15h30 | AJ20: 15h45 | AK20: 16h00 | AL20: 16h15 | AM20: 16h30 | AN20: 16h45 | AO20: 17h00 | AP20: 17h15 | AQ20: 17h30 | AR20: 17h45 | AS20: 18h00 | AT20: 18h15 | AU20: 18h30 | AV20: 18h45 | AW20: 19h00
A21: lundi 06 mars
A29: mardi 07 mars
A37: mercredi 08 mars
A45: jeudi 09 mars
B47: TRUE | C47: TRUE | D47: TRUE | E47: TRUE | F47: TRUE | G47: TRUE | H47: TRUE | I47: TRUE | J47: TRUE | K47: TRUE | L47: TRUE | M47: TRUE | N47: TRUE | O47: TRUE | P47: TRUE | Q47: TRUE | R47: TRUE | S47: TRUE | T47: TRUE | U47: TRUE | V47: TRUE | W47: TRUE | X47: TRUE | Y47: TRUE | Z47: TRUE | AA47: TRUE | AB47: TRUE | AC47: TRUE | AD47: TRUE | AE47: TRUE | AF47: TRUE | AG47: TRUE | AH47: TRUE | AI47: TRUE | AJ47: TRUE | AK47: TRUE | AL47: TRUE | AM47: TRUE | AN47: TRUE | AO47: TRUE | AP47: TRUE | AQ47: TRUE | AR47: TRUE | AS47: TRUE | AT47: TRUE | AU47: TRUE | AV47: TRUE | AW47: TRUE | AX47: TRUE
B48: FALSE | C48: FALSE | D48: FALSE | E48: FALSE | F48: FALSE | G48: FALSE | H48: FALSE | I48: FALSE | J48: FALSE | K48: FALSE | L48: FALSE | M48: FALSE | N48: FALSE | O48: FALSE | P48: FALSE | Q48: FALSE | R48: FALSE | S48: FALSE | T48: FALSE | U48: TRUE | V48: TRUE | W48: TRUE | X48: TRUE | Y48: TRUE | Z48: TRUE | AA48: TRUE | AB48: TRUE | AC48: TRUE | AD48: TRUE | AE48: TRUE | AF48: TRUE | AG48: TRUE | AH48: TRUE | AI48: TRUE | AJ48: TRUE | AK48: TRUE | AL48: TRUE | AM48: TRUE | AN48: TRUE | AO48: TRUE | AP48: TRUE | AQ48: TRUE | AR48: TRUE | AS48: TRUE | AT48: TRUE | AU48: TRUE | AV48: TRUE | AW48: FALSE | AX48: FALSE
B49: FALSE | C49: FALSE | D49: FALSE | E49: FALSE | F49: FALSE | G49: FALSE | H49: FALSE | I49: FALSE | J49: FALSE | K49: TRUE | L49: TRUE | M49: TRUE | N49: TRUE | O49: TRUE | P49: TRUE | Q49: TRUE | R49: TRUE | S49: TRUE | T49: TRUE | U49: TRUE | V49: TRUE | W49: TRUE | X49: TRUE | Y49: TRUE | Z49: TRUE | AA49: TRUE | AB49: TRUE | AC49: TRUE | AD49: TRUE | AE49: TRUE | AF49: TRUE | AG49: TRUE | AH49: TRUE | AI49: TRUE | AJ49: TRUE | AK49: TRUE | AL49: TRUE | AM49: TRUE | AN49: TRUE | AO49: TRUE | AP49: TRUE | AQ49: FALSE | AR49: FALSE | AS49: FALSE | AT49: FALSE | AU49: FALSE | AV49: FALSE | AW49: FALSE | AX49: FALSE
B50: FALSE | C50: FALSE | D50: FALSE | E50: FALSE | F50: FALSE | G50: FALSE | H50: FALSE | I50: FALSE | J50: FALSE | K50: FALSE | L50: FALSE | M50: FALSE | N50: FALSE | O50: FALSE | P50: FALSE | Q50: FALSE | R50: FALSE | S50: FALSE | T50: FALSE | U50: TRUE | V50: TRUE | W50: TRUE | X50: TRUE | Y50: TRUE | Z50: TRUE | AA50: TRUE | AB50: TRUE | AC50: TRUE | AD50: TRUE | AE50: TRUE | AF50: TRUE | AG50: TRUE | AH50: TRUE | AI50: TRUE | AJ50: TRUE | AK50: TRUE | AL50: TRUE | AM50: TRUE | AN50: TRUE | AO50: TRUE | AP50: TRUE | AQ50: TRUE | AR50: TRUE | AS50: TRUE | AT50: TRUE | AU50: TRUE | AV50: TRUE | AW50: FALSE | AX50: FALSE
B51: TRUE | C51: TRUE | D51: TRUE | E51: TRUE | F51: TRUE | G51: TRUE | H51: TRUE | I51: TRUE | J51: TRUE | K51: TRUE | L51: TRUE | M51: TRUE | N51: TRUE | O51: TRUE | P51: TRUE | Q51: TRUE | R51: TRUE | S51: TRUE | T51: TRUE | U51: TRUE | V51: TRUE | W51: TRUE | X51: TRUE | Y51: TRUE | Z51: TRUE | AA51: TRUE | AB51: TRUE | AC51: TRUE | AD51: TRUE | AE51: TRUE | AF51: TRUE | AG51: TRUE | AH51: TRUE | AI51: TRUE | AJ51: TRUE | AK51: TRUE | AL51: TRUE | AM51: TRUE | AN51: TRUE | AO51: TRUE | AP51: TRUE | AQ51: TRUE | AR51: TRUE | AS51: TRUE | AT51: TRUE | AU51: TRUE | AV51: TRUE | AW51: TRUE | AX51: TRUE
B52: FALSE | C52: FALSE | D52: FALSE | E52: FALSE | F52: FALSE | G52: FALSE | H52: FALSE | I52: FALSE | J52: FALSE | K52: FALSE | L52: FALSE | M52: FALSE | N52: FALSE | O52: FALSE | P52: FALSE | Q52: FALSE | R52: FALSE | S52: FALSE | T52: FALSE | U52: FALSE | V52: FALSE | W52: FALSE | X52: FALSE | Y52: FALSE | Z52: FALSE | AA52: FALSE | AB52: FALSE | AC52: FALSE | AD52: FALSE | AE52: FALSE | AF52: FALSE | AG52: FALSE | AH52: FALSE | AI52: FALSE | AJ52: FALSE | AK52: FALSE | AL52: FALSE | AM52: FALSE | AN52: FALSE | AO52: FALSE | AP52: FALSE | AQ52: FALSE | AR52: FALSE | AS52: FALSE | AT52: FALSE | AU52: FALSE | AV52: FALSE | AW52: FALSE | AX52: FALSE
A53: vendredi 10 mars | B53: TRUE | C53: TRUE | D53: TRUE | E53: TRUE | F53: TRUE | G53: TRUE | H53: TRUE | I53: TRUE | J53: TRUE | K53: TRUE | L53: TRUE | M53: TRUE | N53: TRUE | O53: TRUE | P53: TRUE | Q53: TRUE | R53: TRUE | S53: TRUE | T53: TRUE | U53: TRUE | V53: TRUE | W53: TRUE | X53: TRUE | Y53: TRUE | Z53: TRUE | AA53: TRUE | AB53: TRUE | AC53: TRUE | AD53: TRUE | AE53: TRUE | AF53: TRUE | AG53: TRUE | AH53: TRUE | AI53: TRUE | AJ53: TRUE | AK53: TRUE | AL53: TRUE | AM53: TRUE | AN53: TRUE | AO53: TRUE | AP53: TRUE | AQ53: TRUE | AR53: TRUE | AS53: TRUE | AT53: TRUE | AU53: TRUE | AV53: TRUE | AW53: TRUE | AX53: TRUE
B54: FALSE | C54: FALSE | D54: FALSE | E54: FALSE | F54: FALSE | G54: FALSE | H54: FALSE | I54: FALSE | J54: FALSE | K54: FALSE | L54: FALSE | M54: FALSE | N54: FALSE | O54: FALSE | P54: FALSE | Q54: FALSE | R54: FALSE | S54: FALSE | T54: FALSE | U54: TRUE | V54: TRUE | W54: TRUE | X54: TRUE | Y54: TRUE | Z54: TRUE | AA54: TRUE | AB54: TRUE | AC54: TRUE | AD54: TRUE | AE54: TRUE | AF54: TRUE | AG54: TRUE | AH54: TRUE | AI54: TRUE | AJ54: TRUE | AK54: TRUE | AL54: TRUE | AM54: TRUE | AN54: TRUE | AO54: TRUE | AP54: TRUE | AQ54: TRUE | AR54: TRUE | AS54: TRUE | AT54: TRUE | AU54: TRUE | AV54: TRUE | AW54: FALSE | AX54: FALSE
B55: FALSE | C55: FALSE | D55: TRUE | E55: TRUE | F55: TRUE | G55: TRUE | H55: TRUE | I55: TRUE | J55: TRUE | K55: TRUE | L55: TRUE | M55: TRUE | N55: TRUE | O55: TRUE | P55: TRUE | Q55: TRUE | R55: TRUE | S55: TRUE | T55: TRUE | U55: TRUE | V55: TRUE | W55: TRUE | X55: TRUE | Y55: TRUE | Z55: TRUE | AA55: TRUE | AB55: TRUE | AC55: TRUE | AD55: TRUE | AE55: TRUE | AF55: FALSE | AG55: FALSE | AH55: FALSE | AI55: FALSE | AJ55: FALSE | AK55: FALSE | AL55: FALSE | AM55: FALSE | AN55: FALSE | AO55: FALSE | AP55: FALSE | AQ55: FALSE | AR55: FALSE | AS55: FALSE | AT55: FALSE | AU55: FALSE | AV55: FALSE | AW55: FALSE | AX55: FALSE
B56: FALSE | C56: FALSE | D56: FALSE | E56: FALSE | F56: FALSE | G56: FALSE | H56: FALSE | I56: FALSE | J56: FALSE | K56: FALSE | L56: FALSE | M56: FALSE | N56: FALSE | O56: FALSE | P56: FALSE | Q56: FALSE | R56: FALSE | S56: FALSE | T56: FALSE | U56: TRUE | V56: TRUE | W56: TRUE | X56: TRUE | Y56: TRUE | Z56: TRUE | AA56: TRUE | AB56: TRUE | AC56: TRUE | AD56: TRUE | AE56: TRUE | AF56: TRUE | AG56: TRUE | AH56: TRUE | AI56: TRUE | AJ56: TRUE | AK56: TRUE | AL56: TRUE | AM56: TRUE | AN56: TRUE | AO56: TRUE | AP56: TRUE | AQ56: TRUE | AR56: TRUE | AS56: TRUE | AT56: TRUE | AU56: TRUE | AV56: TRUE | AW56: FALSE | AX56: FALSE
B57: FALSE | C57: FALSE | D57: FALSE | E57: TRUE | F57: TRUE | G57: TRUE | H57: TRUE | I57: TRUE | J57: TRUE | K57: TRUE | L57: TRUE | M57: TRUE | N57: TRUE | O57: TRUE | P57: TRUE | Q57: TRUE | R57: TRUE | S57: TRUE | T57: TRUE | U57: TRUE | V57: TRUE | W57: TRUE | X57: TRUE | Y57: TRUE | Z57: TRUE | AA57: TRUE | AB57: TRUE | AC57: TRUE | AD57: TRUE | AE57: TRUE | AF57: TRUE | AG57: FALSE | AH57: FALSE | AI57: FALSE | AJ57: FALSE | AK57: FALSE | AL57: FALSE | AM57: FALSE | AN57: FALSE | AO57: FALSE | AP57: FALSE | AQ57: FALSE | AR57: FALSE | AS57: FALSE | AT57: FALSE | AU57: FALSE | AV57: FALSE | AW57: FALSE | AX57: FALSE
B58: TRUE | C58: TRUE | D58: TRUE | E58: TRUE | F58: TRUE | G58: TRUE | H58: TRUE | I58: TRUE | J58: TRUE | K58: TRUE | L58: TRUE | M58: TRUE | N58: TRUE | O58: TRUE | P58: TRUE | Q58: TRUE | R58: TRUE | S58: TRUE | T58: TRUE | U58: TRUE | V58: TRUE | W58: TRUE | X58: TRUE | Y58: TRUE | Z58: TRUE | AA58: TRUE | AB58: TRUE | AC58: TRUE | AD58: TRUE | AE58: TRUE | AF58: TRUE | AG58: TRUE | AH58: TRUE | AI58: TRUE | AJ58: TRUE | AK58: TRUE | AL58: TRUE | AM58: TRUE | AN58: TRUE | AO58: TRUE | AP58: TRUE | AQ58: TRUE | AR58: TRUE | AS58: TRUE | AT58: TRUE | AU58: TRUE | AV58: TRUE | AW58: TRUE | AX58: TRUE
B59: TRUE | C59: TRUE | D59: TRUE | E59: TRUE | F59: TRUE | G59: TRUE | H59: TRUE | I59: TRUE | J59: TRUE | K59: TRUE | L59: TRUE | M59: TRUE | N59: TRUE | O59: TRUE | P59: TRUE | Q59: TRUE | R59: TRUE | S59: TRUE | T59: TRUE | U59: TRUE | V59: TRUE | W59: TRUE | X59: TRUE | Y59: TRUE | Z59: TRUE | AA59: TRUE | AB59: TRUE | AC59: TRUE | AD59: TRUE | AE59: TRUE | AF59: TRUE | AG59: TRUE | AH59: TRUE | AI59: TRUE | AJ59: TRUE | AK59: TRUE | AL59: TRUE | AM59: TRUE | AN59: TRUE | AO59: TRUE | AP59: TRUE | AQ59: TRUE | AR59: TRUE | AS59: TRUE | AT59: TRUE | AU59: TRUE | AV59: TRUE | AW59: TRUE | AX59: TRUE
B60: FALSE | C60: FALSE | D60: FALSE | E60: FALSE | F60: FALSE | G60: FALSE | H60: FALSE | I60: FALSE | J60: FALSE | K60: TRUE | L60: TRUE | M60: TRUE | N60: TRUE | O60: TRUE | P60: TRUE | Q60: TRUE | R60: TRUE | S60: TRUE | T60: TRUE | U60: TRUE | V60: TRUE | W60: TRUE | X60: TRUE | Y60: TRUE | Z60: TRUE | AA60: TRUE | AB60: TRUE | AC60: TRUE | AD60: TRUE | AE60: TRUE | AF60: TRUE | AG60: TRUE | AH60: TRUE | AI60: TRUE | AJ60: TRUE | AK60: TRUE | AL60: TRUE | AM60: TRUE | AN60: TRUE | AO60: TRUE | AP60: TRUE | AQ60: FALSE | AR60: FALSE | AS60: FALSE | AT60: FALSE | AU60: FALSE | AV60: FALSE | AW60: FALSE | AX60: FALSE
C61: CFA

Sheet s36
B1: lundi 2 septembre | F1: mardi 3 septembre | J1: mercredi 4 septembre | N1: jeudi 5 septembre | R1: vendredi 6 septembre | V1: TOTAL
B2: arrivee | C2: coupure | D2: reprise | E2: depart | F2: arrivee | G2: coupure | H2: reprise | I2: depart | J2: arrivee | K2: coupure | L2: reprise | M2: depart | N2: arrivee | O2: coupure | P2: reprise | Q2: depart | R2: arrivee | S2: coupure | T2: reprise | U2: depart
A3: sarah | B3: 0.33333333 | E3: 0.73958333 | F3: 0.375 | G3: 0.54166667 | H3: 0.57291667 | I3: 0.70833333 | N3: 0.375 | Q3: 0.73958333 | R3: 0.375 | S3: 0.54166667 | T3: 0.57291667 | U3: 0.70833333 | V3: =(C3-B3)+(E3-D3)+(G3-F3)+(I3-H3)+(K3-J3)+(M3-L3)+(O3-N3)+(Q3-P3)+(S3-R3)+(U3-T3) -> 1.375 | W3: 1.4583333 | X3: =V3-W3 -> -0.083333333 | Y3: =SUM('s7'!X3)+('s8'!X3)+('s9'!X3)+('s10'!X3)+('s11'!X3)+('s12'!X3)+('s13'!X3)+('s14'!X3)+('s15'!X3)+('s16'!X3)+('s17'!X3)+('s18'!X3)+('s19'!X3)+('s20'!X3)+('s21'!X3)+('s22'!X3)+('s23'!X3)+('s24'!X3)+('s25'!X3)+('s26'!X3)+('s27'!X3)+('s28'!X3)+('s29'!X3)+('s30'!X3)+('s31'!X3)+('s32'!X3)+('s35'!X3)+('s36'!X3) -> -1.2395833 | AA3: sarah | AB3: 140 h | AC3: 133 fait | AD3: 51h30
A5: heloïse | F5: 0.53125 | I5: 0.70833333 | N5: 0.54166667 | Q5: 0.72916667 | R5: 0.54166667 | U5: 0.72916667 | V5: =(C5-B5)+(E5-D5)+(G5-F5)+(I5-H5)+(K5-J5)+(M5-L5)+(O5-N5)+(Q5-P5)+(S5-R5)+(U5-T5) -> 0.55208333 | W5: 0.875 | X5: =V5-W5 -> -0.32291667 | Y5: =SUM('s14'!X9)+('s15'!X9)+('s16'!X9)+('s17'!X9)+('s18'!X9)+('s19'!X9)+('s20'!X9)+('s21'!X9)+('s22'!X9)+('s23'!X9)+('s24'!X9)+('s25'!X9)+('s26'!X9)+('s27'!X9)+('s28'!X9)+('s29'!X9)+('s30'!X9)+('s31'!X9)+('s32'!X9)+('s35'!X5)+('s36'!X5) -> -1.6666667 | AA5: heloise
C6: CONGE | G6: pa1 | O6: pa1 | S6: pa1
A7: laurine | B7: 0.35416667 | E7: 0.72916667 | F7: 0.36458333 | G7: 0.51041667 | H7: 0.54166667 | I7: 0.72916667 | N7: 0.33333333 | O7: 0.54166667 | P7: 0.57291667 | Q7: 0.6875 | R7: 0.35416667 | S7: 0.54166667 | T7: 0.57291667 | U7: 0.6875 | V7: =(C7-B7)+(E7-D7)+(G7-F7)+(I7-H7)+(K7-J7)+(M7-L7)+(O7-N7)+(Q7-P7)+(S7-R7)+(U7-T7) -> 1.3333333 | W7: 1 | X7: =V7-W7 -> 0.33333333 | Y7: =SUM('s7'!X7)+('s8'!X7)+('s9'!X7)+('s10'!X7)+('s11'!X7)+('s12'!X7)+('s13'!X7)+('s14'!X7)+('s15'!X7)+('s16'!X7)+('s17'!X7)+('s18'!X7)+('s19'!X7)+('s20'!X7)+('s21'!X7)+('s22'!X7)+('s23'!X7)+('s24'!X7)+('s25'!X7)+('s26'!X7)+('s27'!X7)+('s28'!X7)+('s29'!X7)+('s30'!X7)+('s31'!X7)+('s32'!X7)+('s35'!X7)+('s36'!X7) -> -0.45138889 | AA7: laurine | AB7: 96h | AC7: 108.75 fait | AD7: 29h
O8: pa1 | S8: pa1
A9: cypris | F9: 0.3125 | G9: 0.47916667 | H9: 0.51041667 | I9: 0.73958333 | N9: 0.33333333 | O9: 0.47916667 | P9: 0.51041667 | Q9: 0.73958333 | V9: =(C9-B9)+(E9-D9)+(G9-F9)+(I9-H9)+(K9-J9)+(M9-L9)+(O9-N9)+(Q9-P9)+(S9-R9)+(U9-T9) -> 0.77083333 | W9: 0.875 | X9: =V9-W9 -> -0.10416667 | AA9: cypris | AB9: 102h | AC9: 96 fait | AD9: 6h
A11: naila | J11: 0.33333333 | K11: 0.40625 | L11: 0.53125 | M11: 0.72916667 | R11: 0.32291667 | S11: 0.47916667 | T11: 0.51041667 | U11: 0.71875 | V11: =(C11-B11)+(E11-D11)+(G11-F11)+(I11-H11)+(K11-J11)+(M11-L11)+(O11-N11)+(Q11-P11)+(S11-R11)+(U11-T11) -> 0.63541667 | W11: 0.58333333 | X11: =V11-W11 -> 0.052083333 | AA11: naila | AB11: 95h | AC11: 91.5 fait | AD11: 3h30
A13: oceane | J13: 0.44791667 | M13: 0.57291667 | N13: 0.35416667 | O13: 0.54166667 | P13: 0.57291667 | Q13: 0.72916667 | R13: 0.33333333 | S13: 0.54166667 | T13: 0.57291667 | U13: 0.71875
C16: REPOS | F16: ABSENT
C18: ECOLE
B23: 0.29166667 | C23: 0.30208333 | D23: 0.33333333 | E23: 0.35416667
A24: lundi | B24: =

Sheet s37
B1: lundi 9 septembre | F1: mardi 10 septembre | J1: mercredi 11 septembre | N1: jeudi 12 septembre | R1: vendredi 13 septembre | V1: TOTAL
B2: arrivee | C2: coupure | D2: reprise | E2: depart | F2: arrivee | G2: coupure | H2: reprise | I2: depart | J2: arrivee | K2: coupure | L2: reprise | M2: depart | N2: arrivee | O2: coupure | P2: reprise | Q2: depart | R2: arrivee | S2: coupure | T2: reprise | U2: depart
A3: sarah | B3: 0.29166667 | E3: 0.57291667 | F3: 0.29166667 | I3: 0.70833333 | N3: 0.35416667 | O3: 0.54166667 | P3: 0.57291667 | Q3: 0.73958333 | R3: 0.375 | S3: 0.54166667 | T3: 0.57291667 | U3: 0.73958333 | V3: =(C3-B3)+(E3-D3)+(G3-F3)+(I3-H3)+(K3-J3)+(M3-L3)+(O3-N3)+(Q3-P3)+(S3-R3)+(U3-T3) -> 1.3854167 | W3: 1.4583333 | X3: =V3-W3 -> -0.072916667 | Y3: =SUM('s7'!X3)+('s8'!X3)+('s9'!X3)+('s10'!X3)+('s11'!X3)+('s12'!X3)+('s13'!X3)+('s14'!X3)+('s15'!X3)+('s16'!X3)+('s17'!X3)+('s18'!X3)+('s19'!X3)+('s20'!X3)+('s21'!X3)+('s22'!X3)+('s23'!X3)+('s24'!X3)+('s25'!X3)+('s26'!X3)+('s27'!X3)+('s28'!X3)+('s29'!X3)+('s30'!X3)+('s31'!X3)+('s32'!X3)+('s35'!X3)+('s36'!X3)+('s37'!X3) -> -1.3125 | AA3: sarah
A5: heloïse | B5: 0.29166667 | C5: 0.54166667 | D5: 0.57291667 | E5: 0.71875 | F5: 0.375 | I5: 0.71875 | N5: 0.33333333 | O5: 0.54166667 | P5: 0.57291667 | Q5: 0.6875 | R5: 0.39583333 | U5: 0.59375 | V5: =(C5-B5)+(E5-D5)+(G5-F5)+(I5-H5)+(K5-J5)+(M5-L5)+(O5-N5)+(Q5-P5)+(S5-R5)+(U5-T5) -> 1.2604167 | W5: 1.1666667 | X5: =V5-W5 -> 0.09375 | Y5: =SUM('s14'!X9)+('s15'!X9)+('s16'!X9)+('s17'!X9)+('s18'!X9)+('s19'!X9)+('s20'!X9)+('s21'!X9)+('s22'!X9)+('s23'!X9)+('s24'!X9)+('s25'!X9)+('s26'!X9)+('s27'!X9)+('s28'!X9)+('s29'!X9)+('s30'!X9)+('s31'!X9)+('s32'!X9)+('s35'!X5)+('s36'!X5)+('s37'!X5) -> -1.5729167 | AA5: heloise
A7: laurine | B7: 0.51041667 | E7: 0.70833333 | N7: 0.35416667 | O7: 0.54166667 | P7: 0.57291667 | Q7: 0.72916667 | R7: 0.58333333 | U7: 0.72916667 | V7: =(C7-B7)+(E7-D7)+(G7-F7)+(I7-H7)+(K7-J7)+(M7-L7)+(O7-N7)+(Q7-P7)+(S7-R7)+(U7-T7) -> 0.6875 | W7: 1 | X7: =V7-W7 -> -0.3125 | Y7: =SUM('s7'!X7)+('s8'!X7)+('s9'!X7)+('s10'!X7)+('s11'!X7)+('s12'!X7)+('s13'!X7)+('s14'!X7)+('s15'!X7)+('s16'!X7)+('s17'!X7)+('s18'!X7)+('s19'!X7)+('s20'!X7)+('s21'!X7)+('s22'!X7)+('s23'!X7)+('s24'!X7)+('s25'!X7)+('s26'!X7)+('s27'!X7)+('s28'!X7)+('s29'!X7)+('s30'!X7)+('s31'!X7)+('s32'!X7)+('s35'!X7)+('s36'!X7)+('s37'!X7) -> -0.76388889 | AA7: laurine
A9: cypris | B9: 0.52083333 | E9: 0.72916667 | N9: 0.35416667 | O9: 0.54166667 | P9: 0.57291667 | Q9: 0.72916667 | R9: 0.33333333 | S9: 0.54166667 | T9: 0.57291667 | U9: 0.72916667 | V9: =(C9-B9)+(E9-D9)+(G9-F9)+(I9-H9)+(K9-J9)+(M9-L9)+(O9-N9)+(Q9-P9)+(S9-R9)+(U9-T9) -> 0.91666667 | W9: 1.125 | X9: =V9-W9 -> -0.20833333 | Y9: =('s36'!X9)+('s37'!X9) -> -0.3125 | AA9: cypris
A11: naila | B11: 0.32291667 | E11: 0.52083333 | F11: 0.32291667 | I11: 0.72916667 | J11: 0.35416667 | M11: 0.72916667 | V11: =(C11-B11)+(E11-D11)+(G11-F11)+(I11-H11)+(K11-J11)+(M11-L11)+(O11-N11)+(Q11-P11)+(S11-R11)+(U11-T11) -> 0.97916667 | W11: 1.125 | X11: =V11-W11 -> -0.14583333 | Y11: =('s36'!X11)+('s37'!X11) -> -0.09375 | AA11: naila
A13: anissa | V13: =(C13-B13)+(E13-D13)+(G13-F13)+(I13-H13)+(K13-J13)+(M13-L13)+(O13-N13)+(Q13-P13)+(S13-R13)+(U13-T13) -> 0 | W13: 1.1666667 | X13: =V13-W13 -> -1.1666667 | AA13: anissa
C16: REPOS | F16: ABSENT
C18: ECOLE

Sheet s38
B1: lundi 16 septembre | F1: mardi 17 septembre | J1: mercredi 18 septembre | N1: jeudi 19 septembre | R1: vendredi 20 septembre | V1: TOTAL
B2: arrivee | C2: coupure | D2: reprise | E2: depart | F2: arrivee | G2: coupure | H2: reprise | I2: depart | J2: arrivee | K2: coupure | L2: reprise | M2: depart | N2: arrivee | O2: coupure | P2: reprise | Q2: depart | R2: arrivee | S2: coupure | T2: reprise | U2: depart
A3: sarah | B3: 0.375 | C3: 0.54166667 | D3: 0.57291667 | E3: 0.70833333 | F3: 0.47916667 | G3: 0.54166667 | H3: 0.57291667 | I3: 0.70833333 | J3: 0.29166667 | M3: 0.48958333 | N3: 0.35416667 | Q3: 0.71875 | R3: 0.29166667 | S3: 0.54166667 | T3: 0.57291667 | U3: 0.69791667 | V3: =(C3-B3)+(E3-D3)+(G3-F3)+(I3-H3)+(K3-J3)+(M3-L3)+(O3-N3)+(Q3-P3)+(S3-R3)+(U3-T3) -> 1.4375 | W3: 1.4583333 | X3: =V3-W3 -> -0.020833333 | Y3: =SUM('s7'!X3)+('s8'!X3)+('s9'!X3)+('s10'!X3)+('s11'!X3)+('s12'!X3)+('s13'!X3)+('s14'!X3)+('s15'!X3)+('s16'!X3)+('s17'!X3)+('s18'!X3)+('s19'!X3)+('s20'!X3)+('s21'!X3)+('s22'!X3)+('s23'!X3)+('s24'!X3)+('s25'!X3)+('s26'!X3)+('s27'!X3)+('s28'!X3)+('s29'!X3)+('s30'!X3)+('s31'!X3)+('s32'!X3)+('s35'!X3)+('s36'!X3)+('s37'!X3)+('s38'!X3) -> -1.3333333 | AA3: sarah
A5: heloïse | B5: 0.41666667 | C5: 0.54166667 | D5: 0.57291667 | E5: 0.73958333 | F5: 0.3125 | G5: 0.54166667 | H5: 0.57291667 | I5: 0.72916667 | N5: 0.32291667 | Q5: 0.72916667 | R5: 0.41666667 | S5: 0.54166667 | T5: 0.57291667 | U5: 0.73958333 | V5: =(C5-B5)+(E5-D5)+(G5-F5)+(I5-H5)+(K5-J5)+(M5-L5)+(O5-N5)+(Q5-P5)+(S5-R5)+(U5-T5) -> 1.375 | W5: 1.1666667 | X5: =V5-W5 -> 0.20833333 | Y5: =SUM('s14'!X9)+('s15'!X9)+('s16'!X9)+('s17'!X9)+('s18'!X9)+('s19'!X9)+('s20'!X9)+('s21'!X9)+('s22'!X9)+('s23'!X9)+('s24'!X9)+('s25'!X9)+('s26'!X9)+('s27'!X9)+('s28'!X9)+('s29'!X9)+('s30'!X9)+('s31'!X9)+('s32'!X9)+('s35'!X5)+('s36'!X5)+('s37'!X5)+('s38'!X5) -> -1.3645833 | AA5: heloise
A7: laurine | B7: 0.375 | C7: 0.54166667 | D7: 0.57291667 | E7: 0.72916667 | F7: 0.375 | G7: 0.54166667 | H7: 0.57291667 | I7: 0.6875 | J7: 0.35416667 | K7: 0.54166667 | L7: 0.57291667 | M7: 0.70833333 | N7: 0.42708333 | O7: 0.54166667 | P7: 0.57291667 | Q7: 0.72916667 | R7: 0.34375 | S7: 0.54166667 | T7: 0.57291667 | U7: 0.6875 | V7: =(C7-B7)+(E7-D7)+(G7-F7)+(I7-H7)+(K7-J7)+(M7-L7)+(O7-N7)+(Q7-P7)+(S7-R7)+(U7-T7) -> 1.5104167 | W7: 1 | X7: =V7-W7 -> 0.51041667 | Y7: =SUM('s7'!X7)+('s8'!X7)+('s9'!X7)+('s10'!X7)+('s11'!X7)+('s12'!X7)+('s13'!X7)+('s14'!X7)+('s15'!X7)+('s16'!X7)+('s17'!X7)+('s18'!X7)+('s19'!X7)+('s20'!X7)+('s21'!X7)+('s22'!X7)+('s23'!X7)+('s24'!X7)+('s25'!X7)+('s26'!X7)+('s27'!X7)+('s28'!X7)+('s29'!X7)+('s30'!X7)+('s31'!X7)+('s32'!X7)+('s35'!X7)+('s36'!X7)+('s37'!X7)+('s38'!X7) -> -0.25347222 | AA7: laurine
A9: cypris | B9: 0.32291667 | E9: 0.5625 | F9: 0.35416667 | I9: 0.71875 | N9: 0.35416667 | Q9: 0.71875 | R9: 0.54166667 | U9: 0.72916667 | V9: =(C9-B9)+(E9-D9)+(G9-F9)+(I9-H9)+(K9-J9)+(M9-L9)+(O9-N9)+(Q9-P9)+(S9-R9)+(U9-T9) -> 1.15625 | W9: 1.125 | X9: =V9-W9 -> 0.03125 | Y9: =('s36'!X9)+('s37'!X9)+('s38'!X9) -> -0.28125 | AA9: cypris
A11: naila | B11: 0.5625 | E11: 0.71875 | F11: 0.32291667 | G11: 0.54166667 | H11: 0.57291667 | I11: 0.72916667 | J11: 0.35416667 | K11: 0.54166667 | L11: 0.57291667 | M11: 0.71875 | R11: 0.32291667 | U11: 0.54166667 | V11: =(C11-B11)+(E11-D11)+(G11-F11)+(I11-H11)+(K11-J11)+(M11-L11)+(O11-N11)+(Q11-P11)+(S11-R11)+(U11-T11) -> 1.0833333 | W11: 1.125 | X11: =V11-W11 -> -0.041666667 | Y11: =('s36'!X11)+('s37'!X11)+('s38'!X11) -> -0.13541667 | AA11: naila
A13: anissa | V13: =(C13-B13)+(E13-D13)+(G13-F13)+(I13-H13)+(K13-J13)+(M13-L13)+(O13-N13)+(Q13-P13)+(S13-R13)+(U13-T13) -> 0 | W13: 1.1666667 | X13: =V13-W13 -> -1.1666667 | AA13: anissa
C16: REPOS | F16: ABSENT
C18: ECOLE

Sheet s39
B1: lundi 16 septembre | F1: mardi 17 septembre | J1: mercredi 18 septembre | N1: jeudi 19 septembre | R1: vendredi 20 septembre | V1: TOTAL
B2: arrivee | C2: coupure | D2: reprise | E2: depart | F2: arrivee | G2: coupure | H2: reprise | I2: depart | J2: arrivee | K2: coupure | L2: reprise | M2: depart | N2: arrivee | O2: coupure | P2: reprise | Q2: depart | R2: arrivee | S2: coupure | T2: reprise | U2: depart
A3: sarah | B3: 0.29166667 | E3: 0.70833333 | F3: 0.36458333 | G3: 0.54166667 | H3: 0.57291667 | I3: 0.70833333 | N3: 0.375 | O3: 0.54166667 | P3: 0.57291667 | Q3: 0.71875 | R3: 0.39583333 | S3: 0.54166667 | T3: 0.57291667 | U3: 0.72916667 | V3: =(C3-B3)+(E3-D3)+(G3-F3)+(I3-H3)+(K3-J3)+(M3-L3)+(O3-N3)+(Q3-P3)+(S3-R3)+(U3-T3) -> 1.34375 | W3: 2.15625 | X3: =V3-W3 -> -0.8125 | Y3: =SUM('s7'!X3)+('s8'!X3)+('s9'!X3)+('s10'!X3)+('s11'!X3)+('s12'!X3)+('s13'!X3)+('s14'!X3)+('s15'!X3)+('s16'!X3)+('s17'!X3)+('s18'!X3)+('s19'!X3)+('s20'!X3)+('s21'!X3)+('s22'!X3)+('s23'!X3)+('s24'!X3)+('s25'!X3)+('s26'!X3)+('s27'!X3)+('s28'!X3)+('s29'!X3)+('s30'!X3)+('s31'!X3)+('s32'!X3)+('s35'!X3)+('s36'!X3)+('s37'!X3)+('s38'!X3)+('s39'!X3) -> -2.1458333 | AA3: sarah
A5: heloïse | F5: 0.29166667 | G5: 0.54166667 | H5: 0.57291667 | I5: 0.72916667 | N5: 0.29166667 | Q5: 0.73958333 | R5: 0.375 | S5: 0.54166667 | T5: 0.57291667 | U5: 0.75 | V5: =(C5-B5)+(E5-D5)+(G5-F5)+(I5-H5)+(K5-J5)+(M5-L5)+(O5-N5)+(Q5-P5)+(S5-R5)+(U5-T5) -> 1.1979167 | W5: 1.1666667 | X5: =V5-W5 -> 0.03125 | Y5: =SUM('s14'!X9)+('s15'!X9)+('s16'!X9)+('s17'!X9)+('s18'!X9)+('s19'!X9)+('s20'!X9)+('s21'!X9)+('s22'!X9)+('s23'!X9)+('s24'!X9)+('s25'!X9)+('s26'!X9)+('s27'!X9)+('s28'!X9)+('s29'!X9)+('s30'!X9)+('s31'!X9)+('s32'!X9)+('s35'!X5)+('s36'!X5)+('s37'!X5)+('s38'!X5)+('s39'!X5) -> -1.3333333 | AA5: heloise
C6: pa1
A7: laurine | F7: 0.34375 | I7: 0.6875 | N7: 0.375 | O7: 0.54166667 | P7: 0.57291667 | Q7: 0.73958333 | R7: 0.33333333 | S7: 0.54166667 | T7: 0.57291667 | U7: 0.6875 | V7: =(C7-B7)+(E7-D7)+(G7-F7)+(I7-H7)+(K7-J7)+(M7-L7)+(O7-N7)+(Q7-P7)+(S7-R7)+(U7-T7) -> 1 | W7: 1.9548611 | X7: =V7-W7 -> -0.95486111 | Y7: =SUM('s7'!X7)+('s8'!X7)+('s9'!X7)+('s10'!X7)+('s11'!X7)+('s12'!X7)+('s13'!X7)+('s14'!X7)+('s15'!X7)+('s16'!X7)+('s17'!X7)+('s18'!X7)+('s19'!X7)+('s20'!X7)+('s21'!X7)+('s22'!X7)+('s23'!X7)+('s24'!X7)+('s25'!X7)+('s26'!X7)+('s27'!X7)+('s28'!X7)+('s29'!X7)+('s30'!X7)+('s31'!X7)+('s32'!X7)+('s35'!X7)+('s36'!X7)+('s37'!X7)+('s38'!X7)+('s39'!X7) -> -1.2083333 | AA7: laurine
C8: pa1 | G8: pa1 | O8: pa1 | S8: pa1
A9: cypris | B9: 0.54166667 | E9: 0.71875 | F9: 0.32291667 | G9: 0.54166667 | H9: 0.57291667 | I9: 0.72916667 | N9: 0.32291667 | Q9: 0.71875 | R9: 0.32291667 | U9: 0.53125 | V9: =(C9-B9)+(E9-D9)+(G9-F9)+(I9-H9)+(K9-J9)+(M9-L9)+(O9-N9)+(Q9-P9)+(S9-R9)+(U9-T9) -> 1.15625 | W9: 1.125 | X9: =V9-W9 -> 0.03125 | Y9: =('s36'!X9)+('s37'!X9)+('s38'!X9)+('s39'!X9) -> -0.25 | AA9: cypris
A11: naila | B11: 0.32291667 | E11: 0.54166667 | F11: 0.35416667 | I11: 0.71875 | J11: 0.35416667 | K11: 0.54166667 | L11: 0.57291667 | M11: 0.71875 | R11: 0.53125 | U11: 0.72916667 | V11: =(C11-B11)+(E11-D11)+(G11-F11)+(I11-H11)+(K11-J11)+(M11-L11)+(O11-N11)+(Q11-P11)+(S11-R11)+(U11-T11) -> 1.1145833 | W11: 1.125 | X11: =V11-W11 -> -0.010416667 | Y11: =('s36'!X11)+('s37'!X11)+('s38'!X11)+('s39'!X11) -> -0.14583333 | AA11: naila
A13: anissa | V13: =(C13-B13)+(E13-D13)+(G13-F13)+(I13-H13)+(K13-J13)+(M13-L13)+(O13-N13)+(Q13-P13)+(S13-R13)+(U13-T13) -> 0 | W13: 1.1666667 | X13: =V13-W13 -> -1.1666667 | AA13: anissa
C16: REPOS | F16: ABSENT
C18: ECOLE

Sheet s40
B1: lundi 30 septembre | F1: mardi 1 oct | J1: mercredi 2 oct | N1: jeudi 3 oct | R1: vendredi 4 oct | V1: TOTAL
B2: arrivee | C2: coupure | D2: reprise | E2: depart | F2: arrivee | G2: coupure | H2: reprise | I2: depart | J2: arrivee | K2: coupure | L2: reprise | M2: depart | N2: arrivee | O2: coupure | P2: reprise | Q2: depart | R2: arrivee | S2: coupure | T2: reprise | U2: depart
A3: sarah | B3: 0.47916667 | E3: 0.61458333 | F3: 0.34375 | G3: 0.54166667 | H3: 0.57291667 | I3: 0.72916667 | J3: 0.29166667 | M3: 0.51041667 | N3: 0.32291667 | O3: 0.54166667 | P3: 0.57291667 | Q3: 0.71875 | R3: 0.375 | U3: 0.71875 | V3: =(C3-B3)+(E3-D3)+(G3-F3)+(I3-H3)+(K3-J3)+(M3-L3)+(O3-N3)+(Q3-P3)+(S3-R3)+(U3-T3) -> 1.4166667 | W3: 1.4583333 | X3: =V3-W3 -> -0.041666667 | Y3: =SUM('s7'!X3)+('s8'!X3)+('s9'!X3)+('s10'!X3)+('s11'!X3)+('s12'!X3)+('s13'!X3)+('s14'!X3)+('s15'!X3)+('s16'!X3)+('s17'!X3)+('s18'!X3)+('s19'!X3)+('s20'!X3)+('s21'!X3)+('s22'!X3)+('s23'!X3)+('s24'!X3)+('s25'!X3)+('s26'!X3)+('s27'!X3)+('s28'!X3)+('s29'!X3)+('s30'!X3)+('s31'!X3)+('s32'!X3)+('s35'!X3)+('s36'!X3)+('s37'!X3)+('s38'!X3)+('s39'!X3)+('s40'!X3) -> -2.1875 | AA3: sarah
A5: heloïse | B5: 0.33333333 | E5: 0.54166667 | F5: 0.29166667 | G5: 0.54166667 | H5: 0.57291667 | I5: 0.73958333 | N5: 0.29166667 | Q5: 0.73958333 | V5: =(C5-B5)+(E5-D5)+(G5-F5)+(I5-H5)+(K5-J5)+(M5-L5)+(O5-N5)+(Q5-P5)+(S5-R5)+(U5-T5) -> 1.0729167 | W5: 1.1666667 | X5: =V5-W5 -> -0.09375 | Y5: =SUM('s14'!X9)+('s15'!X9)+('s16'!X9)+('s17'!X9)+('s18'!X9)+('s19'!X9)+('s20'!X9)+('s21'!X9)+('s22'!X9)+('s23'!X9)+('s24'!X9)+('s25'!X9)+('s26'!X9)+('s27'!X9)+('s28'!X9)+('s29'!X9)+('s30'!X9)+('s31'!X9)+('s32'!X9)+('s35'!X5)+('s36'!X5)+('s37'!X5)+('s38'!X5)+('s39'!X5)+('s40'!X5) -> -1.4270833 | AA5: heloise
A7: laurine | B7: 0.53125 | E7: 0.72916667 | F7: 0.375 | I7: 0.70833333 | N7: 0.32291667 | Q7: 0.72916667 | R7: 0.35416667 | U7: 0.71875 | V7: =(C7-B7)+(E7-D7)+(G7-F7)+(I7-H7)+(K7-J7)+(M7-L7)+(O7-N7)+(Q7-P7)+(S7-R7)+(U7-T7) -> 1.3020833 | W7: 1 | X7: =V7-W7 -> 0.30208333 | Y7: =SUM('s7'!X7)+('s8'!X7)+('s9'!X7)+('s10'!X7)+('s11'!X7)+('s12'!X7)+('s13'!X7)+('s14'!X7)+('s15'!X7)+('s16'!X7)+('s17'!X7)+('s18'!X7)+('s19'!X7)+('s20'!X7)+('s21'!X7)+('s22'!X7)+('s23'!X7)+('s24'!X7)+('s25'!X7)+('s26'!X7)+('s27'!X7)+('s28'!X7)+('s29'!X7)+('s30'!X7)+('s31'!X7)+('s32'!X7)+('s35'!X7)+('s36'!X7)+('s37'!X7)+('s38'!X7)+('s39'!X7)+('s40'!X7) -> -0.90625 | AA7: laurine
A9: cypris | B9: 0.54166667 | E9: 0.72916667 | F9: 0.33333333 | G9: 0.54166667 | H9: 0.57291667 | I9: 0.72916667 | N9: 0.34375 | O9: 0.54166667 | P9: 0.57291667 | Q9: 0.70833333 | R9: 0.33333333 | U9: 0.54166667 | V9: =(C9-B9)+(E9-D9)+(G9-F9)+(I9-H9)+(K9-J9)+(M9-L9)+(O9-N9)+(Q9-P9)+(S9-R9)+(U9-T9) -> 1.09375 | W9: 1.125 | X9: =V9-W9 -> -0.03125 | Y9: =('s36'!X9)+('s37'!X9)+('s38'!X9)+('s39'!X9)+('s40'!X9) -> -0.28125 | AA9: cypris
A11: naila | B11: 0.32291667 | E11: 0.54166667 | F11: 0.35416667 | I11: 0.70833333 | J11: 0.33333333 | M11: 0.72916667 | R11: 0.54166667 | U11: 0.71875 | V11: =(C11-B11)+(E11-D11)+(G11-F11)+(I11-H11)+(K11-J11)+(M11-L11)+(O11-N11)+(Q11-P11)+(S11-R11)+(U11-T11) -> 1.1458333 | W11: 1.125 | X11: =V11-W11 -> 0.020833333 | Y11: =('s36'!X11)+('s37'!X11)+('s38'!X11)+('s39'!X11)+('s40'!X11) -> -0.125 | AA11: naila
A13: anissa | V13: =(C13-B13)+(E13-D13)+(G13-F13)+(I13-H13)+(K13-J13)+(M13-L13)+(O13-N13)+(Q13-P13)+(S13-R13)+(U13-T13) -> 0 | W13: 1.1666667 | X13: =V13-W13 -> -1.1666667 | AA13: anissa
A15: oceane | J15: 0.48958333 | M15: 0.65625 | N15: 0.34375 | Q15: 0.72916667 | R15: 0.5625 | U15: 0.6875 | V15: =(C15-B15)+(E15-D15)+(G15-F15)+(I15-H15)+(K15-J15)+(M15-L15)+(O15-N15)+(Q15-P15)+(S15-R15)+(U15-T15) -> 0.67708333 | W15: 0.625 | X15: =V15-W15 -> 0.052083333 | AA15: oceane
C21: REPOS | F21: ABSENT
C23: ECOLE

Sheet s41
B1: lundi 7 oct | F1: mardi 8 oct | J1: mercredi 9 oct | N1: jeudi 10 oct | R1: vendredi 11 oct | V1: TOTAL
B2: arrivee | C2: coupure | D2: reprise | E2: depart | F2: arrivee | G2: coupure | H2: reprise | I2: depart | J2: arrivee | K2: coupure | L2: reprise | M2: depart | N2: arrivee | O2: coupure | P2: reprise | Q2: depart | R2: arrivee | S2: coupure | T2: reprise | U2: depart
A3: sarah | B3: 0.375 | C3: 0.54166667 | D3: 0.57291667 | E3: 0.75 | F3: 0.34375 | I3: 0.70833333 | J3: 0.51041667 | M3: 0.72916667 | N3: 0.32291667 | O3: 0.54166667 | P3: 0.57291667 | Q3: 0.70833333 | R3: 0.33333333 | U3: 0.71875 | V3: =(C3-B3)+(E3-D3)+(G3-F3)+(I3-H3)+(K3-J3)+(M3-L3)+(O3-N3)+(Q3-P3)+(S3-R3)+(U3-T3) -> 1.6666667 | W3: 1.4583333 | X3: =V3-W3 -> 0.20833333 | Y3: =SUM('s7'!X3)+('s8'!X3)+('s9'!X3)+('s10'!X3)+('s11'!X3)+('s12'!X3)+('s13'!X3)+('s14'!X3)+('s15'!X3)+('s16'!X3)+('s17'!X3)+('s18'!X3)+('s19'!X3)+('s20'!X3)+('s21'!X3)+('s22'!X3)+('s23'!X3)+('s24'!X3)+('s25'!X3)+('s26'!X3)+('s27'!X3)+('s28'!X3)+('s29'!X3)+('s30'!X3)+('s31'!X3)+('s32'!X3)+('s35'!X3)+('s36'!X3)+('s37'!X3)+('s38'!X3)+('s39'!X3)+('s40'!X3)+('s41'!X3) -> -1.9791667 | AA3: sarah
H4: pa3
A5: heloïse | B5: 0.53125 | E5: 0.72916667 | F5: 0.375 | G5: 0.54166667 | H5: 0.57291667 | I5: 0.72916667 | N5: 0.29166667 | Q5: 0.73958333 | R5: 0.35416667 | U5: 0.76041667 | V5: =(C5-B5)+(E5-D5)+(G5-F5)+(I5-H5)+(K5-J5)+(M5-L5)+(O5-N5)+(Q5-P5)+(S5-R5)+(U5-T5) -> 1.375 | W5: 1.1666667 | X5: =V5-W5 -> 0.20833333 | Y5: =SUM('s14'!X9)+('s15'!X9)+('s16'!X9)+('s17'!X9)+('s18'!X9)+('s19'!X9)+('s20'!X9)+('s21'!X9)+('s22'!X9)+('s23'!X9)+('s24'!X9)+('s25'!X9)+('s26'!X9)+('s27'!X9)+('s28'!X9)+('s29'!X9)+('s30'!X9)+('s31'!X9)+('s32'!X9)+('s35'!X5)+('s36'!X5)+('s37'!X5)+('s38'!X5)+('s39'!X5)+('s40'!X5)+('s41'!X5) -> -1.21875 | AA5: heloise
H6: pa3
A7: laurine | B7: 0.33333333 | E7: 0.5625 | F7: 0.375 | I7: 0.71875 | N7: 0.34375 | Q7: 0.72916667 | R7: 0.33333333 | U7: 0.57291667 | V7: =(C7-B7)+(E7-D7)+(G7-F7)+(I7-H7)+(K7-J7)+(M7-L7)+(O7-N7)+(Q7-P7)+(S7-R7)+(U7-T7) -> 1.1979167 | W7: 1 | X7: =V7-W7 -> 0.19791667 | Y7: =SUM('s7'!X7)+('s8'!X7)+('s9'!X7)+('s10'!X7)+('s11'!X7)+('s12'!X7)+('s13'!X7)+('s14'!X7)+('s15'!X7)+('s16'!X7)+('s17'!X7)+('s18'!X7)+('s19'!X7)+('s20'!X7)+('s21'!X7)+('s22'!X7)+('s23'!X7)+('s24'!X7)+('s25'!X7)+('s26'!X7)+('s27'!X7)+('s28'!X7)+('s29'!X7)+('s30'!X7)+('s31'!X7)+('s32'!X7)+('s35'!X7)+('s36'!X7)+('s37'!X7)+('s38'!X7)+('s39'!X7)+('s40'!X7)+('s41'!X7) -> -0.70833333 | AA7: laurine
A9: cypris | B9: 0.53125 | E9: 0.71875 | F9: 0.3125 | G9: 0.54166667 | H9: 0.57291667 | I9: 0.70833333 | N9: 0.34375 | O9: 0.54166667 | P9: 0.57291667 | Q9: 0.70833333 | R9: 0.375 | U9: 0.53125 | V9: =(C9-B9)+(E9-D9)+(G9-F9)+(I9-H9)+(K9-J9)+(M9-L9)+(O9-N9)+(Q9-P9)+(S9-R9)+(U9-T9) -> 1.0416667 | W9: 1.125 | X9: =V9-W9 -> -0.083333333 | Y9: =('s36'!X9)+('s37'!X9)+('s38'!X9)+('s39'!X9)+('s40'!X9)+('s41'!X9) -> -0.36458333 | AA9: cypris
H10: pa3
A11: naila | B11: 0.32291667 | E11: 0.53125 | F11: 0.34375 | I11: 0.70833333 | J11: 0.375 | K11: 0.54166667 | L11: 0.57291667 | M11: 0.71875 | R11: 0.53125 | U11: 0.6875 | V11: =(C11-B11)+(E11-D11)+(G11-F11)+(I11-H11)+(K11-J11)+(M11-L11)+(O11-N11)+(Q11-P11)+(S11-R11)+(U11-T11) -> 1.0416667 | W11: 1.125 | X11: =V11-W11 -> -0.083333333 | Y11: =('s36'!X11)+('s37'!X11)+('s38'!X11)+('s39'!X11)+('s40'!X11)+('s41'!X11) -> -0.20833333 | AA11: naila
A13: anissa | V13: =(C13-B13)+(E13-D13)+(G13-F13)+(I13-H13)+(K13-J13)+(M13-L13)+(O13-N13)+(Q13-P13)+(S13-R13)+(U13-T13) -> 0 | W13: 1.1666667 | X13: =V13-W13 -> -1.1666667 | AA13: anissa
A15: oceane | B15: 0.57291667 | E15: 0.69791667 | N15: 0.34375 | Q15: 0.72916667 | V15: =(C15-B15)+(E15-D15)+(G15-F15)+(I15-H15)+(K15-J15)+(M15-L15)+(O15-N15)+(Q15-P15)+(S15-R15)+(U15-T15) -> 0.51041667 | W15: 0.625 | X15: =V15-W15 -> -0.11458333 | Y15: =('s40'!X15)+('s41'!X15) -> -0.0625 | AA15: oceane
C20: REPOS | F20: ABSENT
C22: ECOLE

Sheet s42
B1: lundi 14 oct | F1: mardi 15 oct | J1: mercredi 16 oct | N1: jeudi 17 oct | R1: vendredi 18 oct | V1: TOTAL
B2: arrivee | C2: coupure | D2: reprise | E2: depart | F2: arrivee | G2: coupure | H2: reprise | I2: depart | J2: arrivee | K2: coupure | L2: reprise | M2: depart | N2: arrivee | O2: coupure | P2: reprise | Q2: depart | R2: arrivee | S2: coupure | T2: reprise | U2: depart
A3: sarah | B3: 0.375 | E3: 0.69791667 | F3: 0.34375 | G3: 0.54166667 | H3: 0.57291667 | I3: 0.71875 | J3: 0.29166667 | M3: 0.48958333 | N3: 0.29166667 | Q3: 0.71875 | R3: 0.29166667 | S3: 0.54166667 | T3: 0.57291667 | U3: 0.67708333 | V3: =(C3-B3)+(E3-D3)+(G3-F3)+(I3-H3)+(K3-J3)+(M3-L3)+(O3-N3)+(Q3-P3)+(S3-R3)+(U3-T3) -> 1.6458333 | W3: 1.4583333 | X3: =V3-W3 -> 0.1875 | Y3: =SUM('s7'!X3)+('s8'!X3)+('s9'!X3)+('s10'!X3)+('s11'!X3)+('s12'!X3)+('s13'!X3)+('s14'!X3)+('s15'!X3)+('s16'!X3)+('s17'!X3)+('s18'!X3)+('s19'!X3)+('s20'!X3)+('s21'!X3)+('s22'!X3)+('s23'!X3)+('s24'!X3)+('s25'!X3)+('s26'!X3)+('s27'!X3)+('s28'!X3)+('s29'!X3)+('s30'!X3)+('s31'!X3)+('s32'!X3)+('s35'!X3)+('s36'!X3)+('s37'!X3)+('s38'!X3)+('s39'!X3)+('s40'!X3)+('s41'!X3)+('s42'!X3) -> -1.7916667 | AA3: sarah
A5: heloïse | B5: 0.41666667 | E5: 0.76041667 | F5: 0.29166667 | G5: 0.54166667 | H5: 0.57291667 | I5: 0.73958333 | N5: 0.375 | Q5: 0.76041667 | R5: 0.375 | S5: 0.54166667 | T5: 0.57291667 | U5: 0.72916667 | V5: =(C5-B5)+(E5-D5)+(G5-F5)+(I5-H5)+(K5-J5)+(M5-L5)+(O5-N5)+(Q5-P5)+(S5-R5)+(U5-T5) -> 1.46875 | W5: 1.1666667 | X5: =V5-W5 -> 0.30208333 | Y5: =SUM('s14'!X9)+('s15'!X9)+('s16'!X9)+('s17'!X9)+('s18'!X9)+('s19'!X9)+('s20'!X9)+('s21'!X9)+('s22'!X9)+('s23'!X9)+('s24'!X9)+('s25'!X9)+('s26'!X9)+('s27'!X9)+('s28'!X9)+('s29'!X9)+('s30'!X9)+('s31'!X9)+('s32'!X9)+('s35'!X5)+('s36'!X5)+('s37'!X5)+('s38'!X5)+('s39'!X5)+('s40'!X5)+('s41'!X5)+('s42'!X5) -> -0.91666667 | AA5: heloise
A7: laurine | B7: 0.34375 | C7: 0.54166667 | D7: 0.57291667 | E7: 0.6875 | F7: 0.375 | I7: 0.71875 | N7: 0.35416667 | Q7: 0.70833333 | R7: 0.33333333 | V7: =(C7-B7)+(E7-D7)+(G7-F7)+(I7-H7)+(K7-J7)+(M7-L7)+(O7-N7)+(Q7-P7)+(S7-R7)+(U7-T7) -> 0.67708333 | W7: 1 | X7: =V7-W7 -> -0.32291667 | Y7: =SUM('s7'!X7)+('s8'!X7)+('s9'!X7)+('s10'!X7)+('s11'!X7)+('s12'!X7)+('s13'!X7)+('s14'!X7)+('s15'!X7)+('s16'!X7)+('s17'!X7)+('s18'!X7)+('s19'!X7)+('s20'!X7)+('s21'!X7)+('s22'!X7)+('s23'!X7)+('s24'!X7)+('s25'!X7)+('s26'!X7)+('s27'!X7)+('s28'!X7)+('s29'!X7)+('s30'!X7)+('s31'!X7)+('s32'!X7)+('s35'!X7)+('s36'!X7)+('s37'!X7)+('s38'!X7)+('s39'!X7)+('s40'!X7)+('s41'!X7)+('s42'!X7) -> -1.03125 | AA7: laurine
A9: cypris | B9: 0.51041667 | E9: 0.72916667 | F9: 0.3125 | I9: 0.57291667 | N9: 0.32291667 | O9: 0.54166667 | P9: 0.57291667 | Q9: 0.72916667 | R9: 0.32291667 | U9: 0.51041667 | V9: =(C9-B9)+(E9-D9)+(G9-F9)+(I9-H9)+(K9-J9)+(M9-L9)+(O9-N9)+(Q9-P9)+(S9-R9)+(U9-T9) -> 1.0416667 | W9: 1.125 | X9: =V9-W9 -> -0.083333333 | Y9: =('s36'!X9)+('s37'!X9)+('s38'!X9)+('s39'!X9)+('s40'!X9)+('s41'!X9)+('s42'!X9) -> -0.44791667 | AA9: cypris
A11: naila | B11: 0.32291667 | E11: 0.51041667 | F11: 0.34375 | G11: 0.54166667 | H11: 0.57291667 | I11: 0.70833333 | J11: 0.375 | M11: 0.72916667 | R11: 0.51041667 | U11: 0.72916667 | V11: =(C11-B11)+(E11-D11)+(G11-F11)+(I11-H11)+(K11-J11)+(M11-L11)+(O11-N11)+(Q11-P11)+(S11-R11)+(U11-T11) -> 1.09375 | W11: 1.125 | X11: =V11-W11 -> -0.03125 | Y11: =('s36'!X11)+('s37'!X11)+('s38'!X11)+('s39'!X11)+('s40'!X11)+('s41'!X11)+('s42'!X11) -> -0.23958333 | AA11: naila
A13: anissa | V13: =(C13-B13)+(E13-D13)+(G13-F13)+(I13-H13)+(K13-J13)+(M13-L13)+(O13-N13)+(Q13-P13)+(S13-R13)+(U13-T13) -> 0 | W13: 0 | X13: =V13-W13 -> 0 | AA13: anissa
A15: oceane | F15: 0.45833333 | I15: 0.72916667 | N15: 0.45833333 | O15: 0.54166667 | P15: 0.57291667 | Q15: 0.6875 | V15: =(C15-B15)+(E15-D15)+(G15-F15)+(I15-H15)+(K15-J15)+(M15-L15)+(O15-N15)+(Q15-P15)+(S15-R15)+(U15-T15) -> 0.46875 | W15: 0.625 | X15: =V15-W15 -> -0.15625 | Y15: =('s40'!X15)+('s41'!X15)+('s42'!X15) -> -0.21875 | AA15: oceane
C20: REPOS | F20: ABSENT
C22: ECOLE

Sheet s43
B1: lundi 21oct | F1: mardi 8 oct | J1: mercredi 9 oct | N1: jeudi 10 oct | R1: vendredi 11 oct | V1: TOTAL
B2: arrivee | C2: coupure | D2: reprise | E2: depart | F2: arrivee | G2: coupure | H2: reprise | I2: depart | J2: arrivee | K2: coupure | L2: reprise | M2: depart | N2: arrivee | O2: coupure | P2: reprise | Q2: depart | R2: arrivee | S2: coupure | T2: reprise | U2: depart
A3: sarah | B3: 0.29166667 | C3: 0.54166667 | D3: 0.57291667 | E3: 0.73958333 | F3: 0.29166667 | G3: 0.54166667 | H3: 0.57291667 | I3: 0.625 | J3: 0.45833333 | M3: 0.72916667 | N3: 0.52083333 | Q3: 0.73958333 | R3: 0.29166667 | S3: 0.54166667 | T3: 0.57291667 | U3: 0.73958333 | V3: =(C3-B3)+(E3-D3)+(G3-F3)+(I3-H3)+(K3-J3)+(M3-L3)+(O3-N3)+(Q3-P3)+(S3-R3)+(U3-T3) -> 1.625 | W3: 1.4583333 | X3: =V3-W3 -> 0.16666667 | Y3: =SUM('s7'!X3)+('s8'!X3)+('s9'!X3)+('s10'!X3)+('s11'!X3)+('s12'!X3)+('s13'!X3)+('s14'!X3)+('s15'!X3)+('s16'!X3)+('s17'!X3)+('s18'!X3)+('s19'!X3)+('s20'!X3)+('s21'!X3)+('s22'!X3)+('s23'!X3)+('s24'!X3)+('s25'!X3)+('s26'!X3)+('s27'!X3)+('s28'!X3)+('s29'!X3)+('s30'!X3)+('s31'!X3)+('s32'!X3)+('s35'!X3)+('s36'!X3)+('s37'!X3)+('s38'!X3)+('s39'!X3)+('s40'!X3)+('s41'!X3)+('s42'!X3)+('s43'!X3) -> -1.625 | AA3: sarah
A5: heloïse | B5: 0.34375 | E5: 0.76041667 | F5: 0.29166667 | I5: 0.58333333 | N5: 0.36458333 | Q5: 0.70833333 | R5: 0.34375 | U5: 0.76041667 | V5: =(C5-B5)+(E5-D5)+(G5-F5)+(I5-H5)+(K5-J5)+(M5-L5)+(O5-N5)+(Q5-P5)+(S5-R5)+(U5-T5) -> 1.46875 | W5: 1.1666667 | X5: =V5-W5 -> 0.30208333 | Y5: =SUM('s14'!X9)+('s15'!X9)+('s16'!X9)+('s17'!X9)+('s18'!X9)+('s19'!X9)+('s20'!X9)+('s21'!X9)+('s22'!X9)+('s23'!X9)+('s24'!X9)+('s25'!X9)+('s26'!X9)+('s27'!X9)+('s28'!X9)+('s29'!X9)+('s30'!X9)+('s31'!X9)+('s32'!X9)+('s35'!X5)+('s36'!X5)+('s37'!X5)+('s38'!X5)+('s39'!X5)+('s40'!X5)+('s41'!X5)+('s42'!X5)+('s43'!X5) -> -0.61458333 | AA5: heloise
D6: pa1 | H6: pa1 | L6: repos | P6: pa1 | T6: pa1
A7: laurine | B7: 0.375 | C7: 0.54166667 | D7: 0.57291667 | E7: 0.70833333 | F7: 0.375 | G7: 0.54166667 | H7: 0.57291667 | I7: 0.69791667 | N7: 0.39583333 | O7: 0.54166667 | P7: 0.57291667 | Q7: 0.69791667 | R7: 0.36458333 | S7: 0.54166667 | T7: 0.57291667 | U7: 0.69791667 | V7: =(C7-B7)+(E7-D7)+(G7-F7)+(I7-H7)+(K7-J7)+(M7-L7)+(O7-N7)+(Q7-P7)+(S7-R7)+(U7-T7) -> 1.1666667 | W7: 1 | X7: =V7-W7 -> 0.16666667 | Y7: =SUM('s7'!X7)+('s8'!X7)+('s9'!X7)+('s10'!X7)+('s11'!X7)+('s12'!X7)+('s13'!X7)+('s14'!X7)+('s15'!X7)+('s16'!X7)+('s17'!X7)+('s18'!X7)+('s19'!X7)+('s20'!X7)+('s21'!X7)+('s22'!X7)+('s23'!X7)+('s24'!X7)+('s25'!X7)+('s26'!X7)+('s27'!X7)+('s28'!X7)+('s29'!X7)+('s30'!X7)+('s31'!X7)+('s32'!X7)+('s35'!X7)+('s36'!X7)+('s37'!X7)+('s38'!X7)+('s39'!X7)+('s40'!X7)+('s41'!X7)+('s42'!X7)+('s43'!X7) -> -0.86458333 | AA7: laurine
L8: repos
A9: cypris | B9: 0.33333333 | E9: 0.54166667 | F9: 0.52083333 | I9: 0.71875 | N9: 0.32291667 | O9: 0.54166667 | P9: 0.57291667 | Q9: 0.70833333 | R9: 0.32291667 | U9: 0.54166667 | V9: =(C9-B9)+(E9-D9)+(G9-F9)+(I9-H9)+(K9-J9)+(M9-L9)+(O9-N9)+(Q9-P9)+(S9-R9)+(U9-T9) -> 0.97916667 | W9: 1.125 | X9: =V9-W9 -> -0.14583333 | Y9: =('s36'!X9)+('s37'!X9)+('s38'!X9)+('s39'!X9)+('s40'!X9)+('s41'!X9)+('s42'!X9)+('s43'!X9) -> -0.59375 | AA9: cypris
A11: naila | B11: 0.54166667 | E11: 0.72916667 | F11: 0.33333333 | I11: 0.52083333 | J11: 0.375 | M11: 0.70833333 | R11: 0.54166667 | U11: 0.70833333 | V11: =(C11-B11)+(E11-D11)+(G11-F11)+(I11-H11)+(K11-J11)+(M11-L11)+(O11-N11)+(Q11-P11)+(S11-R11)+(U11-T11) -> 0.875 | W11: 1.125 | X11: =V11-W11 -> -0.25 | Y11: =('s36'!X11)+('s37'!X11)+('s38'!X11)+('s39'!X11)+('s40'!X11)+('s41'!X11)+('s42'!X11)+('s43'!X11) -> -0.48958333 | AA11: naila
A13: anissa | V13: =(C13-B13)+(E13-D13)+(G13-F13)+(I13-H13)+(K13-J13)+(M13-L13)+(O13-N13)+(Q13-P13)+(S13-R13)+(U13-T13) -> 0 | W13: 1.1666667 | X13: =V13-W13 -> -1.1666667 | AA13: anissa
A15: oceane | B15: 0.45833333 | E15: 0.58333333 | F15: 0.55208333 | I15: 0.71875 | N15: 0.32291667 | Q15: 0.73958333 | V15: =(C15-B15)+(E15-D15)+(G15-F15)+(I15-H15)+(K15-J15)+(M15-L15)+(O15-N15)+(Q15-P15)+(S15-R15)+(U15-T15) -> 0.70833333 | W15: 0.625 | X15: =V15-W15 -> 0.083333333 | Y15: =('s40'!X15)+('s41'!X15)+('s42'!X15)+('s43'!X15) -> -0.13541667 | AA15: oceane
H16: pa1 | P16: pa1
C20: REPOS | F20: ABSENT
C22: ECOLE

Sheet s44
B1: lundi 28 oct | F1: mardi 8 oct | J1: mercredi 9 oct | N1: jeudi 10 oct | R1: vendredi 11 oct | V1: TOTAL
B2: arrivee | C2: coupure | D2: reprise | E2: depart | F2: arrivee | G2: coupure | H2: reprise | I2: depart | J2: arrivee | K2: coupure | L2: reprise | M2: depart | N2: arrivee | O2: coupure | P2: reprise | Q2: depart | R2: arrivee | S2: coupure | T2: reprise | U2: depart
A3: sarah | F3: 0.29166667 | I3: 0.71875 | J3: 0.29166667 | M3: 0.71875 | N3: 0.29166667 | O3: 0.54166667 | P3: 0.57291667 | Q3: 0.73958333 | V3: =(C3-B3)+(E3-D3)+(G3-F3)+(I3-H3)+(K3-J3)+(M3-L3)+(O3-N3)+(Q3-P3)+(S3-R3)+(U3-T3) -> 1.2708333 | W3: 1.1666667 | X3: =V3-W3 -> 0.10416667 | Y3: =SUM('s7'!X3)+('s8'!X3)+('s9'!X3)+('s10'!X3)+('s11'!X3)+('s12'!X3)+('s13'!X3)+('s14'!X3)+('s15'!X3)+('s16'!X3)+('s17'!X3)+('s18'!X3)+('s19'!X3)+('s20'!X3)+('s21'!X3)+('s22'!X3)+('s23'!X3)+('s24'!X3)+('s25'!X3)+('s26'!X3)+('s27'!X3)+('s28'!X3)+('s29'!X3)+('s30'!X3)+('s31'!X3)+('s32'!X3)+('s35'!X3)+('s36'!X3)+('s37'!X3)+('s38'!X3)+('s39'!X3)+('s40'!X3)+('s41'!X3)+('s42'!X3)+('s43'!X3)+('s44'!X3) -> -1.5208333 | AA3: sarah | AB3: 168h | AC3: 183 fait
A5: heloïse | B5: 0.29166667 | C5: 0.54166667 | D5: 0.58333333 | E5: 0.73958333 | F5: 0.32291667 | I5: 0.57291667 | N5: 0.35416667 | Q5: 0.72916667 | V5: =(C5-B5)+(E5-D5)+(G5-F5)+(I5-H5)+(K5-J5)+(M5-L5)+(O5-N5)+(Q5-P5)+(S5-R5)+(U5-T5) -> 1.03125 | W5: 0.9375 | X5: =V5-W5 -> 0.09375 | Y5: =SUM('s14'!X9)+('s15'!X9)+('s16'!X9)+('s17'!X9)+('s18'!X9)+('s19'!X9)+('s20'!X9)+('s21'!X9)+('s22'!X9)+('s23'!X9)+('s24'!X9)+('s25'!X9)+('s26'!X9)+('s27'!X9)+('s28'!X9)+('s29'!X9)+('s30'!X9)+('s31'!X9)+('s32'!X9)+('s35'!X5)+('s36'!X5)+('s37'!X5)+('s38'!X5)+('s39'!X5)+('s40'!X5)+('s41'!X5)+('s42'!X5)+('s43'!X5)+('s44'!X5) -> -0.52083333 | AA5: heloise
A7: laurine | B7: 0.375 | C7: 0.54166667 | D7: 0.58333333 | E7: 0.70833333 | F7: 0.54166667 | I7: 0.70833333 | N7: 0.375 | O7: 0.54166667 | P7: 0.57291667 | Q7: 0.69791667 | V7: =(C7-B7)+(E7-D7)+(G7-F7)+(I7-H7)+(K7-J7)+(M7-L7)+(O7-N7)+(Q7-P7)+(S7-R7)+(U7-T7) -> 0.75 | W7: 0.80208333 | X7: =V7-W7 -> -0.052083333 | Y7: =SUM('s7'!X7)+('s8'!X7)+('s9'!X7)+('s10'!X7)+('s11'!X7)+('s12'!X7)+('s13'!X7)+('s14'!X7)+('s15'!X7)+('s16'!X7)+('s17'!X7)+('s18'!X7)+('s19'!X7)+('s20'!X7)+('s21'!X7)+('s22'!X7)+('s23'!X7)+('s24'!X7)+('s25'!X7)+('s26'!X7)+('s27'!X7)+('s28'!X7)+('s29'!X7)+('s30'!X7)+('s31'!X7)+('s32'!X7)+('s35'!X7)+('s36'!X7)+('s37'!X7)+('s38'!X7)+('s39'!X7)+('s40'!X7)+('s41'!X7)+('s42'!X7)+('s43'!X7)+('s44'!X7) -> -0.91666667 | AA7: laurine | AB7: 115.25 | AC7: 122.25
A9: cypris | B9: 0.52083333 | E9: 0.72916667 | F9: 0.52083333 | I9: 0.69791667 | N9: 0.32291667 | O9: 0.54166667 | P9: 0.57291667 | Q9: 0.70833333 | V9: =(C9-B9)+(E9-D9)+(G9-F9)+(I9-H9)+(K9-J9)+(M9-L9)+(O9-N9)+(Q9-P9)+(S9-R9)+(U9-T9) -> 0.73958333 | W9: 0.90625 | X9: =V9-W9 -> -0.16666667 | Y9: =('s36'!X9)+('s37'!X9)+('s38'!X9)+('s39'!X9)+('s40'!X9)+('s41'!X9)+('s42'!X9)+('s43'!X9)+('s44'!X9) -> -0.76041667 | AA9: cypris | AB9: 129.75 | AC9: 117.5
A11: naila | B11: 0.32291667 | E11: 0.52083333 | F11: 0.32291667 | I11: 0.52083333 | J11: 0.32291667 | M11: 0.70833333 | V11: =(C11-B11)+(E11-D11)+(G11-F11)+(I11-H11)+(K11-J11)+(M11-L11)+(O11-N11)+(Q11-P11)+(S11-R11)+(U11-T11) -> 0.78125 | W11: 0.90625 | X11: =V11-W11 -> -0.125 | Y11: =('s36'!X11)+('s37'!X11)+('s38'!X11)+('s39'!X11)+('s40'!X11)+('s41'!X11)+('s42'!X11)+('s43'!X11)+('s44'!X11) -> -0.61458333 | AA11: naila | AB11: 129.75 | AC11: 118.5
A13: anissa | B13: 0.36458333 | C13: 0.54166667 | D13: 0.58333333 | E13: 0.71875 | F13: 0.375 | I13: 0.42708333 | N13: 0.39583333 | O13: 0.54166667 | P13: 0.57291667 | Q13: 0.66666667 | V13: =(C13-B13)+(E13-D13)+(G13-F13)+(I13-H13)+(K13-J13)+(M13-L13)+(O13-N13)+(Q13-P13)+(S13-R13)+(U13-T13) -> 0.60416667 | W13: 1.1666667 | X13: =V13-W13 -> -0.5625 | AA13: anissa | AB13: 28h | AC13: 14.50 fait
A15: oceane | B15: 0.45833333 | E15: 0.60416667 | V15: =(C15-B15)+(E15-D15)+(G15-F15)+(I15-H15)+(K15-J15)+(M15-L15)+(O15-N15)+(Q15-P15)+(S15-R15)+(U15-T15) -> 0.14583333 | W15: 0.5 | X15: =V15-W15 -> -0.35416667 | Y15: =('s40'!X15)+('s41'!X15)+('s42'!X15)+('s43'!X15)+('s44'!X15) -> -0.48958333 | AA15: oceane | AB15: 72h | AC15: 60.25 fait
C20: REPOS | F20: ABSENT
C22: ECOLE

Sheet s45
B1: lundi 7 oct | F1: mardi 8 oct | J1: mercredi 9 oct | N1: jeudi 10 oct | R1: vendredi 11 oct | V1: TOTAL
B2: arrivee | C2: coupure | D2: reprise | E2: depart | F2: arrivee | G2: coupure | H2: reprise | I2: depart | J2: arrivee | K2: coupure | L2: reprise | M2: depart | N2: arrivee | O2: coupure | P2: reprise | Q2: depart | R2: arrivee | S2: coupure | T2: reprise | U2: depart
A3: sarah | B3: 0.38541667 | C3: 0.54166667 | D3: 0.57291667 | E3: 0.73958333 | F3: 0.29166667 | G3: 0.54166667 | H3: 0.57291667 | I3: 0.70833333 | J3: 0.29166667 | M3: 0.48958333 | N3: 0.29166667 | O3: 0.54166667 | P3: 0.57291667 | Q3: 0.73958333 | R3: 0.39583333 | S3: 0.54166667 | T3: 0.57291667 | U3: 0.69791667 | V3: =(C3-B3)+(E3-D3)+(G3-F3)+(I3-H3)+(K3-J3)+(M3-L3)+(O3-N3)+(Q3-P3)+(S3-R3)+(U3-T3) -> 1.59375 | W3: 1.4583333 | X3: =V3-W3 -> 0.13541667 | Y3: =SUM('s7'!X3)+('s8'!X3)+('s9'!X3)+('s10'!X3)+('s11'!X3)+('s12'!X3)+('s13'!X3)+('s14'!X3)+('s15'!X3)+('s16'!X3)+('s17'!X3)+('s18'!X3)+('s19'!X3)+('s20'!X3)+('s21'!X3)+('s22'!X3)+('s23'!X3)+('s24'!X3)+('s25'!X3)+('s26'!X3)+('s27'!X3)+('s28'!X3)+('s29'!X3)+('s30'!X3)+('s31'!X3)+('s32'!X3)+('s35'!X3)+('s36'!X3)+('s37'!X3)+('s38'!X3)+('s39'!X3)+('s40'!X3)+('s41'!X3)+('s42'!X3)+('s43'!X3)+('s44'!X3)+('s45'!X3) -> -1.3854167 | AA3: sarah
A5: heloïse | B5: 0.33333333 | E5: 0.76041667 | F5: 0.54166667 | I5: 0.71875 | N5: 0.32291667 | Q5: 0.72916667 | R5: 0.29166667 | U5: 0.77083333 | V5: =(C5-B5)+(E5-D5)+(G5-F5)+(I5-H5)+(K5-J5)+(M5-L5)+(O5-N5)+(Q5-P5)+(S5-R5)+(U5-T5) -> 1.4895833 | W5: 1.1666667 | X5: =V5-W5 -> 0.32291667 | Y5: =SUM('s14'!X9)+('s15'!X9)+('s16'!X9)+('s17'!X9)+('s18'!X9)+('s19'!X9)+('s20'!X9)+('s21'!X9)+('s22'!X9)+('s23'!X9)+('s24'!X9)+('s25'!X9)+('s26'!X9)+('s27'!X9)+('s28'!X9)+('s29'!X9)+('s30'!X9)+('s31'!X9)+('s32'!X9)+('s35'!X5)+('s36'!X5)+('s37'!X5)+('s38'!X5)+('s39'!X5)+('s40'!X5)+('s41'!X5)+('s42'!X5)+('s43'!X5)+('s44'!X5)+('s45'!X5) -> -0.19791667 | AA5: heloise
A7: laurine | B7: 0.54166667 | E7: 0.71875 | F7: 0.375 | G7: 0.5 | H7: 0.57291667 | I7: 0.625 | N7: 0.375 | O7: 0.54166667 | P7: 0.57291667 | Q7: 0.73958333 | R7: 0.52083333 | U7: 0.72916667 | V7: =(C7-B7)+(E7-D7)+(G7-F7)+(I7-H7)+(K7-J7)+(M7-L7)+(O7-N7)+(Q7-P7)+(S7-R7)+(U7-T7) -> 0.89583333 | W7: 1 | X7: =V7-W7 -> -0.10416667 | Y7: =SUM('s7'!X7)+('s8'!X7)+('s9'!X7)+('s10'!X7)+('s11'!X7)+('s12'!X7)+('s13'!X7)+('s14'!X7)+('s15'!X7)+('s16'!X7)+('s17'!X7)+('s18'!X7)+('s19'!X7)+('s20'!X7)+('s21'!X7)+('s22'!X7)+('s23'!X7)+('s24'!X7)+('s25'!X7)+('s26'!X7)+('s27'!X7)+('s28'!X7)+('s29'!X7)+('s30'!X7)+('s31'!X7)+('s32'!X7)+('s35'!X7)+('s36'!X7)+('s37'!X7)+('s38'!X7)+('s39'!X7)+('s40'!X7)+('s41'!X7)+('s42'!X7)+('s43'!X7)+('s44'!X7)+('s45'!X7) -> -1.0208333 | AA7: laurine
A9: cypris | B9: 0.53125 | E9: 0.72916667 | F9: 0.3125 | G9: 0.54166667 | H9: 0.57291667 | I9: 0.73958333 | N9: 0.34375 | Q9: 0.70833333 | R9: 0.5625 | U9: 0.72916667 | V9: =(C9-B9)+(E9-D9)+(G9-F9)+(I9-H9)+(K9-J9)+(M9-L9)+(O9-N9)+(Q9-P9)+(S9-R9)+(U9-T9) -> 1.125 | W9: 1.125 | X9: =V9-W9 -> 0 | Y9: =('s36'!X9)+('s37'!X9)+('s38'!X9)+('s39'!X9)+('s40'!X9)+('s41'!X9)+('s42'!X9)+('s43'!X9)+('s44'!X9)+('s45'!X9) -> -0.76041667 | AA9: cypris
A11: naila | B11: 0.32291667 | E11: 0.53125 | F11: 0.375 | G11: 0.54166667 | H11: 0.5625 | I11: 0.70833333 | J11: 0.32291667 | M11: 0.71875 | N11: 0.34375 | Q11: 0.70833333 | R11: 0.32291667 | U11: 0.5625 | V11: =(C11-B11)+(E11-D11)+(G11-F11)+(I11-H11)+(K11-J11)+(M11-L11)+(O11-N11)+(Q11-P11)+(S11-R11)+(U11-T11) -> 1.5208333 | W11: 1.125 | X11: =V11-W11 -> 0.39583333 | Y11: =('s36'!X11)+('s37'!X11)+('s38'!X11)+('s39'!X11)+('s40'!X11)+('s41'!X11)+('s42'!X11)+('s43'!X11)+('s44'!X11)+('s45'!X11) -> -0.21875 | AA11: naila
A13: anissa | B13: 0.29166667 | E13: 0.54166667 | F13: 0.34375 | G13: 0.54166667 | H13: 0.5625 | I13: 0.72916667 | N13: 0.34375 | Q13: 0.71875 | R13: 0.36458333 | S13: 0.54166667 | T13: 0.57291667 | U13: 0.71875 | V13: =(C13-B13)+(E13-D13)+(G13-F13)+(I13-H13)+(K13-J13)+(M13-L13)+(O13-N13)+(Q13-P13)+(S13-R13)+(U13-T13) -> 1.3125 | W13: 1.4583333 | X13: =V13-W13 -> -0.14583333 | Y13: =('s44'!X13)+('s45'!X13) -> -0.70833333 | AA13: anissa
A15: oceane | F15: 0.375 | G15: 0.54166667 | H15: 0.57291667 | I15: 0.70833333 | N15: 0.3125 | O15: 0.54166667 | P15: 0.57291667 | Q15: 0.70833333 | V15: =(C15-B15)+(E15-D15)+(G15-F15)+(I15-H15)+(K15-J15)+(M15-L15)+(O15-N15)+(Q15-P15)+(S15-R15)+(U15-T15) -> 0.66666667 | W15: 0.625 | X15: =V15-W15 -> 0.041666667 | Y15: =('s40'!X15)+('s41'!X15)+('s42'!X15)+('s43'!X15)+('s44'!X15)+('s45'!X15) -> -0.44791667 | AA15: oceane
C20: REPOS | F20: ABSENT
C22: ECOLE

Sheet s46
B1: lundi 7 oct | F1: mardi 8 oct | J1: mercredi 9 oct | N1: jeudi 10 oct | R1: vendredi 11 oct | V1: TOTAL
B2: arrivee | C2: coupure | D2: reprise | E2: depart | F2: arrivee | G2: coupure | H2: reprise | I2: depart | J2: arrivee | K2: coupure | L2: reprise | M2: depart | N2: arrivee | O2: coupure | P2: reprise | Q2: depart | R2: arrivee | S2: coupure | T2: reprise | U2: depart
A3: sarah | F3: 0.375 | I3: 0.71875 | J3: 0.29166667 | M3: 0.72916667 | N3: 0.375 | Q3: 0.67708333 | R3: 0.35416667 | S3: 0.54166667 | T3: 0.57291667 | U3: 0.70833333 | V3: =(C3-B3)+(E3-D3)+(G3-F3)+(I3-H3)+(K3-J3)+(M3-L3)+(O3-N3)+(Q3-P3)+(S3-R3)+(U3-T3) -> 1.40625 | W3: 1.1666667 | X3: =V3-W3 -> 0.23958333 | Y3: =SUM('s7'!X3)+('s8'!X3)+('s9'!X3)+('s10'!X3)+('s11'!X3)+('s12'!X3)+('s13'!X3)+('s14'!X3)+('s15'!X3)+('s16'!X3)+('s17'!X3)+('s18'!X3)+('s19'!X3)+('s20'!X3)+('s21'!X3)+('s22'!X3)+('s23'!X3)+('s24'!X3)+('s25'!X3)+('s26'!X3)+('s27'!X3)+('s28'!X3)+('s29'!X3)+('s30'!X3)+('s31'!X3)+('s32'!X3)+('s35'!X3)+('s36'!X3)+('s37'!X3)+('s38'!X3)+('s39'!X3)+('s40'!X3)+('s41'!X3)+('s42'!X3)+('s43'!X3)+('s44'!X3)+('s45'!X3)+('s46'!X3) -> -1.1458333 | AA3: sarah | AB3: 133 | AC3: 145.75
A5: heloïse | F5: 0.54166667 | I5: 0.72916667 | N5: 0.35416667 | Q5: 0.72916667 | R5: 0.33333333 | S5: 0.54166667 | T5: 0.57291667 | U5: 0.76041667 | V5: =(C5-B5)+(E5-D5)+(G5-F5)+(I5-H5)+(K5-J5)+(M5-L5)+(O5-N5)+(Q5-P5)+(S5-R5)+(U5-T5) -> 0.95833333 | W5: 0.9375 | X5: =V5-W5 -> 0.020833333 | Y5: =SUM('s14'!X9)+('s15'!X9)+('s16'!X9)+('s17'!X9)+('s18'!X9)+('s19'!X9)+('s20'!X9)+('s21'!X9)+('s22'!X9)+('s23'!X9)+('s24'!X9)+('s25'!X9)+('s26'!X9)+('s27'!X9)+('s28'!X9)+('s29'!X9)+('s30'!X9)+('s31'!X9)+('s32'!X9)+('s35'!X5)+('s36'!X5)+('s37'!X5)+('s38'!X5)+('s39'!X5)+('s40'!X5)+('s41'!X5)+('s42'!X5)+('s43'!X5)+('s44'!X5)+('s45'!X5)+('s46'!X5) -> -0.17708333 | AA5: heloise
A7: laurine | F7: 0.35416667 | I7: 0.57291667 | N7: 0.34375 | O7: 0.54166667 | P7: 0.57291667 | Q7: 0.73958333 | R7: 0.47916667 | U7: 0.72916667 | V7: =(C7-B7)+(E7-D7)+(G7-F7)+(I7-H7)+(K7-J7)+(M7-L7)+(O7-N7)+(Q7-P7)+(S7-R7)+(U7-T7) -> 0.83333333 | W7: 0.80208333 | X7: =V7-W7 -> 0.03125 | Y7: =SUM('s7'!X7)+('s8'!X7)+('s9'!X7)+('s10'!X7)+('s11'!X7)+('s12'!X7)+('s13'!X7)+('s14'!X7)+('s15'!X7)+('s16'!X7)+('s17'!X7)+('s18'!X7)+('s19'!X7)+('s20'!X7)+('s21'!X7)+('s22'!X7)+('s23'!X7)+('s24'!X7)+('s25'!X7)+('s26'!X7)+('s27'!X7)+('s28'!X7)+('s29'!X7)+('s30'!X7)+('s31'!X7)+('s32'!X7)+('s35'!X7)+('s36'!X7)+('s37'!X7)+('s38'!X7)+('s39'!X7)+('s40'!X7)+('s41'!X7)+('s42'!X7)+('s43'!X7)+('s44'!X7)+('s45'!X7)+('s46'!X7) -> -0.98958333 | AA7: laurine | AB7: 91.25 | AC7: 90.25
A9: cypris | F9: 0.3125 | G9: 0.54166667 | H9: 0.57291667 | I9: 0.72916667 | N9: 0.3125 | O9: 0.54166667 | P9: 0.57291667 | Q9: 0.71875 | V9: =(C9-B9)+(E9-D9)+(G9-F9)+(I9-H9)+(K9-J9)+(M9-L9)+(O9-N9)+(Q9-P9)+(S9-R9)+(U9-T9) -> 0.76041667 | W9: 0.67708333 | X9: =V9-W9 -> 0.083333333 | Y9: =('s36'!X9)+('s37'!X9)+('s38'!X9)+('s39'!X9)+('s40'!X9)+('s41'!X9)+('s42'!X9)+('s43'!X9)+('s44'!X9)+('s45'!X9)+('s46'!X9) -> -0.67708333 | AA9: cypris | AB9: 97.25 | AC9: 104.75
A11: naila | F11: 0.34375 | I11: 0.71875 | J11: 0.375 | M11: 0.71875 | R11: 0.32291667 | U11: 0.72916667 | V11: =(C11-B11)+(E11-D11)+(G11-F11)+(I11-H11)+(K11-J11)+(M11-L11)+(O11-N11)+(Q11-P11)+(S11-R11)+(U11-T11) -> 1.125 | W11: 0.90625 | X11: =V11-W11 -> 0.21875 | Y11: =('s36'!X11)+('s37'!X11)+('s38'!X11)+('s39'!X11)+('s40'!X11)+('s41'!X11)+('s42'!X11)+('s43'!X11)+('s44'!X11)+('s45'!X11)+('s46'!X11) -> 3.3306691e-16 | AA11: naila | AB11: 102.45 | AC11: 118.75
A13: anissa | F13: 0.34375 | G13: 0.54166667 | H13: 0.57291667 | I13: 0.75 | N13: 0.34375 | O13: 0.54166667 | P13: 0.57291667 | Q13: 0.73958333 | R13: 0.29166667 | S13: 0.54166667 | T13: 0.57291667 | U13: 0.69791667 | V13: =(C13-B13)+(E13-D13)+(G13-F13)+(I13-H13)+(K13-J13)+(M13-L13)+(O13-N13)+(Q13-P13)+(S13-R13)+(U13-T13) -> 1.1145833 | W13: 1.1666667 | X13: =V13-W13 -> -0.052083333 | Y13: =('s44'!X13)+('s45'!X13)+('s46'!X13) -> -0.76041667 | AA13: anissa | AB13: 133 | AC13: 134.5
A15: oceane | F15: 0.35416667 | G15: 0.54166667 | H15: 0.57291667 | I15: 0.71875 | N15: 0.35416667 | O15: 0.54166667 | P15: 0.57291667 | Q15: 0.70833333 | R15: 0.51041667 | U15: 0.60416667 | V15: =(C15-B15)+(E15-D15)+(G15-F15)+(I15-H15)+(K15-J15)+(M15-L15)+(O15-N15)+(Q15-P15)+(S15-R15)+(U15-T15) -> 0.75 | W15: 0.5 | X15: =V15-W15 -> 0.25 | Y15: =('s40'!X15)+('s41'!X15)+('s42'!X15)+('s43'!X15)+('s44'!X15)+('s45'!X15)+('s46'!X15) -> -0.19791667 | AA15: oceane | AB15: 57 | AC15: 59.75
C20: REPOS | F20: ABSENT
C22: ECOLE

Sheet s47
B1: lundi 7 oct | F1: mardi 8 oct | J1: mercredi 9 oct | N1: jeudi 10 oct | R1: vendredi 11 oct | V1: TOTAL
B2: arrivee | C2: coupure | D2: reprise | E2: depart | F2: arrivee | G2: coupure | H2: reprise | I2: depart | J2: arrivee | K2: coupure | L2: reprise | M2: depart | N2: arrivee | O2: coupure | P2: reprise | Q2: depart | R2: arrivee | S2: coupure | T2: reprise | U2: depart
A3: sarah | B3: 0.35416667 | C3: 0.54166667 | D3: 0.57291667 | E3: 0.75 | F3: 0.34375 | G3: 0.54166667 | H3: 0.57291667 | I3: 0.72916667 | J3: 0.29166667 | M3: 0.45833333 | N3: 0.29166667 | O3: 0.54166667 | P3: 0.57291667 | Q3: 0.73958333 | R3: 0.36458333 | S3: 0.54166667 | T3: 0.57291667 | U3: 0.66666667 | V3: =(C3-B3)+(E3-D3)+(G3-F3)+(I3-H3)+(K3-J3)+(M3-L3)+(O3-N3)+(Q3-P3)+(S3-R3)+(U3-T3) -> 1.5729167 | W3: 1.4583333 | X3: =V3-W3 -> 0.11458333 | Y3: =SUM('s7'!X3)+('s8'!X3)+('s9'!X3)+('s10'!X3)+('s11'!X3)+('s12'!X3)+('s13'!X3)+('s14'!X3)+('s15'!X3)+('s16'!X3)+('s17'!X3)+('s18'!X3)+('s19'!X3)+('s20'!X3)+('s21'!X3)+('s22'!X3)+('s23'!X3)+('s24'!X3)+('s25'!X3)+('s26'!X3)+('s27'!X3)+('s28'!X3)+('s29'!X3)+('s30'!X3)+('s31'!X3)+('s32'!X3)+('s35'!X3)+('s36'!X3)+('s37'!X3)+('s38'!X3)+('s39'!X3)+('s40'!X3)+('s41'!X3)+('s42'!X3)+('s43'!X3)+('s44'!X3)+('s45'!X3)+('s46'!X3)+('s47'!X3) -> -1.03125 | AA3: sarah
A5: heloïse | B5: 0.35416667 | E5: 0.76041667 | F5: 0.54166667 | I5: 0.70833333 | N5: 0.35416667 | Q5: 0.72916667 | R5: 0.52083333 | U5: 0.76041667 | V5: =(C5-B5)+(E5-D5)+(G5-F5)+(I5-H5)+(K5-J5)+(M5-L5)+(O5-N5)+(Q5-P5)+(S5-R5)+(U5-T5) -> 1.1875 | W5: 1.1666667 | X5: =V5-W5 -> 0.020833333 | Y5: =SUM('s14'!X9)+('s15'!X9)+('s16'!X9)+('s17'!X9)+('s18'!X9)+('s19'!X9)+('s20'!X9)+('s21'!X9)+('s22'!X9)+('s23'!X9)+('s24'!X9)+('s25'!X9)+('s26'!X9)+('s27'!X9)+('s28'!X9)+('s29'!X9)+('s30'!X9)+('s31'!X9)+('s32'!X9)+('s35'!X5)+('s36'!X5)+('s37'!X5)+('s38'!X5)+('s39'!X5)+('s40'!X5)+('s41'!X5)+('s42'!X5)+('s43'!X5)+('s44'!X5)+('s45'!X5)+('s46'!X5)+('s47'!X5) -> -0.15625 | AA5: heloise
A7: laurine | F7: 0.35416667 | G7: 0.54166667 | H7: 0.57291667 | I7: 0.70833333 | N7: 0.34375 | O7: 0.54166667 | P7: 0.57291667 | Q7: 0.72916667 | R7: 0.35416667 | U7: 0.53125 | V7: =(C7-B7)+(E7-D7)+(G7-F7)+(I7-H7)+(K7-J7)+(M7-L7)+(O7-N7)+(Q7-P7)+(S7-R7)+(U7-T7) -> 0.85416667 | W7: 1 | X7: =V7-W7 -> -0.14583333 | Y7: =SUM('s7'!X7)+('s8'!X7)+('s9'!X7)+('s10'!X7)+('s11'!X7)+('s12'!X7)+('s13'!X7)+('s14'!X7)+('s15'!X7)+('s16'!X7)+('s17'!X7)+('s18'!X7)+('s19'!X7)+('s20'!X7)+('s21'!X7)+('s22'!X7)+('s23'!X7)+('s24'!X7)+('s25'!X7)+('s26'!X7)+('s27'!X7)+('s28'!X7)+('s29'!X7)+('s30'!X7)+('s31'!X7)+('s32'!X7)+('s35'!X7)+('s36'!X7)+('s37'!X7)+('s38'!X7)+('s39'!X7)+('s40'!X7)+('s41'!X7)+('s42'!X7)+('s43'!X7)+('s44'!X7)+('s45'!X7)+('s46'!X7)+('s47'!X7) -> -1.1354167 | AA7: laurine
U8: pa1
A9: cypris | B9: 0.32291667 | C9: 0.54166667 | D9: 0.57291667 | E9: 0.73958333 | F9: 0.3125 | G9: 0.54166667 | H9: 0.57291667 | I9: 0.72916667 | N9: 0.34375 | O9: 0.54166667 | P9: 0.57291667 | Q9: 0.71875 | R9: 0.54166667 | U9: 0.72916667 | V9: =(C9-B9)+(E9-D9)+(G9-F9)+(I9-H9)+(K9-J9)+(M9-L9)+(O9-N9)+(Q9-P9)+(S9-R9)+(U9-T9) -> 1.3020833 | W9: 1.125 | X9: =V9-W9 -> 0.17708333 | Y9: =('s36'!X9)+('s37'!X9)+('s38'!X9)+('s39'!X9)+('s40'!X9)+('s41'!X9)+('s42'!X9)+('s43'!X9)+('s44'!X9)+('s45'!X9)+('s46'!X9)+('s47'!X9) -> -0.5 | AA9: cypris
N10: Retard
A11: naila | B11: 0.35416667 | E11: 0.71875 | F11: 0.34375 | G11: 0.54166667 | H11: 0.57291667 | I11: 0.70833333 | J11: 0.32291667 | M11: 0.66666667 | R11: 0.35416667 | U11: 0.54166667 | V11: =(C11-B11)+(E11-D11)+(G11-F11)+(I11-H11)+(K11-J11)+(M11-L11)+(O11-N11)+(Q11-P11)+(S11-R11)+(U11-T11) -> 1.2291667 | W11: 1.125 | X11: =V11-W11 -> 0.10416667 | Y11: =('s36'!X11)+('s37'!X11)+('s38'!X11)+('s39'!X11)+('s40'!X11)+('s41'!X11)+('s42'!X11)+('s43'!X11)+('s44'!X11)+('s45'!X11)+('s46'!X11)+('s47'!X11) -> 0.10416667 | AA11: naila
A13: anissa | B13: 0.33333333 | E13: 0.71875 | F13: 0.375 | G13: 0.54166667 | H13: 0.57291667 | I13: 0.71875 | J13: 0.45833333 | M13: 0.71875 | N13: 0.375 | O13: 0.54166667 | P13: 0.57291667 | Q13: 0.71875 | R13: 0.39583333 | S13: 0.54166667 | T13: 0.57291667 | U13: 0.72916667 | V13: =(C13-B13)+(E13-D13)+(G13-F13)+(I13-H13)+(K13-J13)+(M13-L13)+(O13-N13)+(Q13-P13)+(S13-R13)+(U13-T13) -> 1.5729167 | W13: 1.4583333 | X13: =V13-W13 -> 0.11458333 | Y13: =('s44'!X13)+('s45'!X13)+('s46'!X13)+('s47'!X13) -> -0.64583333 | AA13: anissa
A15: oceane | F15: 0.35416667 | G15: 0.5625 | N15: 0.35416667 | O15: 0.54166667 | P15: 0.57291667 | Q15: 0.70833333 | R15: 0.375 | U15: 0.52083333 | V15: =(C15-B15)+(E15-D15)+(G15-F15)+(I15-H15)+(K15-J15)+(M15-L15)+(O15-N15)+(Q15-P15)+(S15-R15)+(U15-T15) -> 0.67708333 | W15: 0.625 | X15: =V15-W15 -> 0.052083333 | Y15: =('s40'!X15)+('s41'!X15)+('s42'!X15)+('s43'!X15)+('s44'!X15)+('s45'!X15)+('s46'!X15)+('s47'!X15) -> -0.14583333 | AA15: oceane
H16: pa1
C20: REPOS | F20: ABSENT
C22: ECOLE

Sheet s48
B1: lundi 7 oct | F1: mardi 8 oct | J1: mercredi 9 oct | N1: jeudi 10 oct | R1: vendredi 11 oct | V1: TOTAL
B2: arrivee | C2: coupure | D2: reprise | E2: depart | F2: arrivee | G2: coupure | H2: reprise | I2: depart | J2: arrivee | K2: coupure | L2: reprise | M2: depart | N2: arrivee | O2: coupure | P2: reprise | Q2: depart | R2: arrivee | S2: coupure | T2: reprise | U2: depart
A3: sarah | B3: 0.375 | C3: 0.54166667 | D3: 0.57291667 | E3: 0.70833333 | F3: 0.34375 | G3: 0.54166667 | H3: 0.57291667 | I3: 0.67708333 | J3: 0.45833333 | M3: 0.71875 | N3: 0.375 | O3: 0.54166667 | P3: 0.57291667 | Q3: 0.71875 | R3: 0.35416667 | S3: 0.54166667 | T3: 0.57291667 | U3: 0.70833333 | V3: =(C3-B3)+(E3-D3)+(G3-F3)+(I3-H3)+(K3-J3)+(M3-L3)+(O3-N3)+(Q3-P3)+(S3-R3)+(U3-T3) -> 1.5 | W3: 1.4583333 | X3: =V3-W3 -> 0.041666667 | Y3: =SUM('s7'!X3)+('s8'!X3)+('s9'!X3)+('s10'!X3)+('s11'!X3)+('s12'!X3)+('s13'!X3)+('s14'!X3)+('s15'!X3)+('s16'!X3)+('s17'!X3)+('s18'!X3)+('s19'!X3)+('s20'!X3)+('s21'!X3)+('s22'!X3)+('s23'!X3)+('s24'!X3)+('s25'!X3)+('s26'!X3)+('s27'!X3)+('s28'!X3)+('s29'!X3)+('s30'!X3)+('s31'!X3)+('s32'!X3)+('s35'!X3)+('s36'!X3)+('s37'!X3)+('s38'!X3)+('s39'!X3)+('s40'!X3)+('s41'!X3)+('s42'!X3)+('s43'!X3)+('s44'!X3)+('s45'!X3)+('s46'!X3)+('s47'!X3)+('s48'!X3) -> -0.98958333 | AA3: sarah
A5: heloïse | B5: 0.35416667 | E5: 0.75 | F5: 0.5 | I5: 0.70833333 | N5: 0.35416667 | Q5: 0.72916667 | R5: 0.52083333 | U5: 0.73958333 | V5: =(C5-B5)+(E5-D5)+(G5-F5)+(I5-H5)+(K5-J5)+(M5-L5)+(O5-N5)+(Q5-P5)+(S5-R5)+(U5-T5) -> 1.1979167 | W5: 1.1666667 | X5: =V5-W5 -> 0.03125 | Y5: =SUM('s14'!X9)+('s15'!X9)+('s16'!X9)+('s17'!X9)+('s18'!X9)+('s19'!X9)+('s20'!X9)+('s21'!X9)+('s22'!X9)+('s23'!X9)+('s24'!X9)+('s25'!X9)+('s26'!X9)+('s27'!X9)+('s28'!X9)+('s29'!X9)+('s30'!X9)+('s31'!X9)+('s32'!X9)+('s35'!X5)+('s36'!X5)+('s37'!X5)+('s38'!X5)+('s39'!X5)+('s40'!X5)+('s41'!X5)+('s42'!X5)+('s43'!X5)+('s44'!X5)+('s45'!X5)+('s46'!X5)+('s47'!X5)+('s48'!X5) -> -0.125 | AA5: heloise
A7: laurine | B7: 0.45833333 | C7: 0.54166667 | D7: 0.57291667 | E7: 0.67708333 | F7: 0.35416667 | G7: 0.54166667 | H7: 0.57291667 | I7: 0.70833333 | N7: 0.35416667 | O7: 0.54166667 | P7: 0.57291667 | Q7: 0.73958333 | R7: 0.35416667 | S7: 0.54166667 | T7: 0.57291667 | U7: 0.72916667 | V7: =(C7-B7)+(E7-D7)+(G7-F7)+(I7-H7)+(K7-J7)+(M7-L7)+(O7-N7)+(Q7-P7)+(S7-R7)+(U7-T7) -> 1.2083333 | W7: 0.80208333 | X7: =V7-W7 -> 0.40625 | Y7: =SUM('s7'!X7)+('s8'!X7)+('s9'!X7)+('s10'!X7)+('s11'!X7)+('s12'!X7)+('s13'!X7)+('s14'!X7)+('s15'!X7)+('s16'!X7)+('s17'!X7)+('s18'!X7)+('s19'!X7)+('s20'!X7)+('s21'!X7)+('s22'!X7)+('s23'!X7)+('s24'!X7)+('s25'!X7)+('s26'!X7)+('s27'!X7)+('s28'!X7)+('s29'!X7)+('s30'!X7)+('s31'!X7)+('s32'!X7)+('s35'!X7)+('s36'!X7)+('s37'!X7)+('s38'!X7)+('s39'!X7)+('s40'!X7)+('s41'!X7)+('s42'!X7)+('s43'!X7)+('s44'!X7)+('s45'!X7)+('s46'!X7)+('s47'!X7)+('s48'!X7) -> -0.72916667 | AA7: laurine
U8: pa1
A9: cypris | B9: 0.32291667 | E9: 0.5625 | F9: 0.3125 | G9: 0.54166667 | H9: 0.57291667 | I9: 0.72916667 | N9: 0.32291667 | O9: 0.54166667 | P9: 0.57291667 | Q9: 0.71875 | R9: 0.52083333 | U9: 0.70833333 | V9: =(C9-B9)+(E9-D9)+(G9-F9)+(I9-H9)+(K9-J9)+(M9-L9)+(O9-N9)+(Q9-P9)+(S9-R9)+(U9-T9) -> 1.1770833 | W9: 1.125 | X9: =V9-W9 -> 0.052083333 | Y9: =('s36'!X9)+('s37'!X9)+('s38'!X9)+('s39'!X9)+('s40'!X9)+('s41'!X9)+('s42'!X9)+('s43'!X9)+('s44'!X9)+('s45'!X9)+('s46'!X9)+('s47'!X9)+('s48'!X9) -> -0.44791667 | AA9: cypris
A11: naila | B11: 0.5625 | E11: 0.72916667 | F11: 0.34375 | G11: 0.54166667 | H11: 0.57291667 | I11: 0.71875 | J11: 0.32291667 | M11: 0.71875 | R11: 0.35416667 | U11: 0.52083333 | V11: =(C11-B11)+(E11-D11)+(G11-F11)+(I11-H11)+(K11-J11)+(M11-L11)+(O11-N11)+(Q11-P11)+(S11-R11)+(U11-T11) -> 1.0729167 | W11: 1.125 | X11: =V11-W11 -> -0.052083333 | Y11: =('s36'!X11)+('s37'!X11)+('s38'!X11)+('s39'!X11)+('s40'!X11)+('s41'!X11)+('s42'!X11)+('s43'!X11)+('s44'!X11)+('s45'!X11)+('s46'!X11)+('s47'!X11)+('s48'!X11) -> 0.052083333 | AA11: naila
A13: anissa | B13: 0.35416667 | C13: 0.54166667 | D13: 0.57291667 | E13: 0.6875 | F13: 0.29166667 | G13: 0.54166667 | H13: 0.57291667 | I13: 0.73958333 | J13: 0.29166667 | M13: 0.45833333 | N13: 0.34375 | O13: 0.54166667 | P13: 0.57291667 | Q13: 0.75 | R13: 0.29166667 | S13: 0.54166667 | T13: 0.57291667 | U13: 0.66666667 | V13: =(C13-B13)+(E13-D13)+(G13-F13)+(I13-H13)+(K13-J13)+(M13-L13)+(O13-N13)+(Q13-P13)+(S13-R13)+(U13-T13) -> 1.6041667 | W13: 1.4583333 | X13: =V13-W13 -> 0.14583333 | Y13: =('s44'!X13)+('s45'!X13)+('s46'!X13)+('s47'!X13)+('s48'!X13) -> -0.5 | AA13: anissa
A15: oceane | F15: 0.35416667 | G15: 0.58333333 | N15: 0.36458333 | O15: 0.54166667 | P15: 0.57291667 | Q15: 0.70833333 | V15: =(C15-B15)+(E15-D15)+(G15-F15)+(I15-H15)+(K15-J15)+(M15-L15)+(O15-N15)+(Q15-P15)+(S15-R15)+(U15-T15) -> 0.54166667 | W15: 0.625 | X15: =V15-W15 -> -0.083333333 | Y15: =('s40'!X15)+('s41'!X15)+('s42'!X15)+('s43'!X15)+('s44'!X15)+('s45'!X15)+('s46'!X15)+('s47'!X15)+('s48'!X15) -> -0.22916667 | AA15: oceane
H16: pa1
C20: REPOS | F20: ABSENT
C22: ECOLE

Sheet s49
B1: lundi 7 oct | F1: mardi 8 oct | J1: mercredi 9 oct | N1: jeudi 10 oct | R1: vendredi 11 oct | V1: TOTAL
B2: arrivee | C2: coupure | D2: reprise | E2: depart | F2: arrivee | G2: coupure | H2: reprise | I2: depart | J2: arrivee | K2: coupure | L2: reprise | M2: depart | N2: arrivee | O2: coupure | P2: reprise | Q2: depart | R2: arrivee | S2: coupure | T2: reprise | U2: depart
A3: sarah | B3: 0.32291667 | C3: 0.54166667 | D3: 0.57291667 | E3: 0.71875 | F3: 0.29166667 | G3: 0.54166667 | H3: 0.57291667 | I3: 0.72916667 | J3: 0.29166667 | M3: 0.45833333 | N3: 0.34375 | O3: 0.54166667 | P3: 0.57291667 | Q3: 0.73958333 | R3: 0.375 | S3: 0.54166667 | T3: 0.57291667 | U3: 0.72916667 | V3: =(C3-B3)+(E3-D3)+(G3-F3)+(I3-H3)+(K3-J3)+(M3-L3)+(O3-N3)+(Q3-P3)+(S3-R3)+(U3-T3) -> 1.625 | W3: 1.4583333 | X3: =V3-W3 -> 0.16666667 | Y3: =SUM('s7'!X3)+('s8'!X3)+('s9'!X3)+('s10'!X3)+('s11'!X3)+('s12'!X3)+('s13'!X3)+('s14'!X3)+('s15'!X3)+('s16'!X3)+('s17'!X3)+('s18'!X3)+('s19'!X3)+('s20'!X3)+('s21'!X3)+('s22'!X3)+('s23'!X3)+('s24'!X3)+('s25'!X3)+('s26'!X3)+('s27'!X3)+('s28'!X3)+('s29'!X3)+('s30'!X3)+('s31'!X3)+('s32'!X3)+('s35'!X3)+('s36'!X3)+('s37'!X3)+('s38'!X3)+('s39'!X3)+('s40'!X3)+('s41'!X3)+('s42'!X3)+('s43'!X3)+('s44'!X3)+('s45'!X3)+('s46'!X3)+('s47'!X3)+('s48'!X3)+('s49'!X3) -> -0.82291667 | AA3: sarah
A5: heloïse | B5: 0.35416667 | E5: 0.76041667 | F5: 0.35416667 | I5: 0.58333333 | N5: 0.35416667 | Q5: 0.72916667 | R5: 0.52083333 | U5: 0.72916667 | V5: =(C5-B5)+(E5-D5)+(G5-F5)+(I5-H5)+(K5-J5)+(M5-L5)+(O5-N5)+(Q5-P5)+(S5-R5)+(U5-T5) -> 1.21875 | W5: 1.1666667 | X5: =V5-W5 -> 0.052083333 | Y5: =SUM('s14'!X9)+('s15'!X9)+('s16'!X9)+('s17'!X9)+('s18'!X9)+('s19'!X9)+('s20'!X9)+('s21'!X9)+('s22'!X9)+('s23'!X9)+('s24'!X9)+('s25'!X9)+('s26'!X9)+('s27'!X9)+('s28'!X9)+('s29'!X9)+('s30'!X9)+('s31'!X9)+('s32'!X9)+('s35'!X5)+('s36'!X5)+('s37'!X5)+('s38'!X5)+('s39'!X5)+('s40'!X5)+('s41'!X5)+('s42'!X5)+('s43'!X5)+('s44'!X5)+('s45'!X5)+('s46'!X5)+('s47'!X5)+('s48'!X5)+('s49'!X5) -> -0.072916667 | AA5: heloise
A7: laurine | F7: 0.35416667 | G7: 0.54166667 | H7: 0.57291667 | I7: 0.70833333 | N7: 0.34375 | O7: 0.54166667 | P7: 0.57291667 | Q7: 0.72916667 | R7: 0.35416667 | S7: 0.54166667 | T7: 0.57291667 | U7: 0.72916667 | V7: =(C7-B7)+(E7-D7)+(G7-F7)+(I7-H7)+(K7-J7)+(M7-L7)+(O7-N7)+(Q7-P7)+(S7-R7)+(U7-T7) -> 1.0208333 | W7: 1 | X7: =V7-W7 -> 0.020833333 | Y7: =SUM('s7'!X7)+('s8'!X7)+('s9'!X7)+('s10'!X7)+('s11'!X7)+('s12'!X7)+('s13'!X7)+('s14'!X7)+('s15'!X7)+('s16'!X7)+('s17'!X7)+('s18'!X7)+('s19'!X7)+('s20'!X7)+('s21'!X7)+('s22'!X7)+('s23'!X7)+('s24'!X7)+('s25'!X7)+('s26'!X7)+('s27'!X7)+('s28'!X7)+('s29'!X7)+('s30'!X7)+('s31'!X7)+('s32'!X7)+('s35'!X7)+('s36'!X7)+('s37'!X7)+('s38'!X7)+('s39'!X7)+('s40'!X7)+('s41'!X7)+('s42'!X7)+('s43'!X7)+('s44'!X7)+('s45'!X7)+('s46'!X7)+('s47'!X7)+('s48'!X7)+('s49'!X7) -> -0.70833333 | AA7: laurine
U8: pa1
A9: cypris | B9: 0.51041667 | E9: 0.67708333 | F9: 0.3125 | G9: 0.54166667 | H9: 0.57291667 | I9: 0.72916667 | N9: 0.3125 | O9: 0.54166667 | P9: 0.57291667 | Q9: 0.70833333 | R9: 0.32291667 | U9: 0.57291667 | V9: =(C9-B9)+(E9-D9)+(G9-F9)+(I9-H9)+(K9-J9)+(M9-L9)+(O9-N9)+(Q9-P9)+(S9-R9)+(U9-T9) -> 1.1666667 | W9: 1.125 | X9: =V9-W9 -> 0.041666667 | Y9: =('s36'!X9)+('s37'!X9)+('s38'!X9)+('s39'!X9)+('s40'!X9)+('s41'!X9)+('s42'!X9)+('s43'!X9)+('s44'!X9)+('s45'!X9)+('s46'!X9)+('s47'!X9)+('s48'!X9)+('s49'!X9) -> -0.40625 | AA9: cypris
A11: naila | B11: 0.36458333 | E11: 0.51041667 | F11: 0.34375 | G11: 0.54166667 | H11: 0.57291667 | I11: 0.70833333 | J11: 0.32291667 | M11: 0.5 | R11: 0.57291667 | U11: 0.70833333 | V11: =(C11-B11)+(E11-D11)+(G11-F11)+(I11-H11)+(K11-J11)+(M11-L11)+(O11-N11)+(Q11-P11)+(S11-R11)+(U11-T11) -> 0.79166667 | W11: 1.125 | X11: =V11-W11 -> -0.33333333 | Y11: =('s36'!X11)+('s37'!X11)+('s38'!X11)+('s39'!X11)+('s40'!X11)+('s41'!X11)+('s42'!X11)+('s43'!X11)+('s44'!X11)+('s45'!X11)+('s46'!X11)+('s47'!X11)+('s48'!X11)+('s49'!X11) -> -0.28125 | AA11: naila
A13: anissa | B13: 0.3125 | C13: 0.54166667 | D13: 0.57291667 | E13: 0.72916667 | F13: 0.34375 | G13: 0.54166667 | H13: 0.57291667 | I13: 0.67708333 | J13: 0.45833333 | M13: 0.72916667 | N13: 0.375 | O13: 0.54166667 | P13: 0.57291667 | Q13: 0.71875 | R13: 0.35416667 | S13: 0.54166667 | T13: 0.57291667 | U13: 0.70833333 | V13: =(C13-B13)+(E13-D13)+(G13-F13)+(I13-H13)+(K13-J13)+(M13-L13)+(O13-N13)+(Q13-P13)+(S13-R13)+(U13-T13) -> 1.59375 | W13: 1.5104167 | X13: =V13-W13 -> 0.083333333 | Y13: =('s44'!X13)+('s45'!X13)+('s46'!X13)+('s47'!X13)+('s48'!X13)+('s49'!X13) -> -0.41666667 | AA13: anissa
V14: moins 1h15 medecin 5 dec
A15: oceane | F15: 0.5 | G15: 0.71875 | N15: 0.35416667 | O15: 0.54166667 | P15: 0.57291667 | Q15: 0.70833333 | V15: =(C15-B15)+(E15-D15)+(G15-F15)+(I15-H15)+(K15-J15)+(M15-L15)+(O15-N15)+(Q15-P15)+(S15-R15)+(U15-T15) -> 0.54166667 | W15: 0.625 | X15: =V15-W15 -> -0.083333333 | Y15: =('s40'!X15)+('s41'!X15)+('s42'!X15)+('s43'!X15)+('s44'!X15)+('s45'!X15)+('s46'!X15)+('s47'!X15)+('s48'!X15)+('s49'!X15) -> -0.3125 | AA15: oceane
H16: pa1
C20: REPOS | F20: ABSENT
C22: ECOLE

Sheet s50
B1: lundi 7 oct | F1: mardi 8 oct | J1: mercredi 9 oct | N1: jeudi 10 oct | R1: vendredi 11 oct | V1: TOTAL
B2: arrivee | C2: coupure | D2: reprise | E2: depart | F2: arrivee | G2: coupure | H2: reprise | I2: depart | J2: arrivee | K2: coupure | L2: reprise | M2: depart | N2: arrivee | O2: coupure | P2: reprise | Q2: depart | R2: arrivee | S2: coupure | T2: reprise | U2: depart
A3: sarah | B3: 0.375 | C3: 0.54166667 | D3: 0.57291667 | E3: 0.71875 | F3: 0.375 | I3: 0.71875 | J3: 0.44791667 | M3: 0.71875 | N3: 0.34375 | O3: 0.54166667 | P3: 0.57291667 | Q3: 0.71875 | R3: 0.35416667 | S3: 0.54166667 | T3: 0.57291667 | U3: 0.73958333 | V3: =(C3-B3)+(E3-D3)+(G3-F3)+(I3-H3)+(K3-J3)+(M3-L3)+(O3-N3)+(Q3-P3)+(S3-R3)+(U3-T3) -> 1.625 | W3: 1.4583333 | X3: =V3-W3 -> 0.16666667 | Y3: =SUM('s7'!X3)+('s8'!X3)+('s9'!X3)+('s10'!X3)+('s11'!X3)+('s12'!X3)+('s13'!X3)+('s14'!X3)+('s15'!X3)+('s16'!X3)+('s17'!X3)+('s18'!X3)+('s19'!X3)+('s20'!X3)+('s21'!X3)+('s22'!X3)+('s23'!X3)+('s24'!X3)+('s25'!X3)+('s26'!X3)+('s27'!X3)+('s28'!X3)+('s29'!X3)+('s30'!X3)+('s31'!X3)+('s32'!X3)+('s35'!X3)+('s36'!X3)+('s37'!X3)+('s38'!X3)+('s39'!X3)+('s40'!X3)+('s41'!X3)+('s42'!X3)+('s43'!X3)+('s44'!X3)+('s45'!X3)+('s46'!X3)+('s47'!X3)+('s48'!X3)+('s49'!X3)+('s50'!X3) -> -0.65625 | AA3: sarah
A5: heloïse | B5: 0.35416667 | E5: 0.75 | F5: 0.52083333 | I5: 0.70833333 | N5: 0.35416667 | Q5: 0.72916667 | V5: =(C5-B5)+(E5-D5)+(G5-F5)+(I5-H5)+(K5-J5)+(M5-L5)+(O5-N5)+(Q5-P5)+(S5-R5)+(U5-T5) -> 0.95833333 | W5: 0.9375 | X5: =V5-W5 -> 0.020833333 | Y5: =SUM('s14'!X9)+('s15'!X9)+('s16'!X9)+('s17'!X9)+('s18'!X9)+('s19'!X9)+('s20'!X9)+('s21'!X9)+('s22'!X9)+('s23'!X9)+('s24'!X9)+('s25'!X9)+('s26'!X9)+('s27'!X9)+('s28'!X9)+('s29'!X9)+('s30'!X9)+('s31'!X9)+('s32'!X9)+('s35'!X5)+('s36'!X5)+('s37'!X5)+('s38'!X5)+('s39'!X5)+('s40'!X5)+('s41'!X5)+('s42'!X5)+('s43'!X5)+('s44'!X5)+('s45'!X5)+('s46'!X5)+('s47'!X5)+('s48'!X5)+('s49'!X5)+('s50'!X5) -> -0.052083333 | AA5: heloise
A7: laurine | B7: 0.45833333 | C7: 0.54166667 | D7: 0.57291667 | E7: 0.6875 | F7: 0.35416667 | G7: 0.54166667 | H7: 0.57291667 | I7: 0.70833333 | N7: 0.34375 | O7: 0.54166667 | P7: 0.57291667 | Q7: 0.73958333 | R7: 0.35416667 | U7: 0.72916667 | V7: =(C7-B7)+(E7-D7)+(G7-F7)+(I7-H7)+(K7-J7)+(M7-L7)+(O7-N7)+(Q7-P7)+(S7-R7)+(U7-T7) -> 1.2604167 | W7: 1 | X7: =V7-W7 -> 0.26041667 | Y7: =SUM('s7'!X7)+('s8'!X7)+('s9'!X7)+('s10'!X7)+('s11'!X7)+('s12'!X7)+('s13'!X7)+('s14'!X7)+('s15'!X7)+('s16'!X7)+('s17'!X7)+('s18'!X7)+('s19'!X7)+('s20'!X7)+('s21'!X7)+('s22'!X7)+('s23'!X7)+('s24'!X7)+('s25'!X7)+('s26'!X7)+('s27'!X7)+('s28'!X7)+('s29'!X7)+('s30'!X7)+('s31'!X7)+('s32'!X7)+('s35'!X7)+('s36'!X7)+('s37'!X7)+('s38'!X7)+('s39'!X7)+('s40'!X7)+('s41'!X7)+('s42'!X7)+('s43'!X7)+('s44'!X7)+('s45'!X7)+('s46'!X7)+('s47'!X7)+('s48'!X7)+('s49'!X7)+('s50'!X7) -> -0.44791667 | AA7: laurine
U8: pa1
A9: cypris | B9: 0.52083333 | E9: 0.72916667 | F9: 0.3125 | G9: 0.54166667 | H9: 0.57291667 | I9: 0.73958333 | N9: 0.3125 | O9: 0.54166667 | P9: 0.57291667 | Q9: 0.70833333 | R9: 0.51041667 | U9: 0.71875 | V9: =(C9-B9)+(E9-D9)+(G9-F9)+(I9-H9)+(K9-J9)+(M9-L9)+(O9-N9)+(Q9-P9)+(S9-R9)+(U9-T9) -> 1.1770833 | W9: 1.2916667 | X9: =V9-W9 -> -0.11458333 | Y9: =('s36'!X9)+('s37'!X9)+('s38'!X9)+('s39'!X9)+('s40'!X9)+('s41'!X9)+('s42'!X9)+('s43'!X9)+('s44'!X9)+('s45'!X9)+('s46'!X9)+('s47'!X9)+('s48'!X9)+('s49'!X9)+('s50'!X9) -> -0.52083333 | AA9: cypris
W10: rdv medecine du travail
A11: naila | B11: 0.32291667 | E11: 0.52083333 | F11: 0.34375 | I11: 0.71875 | J11: 0.375 | M11: 0.69791667 | R11: 0.32291667 | U11: 0.51041667 | V11: =(C11-B11)+(E11-D11)+(G11-F11)+(I11-H11)+(K11-J11)+(M11-L11)+(O11-N11)+(Q11-P11)+(S11-R11)+(U11-T11) -> 1.0833333 | W11: 1.2916667 | X11: =V11-W11 -> -0.20833333 | Y11: =('s36'!X11)+('s37'!X11)+('s38'!X11)+('s39'!X11)+('s40'!X11)+('s41'!X11)+('s42'!X11)+('s43'!X11)+('s44'!X11)+('s45'!X11)+('s46'!X11)+('s47'!X11)+('s48'!X11)+('s49'!X11)+('s50'!X11) -> -0.48958333 | AA11: naila
W12: rdv medecine du travail
A13: anissa | B13: 0.35416667 | C13: 0.54166667 | D13: 0.57291667 | E13: 0.67708333 | F13: 0.34375 | G13: 0.54166667 | H13: 0.57291667 | I13: 0.73958333 | J13: 0.29166667 | M13: 0.45833333 | N13: 0.30208333 | O13: 0.54166667 | P13: 0.57291667 | Q13: 0.73958333 | R13: 0.29166667 | S13: 0.54166667 | T13: 0.57291667 | U13: 0.70833333 | V13: =(C13-B13)+(E13-D13)+(G13-F13)+(I13-H13)+(K13-J13)+(M13-L13)+(O13-N13)+(Q13-P13)+(S13-R13)+(U13-T13) -> 1.6145833 | W13: 1.4583333 | X13: =V13-W13 -> 0.15625 | Y13: =('s44'!X13)+('s45'!X13)+('s46'!X13)+('s47'!X13)+('s48'!X13)+('s49'!X13)+('s50'!X13) -> -0.26041667 | AA13: anissa
A15: oceane | F15: 0.375 | G15: 0.58333333 | N15: 0.35416667 | O15: 0.54166667 | P15: 0.57291667 | Q15: 0.70833333 | R15: 0.51041667 | U15: 0.66666667 | V15: =(C15-B15)+(E15-D15)+(G15-F15)+(I15-H15)+(K15-J15)+(M15-L15)+(O15-N15)+(Q15-P15)+(S15-R15)+(U15-T15) -> 0.6875 | W15: 0.625 | X15: =V15-W15 -> 0.0625 | Y15: =('s40'!X15)+('s41'!X15)+('s42'!X15)+('s43'!X15)+('s44'!X15)+('s45'!X15)+('s46'!X15)+('s47'!X15)+('s48'!X15)+('s49'!X15)+('s50'!X15) -> -0.25 | AA15: oceane
H16: pa1
C20: REPOS | F20: ABSENT
C22: ECOLE

Sheet s51
B1: lundi 7 oct | F1: mardi 8 oct | J1: mercredi 9 oct | N1: jeudi 10 oct | R1: vendredi 11 oct | V1: TOTAL
B2: arrivee | C2: coupure | D2: reprise | E2: depart | F2: arrivee | G2: coupure | H2: reprise | I2: depart | J2: arrivee | K2: coupure | L2: reprise | M2: depart | N2: arrivee | O2: coupure | P2: reprise | Q2: depart | R2: arrivee | S2: coupure | T2: reprise | U2: depart
A3: sarah | B3: 0.35416667 | C3: 0.54166667 | D3: 0.57291667 | E3: 0.71875 | F3: 0.29166667 | G3: 0.54166667 | H3: 0.57291667 | I3: 0.75 | J3: 0.29166667 | M3: 0.51041667 | N3: 0.3125 | O3: 0.54166667 | P3: 0.57291667 | Q3: 0.72916667 | R3: 0.375 | S3: 0.54166667 | T3: 0.57291667 | U3: 0.69791667 | V3: =(C3-B3)+(E3-D3)+(G3-F3)+(I3-H3)+(K3-J3)+(M3-L3)+(O3-N3)+(Q3-P3)+(S3-R3)+(U3-T3) -> 1.65625 | W3: 1.3125 | X3: =V3-W3 -> 0.34375 | Y3: =SUM('s7'!X3)+('s8'!X3)+('s9'!X3)+('s10'!X3)+('s11'!X3)+('s12'!X3)+('s13'!X3)+('s14'!X3)+('s15'!X3)+('s16'!X3)+('s17'!X3)+('s18'!X3)+('s19'!X3)+('s20'!X3)+('s21'!X3)+('s22'!X3)+('s23'!X3)+('s24'!X3)+('s25'!X3)+('s26'!X3)+('s27'!X3)+('s28'!X3)+('s29'!X3)+('s30'!X3)+('s31'!X3)+('s32'!X3)+('s35'!X3)+('s36'!X3)+('s37'!X3)+('s38'!X3)+('s39'!X3)+('s40'!X3)+('s41'!X3)+('s42'!X3)+('s43'!X3)+('s44'!X3)+('s45'!X3)+('s46'!X3)+('s47'!X3)+('s48'!X3)+('s49'!X3)+('s50'!X3)+('s51'!X3) -> -0.3125 | AA3: sarah | AB3: 105
W4: arbre de noel
A5: heloïse | B5: 0.35416667 | E5: 0.76041667 | F5: 0.35416667 | I5: 0.58333333 | N5: 0.35416667 | Q5: 0.72916667 | R5: 0.34375 | S5: 0.54166667 | T5: 0.57291667 | U5: 0.72916667 | V5: =(C5-B5)+(E5-D5)+(G5-F5)+(I5-H5)+(K5-J5)+(M5-L5)+(O5-N5)+(Q5-P5)+(S5-R5)+(U5-T5) -> 1.3645833 | W5: 1.1666667 | X5: =V5-W5 -> 0.19791667 | Y5: =SUM('s14'!X9)+('s15'!X9)+('s16'!X9)+('s17'!X9)+('s18'!X9)+('s19'!X9)+('s20'!X9)+('s21'!X9)+('s22'!X9)+('s23'!X9)+('s24'!X9)+('s25'!X9)+('s26'!X9)+('s27'!X9)+('s28'!X9)+('s29'!X9)+('s30'!X9)+('s31'!X9)+('s32'!X9)+('s35'!X5)+('s36'!X5)+('s37'!X5)+('s38'!X5)+('s39'!X5)+('s40'!X5)+('s41'!X5)+('s42'!X5)+('s43'!X5)+('s44'!X5)+('s45'!X5)+('s46'!X5)+('s47'!X5)+('s48'!X5)+('s49'!X5)+('s50'!X5)+('s51'!X5) -> 0.14583333 | AA5: heloise
A7: laurine | B7: 0.33333333 | E7: 0.72916667 | F7: 0.35416667 | G7: 0.54166667 | H7: 0.57291667 | I7: 0.70833333 | N7: 0.34375 | O7: 0.54166667 | P7: 0.57291667 | Q7: 0.72916667 | R7: 0.35416667 | U7: 0.57291667 | V7: =(C7-B7)+(E7-D7)+(G7-F7)+(I7-H7)+(K7-J7)+(M7-L7)+(O7-N7)+(Q7-P7)+(S7-R7)+(U7-T7) -> 1.2916667 | W7: 0.83333333 | X7: =V7-W7 -> 0.45833333 | Y7: =SUM('s7'!X7)+('s8'!X7)+('s9'!X7)+('s10'!X7)+('s11'!X7)+('s12'!X7)+('s13'!X7)+('s14'!X7)+('s15'!X7)+('s16'!X7)+('s17'!X7)+('s18'!X7)+('s19'!X7)+('s20'!X7)+('s21'!X7)+('s22'!X7)+('s23'!X7)+('s24'!X7)+('s25'!X7)+('s26'!X7)+('s27'!X7)+('s28'!X7)+('s29'!X7)+('s30'!X7)+('s31'!X7)+('s32'!X7)+('s35'!X7)+('s36'!X7)+('s37'!X7)+('s38'!X7)+('s39'!X7)+('s40'!X7)+('s41'!X7)+('s42'!X7)+('s43'!X7)+('s44'!X7)+('s45'!X7)+('s46'!X7)+('s47'!X7)+('s48'!X7)+('s49'!X7)+('s50'!X7)+('s51'!X7) -> 0.010416667 | AA7: laurine | AB7: 72
U8: pa1 | W8: arbre de noel
A9: cypris | B9: 0.3125 | E9: 0.51041667 | F9: 0.3125 | G9: 0.54166667 | H9: 0.57291667 | I9: 0.72916667 | N9: 0.3125 | O9: 0.54166667 | P9: 0.57291667 | Q9: 0.71875 | R9: 0.51041667 | U9: 0.72916667 | V9: =(C9-B9)+(E9-D9)+(G9-F9)+(I9-H9)+(K9-J9)+(M9-L9)+(O9-N9)+(Q9-P9)+(S9-R9)+(U9-T9) -> 1.1770833 | W9: 0.98958333 | X9: =V9-W9 -> 0.1875 | Y9: =('s36'!X9)+('s37'!X9)+('s38'!X9)+('s39'!X9)+('s40'!X9)+('s41'!X9)+('s42'!X9)+('s43'!X9)+('s44'!X9)+('s45'!X9)+('s46'!X9)+('s47'!X9)+('s48'!X9)+('s49'!X9)+('s50'!X9)+('s51'!X9) -> -0.33333333 | AA9: cypris | AB9: 81
W10: arbre de noel
A11: naila | B11: 0.51041667 | E11: 0.72916667 | F11: 0.34375 | I11: 0.71875 | J11: 0.32291667 | M11: 0.6875 | R11: 0.32291667 | U11: 0.51041667 | V11: =(C11-B11)+(E11-D11)+(G11-F11)+(I11-H11)+(K11-J11)+(M11-L11)+(O11-N11)+(Q11-P11)+(S11-R11)+(U11-T11) -> 1.1458333 | W11: 0.97916667 | X11: =V11-W11 -> 0.16666667 | Y11: =('s36'!X11)+('s37'!X11)+('s38'!X11)+('s39'!X11)+('s40'!X11)+('s41'!X11)+('s42'!X11)+('s43'!X11)+('s44'!X11)+('s45'!X11)+('s46'!X11)+('s47'!X11)+('s48'!X11)+('s49'!X11)+('s50'!X11)+('s51'!X11) -> -0.32291667 | AA11: naila | AB11: 81
W12: arbre de noel
A13: anissa | B13: 0.375 | C13: 0.54166667 | D13: 0.57291667 | E13: 0.73958333 | F13: 0.34375 | I13: 0.71875 | J13: 0.51041667 | M13: 0.71875 | N13: 0.34375 | O13: 0.54166667 | P13: 0.57291667 | Q13: 0.71875 | R13: 0.35416667 | S13: 0.54166667 | T13: 0.57291667 | U13: 0.72916667 | V13: =(C13-B13)+(E13-D13)+(G13-F13)+(I13-H13)+(K13-J13)+(M13-L13)+(O13-N13)+(Q13-P13)+(S13-R13)+(U13-T13) -> 1.6041667 | W13: 1.3125 | X13: =V13-W13 -> 0.29166667 | Y13: =('s44'!X13)+('s45'!X13)+('s46'!X13)+('s47'!X13)+('s48'!X13)+('s49'!X13)+('s50'!X13)+('s51'!X13) -> 0.03125 | AA13: anissa | AB13: 105
W14: arbre de noel
A15: oceane | B15: 0.375 | C15: 0.54166667 | D15: 0.57291667 | E15: 0.64583333 | F15: 0.375 | I15: 0.70833333 | N15: 0.35416667 | O15: 0.54166667 | P15: 0.57291667 | Q15: 0.66666667 | R15: 0.51041667 | U15: 0.65625 | V15: =(C15-B15)+(E15-D15)+(G15-F15)+(I15-H15)+(K15-J15)+(M15-L15)+(O15-N15)+(Q15-P15)+(S15-R15)+(U15-T15) -> 1 | W15: 0.45833333 | X15: =V15-W15 -> 0.54166667 | Y15: =('s40'!X15)+('s41'!X15)+('s42'!X15)+('s43'!X15)+('s44'!X15)+('s45'!X15)+('s46'!X15)+('s47'!X15)+('s48'!X15)+('s49'!X15)+('s50'!X15)+('s51'!X15) -> 0.29166667 | AA15: oceane | AB15: 45
H16: pa1 | S16: . | W16: arbre de noel
C20: REPOS | F20: ABSENT
C22: ECOLE

Sheet Feuil2
A1: 0.29166667 | B1: 0.30208333 | C1: 0.32291667 | D1: 0.33333333 | E1: 0.34375 | F1: 0.35416667 | G1: 0.36458333 | H1: 0.375 | I1: 0.38541667 | J1: 0.39583333 | K1: 0.40625 | L1: 0.41666667 | M1: 0.42708333 | N1: 0.4375 | O1: 0.44791667 | P1: 0.45833333 | Q1: 0.46875 | R1: 0.47916667 | S1: 0.48958333 | T1: 0.5 | U1: 0.51041667 | V1: 0.52083333 | W1: 0.53125 | X1: 0.54166667 | Y1: 0.55208333 | Z1: 0.57291667 | AA1: 0.58333333 | AB1: 0.59375 | AC1: 0.60416667 | AD1: 0.61458333 | AE1: 0.625 | AF1: 0.63541667 | AG1: 0.64583333 | AH1: 0.65625 | AI1: 0.66666667 | AJ1: 0.67708333 | AK1: 0.6875 | AL1: 0.69791667 | AM1: 0.70833333 | AN1: 0.71875 | AO1: 0.72916667 | AP1: 0.73958333 | AQ1: 0.75
G19: 3
G20: 4
G21: 5
G22: 6
G23: 7
G24: 8
G25: 9
G26: 10
G27: 11
G28: 12
G29: 13
G30: 14
... G33: 17

Sheet Feuil1
D1: 7h | H1: 8h | L1: 9h
A2: lundi | B2: sarah
B3: anissa
B4: laurine
B5: cypris
B6: naila
B7: vanessa
B8: oceane
A9: mardi

Sheet s1
B1: lundi 30 decembre | F1: mardi 31 decembre | J1: mercredi 1 janvier | N1: jeudi 2 | R1: vendredi 3 | V1: TOTAL
B2: arrivee | C2: coupure | D2: reprise | E2: depart | F2: arrivee | G2: coupure | H2: reprise | I2: depart | J2: arrivee | K2: coupure | L2: reprise | M2: depart | N2: arrivee | O2: coupure | P2: reprise | Q2: depart | R2: arrivee | S2: coupure | T2: reprise | U2: depart
A3: sarah | B3: 0.29166667 | C3: 0.54166667 | D3: 0.57291667 | E3: 0.6875 | F3: 0.30208333 | I3: 0.45833333 | N3: 0.3125 | Q3: 0.54166667 | R3: 0.375 | U3: 0.76041667 | V3: =(C3-B3)+(E3-D3)+(G3-F3)+(I3-H3)+(K3-J3)+(M3-L3)+(O3-N3)+(Q3-P3)+(S3-R3)+(U3-T3) -> 1.1354167 | W3: 1.1666667 | X3: =V3-W3 -> -0.03125 | Y3: =SUM('s51'!Y3)+('s1'!X3) -> -0.34375 | AA3: sarah | AB3: 105
L4: FERIE
A5: heloïse | V5: =(C5-B5)+(E5-D5)+(G5-F5)+(I5-H5)+(K5-J5)+(M5-L5)+(O5-N5)+(Q5-P5)+(S5-R5)+(U5-T5) -> 0 | W5: 1.1666667 | X5: =V5-W5 -> -1.1666667 | AA5: heloise
A7: laurine | B7: 0.375 | E7: 0.54166667 | F7: 0.375 | I7: 0.59375 | N7: 0.34375 | Q7: 0.70833333 | V7: =(C7-B7)+(E7-D7)+(G7-F7)+(I7-H7)+(K7-J7)+(M7-L7)+(O7-N7)+(Q7-P7)+(S7-R7)+(U7-T7) -> 0.75 | W7: 0.80208333 | X7: =V7-W7 -> -0.052083333 | Y7: =SUM('s51'!Y7)+('s1'!X7) -> -0.041666667 | AA7: laurine | AB7: 72
H8: pa1 | P8: pa1
A9: cypris | B9: 0.54166667 | E9: 0.71875 | F9: 0.51041667 | I9: 0.6875 | N9: 0.54166667 | Q9: 0.69791667 | R9: 0.52083333 | U9: 0.71875 | V9: =(C9-B9)+(E9-D9)+(G9-F9)+(I9-H9)+(K9-J9)+(M9-L9)+(O9-N9)+(Q9-P9)+(S9-R9)+(U9-T9) -> 0.70833333 | W9: 1.1666667 | X9: =V9-W9 -> -0.45833333 | Y9: =('s51'!Y9)+('s1'!X9) -> -0.79166667 | AA9: cypris | AB9: 81
A11: naila | B11: 0.3125 | E11: 0.54166667 | F11: 0.3125 | I11: 0.51041667 | R11: 0.32291667 | U11: 0.52083333 | V11: =(C11-B11)+(E11-D11)+(G11-F11)+(I11-H11)+(K11-J11)+(M11-L11)+(O11-N11)+(Q11-P11)+(S11-R11)+(U11-T11) -> 0.625 | W11: 0.9375 | X11: =V11-W11 -> -0.3125 | Y11: =('s51'!Y11)+('s1'!X11) -> -0.63541667 | AA11: naila | AB11: 81
A13: anissa | B13: 0.35416667 | C13: 0.54166667 | D13: 0.57291667 | E13: 0.72916667 | F13: 0.54166667 | I13: 0.71875 | R13: 0.29166667 | S13: 0.54166667 | T13: 0.57291667 | U13: 0.6875 | V13: =(C13-B13)+(E13-D13)+(G13-F13)+(I13-H13)+(K13-J13)+(M13-L13)+(O13-N13)+(Q13-P13)+(S13-R13)+(U13-T13) -> 0.88541667 | W13: 1.1666667 | X13: =V13-W13 -> -0.28125 | Y13: =('s51'!Y13)+('s1'!X13) -> -0.25 | AA13: anissa | AB13: 105
A15: oceane | F15: 0.5625 | I15: 0.70833333 | V15: =(C15-B15)+(E15-D15)+(G15-F15)+(I15-H15)+(K15-J15)+(M15-L15)+(O15-N15)+(Q15-P15)+(S15-R15)+(U15-T15) -> 0.14583333 | W15: 0.375 | X15: =V15-W15 -> -0.22916667 | Y15: =('s51'!Y15)+('s1'!X15) -> 0.0625 | AA15: oceane | AB15: 45
D16: CONGE | H16: pa1 | S16: .
C20: REPOS | F20: ABSENT
C22: ECOLE

Sheet s2
B1: lundi 6 janvier | F1: mardi 7 janvier | J1: mercredi 8 janvier | N1: jeudi 9 janvier | R1: vendredi 10 janvier | V1: TOTAL
B2: arrivee | C2: coupure | D2: reprise | E2: depart | F2: arrivee | G2: coupure | H2: reprise | I2: depart | J2: arrivee | K2: coupure | L2: reprise | M2: depart | N2: arrivee | O2: coupure | P2: reprise | Q2: depart | R2: arrivee | S2: coupure | T2: reprise | U2: depart
A3: sarah | B3: 0.29166667 | E3: 0.55208333 | F3: 0.375 | G3: 0.54166667 | H3: 0.57291667 | I3: 0.72916667 | J3: 0.29166667 | M3: 0.5 | N3: 0.35416667 | O3: 0.54166667 | P3: 0.57291667 | Q3: 0.72916667 | R3: 0.29166667 | U3: 0.52083333 | V3: =(C3-B3)+(E3-D3)+(G3-F3)+(I3-H3)+(K3-J3)+(M3-L3)+(O3-N3)+(Q3-P3)+(S3-R3)+(U3-T3) -> 1.3645833 | W3: 1.4583333 | X3: =V3-W3 -> -0.09375 | Y3: =SUM('s51'!Y3)+('s1'!X3)+('s2'!X3) -> -0.4375 | AA3: sarah
A5: anissa | B5: 0.35416667 | C5: 0.54166667 | D5: 0.57291667 | E5: 0.71875 | F5: 0.29166667 | G5: 0.5 | H5: 0.53125 | I5: 0.73958333 | J5: 0.54166667 | M5: 0.72916667 | N5: 0.29166667 | Q5: 0.41666667 | R5: 0.51041667 | S5: 0.54166667 | T5: 0.57291667 | U5: 0.67708333 | V5: =(C5-B5)+(E5-D5)+(G5-F5)+(I5-H5)+(K5-J5)+(M5-L5)+(O5-N5)+(Q5-P5)+(S5-R5)+(U5-T5) -> 1.1979167 | W5: 1.4583333 | X5: =V5-W5 -> -0.26041667 | Y5: =('s51'!Y13)+('s1'!X13)+('s2'!X5) -> -0.51041667 | AA5: anissa
A7: laurine | B7: 0.33333333 | E7: 0.70833333 | F7: 0.34375 | I7: 0.70833333 | N7: 0.34375 | Q7: 0.72916667 | V7: =(C7-B7)+(E7-D7)+(G7-F7)+(I7-H7)+(K7-J7)+(M7-L7)+(O7-N7)+(Q7-P7)+(S7-R7)+(U7-T7) -> 1.125 | W7: 1 | X7: =V7-W7 -> 0.125 | Y7: =SUM('s51'!Y7)+('s1'!X7)+('s2'!X7) -> 0.083333333 | AA7: laurine
A9: cypris | B9: 0.35416667 | C9: 0.54166667 | D9: 0.57291667 | E9: 0.71875 | F9: 0.3125 | G9: 0.54166667 | H9: 0.57291667 | I9: 0.73958333 | R9: 0.35416667 | U9: 0.55208333 | V9: =(C9-B9)+(E9-D9)+(G9-F9)+(I9-H9)+(K9-J9)+(M9-L9)+(O9-N9)+(Q9-P9)+(S9-R9)+(U9-T9) -> 0.92708333 | W9: 1.1666667 | X9: =V9-W9 -> -0.23958333 | Y9: =('s51'!Y9)+('s1'!X9)+('s2'!X9) -> -1.03125 | AA9: cypris
V10: 1h decole en moins
A11: naila | B11: 0.3125 | C11: 0.54166667 | D11: 0.57291667 | E11: 0.71875 | F11: 0.34375 | G11: 0.54166667 | H11: 0.57291667 | I11: 0.72916667 | J11: 0.375 | M11: 0.55208333 | N11: 0.32291667 | O11: 0.54166667 | P11: 0.57291667 | Q11: 0.70833333 | R11: 0.55208333 | U11: 0.72916667 | V11: =(C11-B11)+(E11-D11)+(G11-F11)+(I11-H11)+(K11-J11)+(M11-L11)+(O11-N11)+(Q11-P11)+(S11-R11)+(U11-T11) -> 1.4375 | W11: 1.4583333 | X11: =V11-W11 -> -0.020833333 | Y11: =('s51'!Y11)+('s1'!X11)+('s2'!X11) -> -0.65625 | AA11: naila
B13: 0.39583333 | C13: 0.54166667 | D13: 0.57291667 | E13: 0.70833333 | F13: 0.35416667 | G13: 0.54166667 | H13: 0.57291667 | I13: 0.70833333 | N13: 0.375 | O13: 0.54166667 | P13: 0.57291667 | Q13: 0.60416667 | R13: 0.35416667 | S13: 0.54166667 | T13: 0.57291667 | U13: 0.54166667 | V13: =(C13-B13)+(E13-D13)+(G13-F13)+(I13-H13)+(K13-J13)+(M13-L13)+(O13-N13)+(Q13-P13)+(S13-R13)+(U13-T13) -> 0.95833333 | W13: 1.25 | X13: =V13-W13 -> -0.29166667
A15: oceane | R15: 0.34375 | U15: 0.72916667 | V15: =(C15-B15)+(E15-D15)+(G15-F15)+(I15-H15)+(K15-J15)+(M15-L15)+(O15-N15)+(Q15-P15)+(S15-R15)+(U15-T15) -> 0.38541667 | W15: 0.625 | X15: =V15-W15 -> -0.23958333 | Y15: =('s51'!Y15)+('s1'!X15)+('s2'!X15) -> -0.17708333 | AA15: oceane
S16: .
C20: REPOS | F20: ABSENT
C22: ECOLE

Sheet s3
B1: lundi 13 JANVIER | F1: mardi 14 janvier | J1: mercredi 15 janvier | N1: jeudi 16 janvier | R1: vendredi 17 janvier | V1: TOTAL
B2: arrivee | C2: coupure | D2: reprise | E2: depart | F2: arrivee | G2: coupure | H2: reprise | I2: depart | J2: arrivee | K2: coupure | L2: reprise | M2: depart | N2: arrivee | O2: coupure | P2: reprise | Q2: depart | R2: arrivee | S2: coupure | T2: reprise | U2: depart
A3: sarah | B3: 0.35416667 | C3: 0.54166667 | D3: 0.57291667 | E3: 0.72916667 | F3: 0.29166667 | G3: 0.54166667 | H3: 0.57291667 | I3: 0.73958333 | J3: 0.53125 | M3: 0.72916667 | N3: 0.29166667 | O3: 0.54166667 | P3: 0.57291667 | Q3: 0.6875 | R3: 0.51041667 | U3: 0.6875 | V3: =(C3-B3)+(E3-D3)+(G3-F3)+(I3-H3)+(K3-J3)+(M3-L3)+(O3-N3)+(Q3-P3)+(S3-R3)+(U3-T3) -> 1.5 | W3: 1.4583333 | X3: =V3-W3 -> 0.041666667 | Y3: =SUM('s51'!Y3)+('s1'!X3)+('s2'!X3)+('s3'!X3) -> -0.39583333 | AA3: sarah
A5: anissa | B5: 0.51041667 | E5: 0.73958333 | F5: 0.375 | G5: 0.54166667 | H5: 0.53125 | I5: 0.72916667 | J5: 0.29166667 | M5: 0.53125 | N5: 0.35416667 | O5: 0.54166667 | P5: 0.57291667 | Q5: 0.73958333 | R5: 0.375 | S5: 0.54166667 | T5: 0.57291667 | U5: 0.6875 | V5: =(C5-B5)+(E5-D5)+(G5-F5)+(I5-H5)+(K5-J5)+(M5-L5)+(O5-N5)+(Q5-P5)+(S5-R5)+(U5-T5) -> 1.46875 | W5: 1.4583333 | X5: =V5-W5 -> 0.010416667 | Y5: =('s51'!Y13)+('s1'!X13)+('s2'!X5)+('s3'!X5) -> -0.5 | AA5: anissa
A7: laurine | B7: 0.32291667 | E7: 0.70833333 | F7: 0.34375 | I7: 0.70833333 | N7: 0.34375 | Q7: 0.72916667 | V7: =(C7-B7)+(E7-D7)+(G7-F7)+(I7-H7)+(K7-J7)+(M7-L7)+(O7-N7)+(Q7-P7)+(S7-R7)+(U7-T7) -> 1.1354167 | W7: 1 | X7: =V7-W7 -> 0.13541667 | Y7: =SUM('s51'!Y7)+('s1'!X7)+('s2'!X7)+('s3'!X7) -> 0.21875 | AA7: laurine
A9: cypris | B9: 0.35416667 | C9: 0.54166667 | D9: 0.57291667 | E9: 0.70833333 | F9: 0.3125 | G9: 0.54166667 | H9: 0.57291667 | I9: 0.72916667 | N9: 0.3125 | O9: 0.54166667 | P9: 0.57291667 | Q9: 0.73958333 | R9: 0.32291667 | U9: 0.55208333 | V9: =(C9-B9)+(E9-D9)+(G9-F9)+(I9-H9)+(K9-J9)+(M9-L9)+(O9-N9)+(Q9-P9)+(S9-R9)+(U9-T9) -> 1.3333333 | W9: 1.125 | X9: =V9-W9 -> 0.20833333 | Y9: =('s51'!Y9)+('s1'!X9)+('s2'!X9)+('s3'!X9) -> -0.82291667 | AA9: cypris
A11: naila | B11: 0.3125 | C11: 0.54166667 | D11: 0.57291667 | E11: 0.72916667 | F11: 0.34375 | G11: 0.54166667 | H11: 0.57291667 | I11: 0.72916667 | J11: 0.32291667 | M11: 0.6875 | R11: 0.55208333 | U11: 0.72916667 | V11: =(C11-B11)+(E11-D11)+(G11-F11)+(I11-H11)+(K11-J11)+(M11-L11)+(O11-N11)+(Q11-P11)+(S11-R11)+(U11-T11) -> 1.28125 | W11: 1.125 | X11: =V11-W11 -> 0.15625 | Y11: =('s51'!Y11)+('s1'!X11)+('s2'!X11)+('s3'!X11) -> -0.5 | AA11: naila
B13: 0.375 | C13: 0.54166667 | D13: 0.57291667 | E13: 0.6875 | F13: 0.35416667 | G13: 0.54166667 | H13: 0.57291667 | I13: 0.69791667 | N13: 0.375 | O13: 0.54166667 | P13: 0.57291667 | Q13: 0.71875 | R13: 0.35416667 | S13: 0.54166667 | T13: 0.57291667 | U13: 0.70833333 | V13: =(C13-B13)+(E13-D13)+(G13-F13)+(I13-H13)+(K13-J13)+(M13-L13)+(O13-N13)+(Q13-P13)+(S13-R13)+(U13-T13) -> 1.2291667 | W13: 1.25 | X13: =V13-W13 -> -0.020833333 | Y13: =('s2'!X13)+('s3'!X13) -> -0.3125
A15: oceane | N15: 0.35416667 | O15: 0.54166667 | P15: 0.57291667 | Q15: 0.60416667 | R15: 0.34375 | U15: 0.72916667 | V15: =(C15-B15)+(E15-D15)+(G15-F15)+(I15-H15)+(K15-J15)+(M15-L15)+(O15-N15)+(Q15-P15)+(S15-R15)+(U15-T15) -> 0.60416667 | W15: 0.625 | X15: =V15-W15 -> -0.020833333 | Y15: =('s51'!Y15)+('s1'!X15)+('s2'!X15)+('s3'!X15) -> -0.19791667 | AA15: oceane
C20: CONGE | F20: ABSENT
C22: ECOLE | F22: FERIE

Sheet s4
B1: lundi 13 JANVIER | F1: mardi 14 janvier | J1: mercredi 15 janvier | N1: jeudi 16 janvier | R1: vendredi 17 janvier | V1: TOTAL
B2: arrivee | C2: coupure | D2: reprise | E2: depart | F2: arrivee | G2: coupure | H2: reprise | I2: depart | J2: arrivee | K2: coupure | L2: reprise | M2: depart | N2: arrivee | O2: coupure | P2: reprise | Q2: depart | R2: arrivee | S2: coupure | T2: reprise | U2: depart
A3: sarah | B3: 0.35416667 | C3: 0.54166667 | D3: 0.57291667 | E3: 0.72916667 | F3: 0.29166667 | G3: 0.54166667 | H3: 0.57291667 | I3: 0.73958333 | J3: 0.53125 | M3: 0.72916667 | N3: 0.29166667 | O3: 0.54166667 | P3: 0.57291667 | Q3: 0.6875 | R3: 0.51041667 | U3: 0.6875 | V3: =(C3-B3)+(E3-D3)+(G3-F3)+(I3-H3)+(K3-J3)+(M3-L3)+(O3-N3)+(Q3-P3)+(S3-R3)+(U3-T3) -> 1.5 | W3: 1.4583333 | X3: =V3-W3 -> 0.041666667 | Y3: =SUM('s51'!Y3)+('s1'!X3)+('s2'!X3)+('s3'!X3)+('s4'!X3) -> -0.35416667 | AA3: sarah
A5: anissa | B5: 0.51041667 | E5: 0.73958333 | F5: 0.375 | G5: 0.54166667 | H5: 0.53125 | I5: 0.72916667 | J5: 0.29166667 | M5: 0.53125 | N5: 0.35416667 | O5: 0.54166667 | P5: 0.57291667 | Q5: 0.73958333 | R5: 0.375 | S5: 0.54166667 | T5: 0.57291667 | U5: 0.6875 | V5: =(C5-B5)+(E5-D5)+(G5-F5)+(I5-H5)+(K5-J5)+(M5-L5)+(O5-N5)+(Q5-P5)+(S5-R5)+(U5-T5) -> 1.46875 | W5: 1.4583333 | X5: =V5-W5 -> 0.010416667 | Y5: =('s51'!Y13)+('s1'!X13)+('s2'!X5)+('s3'!X5)+('s4'!X5) -> -0.48958333 | AA5: anissa
A7: laurine | B7: 0.32291667 | E7: 0.70833333 | F7: 0.34375 | I7: 0.70833333 | N7: 0.34375 | Q7: 0.72916667 | V7: =(C7-B7)+(E7-D7)+(G7-F7)+(I7-H7)+(K7-J7)+(M7-L7)+(O7-N7)+(Q7-P7)+(S7-R7)+(U7-T7) -> 1.1354167 | W7: 1 | X7: =V7-W7 -> 0.13541667 | Y7: =SUM('s51'!Y7)+('s1'!X7)+('s2'!X7)+('s3'!X7)+('s4'!X7) -> 0.35416667 | AA7: laurine
A9: cypris | B9: 0.35416667 | C9: 0.54166667 | D9: 0.57291667 | E9: 0.70833333 | F9: 0.3125 | G9: 0.54166667 | H9: 0.57291667 | I9: 0.72916667 | N9: 0.3125 | O9: 0.54166667 | P9: 0.57291667 | Q9: 0.73958333 | R9: 0.32291667 | U9: 0.55208333 | V9: =(C9-B9)+(E9-D9)+(G9-F9)+(I9-H9)+(K9-J9)+(M9-L9)+(O9-N9)+(Q9-P9)+(S9-R9)+(U9-T9) -> 1.3333333 | W9: 1.125 | X9: =V9-W9 -> 0.20833333 | Y9: =('s51'!Y9)+('s1'!X9)+('s2'!X9)+('s3'!X9)+('s4'!X9) -> -0.61458333 | AA9: cypris
A11: naila | B11: 0.3125 | C11: 0.54166667 | D11: 0.57291667 | E11: 0.72916667 | F11: 0.34375 | G11: 0.54166667 | H11: 0.57291667 | I11: 0.72916667 | J11: 0.32291667 | M11: 0.6875 | R11: 0.55208333 | U11: 0.72916667 | V11: =(C11-B11)+(E11-D11)+(G11-F11)+(I11-H11)+(K11-J11)+(M11-L11)+(O11-N11)+(Q11-P11)+(S11-R11)+(U11-T11) -> 1.28125 | W11: 1.125 | X11: =V11-W11 -> 0.15625 | Y11: =('s51'!Y11)+('s1'!X11)+('s2'!X11)+('s3'!X11)+('s4'!X11) -> -0.34375 | AA11: naila
B13: 0.375 | C13: 0.54166667 | D13: 0.57291667 | E13: 0.6875 | F13: 0.35416667 | G13: 0.54166667 | H13: 0.57291667 | I13: 0.69791667 | N13: 0.375 | O13: 0.54166667 | P13: 0.57291667 | Q13: 0.71875 | R13: 0.35416667 | S13: 0.54166667 | T13: 0.57291667 | U13: 0.70833333 | V13: =(C13-B13)+(E13-D13)+(G13-F13)+(I13-H13)+(K13-J13)+(M13-L13)+(O13-N13)+(Q13-P13)+(S13-R13)+(U13-T13) -> 1.2291667 | W13: 1.25 | X13: =V13-W13 -> -0.020833333 | Y13: =('s2'!X13)+('s3'!X13)+('s4'!X13) -> -0.33333333
A15: oceane | N15: 0.35416667 | O15: 0.54166667 | P15: 0.57291667 | Q15: 0.60416667 | R15: 0.34375 | U15: 0.72916667 | V15: =(C15-B15)+(E15-D15)+(G15-F15)+(I15-H15)+(K15-J15)+(M15-L15)+(O15-N15)+(Q15-P15)+(S15-R15)+(U15-T15) -> 0.60416667 | W15: 0.625 | X15: =V15-W15 -> -0.020833333 | Y15: =('s51'!Y15)+('s1'!X15)+('s2'!X15)+('s3'!X15)+('s4'!X15) -> -0.21875 | AA15: oceane
C20: CONGE | F20: ABSENT
C22: ECOLE | F22: FERIE

Sheet s5
B1: lundi 13 JANVIER | F1: mardi 14 janvier | J1: mercredi 15 janvier | N1: jeudi 16 janvier | R1: vendredi 17 janvier | V1: TOTAL
B2: arrivee | C2: coupure | D2: reprise | E2: depart | F2: arrivee | G2: coupure | H2: reprise | I2: depart | J2: arrivee | K2: coupure | L2: reprise | M2: depart | N2: arrivee | O2: coupure | P2: reprise | Q2: depart | R2: arrivee | S2: coupure | T2: reprise | U2: depart
A3: sarah | B3: 0.36458333 | C3: 0.54166667 | D3: 0.57291667 | E3: 0.73958333 | F3: 0.29166667 | G3: 0.54166667 | H3: 0.57291667 | I3: 0.75 | N3: 0.34375 | O3: 0.54166667 | P3: 0.57291667 | Q3: 0.72916667 | R3: 0.35416667 | S3: 0.54166667 | T3: 0.57291667 | U3: 0.70833333 | V3: =(C3-B3)+(E3-D3)+(G3-F3)+(I3-H3)+(K3-J3)+(M3-L3)+(O3-N3)+(Q3-P3)+(S3-R3)+(U3-T3) -> 1.4479167 | W3: 1.4583333 | X3: =V3-W3 -> -0.010416667 | Y3: =SUM('s51'!Y3)+('s1'!X3)+('s2'!X3)+('s3'!X3)+('s4'!X3)+('s5'!X3) -> -0.36458333 | AA3: sarah
D4: PA2 | H4: PA3 | P4: PA3
A5: anissa | B5: 0.51041667 | E5: 0.72916667 | F5: 0.34375 | G5: 0.54166667 | H5: 0.53125 | I5: 0.72916667 | J5: 0.29166667 | K5: 0.54166667 | L5: 0.57291667 | M5: 0.72916667 | N5: 0.375 | O5: 0.54166667 | P5: 0.57291667 | Q5: 0.72916667 | R5: 0.51041667 | U5: 0.6875 | V5: =(C5-B5)+(E5-D5)+(G5-F5)+(I5-H5)+(K5-J5)+(M5-L5)+(O5-N5)+(Q5-P5)+(S5-R5)+(U5-T5) -> 1.5208333 | W5: 1.4583333 | X5: =V5-W5 -> 0.0625 | Y5: =('s51'!Y13)+('s1'!X13)+('s2'!X5)+('s3'!X5)+('s4'!X5)+('s5'!X5) -> -0.42708333 | AA5: anissa
D6: PA2 | H6: PA2 | L6: PA3 | P6: PA2
A7: laurine | B7: 0.32291667 | E7: 0.70833333 | F7: 0.34375 | I7: 0.70833333 | N7: 0.34375 | Q7: 0.72916667 | V7: =(C7-B7)+(E7-D7)+(G7-F7)+(I7-H7)+(K7-J7)+(M7-L7)+(O7-N7)+(Q7-P7)+(S7-R7)+(U7-T7) -> 1.1354167 | W7: 1 | X7: =V7-W7 -> 0.13541667 | Y7: =SUM('s51'!Y7)+('s1'!X7)+('s2'!X7)+('s3'!X7)+('s4'!X7)+('s5'!X7) -> 0.48958333 | AA7: laurine
D8: PA1 | H8: PA1 | P8: PA1
A9: cypris | B9: 0.36458333 | C9: 0.54166667 | D9: 0.57291667 | E9: 0.70833333 | F9: 0.3125 | G9: 0.54166667 | H9: 0.57291667 | I9: 0.72916667 | N9: 0.3125 | O9: 0.54166667 | P9: 0.57291667 | Q9: 0.72916667 | R9: 0.32291667 | U9: 0.54166667 | V9: =(C9-B9)+(E9-D9)+(G9-F9)+(I9-H9)+(K9-J9)+(M9-L9)+(O9-N9)+(Q9-P9)+(S9-R9)+(U9-T9) -> 1.3020833 | W9: 1.125 | X9: =V9-W9 -> 0.17708333 | Y9: =('s51'!Y9)+('s1'!X9)+('s2'!X9)+('s3'!X9)+('s4'!X9)+('s5'!X9) -> -0.4375 | AA9: cypris
D10: PA2 | H10: PA3 | P10: PA2
A11: naila | B11: 0.3125 | C11: 0.54166667 | D11: 0.57291667 | E11: 0.72916667 | F11: 0.34375 | G11: 0.54166667 | H11: 0.57291667 | I11: 0.71875 | J11: 0.32291667 | K11: 0.54166667 | L11: 0.57291667 | M11: 0.6875 | R11: 0.54166667 | U11: 0.72916667 | V11: =(C11-B11)+(E11-D11)+(G11-F11)+(I11-H11)+(K11-J11)+(M11-L11)+(O11-N11)+(Q11-P11)+(S11-R11)+(U11-T11) -> 1.25 | W11: 1.125 | X11: =V11-W11 -> 0.125 | Y11: =('s51'!Y11)+('s1'!X11)+('s2'!X11)+('s3'!X11)+('s4'!X11)+('s5'!X11) -> -0.21875 | AA11: naila
D12: PA3 | H12: PA2 | L12: PA3
B13: 0.35416667 | C13: 0.54166667 | D13: 0.57291667 | E13: 0.69791667 | F13: 0.35416667 | G13: 0.54166667 | H13: 0.57291667 | I13: 0.70833333 | N13: 0.35416667 | O13: 0.54166667 | P13: 0.57291667 | Q13: 0.70833333 | R13: 0.375 | S13: 0.54166667 | T13: 0.57291667 | U13: 0.6875 | V13: =(C13-B13)+(E13-D13)+(G13-F13)+(I13-H13)+(K13-J13)+(M13-L13)+(O13-N13)+(Q13-P13)+(S13-R13)+(U13-T13) -> 1.2395833 | W13: 1.25 | X13: =V13-W13 -> -0.010416667 | Y13: =('s2'!X13)+('s3'!X13)+('s4'!X13)+('s5'!X13) -> -0.34375
D14: PA3 | H14: PA3 | P14: PA3
A15: oceane | N15: 0.35416667 | O15: 0.54166667 | P15: 0.57291667 | Q15: 0.70833333 | R15: 0.32291667 | U15: 0.72916667 | V15: =(C15-B15)+(E15-D15)+(G15-F15)+(I15-H15)+(K15-J15)+(M15-L15)+(O15-N15)+(Q15-P15)+(S15-R15)+(U15-T15) -> 0.72916667 | W15: 0.625 | X15: =V15-W15 -> 0.10416667 | Y15: =('s51'!Y15)+('s1'!X15)+('s2'!X15)+('s3'!X15)+('s4'!X15)+('s5'!X15) -> -0.11458333 | AA15: oceane
P16: PA3 | T16: PA1
C20: CONGE | F20: ABSENT
C22: ECOLE | F22: FERIE
