Workbook

Sheet ACTIVITE 2025
B1: JANVIER | C1: FÉVRIER | D1: MARS | E1: AVRIL | F1: MAI | G1: JUIN | H1: JUILLET | I1: AOÛT | J1: SEPTEMBRE | K1: OCTOBRE | L1: NOVEMBRE | M1: DÉCEMBRE
A2: INTERNES | D2: =MARS!AL12 -> 149 | E2: =AVRIL!AL12 -> 117
A3: 1/2 INTERNES | D3: =MARS!AM12 -> 57 | E3: =AVRIL!AM12 -> 37
A4: TOTAL | D4: =D2+D3 -> 206 | E4: =E2+E3 -> 154 | G4: =G2+G3 -> 0 | H4: =H2+H3 -> 0 | I4: =I2+I3 -> 0 | J4: =J2+J3 -> 0 | K4: =K2+K3 -> 0 | L4: =L2+L3 -> 0 | M4: =M2+M3 -> 0
C9: ACTIVITE 2025
C10: INTERNES | E10: =SUM(B2:M2) -> 266
C11: 1/2 INTERNES | E11: =SUM(B3:M3) -> 94
C12: TOTAL | E12: =E10+E11 -> 360

Sheet 20ans et plus
A1: Age | B1: (Plusieurs éléments)
A3: Étiquettes de lignes | B3: Somme de I | C3: Somme de 1/2 | D3: Somme de A | E3: Somme de H
A4: GARCON | B4: 34 | C4: 0 | D4: 1 | E4: 2
A5: Hélène | B5: 34 | C5: 0 | D5: 1 | E5: 2
A6: GARDIEN | B6: 26 | C6: 11 | D6: 0 | E6: 0
A7: Joséphine | B7: 26 | C7: 11 | D7: 0 | E7: 0
A8: GEORGES | B8: 33 | C8: 2 | D8: 2 | E8: 0
A9: Mikaël | B9: 33 | C9: 2 | D9: 2 | E9: 0
A10: PHILIPPE | B10: 32 | C10: 2 | D10: 3 | E10: 0
A11: Catherine | B11: 32 | C11: 2 | D11: 3 | E11: 0
A12: SAINT | B12: 4 | C12: 32 | D12: 1 | E12: 0
A13: Valentin | B13: 4 | C13: 32 | D13: 1 | E13: 0
A14: Total général | B14: 129 | C14: 47 | D14: 7 | E14: 2

Sheet PRESENCE ANNUELLE
G1: Annuelle | K1: Mars | O1: Avril
A2: GRP | B2: NOM | C2: Prénom | D2: Date de naissance | E2: Age | F2: Statut | G2: I | H2: 1/2 | I2: A | J2: H | K2: I | L2: 1/2 | M2: A | N2: H | O2: I | P2: 1/2 | Q2: A | R2: H | T2: Date du jour | U2: =TODAY() -> 45694
A3: GROUPE 6 | B3: DORMI | C3: Jemal | D3: 23/11/2006 | E3: =DATEDIF(D3, TODAY(), "Y") -> 18 | F3: Int | G3: =K3+O3 -> 30 | H3: =L3+P3 -> 7 | I3: =M3+Q3 -> 0 | J3: =N3+R3 -> 0 | K3: =MARS!AL2 -> 18 | L3: =MARS!AM2 -> 3 | M3: =MARS!AN2 -> 0 | N3: =MARS!AO2 -> 0 | O3: =AVRIL!AL2 -> 12 | P3: =AVRIL!AM2 -> 4 | Q3: =AVRIL!AN2 -> 0 | R3: =AVRIL!AO2 -> 0
A4: GROUPE 6 | B4: GOUTTE | C4: Justine | D4: 24/09/2005 | E4: =DATEDIF(D4, TODAY(), "Y") -> 19 | F4: Int | G4: =K4+O4 -> 31 | H4: =L4+P4 -> 5 | I4: =M4+Q4 -> 1 | J4: =N4+R4 -> 0 | K4: =MARS!AL3 -> 19 | L4: =MARS!AM3 -> 2 | M4: =MARS!AN3 -> 0 | N4: =MARS!AO3 -> 0 | O4: =AVRIL!AL3 -> 12 | P4: =AVRIL!AM3 -> 3 | Q4: =AVRIL!AN3 -> 1 | R4: =AVRIL!AO3 -> 0
A5: GROUPE 6 | B5: PHILIPPE | C5: Catherine | D5: 08/12/2003 | E5: =DATEDIF(D5, TODAY(), "Y") -> 21 | F5: Int | G5: =K5+O5 -> 32 | H5: =L5+P5 -> 2 | I5: =M5+Q5 -> 3 | J5: =N5+R5 -> 0 | K5: =MARS!AL4 -> 18 | L5: =MARS!AM4 -> 2 | M5: =MARS!AN4 -> 1 | N5: =MARS!AO4 -> 0 | O5: =AVRIL!AL4 -> 14 | P5: =AVRIL!AM4 -> 0 | Q5: =AVRIL!AN4 -> 2 | R5: =AVRIL!AO4 -> 0
A6: GROUPE 3 | B6: HINE | C6: Michel | D6: 18/03/2008 | E6: =DATEDIF(D6, TODAY(), "Y") -> 16 | F6: Int | G6: =K6+O6 -> 37 | H6: =L6+P6 -> 0 | I6: =M6+Q6 -> 0 | J6: =N6+R6 -> 0 | K6: =MARS!AL5 -> 21 | L6: =MARS!AM5 -> 0 | M6: =MARS!AN5 -> 0 | N6: =MARS!AO5 -> 0 | O6: =AVRIL!AL5 -> 16 | P6: =AVRIL!AM5 -> 0 | Q6: =AVRIL!AN5 -> 0 | R6: =AVRIL!AO5 -> 0
A7: GROUPE 4 | B7: SAINT | C7: Valentin | D7: 30/03/2007 | E7: =DATEDIF(D7, TODAY(), "Y") -> 17 | F7: Mod | G7: =K7+O7 -> 4 | H7: =L7+P7 -> 32 | I7: =M7+Q7 -> 1 | J7: =N7+R7 -> 0 | K7: =MARS!AL6 -> 2 | L7: =MARS!AM6 -> 18 | M7: =MARS!AN6 -> 1 | N7: =MARS!AO6 -> 0 | O7: =AVRIL!AL6 -> 2 | P7: =AVRIL!AM6 -> 14 | Q7: =AVRIL!AN6 -> 0 | R7: =AVRIL!AO6 -> 0
A8: GROUPE 3 | B8: GARDIEN | C8: Joséphine | D8: 01/10/2003 | E8: =DATEDIF(D8, TODAY(), "Y") -> 21 | F8: Int | G8: =K8+O8 -> 26 | H8: =L8+P8 -> 11 | I8: =M8+Q8 -> 0 | J8: =N8+R8 -> 0 | K8: =MARS!AL7 -> 10 | L8: =MARS!AM7 -> 11 | M8: =MARS!AN7 -> 0 | N8: =MARS!AO7 -> 0 | O8: =AVRIL!AL7 -> 16 | P8: =AVRIL!AM7 -> 0 | Q8: =AVRIL!AN7 -> 0 | R8: =AVRIL!AO7 -> 0
A9: GROUPE 6 | B9: GEORGES | C9: Mikaël | D9: 07/06/2004 | E9: =DATEDIF(D9, TODAY(), "Y") -> 20 | F9: Int | G9: =K9+O9 -> 33 | H9: =L9+P9 -> 2 | I9: =M9+Q9 -> 2 | J9: =N9+R9 -> 0 | K9: =MARS!AL8 -> 18 | L9: =MARS!AM8 -> 2 | M9: =MARS!AN8 -> 1 | N9: =MARS!AO8 -> 0 | O9: =AVRIL!AL8 -> 15 | P9: =AVRIL!AM8 -> 0 | Q9: =AVRIL!AN8 -> 1 | R9: =AVRIL!AO8 -> 0
A10: GROUPE 2 | B10: LATOUCHE | C10: Thomas | D10: 14/11/2008 | E10: =DATEDIF(D10, TODAY(), "Y") -> 16 | F10: Int | G10: =K10+O10 -> 37 | H10: =L10+P10 -> 0 | I10: =M10+Q10 -> 0 | J10: =N10+R10 -> 0 | K10: =MARS!AL9 -> 21 | L10: =MARS!AM9 -> 0 | M10: =MARS!AN9 -> 0 | N10: =MARS!AO9 -> 0 | O10: =AVRIL!AL9 -> 16 | P10: =AVRIL!AM9 -> 0 | Q10: =AVRIL!AN9 -> 0 | R10: =AVRIL!AO9 -> 0
A11: GROUPE 6 | B11: GARCON | C11: Hélène | D11: 20/03/2004 | E11: =DATEDIF(D11, TODAY(), "Y") -> 20 | F11: Int | G11: =K11+O11 -> 34 | H11: =L11+P11 -> 0 | I11: =M11+Q11 -> 1 | J11: =N11+R11 -> 2 | K11: =MARS!AL10 -> 20 | L11: =MARS!AM10 -> 0 | M11: =MARS!AN10 -> 1 | N11: =MARS!AO10 -> 0 | O11: =AVRIL!AL10 -> 14 | P11: =AVRIL!AM10 -> 0 | Q11: =AVRIL!AN10 -> 0 | R11: =AVRIL!AO10 -> 2
A12: GROUPE 1 | B12: ENFANT | C12: Ludivine | D12: 09/09/2011 | E12: =DATEDIF(D12, TODAY(), "Y") -> 13 | F12: 1/2 Int | G12: =K12+O12 -> 2 | H12: =L12+P12 -> 35 | I12: =M12+Q12 -> 0 | J12: =N12+R12 -> 0 | K12: =MARS!AL11 -> 2 | L12: =MARS!AM11 -> 19 | M12: =MARS!AN11 -> 0 | N12: =MARS!AO11 -> 0 | O12: =AVRIL!AL11 -> 0 | P12: =AVRIL!AM11 -> 16 | Q12: =AVRIL!AN11 -> 0 | R12: =AVRIL!AO11 -> 0
G13: =SUM(G3:G12) -> 266 | H13: =SUM(H3:H12) -> 94 | I13: =SUM(I3:I12) -> 8 | J13: =SUM(J3:J12) -> 2 | K13: =SUM(K3:K12) -> 149 | L13: =SUM(L3:L12) -> 57 | M13: =SUM(M3:M12) -> 4 | N13: =SUM(N3:N12) -> 0 | ... R13: =SUM(R3:R12) -> 2
A15: I | B15: interne | C15: nuit à l'EPMS ou en stage
A16: 1/2 | B16: semi-interne | C16: pas de nuit, prise en charge dans la journée, même sans repas
A17: A | B17: absent | C17: pas ici de la journée
A18: H | B18: Hospitalisation | C18: à préciser

Sheet AVRIL
A1: GRP | B1: NOM | C1: Prénom | D1: Date de naissance | E1: Age | F1: Statut | G1: 45748 | H1: 45749 | I1: 45750 | J1: 45751 | K1: 45752 | L1: 45753 | M1: 45754 | N1: 45755 | O1: 45756 | P1: 45757 | Q1: 45758 | R1: 45759 | S1: 45760 | T1: 45761 | U1: 45762 | V1: 45763 | W1: 45764 | X1: 45765 | Y1: 45766 | Z1: 45767 | AA1: 45768 | AB1: 45769 | AC1: 45770 | AD1: 45771 | AE1: 45772 | AF1: 45773 | AG1: 45774 | AH1: 45775 | AI1: 45776 | AJ1: 45777 | AL1: I | AM1: 1/2 | AN1: A | AO1: H | AP1: I | AQ1: 1/2 | AR1: A | AS1: H
A2: GROUPE 6 | B2: DORMI | C2: Jemal | D2: 23/11/2006 | E2: =DATEDIF(D2, TODAY(), "Y") -> 18 | F2: Int | G2: 1/2 | H2: I | I2: I | J2: I | M2: I | N2: 1/2 | O2: I | P2: I | Q2: I | AB2: 1/2 | AC2: I | AD2: I | AE2: I | AH2: I | AI2: 1/2 | AJ2: I | AL2: =COUNTIF(G2:AK2,"I") -> 12 | AM2: =COUNTIF(G2:AK2,"1/2") -> 4 | AN2: =COUNTIF(G2:AK2,"A") -> 0 | AO2: =COUNTIF(G2:AK2,"H") -> 0 | AP2: {=IF(TODAY()>=DATE(YEAR(D2:D11)+20,MONTH(D2:D11),DAY(D2:D11)),AL2:AO11,"")}
A3: GROUPE 6 | B3: GOUTTE | C3: Justine | D3: 24/09/2005 | E3: =DATEDIF(D3, TODAY(), "Y") -> 19 | F3: Int | G3: I | H3: I | I3: 1/2 | J3: I | M3: I | N3: I | O3: I | P3: 1/2 | Q3: I | AB3: I | AC3: I | AD3: 1/2 | AE3: I | AH3: I | AI3: I | AJ3: A | AL3: =COUNTIF(G3:AK3,"I") -> 12 | AM3: =COUNTIF(G3:AK3,"1/2") -> 3 | AN3: =COUNTIF(G3:AK3,"A") -> 1 | AO3: =COUNTIF(G3:AK3,"H") -> 0
A4: GROUPE 6 | B4: PHILIPPE | C4: Catherine | D4: 08/12/2003 | E4: =DATEDIF(D4, TODAY(), "Y") -> 21 | F4: Int | G4: I | H4: I | I4: I | J4: I | M4: I | N4: A | O4: I | P4: I | Q4: I | AB4: I | AC4: I | AD4: A | AE4: I | AH4: I | AI4: I | AJ4: I | AL4: =COUNTIF(G4:AK4,"I") -> 14 | AM4: =COUNTIF(G4:AK4,"1/2") -> 0 | AN4: =COUNTIF(G4:AK4,"A") -> 2 | AO4: =COUNTIF(G4:AK4,"H") -> 0 | AP4: 14 | AQ4: 0 | AR4: 2 | AS4: 0
A5: GROUPE 3 | B5: HINE | C5: Michel | D5: 18/03/2008 | E5: =DATEDIF(D5, TODAY(), "Y") -> 16 | F5: Int | G5: I | H5: I | I5: I | J5: I | M5: I | N5: I | O5: I | P5: I | Q5: I | AB5: I | AC5: I | AD5: I | AE5: I | AH5: I | AI5: I | AJ5: I | AL5: =COUNTIF(G5:AK5,"I") -> 16 | AM5: =COUNTIF(G5:AK5,"1/2") -> 0 | AN5: =COUNTIF(G5:AK5,"A") -> 0 | AO5: =COUNTIF(G5:AK5,"H") -> 0
A6: GROUPE 4 | B6: SAINT | C6: Valentin | D6: 30/03/2007 | E6: =DATEDIF(D6, TODAY(), "Y") -> 17 | F6: Mod | G6: 1/2 | H6: 1/2 | I6: 1/2 | J6: 1/2 | M6: I | N6: 1/2 | O6: 1/2 | P6: 1/2 | Q6: 1/2 | AB6: 1/2 | AC6: 1/2 | AD6: 1/2 | AE6: 1/2 | AH6: I | AI6: 1/2 | AJ6: 1/2 | AL6: =COUNTIF(G6:AK6,"I") -> 2 | AM6: =COUNTIF(G6:AK6,"1/2") -> 14 | AN6: =COUNTIF(G6:AK6,"A") -> 0 | AO6: =COUNTIF(G6:AK6,"H") -> 0
A7: GROUPE 3 | B7: GARDIEN | C7: Joséphine | D7: 01/10/2003 | E7: =DATEDIF(D7, TODAY(), "Y") -> 21 | F7: Int | G7: I | H7: I | I7: I | J7: I | M7: I | N7: I | O7: I | P7: I | Q7: I | AB7: I | AC7: I | AD7: I | AE7: I | AH7: I | AI7: I | AJ7: I | AL7: =COUNTIF(G7:AK7,"I") -> 16 | AM7: =COUNTIF(G7:AK7,"1/2") -> 0 | AN7: =COUNTIF(G7:AK7,"A") -> 0 | AO7: =COUNTIF(G7:AK7,"H") -> 0 | AP7: 16 | AQ7: 0 | AR7: 0 | AS7: 0
A8: GROUPE 6 | B8: GEORGES | C8: Mikaël | D8: 07/06/2004 | E8: =DATEDIF(D8, TODAY(), "Y") -> 20 | F8: Int | G8: I | H8: I | I8: I | J8: I | M8: I | N8: I | O8: I | P8: A | Q8: I | AB8: I | AC8: I | AD8: I | AE8: I | AH8: I | AI8: I | AJ8: I | AL8: =COUNTIF(G8:AK8,"I") -> 15 | AM8: =COUNTIF(G8:AK8,"1/2") -> 0 | AN8: =COUNTIF(G8:AK8,"A") -> 1 | AO8: =COUNTIF(G8:AK8,"H") -> 0 | AP8: 15 | AQ8: 0 | AR8: 1 | AS8: 0
A9: GROUPE 2 | B9: LATOUCHE | C9: Thomas | D9: 14/11/2008 | E9: =DATEDIF(D9, TODAY(), "Y") -> 16 | F9: Int | G9: I | H9: I | I9: I | J9: I | M9: I | N9: I | O9: I | P9: I | Q9: I | AB9: I | AC9: I | AD9: I | AE9: I | AH9: I | AI9: I | AJ9: I | AL9: =COUNTIF(G9:AK9,"I") -> 16 | AM9: =COUNTIF(G9:AK9,"1/2") -> 0 | AN9: =COUNTIF(G9:AK9,"A") -> 0 | AO9: =COUNTIF(G9:AK9,"H") -> 0
A10: GROUPE 6 | B10: GARCON | C10: Hélène | D10: 20/03/2004 | E10: =DATEDIF(D10, TODAY(), "Y") -> 20 | F10: Int | G10: I | H10: I | I10: I | J10: I | M10: I | N10: I | O10: I | P10: I | Q10: I | AB10: I | AC10: I | AD10: I | AE10: I | AH10: I | AI10: H | AJ10: H | AL10: =COUNTIF(G10:AK10,"I") -> 14 | AM10: =COUNTIF(G10:AK10,"1/2") -> 0 | AN10: =COUNTIF(G10:AK10,"A") -> 0 | AO10: =COUNTIF(G10:AK10,"H") -> 2 | AP10: 14 | AQ10: 0 | AR10: 0 | AS10: 2
A11: GROUPE 1 | B11: ENFANT | C11: Ludivine | D11: 09/09/2011 | E11: =DATEDIF(D11, TODAY(), "Y") -> 13 | F11: 1/2 Int | G11: 1/2 | H11: 1/2 | I11: 1/2 | J11: 1/2 | M11: 1/2 | N11: 1/2 | O11: 1/2 | P11: 1/2 | Q11: 1/2 | AB11: 1/2 | AC11: 1/2 | AD11: 1/2 | AE11: 1/2 | AH11: 1/2 | AI11: 1/2 | AJ11: 1/2 | AL11: =COUNTIF(G11:AK11,"I") -> 0 | AM11: =COUNTIF(G11:AK11,"1/2") -> 16 | AN11: =COUNTIF(G11:AK11,"A") -> 0 | AO11: =COUNTIF(G11:AK11,"H") -> 0
AL12: =SUM(AL2:AL11) -> 117 | AM12: =SUM(AM2:AM11) -> 37 | AN12: =SUM(AN2:AN11) -> 4 | AO12: =SUM(AO2:AO11) -> 2 | AP12: =SUM(AP2:AP11) -> 59 | AQ12: =SUM(AQ2:AQ11) -> 0 | AR12: =SUM(AR2:AR11) -> 3 | AS12: =SUM(AS2:AS11) -> 2
AH13: Total Présence | AL13: =AL12+AM12 -> 154 | AP13: =AP12+AQ12 -> 59
A14: I | B14: interne | C14: nuit à l'EPMS ou en stage
A15: 1/2 | B15: semi-interne | C15: pas de nuit, prise en charge dans la journée, même sans repas
A16: A | B16: absent | C16: pas ici de la journée
A17: H | B17: Hospitalisation | C17: à préciser

Sheet MARS
A1: GRP | B1: NOM | C1: Prénom | D1: Date de naissance | E1: Age | F1: Statut | G1: 45717 | H1: 45718 | I1: 45719 | J1: 45720 | K1: 45721 | L1: 45722 | M1: 45723 | N1: 45724 | O1: 45725 | P1: 45726 | Q1: 45727 | R1: 45728 | S1: 45729 | T1: 45730 | U1: 45731 | V1: 45732 | W1: 45733 | X1: 45734 | Y1: 45735 | Z1: 45736 | AA1: 45737 | AB1: 45738 | AC1: 45739 | AD1: 45740 | AE1: 45741 | AF1: 45742 | AG1: 45743 | AH1: 45744 | AI1: 45745 | AJ1: 45746 | AK1: 45747 | AL1: I | AM1: 1/2 | AN1: A | AO1: H
A2: GROUPE 6 | B2: DORMI | C2: Jemal | D2: 23/11/2006 | E2: =DATEDIF(D2, TODAY(), "Y") -> 18 | F2: Int | I2: I | J2: 1/2 | K2: I | L2: I | M2: I | P2: I | Q2: 1/2 | R2: I | S2: I | T2: I | W2: 1/2 | X2: I | Y2: I | Z2: I | AA2: I | AD2: I | AE2: I | AF2: I | AG2: I | AH2: I | AK2: I | AL2: =COUNTIF(G2:AK2,"I") -> 18 | AM2: =COUNTIF(G2:AK2,"1/2") -> 3 | AN2: =COUNTIF(G2:AK2,"A") -> 0 | AO2: =COUNTIF(G2:AK2,"H") -> 0
A3: GROUPE 6 | B3: GOUTTE | C3: Justine | D3: 24/09/2005 | E3: =DATEDIF(D3, TODAY(), "Y") -> 19 | F3: Int | I3: I | J3: I | K3: I | L3: 1/2 | M3: I | P3: I | Q3: I | R3: I | S3: 1/2 | T3: I | W3: I | X3: I | Y3: I | Z3: I | AA3: I | AD3: I | AE3: I | AF3: I | AG3: I | AH3: I | AK3: I | AL3: =COUNTIF(G3:AK3,"I") -> 19 | AM3: =COUNTIF(G3:AK3,"1/2") -> 2 | AN3: =COUNTIF(G3:AK3,"A") -> 0 | AO3: =COUNTIF(G3:AK3,"H") -> 0
A4: GROUPE 6 | B4: PHILIPPE | C4: Catherine | D4: 08/12/2003 | E4: =DATEDIF(D4, TODAY(), "Y") -> 21 | F4: Int | I4: I | J4: I | K4: I | L4: I | M4: I | P4: I | Q4: I | R4: A | S4: I | T4: I | W4: I | X4: 1/2 | Y4: I | Z4: I | AA4: I | AD4: I | AE4: 1/2 | AF4: I | AG4: I | AH4: I | AK4: I | AL4: =COUNTIF(G4:AK4,"I") -> 18 | AM4: =COUNTIF(G4:AK4,"1/2") -> 2 | AN4: =COUNTIF(G4:AK4,"A") -> 1 | AO4: =COUNTIF(G4:AK4,"H") -> 0
A5: GROUPE 3 | B5: HINE | C5: Michel | D5: 18/03/2008 | E5: =DATEDIF(D5, TODAY(), "Y") -> 16 | F5: Int | I5: I | J5: I | K5: I | L5: I | M5: I | P5: I | Q5: I | R5: I | S5: I | T5: I | W5: I | X5: I | Y5: I | Z5: I | AA5: I | AD5: I | AE5: I | AF5: I | AG5: I | AH5: I | AK5: I | AL5: =COUNTIF(G5:AK5,"I") -> 21 | AM5: =COUNTIF(G5:AK5,"1/2") -> 0 | AN5: =COUNTIF(G5:AK5,"A") -> 0 | AO5: =COUNTIF(G5:AK5,"H") -> 0
A6: GROUPE 4 | B6: SAINT | C6: Valentin | D6: 30/03/2007 | E6: =DATEDIF(D6, TODAY(), "Y") -> 17 | F6: Mod | I6: I | J6: 1/2 | K6: 1/2 | L6: 1/2 | M6: 1/2 | P6: I | Q6: 1/2 | R6: 1/2 | S6: 1/2 | T6: 1/2 | W6: 1/2 | X6: 1/2 | Y6: 1/2 | Z6: 1/2 | AA6: 1/2 | AD6: 1/2 | AE6: 1/2 | AF6: A | AG6: 1/2 | AH6: 1/2 | AK6: 1/2 | AL6: =COUNTIF(G6:AK6,"I") -> 2 | AM6: =COUNTIF(G6:AK6,"1/2") -> 18 | AN6: =COUNTIF(G6:AK6,"A") -> 1 | AO6: =COUNTIF(G6:AK6,"H") -> 0
A7: GROUPE 3 | B7: GARDIEN | C7: Joséphine | D7: 01/10/2003 | E7: =DATEDIF(D7, TODAY(), "Y") -> 21 | F7: Int | I7: I | J7: I | K7: I | L7: I | M7: I | P7: I | Q7: I | R7: I | S7: I | T7: I | W7: 1/2 | X7: 1/2 | Y7: 1/2 | Z7: 1/2 | AA7: 1/2 | AD7: 1/2 | AE7: 1/2 | AF7: 1/2 | AG7: 1/2 | AH7: 1/2 | AK7: 1/2 | AL7: =COUNTIF(G7:AK7,"I") -> 10 | AM7: =COUNTIF(G7:AK7,"1/2") -> 11 | AN7: =COUNTIF(G7:AK7,"A") -> 0 | AO7: =COUNTIF(G7:AK7,"H") -> 0
A8: GROUPE 6 | B8: GEORGES | C8: Mikaël | D8: 07/06/2004 | E8: =DATEDIF(D8, TODAY(), "Y") -> 20 | F8: Int | I8: I | J8: I | K8: I | L8: A | M8: I | P8: I | Q8: I | R8: I | S8: I | T8: I | W8: I | X8: I | Y8: I | Z8: 1/2 | AA8: I | AD8: I | AE8: I | AF8: I | AG8: 1/2 | AH8: I | AK8: I | AL8: =COUNTIF(G8:AK8,"I") -> 18 | AM8: =COUNTIF(G8:AK8,"1/2") -> 2 | AN8: =COUNTIF(G8:AK8,"A") -> 1 | AO8: =COUNTIF(G8:AK8,"H") -> 0
A9: GROUPE 2 | B9: LATOUCHE | C9: Thomas | D9: 14/11/2008 | E9: =DATEDIF(D9, TODAY(), "Y") -> 16 | F9: Int | I9: I | J9: I | K9: I | L9: I | M9: I | P9: I | Q9: I | R9: I | S9: I | T9: I | W9: I | X9: I | Y9: I | Z9: I | AA9: I | AD9: I | AE9: I | AF9: I | AG9: I | AH9: I | AK9: I | AL9: =COUNTIF(G9:AK9,"I") -> 21 | AM9: =COUNTIF(G9:AK9,"1/2") -> 0 | AN9: =COUNTIF(G9:AK9,"A") -> 0 | AO9: =COUNTIF(G9:AK9,"H") -> 0
A10: GROUPE 6 | B10: GARCON | C10: Hélène | D10: 20/03/2004 | E10: =DATEDIF(D10, TODAY(), "Y") -> 20 | F10: Int | I10: I | J10: I | K10: I | L10: I | M10: I | P10: I | Q10: I | R10: I | S10: I | T10: I | W10: I | X10: I | Y10: I | Z10: A | AA10: I | AD10: I | AE10: I | AF10: I | AG10: I | AH10: I | AK10: I | AL10: =COUNTIF(G10:AK10,"I") -> 20 | AM10: =COUNTIF(G10:AK10,"1/2") -> 0 | AN10: =COUNTIF(G10:AK10,"A") -> 1 | AO10: =COUNTIF(G10:AK10,"H") -> 0
A11: GROUPE 1 | B11: ENFANT | C11: Ludivine | D11: 09/09/2011 | E11: =DATEDIF(D11, TODAY(), "Y") -> 13 | F11: 1/2 Int | I11: 1/2 | J11: 1/2 | K11: 1/2 | L11: 1/2 | M11: 1/2 | P11: 1/2 | Q11: 1/2 | R11: 1/2 | S11: 1/2 | T11: 1/2 | W11: I | X11: 1/2 | Y11: 1/2 | Z11: 1/2 | AA11: 1/2 | AD11: I | AE11: 1/2 | AF11: 1/2 | AG11: 1/2 | AH11: 1/2 | AK11: 1/2 | AL11: =COUNTIF(G11:AK11,"I") -> 2 | AM11: =COUNTIF(G11:AK11,"1/2") -> 19 | AN11: =COUNTIF(G11:AK11,"A") -> 0 | AO11: =COUNTIF(G11:AK11,"H") -> 0
AL12: =SUM(AL2:AL11) -> 149 | AM12: =SUM(AM2:AM11) -> 57 | AN12: =SUM(AN2:AN11) -> 4 | AO12: =SUM(AO2:AO11) -> 0
AH13: Total Présence | AL13: =AL12+AM12 -> 206
A14: I | B14: interne | C14: nuit à l'EPMS ou en stage
A15: 1/2 | B15: semi-interne | C15: pas de nuit, prise en charge dans la journée, même sans repas
A16: A | B16: absent | C16: pas ici de la journée
A17: H | B17: Hospitalisation | C17: à préciser
