Workbook

Sheet Récap annuelle
A1: Mois | B1: nombre | D1: Evaluateur | E1: JANVIER | F1: FÉVRIER | G1: MARS | H1: AVRIL | I1: MAI | J1: JUIN | K1: JUILLET | L1: AOÛT | M1: SEPTEMBRE | N1: OCTOBRE | O1: NOVEMBRE | P1: DÉCEMBRE
A3: janvier | B3: ='Janvier 2025'!A71 -> 0 | D3: Annick | E3: =IF(COUNTIF(INDIRECT("'"&E$1&" 2025'!$B$2:$B$55"),$D3),"X","") -> X | F3: =IF(COUNTIF(INDIRECT("'"&F$1&" 2025'!$B$2:$B$55"),$D3),"X","") | G3: =IF(COUNTIF(INDIRECT("'"&G$1&" 2025'!$B$2:$B$55"),$D3),"X","") | H3: =IF(COUNTIF(INDIRECT("'"&H$1&" 2025'!$B$2:$B$55"),$D3),"X","") | I3: =IF(COUNTIF(INDIRECT("'"&I$1&" 2025'!$B$2:$B$55"),$D3),"X","") | J3: =IF(COUNTIF(INDIRECT("'"&J$1&" 2025'!$B$2:$B$55"),$D3),"X","") | K3: =IF(COUNTIF(INDIRECT("'"&K$1&" 2025'!$B$2:$B$55"),$D3),"X","") | L3: =IF(COUNTIF(INDIRECT("'"&L$1&" 2025'!$B$2:$B$55"),$D3),"X","") | ... P3: =IF(COUNTIF(INDIRECT("'"&P$1&" 2025'!$B$2:$B$55"),$D3),"X","")
A4: février | B4: ='Février 2025'!A71 -> 0 | D4: Christelle | E4: =IF(COUNTIF(INDIRECT("'"&E$1&" 2025'!$B$2:$B$55"),$D4),"X","") -> X | F4: =IF(COUNTIF(INDIRECT("'"&F$1&" 2025'!$B$2:$B$55"),$D4),"X","") | G4: =IF(COUNTIF(INDIRECT("'"&G$1&" 2025'!$B$2:$B$55"),$D4),"X","") | H4: =IF(COUNTIF(INDIRECT("'"&H$1&" 2025'!$B$2:$B$55"),$D4),"X","") | I4: =IF(COUNTIF(INDIRECT("'"&I$1&" 2025'!$B$2:$B$55"),$D4),"X","") | J4: =IF(COUNTIF(INDIRECT("'"&J$1&" 2025'!$B$2:$B$55"),$D4),"X","") | K4: =IF(COUNTIF(INDIRECT("'"&K$1&" 2025'!$B$2:$B$55"),$D4),"X","") | L4: =IF(COUNTIF(INDIRECT("'"&L$1&" 2025'!$B$2:$B$55"),$D4),"X","") | ... P4: =IF(COUNTIF(INDIRECT("'"&P$1&" 2025'!$B$2:$B$55"),$D4),"X","")
A5: mars | B5: ='Mars 2025'!A71 -> 0 | D5: Jeanne | E5: =IF(COUNTIF(INDIRECT("'"&E$1&" 2025'!$B$2:$B$55"),$D5),"X","") | F5: =IF(COUNTIF(INDIRECT("'"&F$1&" 2025'!$B$2:$B$55"),$D5),"X","") | G5: =IF(COUNTIF(INDIRECT("'"&G$1&" 2025'!$B$2:$B$55"),$D5),"X","") | H5: =IF(COUNTIF(INDIRECT("'"&H$1&" 2025'!$B$2:$B$55"),$D5),"X","") | I5: =IF(COUNTIF(INDIRECT("'"&I$1&" 2025'!$B$2:$B$55"),$D5),"X","") | J5: =IF(COUNTIF(INDIRECT("'"&J$1&" 2025'!$B$2:$B$55"),$D5),"X","") | K5: =IF(COUNTIF(INDIRECT("'"&K$1&" 2025'!$B$2:$B$55"),$D5),"X","") | L5: =IF(COUNTIF(INDIRECT("'"&L$1&" 2025'!$B$2:$B$55"),$D5),"X","") | ... P5: =IF(COUNTIF(INDIRECT("'"&P$1&" 2025'!$B$2:$B$55"),$D5),"X","")
A6: avril | B6: ='Avril 2025'!A71 -> 0 | D6: Marjorie | E6: =IF(COUNTIF(INDIRECT("'"&E$1&" 2025'!$B$2:$B$55"),$D6),"X","") | F6: =IF(COUNTIF(INDIRECT("'"&F$1&" 2025'!$B$2:$B$55"),$D6),"X","") | G6: =IF(COUNTIF(INDIRECT("'"&G$1&" 2025'!$B$2:$B$55"),$D6),"X","") | H6: =IF(COUNTIF(INDIRECT("'"&H$1&" 2025'!$B$2:$B$55"),$D6),"X","") | I6: =IF(COUNTIF(INDIRECT("'"&I$1&" 2025'!$B$2:$B$55"),$D6),"X","") -> X | J6: =IF(COUNTIF(INDIRECT("'"&J$1&" 2025'!$B$2:$B$55"),$D6),"X","") | K6: =IF(COUNTIF(INDIRECT("'"&K$1&" 2025'!$B$2:$B$55"),$D6),"X","") | L6: =IF(COUNTIF(INDIRECT("'"&L$1&" 2025'!$B$2:$B$55"),$D6),"X","") | ... P6: =IF(COUNTIF(INDIRECT("'"&P$1&" 2025'!$B$2:$B$55"),$D6),"X","")
A7: mai | B7: ='Mai 2025'!A71 -> 0 | D7: Nathalie | E7: =IF(COUNTIF(INDIRECT("'"&E$1&" 2025'!$B$2:$B$55"),$D7),"X","") | F7: =IF(COUNTIF(INDIRECT("'"&F$1&" 2025'!$B$2:$B$55"),$D7),"X","") | G7: =IF(COUNTIF(INDIRECT("'"&G$1&" 2025'!$B$2:$B$55"),$D7),"X","") | H7: =IF(COUNTIF(INDIRECT("'"&H$1&" 2025'!$B$2:$B$55"),$D7),"X","") | I7: =IF(COUNTIF(INDIRECT("'"&I$1&" 2025'!$B$2:$B$55"),$D7),"X","") | J7: =IF(COUNTIF(INDIRECT("'"&J$1&" 2025'!$B$2:$B$55"),$D7),"X","") | K7: =IF(COUNTIF(INDIRECT("'"&K$1&" 2025'!$B$2:$B$55"),$D7),"X","") | L7: =IF(COUNTIF(INDIRECT("'"&L$1&" 2025'!$B$2:$B$55"),$D7),"X","") | ... P7: =IF(COUNTIF(INDIRECT("'"&P$1&" 2025'!$B$2:$B$55"),$D7),"X","")
A8: juin | B8: ='Juin 2025'!A71 -> 0 | D8: Sylvie | E8: =IF(COUNTIF(INDIRECT("'"&E$1&" 2025'!$B$2:$B$55"),$D8),"X","") | F8: =IF(COUNTIF(INDIRECT("'"&F$1&" 2025'!$B$2:$B$55"),$D8),"X","") | G8: =IF(COUNTIF(INDIRECT("'"&G$1&" 2025'!$B$2:$B$55"),$D8),"X","") | H8: =IF(COUNTIF(INDIRECT("'"&H$1&" 2025'!$B$2:$B$55"),$D8),"X","") | I8: =IF(COUNTIF(INDIRECT("'"&I$1&" 2025'!$B$2:$B$55"),$D8),"X","") | J8: =IF(COUNTIF(INDIRECT("'"&J$1&" 2025'!$B$2:$B$55"),$D8),"X","") | K8: =IF(COUNTIF(INDIRECT("'"&K$1&" 2025'!$B$2:$B$55"),$D8),"X","") | L8: =IF(COUNTIF(INDIRECT("'"&L$1&" 2025'!$B$2:$B$55"),$D8),"X","") | ... P8: =IF(COUNTIF(INDIRECT("'"&P$1&" 2025'!$B$2:$B$55"),$D8),"X","")
A9: juillet | B9: ='Juillet 2025'!A71 -> 0 | D9: Yolande | E9: =IF(COUNTIF(INDIRECT("'"&E$1&" 2025'!$B$2:$B$55"),$D9),"X","") | F9: =IF(COUNTIF(INDIRECT("'"&F$1&" 2025'!$B$2:$B$55"),$D9),"X","") | G9: =IF(COUNTIF(INDIRECT("'"&G$1&" 2025'!$B$2:$B$55"),$D9),"X","") | H9: =IF(COUNTIF(INDIRECT("'"&H$1&" 2025'!$B$2:$B$55"),$D9),"X","") | I9: =IF(COUNTIF(INDIRECT("'"&I$1&" 2025'!$B$2:$B$55"),$D9),"X","") | J9: =IF(COUNTIF(INDIRECT("'"&J$1&" 2025'!$B$2:$B$55"),$D9),"X","") | K9: =IF(COUNTIF(INDIRECT("'"&K$1&" 2025'!$B$2:$B$55"),$D9),"X","") | L9: =IF(COUNTIF(INDIRECT("'"&L$1&" 2025'!$B$2:$B$55"),$D9),"X","") | ... P9: =IF(COUNTIF(INDIRECT("'"&P$1&" 2025'!$B$2:$B$55"),$D9),"X","")
A10: août | B10: ='Août 2025'!A71 -> 0 | E10: =IF(COUNTIF(INDIRECT("'"&E$1&" 2025'!$B$2:$B$55"),$D10),"X","") | F10: =IF(COUNTIF(INDIRECT("'"&F$1&" 2025'!$B$2:$B$55"),$D10),"X","") | G10: =IF(COUNTIF(INDIRECT("'"&G$1&" 2025'!$B$2:$B$55"),$D10),"X","") | H10: =IF(COUNTIF(INDIRECT("'"&H$1&" 2025'!$B$2:$B$55"),$D10),"X","") | I10: =IF(COUNTIF(INDIRECT("'"&I$1&" 2025'!$B$2:$B$55"),$D10),"X","") | J10: =IF(COUNTIF(INDIRECT("'"&J$1&" 2025'!$B$2:$B$55"),$D10),"X","") | K10: =IF(COUNTIF(INDIRECT("'"&K$1&" 2025'!$B$2:$B$55"),$D10),"X","") | L10: =IF(COUNTIF(INDIRECT("'"&L$1&" 2025'!$B$2:$B$55"),$D10),"X","") | ... P10: =IF(COUNTIF(INDIRECT("'"&P$1&" 2025'!$B$2:$B$55"),$D10),"X","")
A11: septembre | B11: ='Septembre 2025'!A71 -> 0
A12: octobre | B12: ='Octobre 2025'!A71 -> 0
A13: novembre | B13: ='Novembre 2025'!A71 -> 0
A14: décembre | B14: ='Décembre 2025'!A71 -> 0

Sheet Janvier 2025
A1: Date | B1: Evaluateur | C1: Conseiller | D1: Ticket | E1: N° d'enregistrement | F1: Accueil | G1: Identification + confirmation | H1: Découverte des attentes | I1: Reformulation | J1: Conclusion du contact | K1: Prise de congé | L1: Pertinence de la réponse | M1: Clarté de la réponse | N1: Consultation du dossier client | O1: Respect des procédures | P1: Coherence et comprehension de la saisie sous SCORE | Q1: Voix, débit, ton, vocabulaire | R1: Amabilité / sourire | S1: Empathie / écoute / implication | T1: Personnalisation / directivité | U1: Gestion de conflit | V1: Famille | W1: Motif | X1: Sous-motif | Y1: Descriptif | Z1: Réponse apportée | AA1: La raison de la sollicitation | AB1: Point Positif | AC1: Point d'Amélioration | AD1: Date de prise en charge | AE1: QUI | AF1: Action mise en place
AH2: Annick | AI2: Loelia | AK2: OK
AH3: Christelle | AI3: Jérome | AK3: Partiel
B4: Annick | AH4: Jeanne | AI4: Julie | AK4: KO
AH5: Marjorie | AI5: Nomi | AK5: Non évalué
B6: Christelle | AH6: Nathalie | AI6: Lydie
AH7: Sylvie | AI7: Aurélien
AH8: Yolande | AI8: Romain
AI9: Marc
AI10: Cyndie
AI11: Hugo
AI12: Jérémy
A70: TOTAL
A71: =COUNTA(A2:A69) -> 0

Sheet Février 2025
A1: Date | B1: Evaluateur | C1: Conseiller | D1: Ticket | E1: N° d'enregistrement | F1: Accueil | G1: Identification + confirmation | H1: Découverte des attentes | I1: Reformulation | J1: Conclusion du contact | K1: Prise de congé | L1: Pertinence de la réponse | M1: Clarté de la réponse | N1: Consultation du dossier client | O1: Respect des procédures | P1: Coherence et comprehension de la saisie sous SCORE | Q1: Voix, débit, ton, vocabulaire | R1: Amabilité / sourire | S1: Empathie / écoute / implication | T1: Personnalisation / directivité | U1: Gestion de conflit | V1: Famille | W1: Motif | X1: Sous-motif | Y1: Descriptif | Z1: Réponse apportée | AA1: La raison de la sollicitation | AB1: Point Positif | AC1: Point d'Amélioration | AD1: Date de prise en charge | AE1: QUI | AF1: Action mise en place
AH2: Annick | AI2: Loelia | AK2: OK
AH3: Christelle | AI3: Jérome | AK3: Partiel
AH4: Jeanne | AI4: Julie | AK4: KO
AH5: Marjorie | AI5: Nomi | AK5: Non évalué
AH6: Nathalie | AI6: Lydie
AH7: Sylvie | AI7: Aurélien
AH8: Yolande | AI8: Romain
AI9: Marc
AI10: Cyndie
AI11: Hugo
AI12: Jérémy
A70: TOTAL
A71: =COUNTA(A2:A69) -> 0

Sheet Mars 2025
A1: Date | B1: Evaluateur | C1: Conseiller | D1: Ticket | E1: N° d'enregistrement | F1: Accueil | G1: Identification + confirmation | H1: Découverte des attentes | I1: Reformulation | J1: Conclusion du contact | K1: Prise de congé | L1: Pertinence de la réponse | M1: Clarté de la réponse | N1: Consultation du dossier client | O1: Respect des procédures | P1: Coherence et comprehension de la saisie sous SCORE | Q1: Voix, débit, ton, vocabulaire | R1: Amabilité / sourire | S1: Empathie / écoute / implication | T1: Personnalisation / directivité | U1: Gestion de conflit | V1: Famille | W1: Motif | X1: Sous-motif | Y1: Descriptif | Z1: Réponse apportée | AA1: La raison de la sollicitation | AB1: Point Positif | AC1: Point d'Amélioration | AD1: Date de prise en charge | AE1: QUI | AF1: Action mise en place
AH2: Annick | AI2: Loelia | AK2: OK
AH3: Christelle | AI3: Jérome | AK3: Partiel
AH4: Jeanne | AI4: Julie | AK4: KO
AH5: Marjorie | AI5: Nomi | AK5: Non évalué
AH6: Nathalie | AI6: Lydie
AH7: Sylvie | AI7: Aurélien
AH8: Yolande | AI8: Romain
AI9: Marc
AI10: Cyndie
AI11: Hugo
AI12: Jérémy
A70: TOTAL
A71: =COUNTA(A2:A69) -> 0

Sheet Avril 2025
A1: Date | B1: Evaluateur | C1: Conseiller | D1: Ticket | E1: N° d'enregistrement | F1: Accueil | G1: Identification + confirmation | H1: Découverte des attentes | I1: Reformulation | J1: Conclusion du contact | K1: Prise de congé | L1: Pertinence de la réponse | M1: Clarté de la réponse | N1: Consultation du dossier client | O1: Respect des procédures | P1: Coherence et comprehension de la saisie sous SCORE | Q1: Voix, débit, ton, vocabulaire | R1: Amabilité / sourire | S1: Empathie / écoute / implication | T1: Personnalisation / directivité | U1: Gestion de conflit | V1: Famille | W1: Motif | X1: Sous-motif | Y1: Descriptif | Z1: Réponse apportée | AA1: La raison de la sollicitation | AB1: Point Positif | AC1: Point d'Amélioration | AD1: Date de prise en charge | AE1: QUI | AF1: Action mise en place
AH2: Annick | AI2: Loelia | AK2: OK
AH3: Christelle | AI3: Jérome | AK3: Partiel
AH4: Jeanne | AI4: Julie | AK4: KO
AH5: Marjorie | AI5: Nomi | AK5: Non évalué
AH6: Nathalie | AI6: Lydie
AH7: Sylvie | AI7: Aurélien
AH8: Yolande | AI8: Romain
AI9: Marc
AI10: Cyndie
AI11: Hugo
AI12: Jérémy
A70: TOTAL
A71: =COUNTA(A2:A69) -> 0

Sheet Mai 2025
A1: Date | B1: Evaluateur | C1: Conseiller | D1: Ticket | E1: N° d'enregistrement | F1: Accueil | G1: Identification + confirmation | H1: Découverte des attentes | I1: Reformulation | J1: Conclusion du contact | K1: Prise de congé | L1: Pertinence de la réponse | M1: Clarté de la réponse | N1: Consultation du dossier client | O1: Respect des procédures | P1: Coherence et comprehension de la saisie sous SCORE | Q1: Voix, débit, ton, vocabulaire | R1: Amabilité / sourire | S1: Empathie / écoute / implication | T1: Personnalisation / directivité | U1: Gestion de conflit | V1: Famille | W1: Motif | X1: Sous-motif | Y1: Descriptif | Z1: Réponse apportée | AA1: La raison de la sollicitation | AB1: Point Positif | AC1: Point d'Amélioration | AD1: Date de prise en charge | AE1: QUI | AF1: Action mise en place
AH2: Annick | AI2: Loelia | AK2: OK
AH3: Christelle | AI3: Jérome | AK3: Partiel
B4: Marjorie | AH4: Jeanne | AI4: Julie | AK4: KO
AH5: Marjorie | AI5: Nomi | AK5: Non évalué
AH6: Nathalie | AI6: Lydie
AH7: Sylvie | AI7: Aurélien
AH8: Yolande | AI8: Romain
AI9: Marc
AI10: Cyndie
AI11: Hugo
AI12: Jérémy
A70: TOTAL
A71: =COUNTA(A2:A69) -> 0

Sheet Juin 2025
A1: Date | B1: Evaluateur | C1: Conseiller | D1: Ticket | E1: N° d'enregistrement | F1: Accueil | G1: Identification + confirmation | H1: Découverte des attentes | I1: Reformulation | J1: Conclusion du contact | K1: Prise de congé | L1: Pertinence de la réponse | M1: Clarté de la réponse | N1: Consultation du dossier client | O1: Respect des procédures | P1: Coherence et comprehension de la saisie sous SCORE | Q1: Voix, débit, ton, vocabulaire | R1: Amabilité / sourire | S1: Empathie / écoute / implication | T1: Personnalisation / directivité | U1: Gestion de conflit | V1: Famille | W1: Motif | X1: Sous-motif | Y1: Descriptif | Z1: Réponse apportée | AA1: La raison de la sollicitation | AB1: Point Positif | AC1: Point d'Amélioration | AD1: Date de prise en charge | AE1: QUI | AF1: Action mise en place
AH2: Annick | AI2: Loelia | AK2: OK
AH3: Christelle | AI3: Jérome | AK3: Partiel
AH4: Jeanne | AI4: Julie | AK4: KO
AH5: Marjorie | AI5: Nomi | AK5: Non évalué
AH6: Nathalie | AI6: Lydie
AH7: Sylvie | AI7: Aurélien
AH8: Yolande | AI8: Romain
AI9: Marc
AI10: Cyndie
AI11: Hugo
AI12: Jérémy
A70: TOTAL
A71: =COUNTA(A2:A69) -> 0

Sheet Juillet 2025
A1: Date | B1: Evaluateur | C1: Conseiller | D1: Ticket | E1: N° d'enregistrement | F1: Accueil | G1: Identification + confirmation | H1: Découverte des attentes | I1: Reformulation | J1: Conclusion du contact | K1: Prise de congé | L1: Pertinence de la réponse | M1: Clarté de la réponse | N1: Consultation du dossier client | O1: Respect des procédures | P1: Coherence et comprehension de la saisie sous SCORE | Q1: Voix, débit, ton, vocabulaire | R1: Amabilité / sourire | S1: Empathie / écoute / implication | T1: Personnalisation / directivité | U1: Gestion de conflit | V1: Famille | W1: Motif | X1: Sous-motif | Y1: Descriptif | Z1: Réponse apportée | AA1: La raison de la sollicitation | AB1: Point Positif | AC1: Point d'Amélioration | AD1: Date de prise en charge | AE1: QUI | AF1: Action mise en place
AH2: Annick | AI2: Loelia | AK2: OK
AH3: Christelle | AI3: Jérome | AK3: Partiel
AH4: Jeanne | AI4: Julie | AK4: KO
AH5: Marjorie | AI5: Nomi | AK5: Non évalué
AH6: Nathalie | AI6: Lydie
AH7: Sylvie | AI7: Aurélien
AH8: Yolande | AI8: Romain
AI9: Marc
AI10: Cyndie
AI11: Hugo
AI12: Jérémy
A70: TOTAL
A71: =COUNTA(A2:A69) -> 0

Sheet Août 2025
A1: Date | B1: Evaluateur | C1: Conseiller | D1: Ticket | E1: N° d'enregistrement | F1: Accueil | G1: Identification + confirmation | H1: Découverte des attentes | I1: Reformulation | J1: Conclusion du contact | K1: Prise de congé | L1: Pertinence de la réponse | M1: Clarté de la réponse | N1: Consultation du dossier client | O1: Respect des procédures | P1: Coherence et comprehension de la saisie sous SCORE | Q1: Voix, débit, ton, vocabulaire | R1: Amabilité / sourire | S1: Empathie / écoute / implication | T1: Personnalisation / directivité | U1: Gestion de conflit | V1: Famille | W1: Motif | X1: Sous-motif | Y1: Descriptif | Z1: Réponse apportée | AA1: La raison de la sollicitation | AB1: Point Positif | AC1: Point d'Amélioration | AD1: Date de prise en charge | AE1: QUI | AF1: Action mise en place
AH2: Annick | AI2: Loelia | AK2: OK
AH3: Christelle | AI3: Jérome | AK3: Partiel
AH4: Jeanne | AI4: Julie | AK4: KO
AH5: Marjorie | AI5: Nomi | AK5: Non évalué
AH6: Nathalie | AI6: Lydie
AH7: Sylvie | AI7: Aurélien
AH8: Yolande | AI8: Romain
AI9: Marc
AI10: Cyndie
AI11: Hugo
AI12: Jérémy
A70: TOTAL
A71: =COUNTA(A2:A69) -> 0

Sheet Septembre 2025
A1: Date | B1: Evaluateur | C1: Conseiller | D1: Ticket | E1: N° d'enregistrement | F1: Accueil | G1: Identification + confirmation | H1: Découverte des attentes | I1: Reformulation | J1: Conclusion du contact | K1: Prise de congé | L1: Pertinence de la réponse | M1: Clarté de la réponse | N1: Consultation du dossier client | O1: Respect des procédures | P1: Coherence et comprehension de la saisie sous SCORE | Q1: Voix, débit, ton, vocabulaire | R1: Amabilité / sourire | S1: Empathie / écoute / implication | T1: Personnalisation / directivité | U1: Gestion de conflit | V1: Famille | W1: Motif | X1: Sous-motif | Y1: Descriptif | Z1: Réponse apportée | AA1: La raison de la sollicitation | AB1: Point Positif | AC1: Point d'Amélioration | AD1: Date de prise en charge | AE1: QUI | AF1: Action mise en place
AH2: Annick | AI2: Loelia | AK2: OK
AH3: Christelle | AI3: Jérome | AK3: Partiel
AH4: Jeanne | AI4: Julie | AK4: KO
AH5: Marjorie | AI5: Nomi | AK5: Non évalué
AH6: Nathalie | AI6: Lydie
AH7: Sylvie | AI7: Aurélien
AH8: Yolande | AI8: Romain
AI9: Marc
AI10: Cyndie
AI11: Hugo
AI12: Jérémy
A70: TOTAL
A71: =COUNTA(A2:A69) -> 0

Sheet Octobre 2025
A1: Date | B1: Evaluateur | C1: Conseiller | D1: Ticket | E1: N° d'enregistrement | F1: Accueil | G1: Identification + confirmation | H1: Découverte des attentes | I1: Reformulation | J1: Conclusion du contact | K1: Prise de congé | L1: Pertinence de la réponse | M1: Clarté de la réponse | N1: Consultation du dossier client | O1: Respect des procédures | P1: Coherence et comprehension de la saisie sous SCORE | Q1: Voix, débit, ton, vocabulaire | R1: Amabilité / sourire | S1: Empathie / écoute / implication | T1: Personnalisation / directivité | U1: Gestion de conflit | V1: Famille | W1: Motif | X1: Sous-motif | Y1: Descriptif | Z1: Réponse apportée | AA1: La raison de la sollicitation | AB1: Point Positif | AC1: Point d'Amélioration | AD1: Date de prise en charge | AE1: QUI | AF1: Action mise en place
AH2: Annick | AI2: Loelia | AK2: OK
AH3: Christelle | AI3: Jérome | AK3: Partiel
AH4: Jeanne | AI4: Julie | AK4: KO
AH5: Marjorie | AI5: Nomi | AK5: Non évalué
AH6: Nathalie | AI6: Lydie
AH7: Sylvie | AI7: Aurélien
AH8: Yolande | AI8: Romain
AI9: Marc
AI10: Cyndie
AI11: Hugo
AI12: Jérémy
A70: TOTAL
A71: =COUNTA(A2:A69) -> 0

Sheet Novembre 2025
A1: Date | B1: Evaluateur | C1: Conseiller | D1: Ticket | E1: N° d'enregistrement | F1: Accueil | G1: Identification + confirmation | H1: Découverte des attentes | I1: Reformulation | J1: Conclusion du contact | K1: Prise de congé | L1: Pertinence de la réponse | M1: Clarté de la réponse | N1: Consultation du dossier client | O1: Respect des procédures | P1: Coherence et comprehension de la saisie sous SCORE | Q1: Voix, débit, ton, vocabulaire | R1: Amabilité / sourire | S1: Empathie / écoute / implication | T1: Personnalisation / directivité | U1: Gestion de conflit | V1: Famille | W1: Motif | X1: Sous-motif | Y1: Descriptif | Z1: Réponse apportée | AA1: La raison de la sollicitation | AB1: Point Positif | AC1: Point d'Amélioration | AD1: Date de prise en charge | AE1: QUI | AF1: Action mise en place
AH2: Annick | AI2: Loelia | AK2: OK
AH3: Christelle | AI3: Jérome | AK3: Partiel
AH4: Jeanne | AI4: Julie | AK4: KO
AH5: Marjorie | AI5: Nomi | AK5: Non évalué
AH6: Nathalie | AI6: Lydie
AH7: Sylvie | AI7: Aurélien
AH8: Yolande | AI8: Romain
AI9: Marc
AI10: Cyndie
AI11: Hugo
AI12: Jérémy
A70: TOTAL
A71: =COUNTA(A2:A69) -> 0

Sheet Décembre 2025
A1: Date | B1: Evaluateur | C1: Conseiller | D1: Ticket | E1: N° d'enregistrement | F1: Accueil | G1: Identification + confirmation | H1: Découverte des attentes | I1: Reformulation | J1: Conclusion du contact | K1: Prise de congé | L1: Pertinence de la réponse | M1: Clarté de la réponse | N1: Consultation du dossier client | O1: Respect des procédures | P1: Coherence et comprehension de la saisie sous SCORE | Q1: Voix, débit, ton, vocabulaire | R1: Amabilité / sourire | S1: Empathie / écoute / implication | T1: Personnalisation / directivité | U1: Gestion de conflit | V1: Famille | W1: Motif | X1: Sous-motif | Y1: Descriptif | Z1: Réponse apportée | AA1: La raison de la sollicitation | AB1: Point Positif | AC1: Point d'Amélioration | AD1: Date de prise en charge | AE1: QUI | AF1: Action mise en place
AH2: Annick | AI2: Loelia | AK2: OK
AH3: Christelle | AI3: Jérome | AK3: Partiel
AH4: Jeanne | AI4: Julie | AK4: KO
AH5: Marjorie | AI5: Nomi | AK5: Non évalué
AH6: Nathalie | AI6: Lydie
AH7: Sylvie | AI7: Aurélien
AH8: Yolande | AI8: Romain
AI9: Marc
AI10: Cyndie
AI11: Hugo
AI12: Jérémy
A70: TOTAL
A71: =COUNTA(A2:A69) -> 0

Sheet Feuil1
