Workbook
Name Cible: INDIRECT("_"&INDICAT_PERF!$C$8)
Name Cible_An: INDIRECT("_"&INDICAT_PERF!$C$8&"[Année]")
Name Cible_Mois: INDIRECT("_"&INDICAT_PERF!$C$8&"[Mois]")
Name CONTRAT: DONNEES!$D$3:$D$9
Name Environnement: Tableau10[Environnement]
Name motif: DONNEES!$A$3:$A$5
Name RECLAMATION: DONNEES!$C$3:$C$14
Name Route: Synthèse!$A$11
Name type: DONNEES!$A$8:$A$11

Sheet INDICAT_PERF
B2: INDICATEUR DE PERFORMANCE
B3: COLLECTE DES DONNEES
A7: PERIODE DE RELEVE ð | C7: décembre | F7: 2024
A8: SECTEUR | C8: CASTELNAUDARY
A9: RESULTAT DE LA MESURE : | F9: OBSERVATIONS - REMARQUES :
A10: IQ2 | B10: Nb réclamations = | D10: =COUNTIF(DONNEES!H23:H362,"RECLAMATION") -> 2 | F10: Voir détail ci-joint
A11: IQ3 | B11: Nb courriers répondus dans le mois = | D11: =COUNTIF(DONNEES!$P$23:$P$300,">0") -> 3
B12: Nb de courriers à moins de 8 jours = | D12: =IF(D11=0,0,D11-COUNTIF(DONNEES!R23:R300,"OUI")) -> 3
A13: IQ4A | B13: Nombre de BSDD émis depuis le 1er du mois | D13: 0
A14: IQ4B | B14: Nombre de BSDD retournés depuis le 1er du mois | D14: 0
A15: IQ5 | B15: Nombre de tests de situations d’urgences réalisés | D15: 0
A20: Fiche à transmettre au D.QSEST avant le 10 de chaque mois
B23: EMETTEUR | C23: Responsable de service
B24: ="DATE : "& TEXT( TODAY(), "jj/mm/AA") -> DATE : 30/12/24 | C24: ="DATE : " & TEXT(TODAY(), "JJ/MM/AA") -> DATE : 30/12/24
B25: NOM : | C25: NOM :
B26: VISA : | C26: VISA :

Sheet SUIVI_RECLAM
B2: SUIVI DES RECLAMATIONS CLIENTS ET DES PLAINTES ENVIRONNEMENTALES
B4: Secteur/Service : | D4: =INDICAT_PERF!C8 -> CASTELNAUDARY
B5: Mois : | D5: =INDICAT_PERF!C7 -> décembre
B7: TYPE DE RECLAMATION | C7: PROCESSUS | E7: NOMBRE
B8: Point de livraison défectueux | E8: =COUNTIF(DONNEES!$I$23:$I$300,SUIVI_RECLAM!B8) -> 0
B9: Coupure d’eau | E9: =COUNTIF(DONNEES!$I$23:$I$300,SUIVI_RECLAM!B9) -> 0
B10: Manque débit/pression | E10: =COUNTIF(DONNEES!$I$23:$I$300,SUIVI_RECLAM!B10) -> 0
B11: Problème suite à changement de compteur | E11: =COUNTIF(DONNEES!$I$23:$I$300,SUIVI_RECLAM!B11) -> 0
B12: Fuite sur réseau ou branchement | E12: =COUNTIF(DONNEES!$I$23:$I$300,SUIVI_RECLAM!B12) -> 0
B13: Qualité d’eau | E13: =SUM(E28:E29) -> 0
B14: Environnement | E14: =SUM(E31:E33) -> 1
B15: Facturation | E15: =SUM(E22:E26) -> 1
B16: Réclamation MMI | E16: =COUNTIF(DONNEES!$I$23:$I$300,SUIVI_RECLAM!B16) -> 0
B17: Retard exécution travaux | E17: =COUNTIF(DONNEES!$I$23:$I$300,SUIVI_RECLAM!B17) -> 0
B18: Réclamations injustifiées | E18: =COUNTIF(DONNEES!$I$23:$I$300,SUIVI_RECLAM!B18) -> 0
B19: Autres (1) | E19: =COUNTIF(DONNEES!$I$23:$I$300,SUIVI_RECLAM!B19) -> 0
B20: TOTAL DES RECLAMATIONS | E20: =SUM(E8:E19) -> 2
B21: DETAIL FACTURATION | E21: NOMBRE
B22: Contestation Volume Facturé | E22: =COUNTIF(DONNEES!$J$23:$J$300,SUIVI_RECLAM!B22) -> 0
B23: Erreur Contractuelle | E23: =COUNTIF(DONNEES!$J$23:$J$300,SUIVI_RECLAM!B23) -> 0
B24: Erreur sur saisie répartition | E24: =COUNTIF(DONNEES!$J$23:$J$300,SUIVI_RECLAM!B24) -> 1
B25: Demande Geste Commercial | E25: =COUNTIF(DONNEES!$J$23:$J$300,SUIVI_RECLAM!B25) -> 0
B26: Erreur Ecriture Comptable | E26: =COUNTIF(DONNEES!$J$23:$J$300,SUIVI_RECLAM!B26) -> 0
B27: DETAIL QUALITE DE L'EAU | E27: NOMBRE
B28: Eau brute | E28: =COUNTIF(DONNEES!$J$23:$J$300,SUIVI_RECLAM!B28) -> 0
B29: Eaut Potable | E29: =COUNTIF(DONNEES!$J$23:$J$300,SUIVI_RECLAM!B29) -> 0
B30: DETAIL ENVIRONNEMENT | E30: NOMBRE
B31: Pollution / dépose de déchets | E31: =COUNTIF(DONNEES!$J$23:$J$300,SUIVI_RECLAM!B31) -> 0
B32: Egoût bouché | E32: =COUNTIF(DONNEES!$J$23:$J$300,SUIVI_RECLAM!B32) -> 1
B33: liée au gel | E33: =COUNTIF(DONNEES!$J$23:$J$300,SUIVI_RECLAM!B33) -> 0
B38: (1) Veuillez indiquer le processus concerné
B40: Fiche à transmettre au RQ et au Coordinateur Environnement dans les mêmes délais que les indicateurs de performance.
B42: Emetteur | D42: Responsable de service
B43: 45537 | D43: 45537
B44: Nom : CHAAOUI Naoual | D44: Nom : Eyraud Adeline
B45: Visa : | D45: Visa :
B47: RQ
B48: Date :
B49: Nom :
B50: Visa :

Sheet CASTELNAUDARY
C1: ENREGISTREMENT DE DEMANDE CASTELNAUDARY
A8: Enregistrement Demande | L8: Enregistrement réponse
A9: Date de Reception | B9: Mois | C9: Année | D9: Type de Contact | E9: Nom du demandeur | F9: Num client | G9: Ref si AR | H9: Motif | I9: Precision | J9: Détail | K9: Objet | L9: Code Agent | M9: Réponse attendue | N9: Référence reponse | O9: Courrier transféré | P9: Date réponse | Q9: délai | R9: réponse > 8 jours
A10: 45638 | B10: =MONTH(_CASTELNAUDARY[[#This Row],[Date de Reception]]) -> 12 | C10: =YEAR(_CASTELNAUDARY[[#This Row],[Date de Reception]]) -> 2024 | D10: Mail | E10: SEGONNE MIRI | F10: 1 | H10: RECLAMATION | I10: Environnement | J10: Egoût bouché | K10: j'ai mon égout bouché | L10: MSE | M10: OUI | N10: C'est balot | P10: 45639 | Q10: =IF(AND(_CASTELNAUDARY[[#This Row],[Date réponse]]-_CASTELNAUDARY[[#This Row],[Date de Reception]]>-1,_CASTELNAUDARY[[#This Row],[Date de Reception]]<>""),_CASTELNAUDARY[[#This Row],[Date réponse]]-_CASTELNAUDARY[[#This Row],[Date de Reception]],"") -> 1 | R10: =IF(AND(_CASTELNAUDARY[[#This Row],[délai]]>8,_CASTELNAUDARY[[#This Row],[délai]]<>""),"OUI","")
A11: 45639 | B11: =MONTH(_CASTELNAUDARY[[#This Row],[Date de Reception]]) -> 12 | C11: =YEAR(_CASTELNAUDARY[[#This Row],[Date de Reception]]) -> 2024 | D11: X7 | E11: HEUTTE Aaline | F11: 2 | H11: RECLAMATION | I11: facturation | J11: Erreur sur saisie répartition | K11: on m'a mal facturé | L11: MSE | M11: OUI | N11: prise en compte | P11: 45639 | Q11: =IF(AND(_CASTELNAUDARY[[#This Row],[Date réponse]]-_CASTELNAUDARY[[#This Row],[Date de Reception]]>-1,_CASTELNAUDARY[[#This Row],[Date de Reception]]<>""),_CASTELNAUDARY[[#This Row],[Date réponse]]-_CASTELNAUDARY[[#This Row],[Date de Reception]],"") -> 0 | R11: =IF(AND(_CASTELNAUDARY[[#This Row],[délai]]>8,_CASTELNAUDARY[[#This Row],[délai]]<>""),"OUI","")
A12: 45640 | B12: =MONTH(_CASTELNAUDARY[[#This Row],[Date de Reception]]) -> 12 | C12: =YEAR(_CASTELNAUDARY[[#This Row],[Date de Reception]]) -> 2024 | D12: courrier | E12: BALAYE Véronique | F12: 3 | H12: CONTRAT | I12: Transfert | K12: je veux changer de borne | L12: MSE | M12: OUI | N12: impossible | P12: 45640 | Q12: =IF(AND(_CASTELNAUDARY[[#This Row],[Date réponse]]-_CASTELNAUDARY[[#This Row],[Date de Reception]]>-1,_CASTELNAUDARY[[#This Row],[Date de Reception]]<>""),_CASTELNAUDARY[[#This Row],[Date réponse]]-_CASTELNAUDARY[[#This Row],[Date de Reception]],"") -> 0 | R12: =IF(AND(_CASTELNAUDARY[[#This Row],[délai]]>8,_CASTELNAUDARY[[#This Row],[délai]]<>""),"OUI","")

Sheet Requête2
A1: Date de Reception | B1: Mois | C1: Année | D1: Type de Contact | E1: Nom du demandeur | F1: Num client | G1: Ref si AR | H1: Motif | I1: Precision | J1: Détail | K1: Objet | L1: Code Agent | M1: Réponse attendue | N1: Référence reponse | O1: Courrier transféré | P1: Date réponse | Q1: délai | R1: réponse > 8 jours | S1: Si réclamation - facture | T1: Réponse attendu
A2: 45638 | B2: 12 | C2: 2024 | D2: Mail | E2: SEGONNE MIRI | F2: 1 | H2: RECLAMATION | I2: Environnement | J2: Egoût bouché | K2: j'ai mon égout bouché | L2: MSE | M2: OUI | N2: C'est balot | P2: 45639 | Q2: 1
A3: 45639 | B3: 12 | C3: 2024 | D3: X7 | E3: HEUTTE Aaline | F3: 2 | H3: RECLAMATION | I3: facturation | J3: Erreur sur saisie répartition | K3: on m'a mal facturé | L3: MSE | M3: OUI | N3: prise en compte | P3: 45639 | Q3: 0
A4: 45640 | B4: 12 | C4: 2024 | D4: courrier | E4: BALAYE Véronique | F4: 3 | H4: CONTRAT | I4: Transfert | K4: je veux changer de borne | L4: MSE | M4: OUI | N4: impossible | P4: 45640 | Q4: 0
A5: 45638 | B5: 12 | C5: 2024 | D5: Mail | E5: GRAINDOR MELISSA | F5: 4 | H5: CONTRAT | I5: Facturation | K5: demande l'envoi des factures | L5: HEA | N5: envoi | P5: 45647 | Q5: 9 | R5: OUI | T5: OUI
A6: 45639 | B6: 12 | C6: 2024 | D6: Courrier | E6: SARTOR ANGELIQUE | F6: 5 | H6: RECLAMATION | I6: Facturation | K6: pas content | L6: HEA | N6: prise en compte | P6: 45646 | Q6: 7 | S6: Contestation Volume Facturé | T6: OUI
A7: 45640 | B7: 12 | C7: 2024 | D7: Courrier | E7: PUJOL MAGALI | F7: 6 | H7: INFORMATION | K7: voudrait connaitre le prix de | L7: HEA | N7: envoi fiche tarifaire | P7: 45651 | Q7: 11 | R7: OUI | T7: OUI

Sheet Requête1
A1: Date de Reception | B1: Mois | C1: Année | D1: Type de Contact | E1: Nom du demandeur | F1: Num client | G1: Ref si AR | H1: Motif | I1: Precision | J1: Détail | K1: Objet | L1: Code Agent | M1: Réponse attendue | N1: Référence reponse | O1: Courrier transféré | P1: Date réponse | Q1: délai | R1: réponse > 8 jours | S1: Si réclamation - facture | T1: Réponse attendu
A2: 45638 | B2: 12 | C2: 2024 | D2: Mail | E2: SEGONNE MIRI | F2: 1 | H2: RECLAMATION | I2: Environnement | J2: Egoût bouché | K2: j'ai mon égout bouché | L2: MSE | M2: OUI | N2: C'est balot | P2: 45639 | Q2: 1
A3: 45639 | B3: 12 | C3: 2024 | D3: X7 | E3: HEUTTE Aaline | F3: 2 | H3: RECLAMATION | I3: facturation | J3: Erreur sur saisie répartition | K3: on m'a mal facturé | L3: MSE | M3: OUI | N3: prise en compte | P3: 45639 | Q3: 0
A4: 45640 | B4: 12 | C4: 2024 | D4: courrier | E4: BALAYE Véronique | F4: 3 | H4: CONTRAT | I4: Transfert | K4: je veux changer de borne | L4: MSE | M4: OUI | N4: impossible | P4: 45640 | Q4: 0
A5: 45638 | B5: 12 | C5: 2024 | D5: Mail | E5: GRAINDOR MELISSA | F5: 4 | H5: CONTRAT | I5: Facturation | K5: demande l'envoi des factures | L5: HEA | N5: envoi | P5: 45647 | Q5: 9 | R5: OUI | T5: OUI
A6: 45639 | B6: 12 | C6: 2024 | D6: Courrier | E6: SARTOR ANGELIQUE | F6: 5 | H6: RECLAMATION | I6: Facturation | K6: pas content | L6: HEA | N6: prise en compte | P6: 45646 | Q6: 7 | S6: Contestation Volume Facturé | T6: OUI
A7: 45640 | B7: 12 | C7: 2024 | D7: Courrier | E7: PUJOL MAGALI | F7: 6 | H7: INFORMATION | K7: voudrait connaitre le prix de | L7: HEA | N7: envoi fiche tarifaire | P7: 45651 | Q7: 11 | R7: OUI | T7: OUI

Sheet Synthèse
E1: Date de Reception | F1: Mois | G1: Année | H1: Type de Contact | I1: Nom du demandeur | J1: Num client | K1: Ref si AR | L1: Motif | M1: Precision | N1: Détail | O1: Objet | P1: Code Agent | Q1: Réponse attendue | R1: Référence reponse | S1: Courrier transféré | T1: Date réponse | U1: délai | V1: réponse > 8 jours | W1: Si réclamation - facture | X1: Réponse attendu
A2: Chemin | E2: 45638 | F2: 12 | G2: 2024 | H2: Mail | I2: SEGONNE MIRI | J2: 1 | L2: RECLAMATION | M2: Environnement | N2: Egoût bouché | O2: j'ai mon égout bouché | P2: MSE | Q2: OUI | R2: C'est balot | T2: 45639 | U2: 1
A3: D:\Téléchargements\Fichiers Excel\omsyhf-leirughfkleisbvdufygoij.xlsx | E3: 45639 | F3: 12 | G3: 2024 | H3: X7 | I3: HEUTTE Aaline | J3: 2 | L3: RECLAMATION | M3: facturation | N3: Erreur sur saisie répartition | O3: on m'a mal facturé | P3: MSE | Q3: OUI | R3: prise en compte | T3: 45639 | U3: 0
E4: 45640 | F4: 12 | G4: 2024 | H4: courrier | I4: BALAYE Véronique | J4: 3 | L4: CONTRAT | M4: Transfert | O4: je veux changer de borne | P4: MSE | Q4: OUI | R4: impossible | T4: 45640 | U4: 0
E5: 45638 | F5: 12 | G5: 2024 | H5: Mail | I5: GRAINDOR MELISSA | J5: 4 | L5: CONTRAT | M5: Facturation | O5: demande l'envoi des factures | P5: HEA | R5: envoi | T5: 45647 | U5: 9 | V5: OUI | X5: OUI
E6: 45639 | F6: 12 | G6: 2024 | H6: Courrier | I6: SARTOR ANGELIQUE | J6: 5 | L6: RECLAMATION | M6: Facturation | O6: pas content | P6: HEA | R6: prise en compte | T6: 45646 | U6: 7 | W6: Contestation Volume Facturé | X6: OUI
E7: 45640 | F7: 12 | G7: 2024 | H7: Courrier | I7: PUJOL MAGALI | J7: 6 | L7: INFORMATION | O7: voudrait connaitre le prix de | P7: HEA | R7: envoi fiche tarifaire | T7: 45651 | U7: 11 | V7: OUI | X7: OUI
A11: D:\Téléchargements\Fichiers Excel\omsyhf-leirughfkleisbvdufygoij.xlsx

Sheet GARONS
C1: ENREGISTREMENT DE DEMANDE GARONS
A8: Enregistrement Demande | L8: Enregistrement réponse
A9: Date de Reception | B9: Mois | C9: Année | D9: Type de Contact | E9: Nom du demandeur | F9: Num client | G9: Ref si AR | H9: Motif | I9: Precision | J9: Si réclamation - facture | K9: Objet | L9: Code Agent | M9: Réponse attendu | N9: Référence reponse | O9: Courrier transféré | P9: Date réponse | Q9: délai | R9: réponse > 8 jours
A10: 45638 | B10: =MONTH(_GARONS[[#This Row],[Date de Reception]]) -> 12 | C10: =YEAR(_GARONS[[#This Row],[Date de Reception]]) -> 2024 | D10: Mail | E10: GRAINDOR MELISSA | F10: 4 | H10: CONTRAT | I10: Facturation | K10: demande l'envoi des factures | L10: HEA | M10: OUI | N10: envoi | P10: 45647 | Q10: =IF(AND(_GARONS[[#This Row],[Date réponse]]-_GARONS[[#This Row],[Date de Reception]]>-1,_GARONS[[#This Row],[Date de Reception]]<>""),_GARONS[[#This Row],[Date réponse]]-_GARONS[[#This Row],[Date de Reception]],"") -> 9 | R10: =IF(AND(_GARONS[[#This Row],[délai]]>8,_GARONS[[#This Row],[délai]]<>""),"OUI","") -> OUI
A11: 45639 | B11: =MONTH(_GARONS[[#This Row],[Date de Reception]]) -> 12 | C11: =YEAR(_GARONS[[#This Row],[Date de Reception]]) -> 2024 | D11: Courrier | E11: SARTOR ANGELIQUE | F11: 5 | H11: RECLAMATION | I11: Facturation | J11: Contestation Volume Facturé | K11: pas content | L11: HEA | M11: OUI | N11: prise en compte | P11: 45646 | Q11: =IF(AND(_GARONS[[#This Row],[Date réponse]]-_GARONS[[#This Row],[Date de Reception]]>-1,_GARONS[[#This Row],[Date de Reception]]<>""),_GARONS[[#This Row],[Date réponse]]-_GARONS[[#This Row],[Date de Reception]],"") -> 7 | R11: =IF(AND(_GARONS[[#This Row],[délai]]>8,_GARONS[[#This Row],[délai]]<>""),"OUI","")
A12: 45640 | B12: =MONTH(_GARONS[[#This Row],[Date de Reception]]) -> 12 | C12: =YEAR(_GARONS[[#This Row],[Date de Reception]]) -> 2024 | D12: Courrier | E12: PUJOL MAGALI | F12: 6 | H12: INFORMATION | K12: voudrait connaitre le prix de | L12: HEA | M12: OUI | N12: envoi fiche tarifaire | P12: 45651 | Q12: =IF(AND(_GARONS[[#This Row],[Date réponse]]-_GARONS[[#This Row],[Date de Reception]]>-1,_GARONS[[#This Row],[Date de Reception]]<>""),_GARONS[[#This Row],[Date réponse]]-_GARONS[[#This Row],[Date de Reception]],"") -> 11 | R12: =IF(AND(_GARONS[[#This Row],[délai]]>8,_GARONS[[#This Row],[délai]]<>""),"OUI","") -> OUI

Sheet LITTORAL
C1: ENREGISTREMENT DE DEMANDE LITTORAL
A8: Enregistrement Demande | L8: Enregistrement réponse
A9: Date de Reception | B9: Mois | C9: Année | D9: Type de Contact | E9: Nom du demandeur | F9: Num client | G9: Ref si AR | H9: Motif | I9: Precision | J9: Détail | K9: Objet | L9: Code Agent | M9: Réponse attendue | N9: Référence reponse | O9: Courrier transféré | P9: Date réponse | Q9: délai | R9: réponse > 8 jours

Sheet MAUGUIO
C1: ENREGISTREMENT DES DEMANDE S MAUGUIO
A8: Enregistrement Demande | L8: Enregistrement réponse
A9: Date de Reception | B9: Mois | C9: Année | D9: Type de Contact | E9: Nom du demandeur | F9: Num client | G9: Ref si AR | H9: Motif | I9: Precision | J9: Détail | K9: Objet | L9: Code Agent | M9: Réponse attendue | N9: Référence reponse | O9: Courrier transféré | P9: Date réponse | Q9: délai | R9: réponse > 8 jours

Sheet MENDE
C1: ENREGISTREMENT DES DEMANDES MENDE
A8: Enregistrement Demande | L8: Enregistrement réponse
A9: Date de Reception | B9: Mois | C9: Année | D9: Type de Contact | E9: Nom du demandeur | F9: Num client | G9: Ref si AR | H9: Motif | I9: Precision | J9: Détail | K9: Objet | L9: Code Agent | M9: Réponse attendue | N9: Référence reponse | O9: Courrier transféré | P9: Date réponse | Q9: délai | R9: réponse > 8 jours

Sheet NÎMES
C1: ENREGISTREMENT DE DEMANDE NÎMES
A8: Enregistrement Demande | L8: Enregistrement réponse
A9: Date de Reception | B9: Mois | C9: Année | D9: Type de Contact | E9: Nom du demandeur | F9: Num client | G9: Ref si AR | H9: Motif | I9: Precision | J9: Détail | K9: Objet | L9: Code Agent | M9: Réponse attendue | N9: Référence reponse | O9: Courrier transféré | P9: Date réponse | Q9: délai | R9: réponse > 8 jours

Sheet PICHEGU
C1: ENREGISTREMENT DES DEMANDES PICHEGU NÎMES
A8: Enregistrement Demande | L8: Enregistrement réponse
A9: Date de Reception | B9: Mois | C9: Année | D9: Type de Contact | E9: Nom du demandeur | F9: Num client | G9: Ref si AR | H9: Motif | I9: Precision | J9: Détail | K9: Objet | L9: Code Agent | M9: Réponse attendue | N9: Référence reponse | O9: Courrier transféré | P9: Date réponse | Q9: délai | R9: réponse > 8 jours

Sheet SERVIAN
C1: ENREGISTREMENT DE DEMANDE SERVIAN
A8: Enregistrement Demande | L8: Enregistrement réponse
A9: Date de Reception | B9: Mois | C9: Année | D9: Type de Contact | E9: Nom du demandeur | F9: Num client | G9: Ref si AR | H9: Motif | I9: Precision | J9: Détail | K9: Objet | L9: Code Agent | M9: Réponse attendue | N9: Référence reponse | O9: Courrier transféré | P9: Date réponse | Q9: délai | R9: réponse > 8 jours

Sheet VDR
C1: ENREGISTREMENT DE DEMANDE VILLENEUVE-DE-LA-RAHO
A8: Enregistrement Demande | L8: Enregistrement réponse
A9: Date de Reception | B9: Mois | C9: Année | D9: Type de Contact | E9: Nom du demandeur | F9: Num client | G9: Ref si AR | H9: Motif | I9: Precision | J9: Détail | K9: Objet | L9: Code Agent | M9: Réponse attendue | N9: Référence reponse | O9: Courrier transféré | P9: Date réponse | Q9: délai | R9: réponse > 8 jours

Sheet DONNEES
A2: MOTIF_CONTACT | C2: RECLAMATION | D2: CONTRAT | F2: FACTURATION | H2: AGENCE
A3: RECLAMATION | C3: Point de livraison défectueux | D3: Souscription | F3: Contestation Volume Facturé | H3: SERVIAN
A4: CONTRAT | C4: Coupure d’eau | D4: Facturation | F4: Erreur Contractuelle | H4: MAUGUIO
A5: INFORMATION | C5: Manque débit/pression | D5: Modification Information | F5: Erreur sur saisie répartition | H5: LITTORAL
C6: Problème suite à changement de compteur | D6: Resiliation | F6: Demande Geste Commercial | H6: GARONS
A7: TYPE_CONTACT | C7: Fuite sur réseau ou branchement | D7: Transfert | F7: Erreur Ecriture Comptable | H7: VDR
A8: Mail | C8: Environnement | D8: Mutation | H8: CASTELNAUDARY
A9: Courrier | C9: Facturation | D9: Autre | F9: Qualité_de_l_eau | H9: MENDE
A10: X7 | C10: Qualité_de_l_eau | F10: Eau brute | H10: DIRECTION
A11: Groupe BRL | C11: Réclamation MMI | F11: Eau Potable | H11: PICHEGU
C12: Retard exécution travaux
C13: Réclamations injustifiées | F13: Environnement
C14: Autres (1) | F14: Pollution / dépose de déchets
F15: Egoût bouché
F16: liée au gel
A23: {=_xlfn._xlws.FILTER(Cible,(Cible_Mois=MONTH(DATEVALUE(INDICAT_PERF!C7&"1"))*(Cible_An=INDICAT_PERF!F7)))} -> 45638 | B23: 12 | C23: 2024 | D23: Mail | E23: SEGONNE MIRI | F23: 1 | G23: 0 | H23: RECLAMATION | I23: Environnement | J23: Egoût bouché | K23: j'ai mon égout bouché | L23: MSE | M23: OUI | N23: C'est balot | O23: 0 | P23: 45639 | Q23: 1
A24: 45639 | B24: 12 | C24: 2024 | D24: X7 | E24: HEUTTE Aaline | F24: 2 | G24: 0 | H24: RECLAMATION | I24: facturation | J24: Erreur sur saisie répartition | K24: on m'a mal facturé | L24: MSE | M24: OUI | N24: prise en compte | O24: 0 | P24: 45639 | Q24: 0
A25: 45640 | B25: 12 | C25: 2024 | D25: courrier | E25: BALAYE Véronique | F25: 3 | G25: 0 | H25: CONTRAT | I25: Transfert | J25: 0 | K25: je veux changer de borne | L25: MSE | M25: OUI | N25: impossible | O25: 0 | P25: 45640 | Q25: 0

Sheet Feuil10
A2: {=_xlfn._xlws.FILTER(_CASTELNAUDARY[],(Cible_Mois=MONTH(DATEVALUE(INDICAT_PERF!C7&"1"))*(Cible_An=INDICAT_PERF!F7)))} -> 45638 | B2: 12 | C2: 2024 | D2: Mail | E2: SEGONNE MIRI | F2: 1 | G2: 0 | H2: RECLAMATION | I2: Environnement | J2: Egoût bouché | K2: j'ai mon égout bouché | L2: MSE | M2: OUI | N2: C'est balot | O2: 0 | P2: 45639 | Q2: 1
A3: 45639 | B3: 12 | C3: 2024 | D3: X7 | E3: HEUTTE Aaline | F3: 2 | G3: 0 | H3: RECLAMATION | I3: facturation | J3: Erreur sur saisie répartition | K3: on m'a mal facturé | L3: MSE | M3: OUI | N3: prise en compte | O3: 0 | P3: 45639 | Q3: 0
A4: 45640 | B4: 12 | C4: 2024 | D4: courrier | E4: BALAYE Véronique | F4: 3 | G4: 0 | H4: CONTRAT | I4: Transfert | J4: 0 | K4: je veux changer de borne | L4: MSE | M4: OUI | N4: impossible | O4: 0 | P4: 45640 | Q4: 0
