Workbook

Sheet Liste intélligente
A1: DOTAREM
A2: {=OFFSET(DATA!$E$1,MATCH('Liste intélligente'!$A$1,DATA!$D$2:$D$485),,COUNTIF(DATA!$D$2:$D$485,'Liste intélligente'!$A$1))} -> 234963 | B2: =INDEX(DATA!D:D,MATCH('Liste intélligente'!A2,DATA!E:E,0)) -> DOTAREM | D2: {=IFERROR(INDEX(DATA!$E$2:$E$485,SMALL( IF(DATA!$D$2:$D$485=$A$1,ROW(DATA!$E$2:$E$485)-1),ROWS($1:1))),"")} -> 234962 | E2: {=IFERROR(INDEX(DATA!$D$2:$D$485,SMALL( IF(DATA!$D$2:$D$485=$A$1,ROW(DATA!$E$2:$E$485)-1),ROWS($1:1))),"")} -> DOTAREM
A3: 234158 | B3: =INDEX(DATA!D:D,MATCH('Liste intélligente'!A3,DATA!E:E,0)) -> INJECTION SOLUTIONS | D3: {=IFERROR(INDEX(DATA!$E$2:$E$485,SMALL( IF(DATA!$D$2:$D$485=$A$1,ROW(DATA!$E$2:$E$485)-1),ROWS($1:2))),"")} -> 234963 | E3: {=IFERROR(INDEX(DATA!$D$2:$D$485,SMALL( IF(DATA!$D$2:$D$485=$A$1,ROW(DATA!$E$2:$E$485)-1),ROWS($1:2))),"")} -> DOTAREM
A4: 236299 | B4: =INDEX(DATA!D:D,MATCH('Liste intélligente'!A4,DATA!E:E,0)) -> INJECTION SOLUTIONS | D4: {=IFERROR(INDEX(DATA!$E$2:$E$485,SMALL( IF(DATA!$D$2:$D$485=$A$1,ROW(DATA!$E$2:$E$485)-1),ROWS($1:3))),"")} -> 234961 | E4: {=IFERROR(INDEX(DATA!$D$2:$D$485,SMALL( IF(DATA!$D$2:$D$485=$A$1,ROW(DATA!$E$2:$E$485)-1),ROWS($1:3))),"")} -> DOTAREM
A5: 244033 | B5: =INDEX(DATA!D:D,MATCH('Liste intélligente'!A5,DATA!E:E,0)) -> INJECTION SOLUTIONS | D5: {=IFERROR(INDEX(DATA!$E$2:$E$485,SMALL( IF(DATA!$D$2:$D$485=$A$1,ROW(DATA!$E$2:$E$485)-1),ROWS($1:4))),"")} -> 233854 | E5: {=IFERROR(INDEX(DATA!$D$2:$D$485,SMALL( IF(DATA!$D$2:$D$485=$A$1,ROW(DATA!$E$2:$E$485)-1),ROWS($1:4))),"")} -> DOTAREM
A6: 234961 | B6: =INDEX(DATA!D:D,MATCH('Liste intélligente'!A6,DATA!E:E,0)) -> DOTAREM | D6: {=IFERROR(INDEX(DATA!$E$2:$E$485,SMALL( IF(DATA!$D$2:$D$485=$A$1,ROW(DATA!$E$2:$E$485)-1),ROWS($1:5))),"")} -> 233855 | E6: {=IFERROR(INDEX(DATA!$D$2:$D$485,SMALL( IF(DATA!$D$2:$D$485=$A$1,ROW(DATA!$E$2:$E$485)-1),ROWS($1:5))),"")} -> DOTAREM
A7: 233854 | B7: =INDEX(DATA!D:D,MATCH('Liste intélligente'!A7,DATA!E:E,0)) -> DOTAREM | D7: {=IFERROR(INDEX(DATA!$E$2:$E$485,SMALL( IF(DATA!$D$2:$D$485=$A$1,ROW(DATA!$E$2:$E$485)-1),ROWS($1:6))),"")} -> 233856 | E7: {=IFERROR(INDEX(DATA!$D$2:$D$485,SMALL( IF(DATA!$D$2:$D$485=$A$1,ROW(DATA!$E$2:$E$485)-1),ROWS($1:6))),"")} -> DOTAREM
A8: 233855 | B8: =INDEX(DATA!D:D,MATCH('Liste intélligente'!A8,DATA!E:E,0)) -> DOTAREM | D8: {=IFERROR(INDEX(DATA!$E$2:$E$485,SMALL( IF(DATA!$D$2:$D$485=$A$1,ROW(DATA!$E$2:$E$485)-1),ROWS($1:7))),"")} -> 243794 | E8: {=IFERROR(INDEX(DATA!$D$2:$D$485,SMALL( IF(DATA!$D$2:$D$485=$A$1,ROW(DATA!$E$2:$E$485)-1),ROWS($1:7))),"")} -> DOTAREM
A9: 233856 | B9: =INDEX(DATA!D:D,MATCH('Liste intélligente'!A9,DATA!E:E,0)) -> DOTAREM | D9: {=IFERROR(INDEX(DATA!$E$2:$E$485,SMALL( IF(DATA!$D$2:$D$485=$A$1,ROW(DATA!$E$2:$E$485)-1),ROWS($1:8))),"")} -> 243791 | E9: {=IFERROR(INDEX(DATA!$D$2:$D$485,SMALL( IF(DATA!$D$2:$D$485=$A$1,ROW(DATA!$E$2:$E$485)-1),ROWS($1:8))),"")} -> DOTAREM
A10: 221865 | B10: =INDEX(DATA!D:D,MATCH('Liste intélligente'!A10,DATA!E:E,0)) -> OPTIRAY | D10: {=IFERROR(INDEX(DATA!$E$2:$E$485,SMALL( IF(DATA!$D$2:$D$485=$A$1,ROW(DATA!$E$2:$E$485)-1),ROWS($1:9))),"")} -> 243792 | E10: {=IFERROR(INDEX(DATA!$D$2:$D$485,SMALL( IF(DATA!$D$2:$D$485=$A$1,ROW(DATA!$E$2:$E$485)-1),ROWS($1:9))),"")} -> DOTAREM
A11: 221866 | B11: =INDEX(DATA!D:D,MATCH('Liste intélligente'!A11,DATA!E:E,0)) -> OPTIRAY | D11: {=IFERROR(INDEX(DATA!$E$2:$E$485,SMALL( IF(DATA!$D$2:$D$485=$A$1,ROW(DATA!$E$2:$E$485)-1),ROWS($1:10))),"")} -> 228433 | E11: {=IFERROR(INDEX(DATA!$D$2:$D$485,SMALL( IF(DATA!$D$2:$D$485=$A$1,ROW(DATA!$E$2:$E$485)-1),ROWS($1:10))),"")} -> DOTAREM
A12: 221867 | B12: =INDEX(DATA!D:D,MATCH('Liste intélligente'!A12,DATA!E:E,0)) -> OPTIRAY | D12: {=IFERROR(INDEX(DATA!$E$2:$E$485,SMALL( IF(DATA!$D$2:$D$485=$A$1,ROW(DATA!$E$2:$E$485)-1),ROWS($1:11))),"")} -> 228435 | E12: {=IFERROR(INDEX(DATA!$D$2:$D$485,SMALL( IF(DATA!$D$2:$D$485=$A$1,ROW(DATA!$E$2:$E$485)-1),ROWS($1:11))),"")} -> DOTAREM
A13: 222398 | B13: =INDEX(DATA!D:D,MATCH('Liste intélligente'!A13,DATA!E:E,0)) -> OPTIRAY | D13: {=IFERROR(INDEX(DATA!$E$2:$E$485,SMALL( IF(DATA!$D$2:$D$485=$A$1,ROW(DATA!$E$2:$E$485)-1),ROWS($1:12))),"")} -> 228446 | E13: {=IFERROR(INDEX(DATA!$D$2:$D$485,SMALL( IF(DATA!$D$2:$D$485=$A$1,ROW(DATA!$E$2:$E$485)-1),ROWS($1:12))),"")} -> DOTAREM
A14: 222400 | B14: =INDEX(DATA!D:D,MATCH('Liste intélligente'!A14,DATA!E:E,0)) -> OPTIRAY | D14: {=IFERROR(INDEX(DATA!$E$2:$E$485,SMALL( IF(DATA!$D$2:$D$485=$A$1,ROW(DATA!$E$2:$E$485)-1),ROWS($1:13))),"")} -> 234960 | E14: {=IFERROR(INDEX(DATA!$D$2:$D$485,SMALL( IF(DATA!$D$2:$D$485=$A$1,ROW(DATA!$E$2:$E$485)-1),ROWS($1:13))),"")} -> DOTAREM
A15: 222402 | B15: =INDEX(DATA!D:D,MATCH('Liste intélligente'!A15,DATA!E:E,0)) -> OPTIRAY | D15: {=IFERROR(INDEX(DATA!$E$2:$E$485,SMALL( IF(DATA!$D$2:$D$485=$A$1,ROW(DATA!$E$2:$E$485)-1),ROWS($1:14))),"")} -> 234964 | E15: {=IFERROR(INDEX(DATA!$D$2:$D$485,SMALL( IF(DATA!$D$2:$D$485=$A$1,ROW(DATA!$E$2:$E$485)-1),ROWS($1:14))),"")} -> DOTAREM
A16: 222405 | B16: =INDEX(DATA!D:D,MATCH('Liste intélligente'!A16,DATA!E:E,0)) -> OPTIRAY | D16: {=IFERROR(INDEX(DATA!$E$2:$E$485,SMALL( IF(DATA!$D$2:$D$485=$A$1,ROW(DATA!$E$2:$E$485)-1),ROWS($1:15))),"")} -> 243793 | E16: {=IFERROR(INDEX(DATA!$D$2:$D$485,SMALL( IF(DATA!$D$2:$D$485=$A$1,ROW(DATA!$E$2:$E$485)-1),ROWS($1:15))),"")} -> DOTAREM
A17: 222411 | B17: =INDEX(DATA!D:D,MATCH('Liste intélligente'!A17,DATA!E:E,0)) -> OPTIRAY | D17: {=IFERROR(INDEX(DATA!$E$2:$E$485,SMALL( IF(DATA!$D$2:$D$485=$A$1,ROW(DATA!$E$2:$E$485)-1),ROWS($1:16))),"")} -> 243795 | E17: {=IFERROR(INDEX(DATA!$D$2:$D$485,SMALL( IF(DATA!$D$2:$D$485=$A$1,ROW(DATA!$E$2:$E$485)-1),ROWS($1:16))),"")} -> DOTAREM
A18: 221858 | B18: =INDEX(DATA!D:D,MATCH('Liste intélligente'!A18,DATA!E:E,0)) -> OPTIRAY | D18: {=IFERROR(INDEX(DATA!$E$2:$E$485,SMALL( IF(DATA!$D$2:$D$485=$A$1,ROW(DATA!$E$2:$E$485)-1),ROWS($1:17))),"")} -> 245388 | E18: {=IFERROR(INDEX(DATA!$D$2:$D$485,SMALL( IF(DATA!$D$2:$D$485=$A$1,ROW(DATA!$E$2:$E$485)-1),ROWS($1:17))),"")} -> DOTAREM
A19: 222393 | B19: =INDEX(DATA!D:D,MATCH('Liste intélligente'!A19,DATA!E:E,0)) -> OPTIRAY | D19: {=IFERROR(INDEX(DATA!$E$2:$E$485,SMALL( IF(DATA!$D$2:$D$485=$A$1,ROW(DATA!$E$2:$E$485)-1),ROWS($1:18))),"")} -> 246844 | E19: {=IFERROR(INDEX(DATA!$D$2:$D$485,SMALL( IF(DATA!$D$2:$D$485=$A$1,ROW(DATA!$E$2:$E$485)-1),ROWS($1:18))),"")} -> DOTAREM
A20: 222396 | B20: =INDEX(DATA!D:D,MATCH('Liste intélligente'!A20,DATA!E:E,0)) -> OPTIRAY | D20: {=IFERROR(INDEX(DATA!$E$2:$E$485,SMALL( IF(DATA!$D$2:$D$485=$A$1,ROW(DATA!$E$2:$E$485)-1),ROWS($1:19))),"")} -> 243817 | E20: {=IFERROR(INDEX(DATA!$D$2:$D$485,SMALL( IF(DATA!$D$2:$D$485=$A$1,ROW(DATA!$E$2:$E$485)-1),ROWS($1:19))),"")} -> DOTAREM
A21: 221869 | B21: =INDEX(DATA!D:D,MATCH('Liste intélligente'!A21,DATA!E:E,0)) -> OPTIRAY | D21: {=IFERROR(INDEX(DATA!$E$2:$E$485,SMALL( IF(DATA!$D$2:$D$485=$A$1,ROW(DATA!$E$2:$E$485)-1),ROWS($1:20))),"")} -> 243796 | E21: {=IFERROR(INDEX(DATA!$D$2:$D$485,SMALL( IF(DATA!$D$2:$D$485=$A$1,ROW(DATA!$E$2:$E$485)-1),ROWS($1:20))),"")} -> DOTAREM
D22: {=IFERROR(INDEX(DATA!$E$2:$E$485,SMALL( IF(DATA!$D$2:$D$485=$A$1,ROW(DATA!$E$2:$E$485)-1),ROWS($1:21))),"")} | E22: {=IFERROR(INDEX(DATA!$D$2:$D$485,SMALL( IF(DATA!$D$2:$D$485=$A$1,ROW(DATA!$E$2:$E$485)-1),ROWS($1:21))),"")}
D23: {=IFERROR(INDEX(DATA!$E$2:$E$485,SMALL( IF(DATA!$D$2:$D$485=$A$1,ROW(DATA!$E$2:$E$485)-1),ROWS($1:22))),"")} | E23: {=IFERROR(INDEX(DATA!$D$2:$D$485,SMALL( IF(DATA!$D$2:$D$485=$A$1,ROW(DATA!$E$2:$E$485)-1),ROWS($1:22))),"")}
D24: {=IFERROR(INDEX(DATA!$E$2:$E$485,SMALL( IF(DATA!$D$2:$D$485=$A$1,ROW(DATA!$E$2:$E$485)-1),ROWS($1:23))),"")} | E24: {=IFERROR(INDEX(DATA!$D$2:$D$485,SMALL( IF(DATA!$D$2:$D$485=$A$1,ROW(DATA!$E$2:$E$485)-1),ROWS($1:23))),"")}
D25: {=IFERROR(INDEX(DATA!$E$2:$E$485,SMALL( IF(DATA!$D$2:$D$485=$A$1,ROW(DATA!$E$2:$E$485)-1),ROWS($1:24))),"")} | E25: {=IFERROR(INDEX(DATA!$D$2:$D$485,SMALL( IF(DATA!$D$2:$D$485=$A$1,ROW(DATA!$E$2:$E$485)-1),ROWS($1:24))),"")}
D26: {=IFERROR(INDEX(DATA!$E$2:$E$485,SMALL( IF(DATA!$D$2:$D$485=$A$1,ROW(DATA!$E$2:$E$485)-1),ROWS($1:25))),"")} | E26: {=IFERROR(INDEX(DATA!$D$2:$D$485,SMALL( IF(DATA!$D$2:$D$485=$A$1,ROW(DATA!$E$2:$E$485)-1),ROWS($1:25))),"")}
D27: {=IFERROR(INDEX(DATA!$E$2:$E$485,SMALL( IF(DATA!$D$2:$D$485=$A$1,ROW(DATA!$E$2:$E$485)-1),ROWS($1:26))),"")} | E27: {=IFERROR(INDEX(DATA!$D$2:$D$485,SMALL( IF(DATA!$D$2:$D$485=$A$1,ROW(DATA!$E$2:$E$485)-1),ROWS($1:26))),"")}
D28: {=IFERROR(INDEX(DATA!$E$2:$E$485,SMALL( IF(DATA!$D$2:$D$485=$A$1,ROW(DATA!$E$2:$E$485)-1),ROWS($1:27))),"")}
D29: {=IFERROR(INDEX(DATA!$E$2:$E$485,SMALL( IF(DATA!$D$2:$D$485=$A$1,ROW(DATA!$E$2:$E$485)-1),ROWS($1:28))),"")}
D30: {=IFERROR(INDEX(DATA!$E$2:$E$485,SMALL( IF(DATA!$D$2:$D$485=$A$1,ROW(DATA!$E$2:$E$485)-1),ROWS($1:29))),"")}

Sheet DATA
A1: Product_Type | B1: Sub Category | C1: Familly | D1: Product_Range | E1: IDPRODUIT
A2: MD | B2: INJECTORS DISPOSABLES | C2: INJECTORS DISPOSABLES | D2: INJECTION SOLUTIONS | E2: 240002
A3: MD | B3: INJECTORS DISPOSABLES | C3: INJECTORS DISPOSABLES | D3: INJECTION SOLUTIONS | E3: 240005
A4: MD | B4: OTHER MEDICAL DEVICES | C4: OTHER MEDICAL DEVICES | D4: INJECTION SOLUTIONS | E4: 223426
A5: CM | B5: MRI CONTRAST MEDIA FINISHED PRODUCT | C5: DOTAREM VIAL | D5: DOTAREM | E5: 234962
A6: CM | B6: X-RAY CONTRAST MEDIA FINISHED PRODUCT | C6: OPTIRAY VIAL | D6: OPTIRAY | E6: 221859
A7: CM | B7: X-RAY CONTRAST MEDIA FINISHED PRODUCT | C7: OPTIRAY VIAL | D7: OPTIRAY | E7: 222394
A8: CM | B8: MRI CONTRAST MEDIA FINISHED PRODUCT | C8: DOTAREM VIAL | D8: DOTAREM | E8: 234963
A9: MD | B9: INJECTORS DISPOSABLES | C9: INJECTORS DISPOSABLES | D9: INJECTION SOLUTIONS | E9: 234158
A10: MD | B10: INJECTORS DISPOSABLES | C10: INJECTORS DISPOSABLES | D10: INJECTION SOLUTIONS | E10: 236299
A11: MD | B11: INJECTORS | C11: INJECTORS | D11: INJECTION SOLUTIONS | E11: 244033
A12: CM | B12: MRI CONTRAST MEDIA FINISHED PRODUCT | C12: DOTAREM VIAL | D12: DOTAREM | E12: 234961
A13: CM | B13: MRI CONTRAST MEDIA FINISHED PRODUCT | C13: DOTAREM PREFILLED SYRINGE | D13: DOTAREM | E13: 233854
... A485: MD | B485: INJECTORS SPARE-PARTS | C485: INJECTORS SPARE-PARTS | D485: INJECTION SOLUTIONS | E485: 227261
