Workbook
Name Déplacement: 'Base de données'!$E$34:$E$36
Name NomPatient: 'Base de données'!$B$5:$B$31
Name NomSoin: 'Base de données'!$D$5:$D$27
Name Soin: 'Base de données'!$D$5:$D$11,'Base de données'!$D$12:$D$16
Name Soins: 'Base de données'!$D$5:$D$11
Name Tb_Soins: 'Base de données'!$D$4:$E$27

Sheet Base de données
A1: Infirmier
A4: Civilité | B4: Nom Patient | D4: Soins | E4: Tarification
A5: M. | B5: toto1
A6: Mme | B6: toto2 | D6: AMI14 | E6: 44.1
A7: Mme | B7: toto3 | D7: AMI 1 | E7: 3.15
A8: Mme | B8: toto4 | D8: AMI 1,5 | E8: 4.73
A9: M. | B9: toto5 | D9: AMI2 | E9: 6.3
A10: M. | B10: toto6 | D10: AMI3 | E10: 9.45
A11: Mme | B11: toto7 | D11: AMI4 | E11: 12.6
A12: Mme | B12: toto8 | D12: AMI5 | E12: 15.75
A13: M. | B13: toto9 | D13: AIS3 | E13: 7.95
A14: Mme | B14: toto10 | D14: AIS6 | E14: 15.9
A15: Mme | B15: toto11 | D15: PDS | E15: 6.08
A16: M. | B16: toto12 | D16: IM S/C | E16: 4.5
A17: Mme | B17: toto13 | D17: Soins Manuel | E17: Tarification
A18: M. | B18: toto14 | D18: AMI 4.1 | E18: 12.91
A19: Mme | B19: toto15 | D19: AIS 4 | E19: 10.6
A20: Mme | B20: toto16
A21: Mme | B21: toto17
A22: Mme | B22: toto18
A23: Mme | B23: toto19
A24: Mme | B24: toto20
A25: Mme | B25: toto21
A26: Mme | B26: toto22
A27: Mme | B27: toto23
A28: Mme | B28: toto24
A29: Mme | B29: toto25
A30: Mme | B30: toto26
A31: Mme | B31: toto27
A32: M. | B32: toto28
A33: Mme | B33: toto29 | D33: Indemnités de déplacement | E33: Tarif
A34: M. | B34: toto30
A35: Mme | B35: toto31 | D35: Semaine | E35: 2.5
A36: Mme | B36: toto32 | D36: Dimanche | E36: 8.5
A37: M. | B37: toto33
A38: Mme | B38: toto34
A39: Mme | B39: toto35
A40: Mme | B40: toto36
A41: M. | B41: toto37
A42: Mme | B42: toto38
A43: Mme | B43: toto39
A44: Mme | B44: toto40
A45: M. | B45: toto41
A46: Mme | B46: toto42
A47: M. | B47: toto43
A48: Mme | B48: toto44
... A54: M. | B54: toto50
A56: Mme
A57: M.
B65: …

Sheet FEUILLE SOIN
A1: MATIN | C1: Ide : | G1: Le : | H1: 43369 | J1: APRES MIDI | L1: Ide : | P1: Le : | Q1: =H1 -> 43369
A2: Patient | B2: Soins | C2: Tarif | D2: Frais 10% | E2: Total Soins | F2: Semaine | G2: Dimanche | H2: Total | J2: Patient | K2: Soins | L2: Tarif | M2: Frais 10% | N2: Total Soins | O2: Semaine | P2: Dimanche | Q2: Total
A3: toto1 | B3: AMI 4.1 | C3: =IFERROR(VLOOKUP(B3,Tb_Soins,2,0),"") -> 12.91 | D3: =IFERROR(SUM((C3*10/100)),"") -> 1.291 | E3: =IFERROR(SUM(C3-D3),"") -> 11.619 | F3: =IF(AND(WEEKDAY($H$1,2)<6,A3<>""),'Base de données'!$E$35,"") -> 2.5 | G3: =IF(OR(WEEKDAY($H$1,2)<6,A3=""),"",'Base de données'!$E$36) | H3: =SUM(E3:G3) -> 14.119 | L3: =IF(K3='Base de données'!$D$5,'Base de données'!$E$5,IF('FEUILLE SOIN'!K3='Base de données'!$D$6,'Base de données'!$E$6,IF('FEUILLE SOIN'!K3='Base de données'!$D$7,'Base de données'!$E$7,IF('FEUILLE SOIN'!K3='Base de données'!$D$8,'Base de données'!$E$8,IF('FEUILLE SOIN'!K3='Base de données'!$D$9,'Base de données'!$E$9,IF('FEUILLE SOIN'!K3='Base de données'!$D$10,'Base de données'!$E$10,IF('FEUILLE SOIN'!K3='Base de données'!$D$11,'Base de données'!$E$11,IF(K3='Base de données'!$D$12,'Base de données'!$E$12,IF('FEUILLE SOIN'!K3='Base de données'!$D$13,'Base de données'!$E$13,IF(K3='Base de données'!$D$14,'Base de données'!$E$14,IF(K3='Base de données'!$D$15,'Base de données'!$E$15,IF(K3='Base de données'!$D$16,'Base de données'!$E$16)))))))))))) -> 0 | M3: =SUM((L3*10/100)) -> 0 | N3: =SUM(L3-M3) -> 0 | Q3: =SUM(N3:P3) -> 0
C4: =IFERROR(VLOOKUP(B4,Tb_Soins,2,0),"") | D4: =IFERROR(SUM((C4*10/100)),"") | E4: =IFERROR(SUM(C4-D4),"") | F4: =IF(AND(WEEKDAY($H$1,2)<6,A4<>""),'Base de données'!$E$35,"") | G4: =IF(OR(WEEKDAY($H$1,2)<6,A4=""),"",'Base de données'!$E$36) | H4: =SUM(E4:G4) -> 0 | L4: =IF(K4='Base de données'!$D$5,'Base de données'!$E$5,IF('FEUILLE SOIN'!K4='Base de données'!$D$6,'Base de données'!$E$6,IF('FEUILLE SOIN'!K4='Base de données'!$D$7,'Base de données'!$E$7,IF('FEUILLE SOIN'!K4='Base de données'!$D$8,'Base de données'!$E$8,IF('FEUILLE SOIN'!K4='Base de données'!$D$9,'Base de données'!$E$9,IF('FEUILLE SOIN'!K4='Base de données'!$D$10,'Base de données'!$E$10,IF('FEUILLE SOIN'!K4='Base de données'!$D$11,'Base de données'!$E$11,IF(K4='Base de données'!$D$12,'Base de données'!$E$12,IF('FEUILLE SOIN'!K4='Base de données'!$D$13,'Base de données'!$E$13,IF(K4='Base de données'!$D$14,'Base de données'!$E$14,IF(K4='Base de données'!$D$15,'Base de données'!$E$15,IF(K4='Base de données'!$D$16,'Base de données'!$E$16)))))))))))) -> 0 | M4: =SUM(L4*10/100) -> 0 | N4: =SUM(L4-M4) -> 0 | Q4: =SUM(N4:P4) -> 0
C5: =IFERROR(VLOOKUP(B5,Tb_Soins,2,0),"") | D5: =IFERROR(SUM((C5*10/100)),"") | E5: =IFERROR(SUM(C5-D5),"") | F5: =IF(AND(WEEKDAY($H$1,2)<6,A5<>""),'Base de données'!$E$35,"") | G5: =IF(OR(WEEKDAY($H$1,2)<6,A5=""),"",'Base de données'!$E$36) | H5: =SUM(E5:G5) -> 0 | L5: =IF(K5='Base de données'!$D$5,'Base de données'!$E$5,IF('FEUILLE SOIN'!K5='Base de données'!$D$6,'Base de données'!$E$6,IF('FEUILLE SOIN'!K5='Base de données'!$D$7,'Base de données'!$E$7,IF('FEUILLE SOIN'!K5='Base de données'!$D$8,'Base de données'!$E$8,IF('FEUILLE SOIN'!K5='Base de données'!$D$9,'Base de données'!$E$9,IF('FEUILLE SOIN'!K5='Base de données'!$D$10,'Base de données'!$E$10,IF('FEUILLE SOIN'!K5='Base de données'!$D$11,'Base de données'!$E$11,IF(K5='Base de données'!$D$12,'Base de données'!$E$12,IF('FEUILLE SOIN'!K5='Base de données'!$D$13,'Base de données'!$E$13,IF(K5='Base de données'!$D$14,'Base de données'!$E$14,IF(K5='Base de données'!$D$15,'Base de données'!$E$15,IF(K5='Base de données'!$D$16,'Base de données'!$E$16)))))))))))) -> 0 | M5: =SUM((L5*10/100)) -> 0 | N5: =SUM(L5-M5) -> 0 | Q5: =SUM(N5:P5) -> 0
C6: =IFERROR(VLOOKUP(B6,Tb_Soins,2,0),"") | D6: =IFERROR(SUM((C6*10/100)),"") | E6: =IFERROR(SUM(C6-D6),"") | F6: =IF(AND(WEEKDAY($H$1,2)<6,A6<>""),'Base de données'!$E$35,"") | G6: =IF(OR(WEEKDAY($H$1,2)<6,A6=""),"",'Base de données'!$E$36) | H6: =SUM(E6:G6) -> 0 | L6: =IF(K6='Base de données'!$D$5,'Base de données'!$E$5,IF('FEUILLE SOIN'!K6='Base de données'!$D$6,'Base de données'!$E$6,IF('FEUILLE SOIN'!K6='Base de données'!$D$7,'Base de données'!$E$7,IF('FEUILLE SOIN'!K6='Base de données'!$D$8,'Base de données'!$E$8,IF('FEUILLE SOIN'!K6='Base de données'!$D$9,'Base de données'!$E$9,IF('FEUILLE SOIN'!K6='Base de données'!$D$10,'Base de données'!$E$10,IF('FEUILLE SOIN'!K6='Base de données'!$D$11,'Base de données'!$E$11,IF(K6='Base de données'!$D$12,'Base de données'!$E$12,IF('FEUILLE SOIN'!K6='Base de données'!$D$13,'Base de données'!$E$13,IF(K6='Base de données'!$D$14,'Base de données'!$E$14,IF(K6='Base de données'!$D$15,'Base de données'!$E$15,IF(K6='Base de données'!$D$16,'Base de données'!$E$16)))))))))))) -> 0 | M6: =SUM((L6*10/100)) -> 0 | N6: =SUM(L6-M6) -> 0 | Q6: =SUM(N6:P6) -> 0
C7: =IFERROR(VLOOKUP(B7,Tb_Soins,2,0),"") | D7: =IFERROR(SUM((C7*10/100)),"") | E7: =IFERROR(SUM(C7-D7),"") | F7: =IF(AND(WEEKDAY($H$1,2)<6,A7<>""),'Base de données'!$E$35,"") | G7: =IF(OR(WEEKDAY($H$1,2)<6,A7=""),"",'Base de données'!$E$36) | H7: =SUM(E7:G7) -> 0 | L7: =IF(K7='Base de données'!$D$5,'Base de données'!$E$5,IF('FEUILLE SOIN'!K7='Base de données'!$D$6,'Base de données'!$E$6,IF('FEUILLE SOIN'!K7='Base de données'!$D$7,'Base de données'!$E$7,IF('FEUILLE SOIN'!K7='Base de données'!$D$8,'Base de données'!$E$8,IF('FEUILLE SOIN'!K7='Base de données'!$D$9,'Base de données'!$E$9,IF('FEUILLE SOIN'!K7='Base de données'!$D$10,'Base de données'!$E$10,IF('FEUILLE SOIN'!K7='Base de données'!$D$11,'Base de données'!$E$11,IF(K7='Base de données'!$D$12,'Base de données'!$E$12,IF('FEUILLE SOIN'!K7='Base de données'!$D$13,'Base de données'!$E$13,IF(K7='Base de données'!$D$14,'Base de données'!$E$14,IF(K7='Base de données'!$D$15,'Base de données'!$E$15,IF(K7='Base de données'!$D$16,'Base de données'!$E$16)))))))))))) -> 0 | M7: =SUM((L7*10/100)) -> 0 | N7: =SUM(L7-M7) -> 0 | Q7: =SUM(N7:P7) -> 0
C8: =IFERROR(VLOOKUP(B8,Tb_Soins,2,0),"") | D8: =IFERROR(SUM((C8*10/100)),"") | E8: =IFERROR(SUM(C8-D8),"") | F8: =IF(AND(WEEKDAY($H$1,2)<6,A8<>""),'Base de données'!$E$35,"") | G8: =IF(OR(WEEKDAY($H$1,2)<6,A8=""),"",'Base de données'!$E$36) | H8: =SUM(E8:G8) -> 0 | L8: =IF(K8='Base de données'!$D$5,'Base de données'!$E$5,IF('FEUILLE SOIN'!K8='Base de données'!$D$6,'Base de données'!$E$6,IF('FEUILLE SOIN'!K8='Base de données'!$D$7,'Base de données'!$E$7,IF('FEUILLE SOIN'!K8='Base de données'!$D$8,'Base de données'!$E$8,IF('FEUILLE SOIN'!K8='Base de données'!$D$9,'Base de données'!$E$9,IF('FEUILLE SOIN'!K8='Base de données'!$D$10,'Base de données'!$E$10,IF('FEUILLE SOIN'!K8='Base de données'!$D$11,'Base de données'!$E$11,IF(K8='Base de données'!$D$12,'Base de données'!$E$12,IF('FEUILLE SOIN'!K8='Base de données'!$D$13,'Base de données'!$E$13,IF(K8='Base de données'!$D$14,'Base de données'!$E$14,IF(K8='Base de données'!$D$15,'Base de données'!$E$15,IF(K8='Base de données'!$D$16,'Base de données'!$E$16)))))))))))) -> 0 | M8: =SUM((L8*10/100)) -> 0 | N8: =SUM(L8-M8) -> 0 | Q8: =SUM(N8:P8) -> 0
C9: =IFERROR(VLOOKUP(B9,Tb_Soins,2,0),"") | D9: =IFERROR(SUM((C9*10/100)),"") | E9: =IFERROR(SUM(C9-D9),"") | F9: =IF(AND(WEEKDAY($H$1,2)<6,A9<>""),'Base de données'!$E$35,"") | G9: =IF(OR(WEEKDAY($H$1,2)<6,A9=""),"",'Base de données'!$E$36) | H9: =SUM(E9:G9) -> 0 | L9: =IF(K9='Base de données'!$D$5,'Base de données'!$E$5,IF('FEUILLE SOIN'!K9='Base de données'!$D$6,'Base de données'!$E$6,IF('FEUILLE SOIN'!K9='Base de données'!$D$7,'Base de données'!$E$7,IF('FEUILLE SOIN'!K9='Base de données'!$D$8,'Base de données'!$E$8,IF('FEUILLE SOIN'!K9='Base de données'!$D$9,'Base de données'!$E$9,IF('FEUILLE SOIN'!K9='Base de données'!$D$10,'Base de données'!$E$10,IF('FEUILLE SOIN'!K9='Base de données'!$D$11,'Base de données'!$E$11,IF(K9='Base de données'!$D$12,'Base de données'!$E$12,IF('FEUILLE SOIN'!K9='Base de données'!$D$13,'Base de données'!$E$13,IF(K9='Base de données'!$D$14,'Base de données'!$E$14,IF(K9='Base de données'!$D$15,'Base de données'!$E$15,IF(K9='Base de données'!$D$16,'Base de données'!$E$16)))))))))))) -> 0 | M9: =SUM((L9*10/100)) -> 0 | N9: =SUM(L9-M9) -> 0 | Q9: =SUM(N9:P9) -> 0
C10: =IFERROR(VLOOKUP(B10,Tb_Soins,2,0),"") | D10: =IFERROR(SUM((C10*10/100)),"") | E10: =IFERROR(SUM(C10-D10),"") | F10: =IF(AND(WEEKDAY($H$1,2)<6,A10<>""),'Base de données'!$E$35,"") | G10: =IF(OR(WEEKDAY($H$1,2)<6,A10=""),"",'Base de données'!$E$36) | H10: =SUM(E10:G10) -> 0 | L10: =IF(K10='Base de données'!$D$5,'Base de données'!$E$5,IF('FEUILLE SOIN'!K10='Base de données'!$D$6,'Base de données'!$E$6,IF('FEUILLE SOIN'!K10='Base de données'!$D$7,'Base de données'!$E$7,IF('FEUILLE SOIN'!K10='Base de données'!$D$8,'Base de données'!$E$8,IF('FEUILLE SOIN'!K10='Base de données'!$D$9,'Base de données'!$E$9,IF('FEUILLE SOIN'!K10='Base de données'!$D$10,'Base de données'!$E$10,IF('FEUILLE SOIN'!K10='Base de données'!$D$11,'Base de données'!$E$11,IF(K10='Base de données'!$D$12,'Base de données'!$E$12,IF('FEUILLE SOIN'!K10='Base de données'!$D$13,'Base de données'!$E$13,IF(K10='Base de données'!$D$14,'Base de données'!$E$14,IF(K10='Base de données'!$D$15,'Base de données'!$E$15,IF(K10='Base de données'!$D$16,'Base de données'!$E$16)))))))))))) -> 0 | M10: =SUM((L10*10/100)) -> 0 | N10: =SUM(L10-M10) -> 0 | Q10: =SUM(N10:P10) -> 0
C11: =IFERROR(VLOOKUP(B11,Tb_Soins,2,0),"") | D11: =IFERROR(SUM((C11*10/100)),"") | E11: =IFERROR(SUM(C11-D11),"") | F11: =IF(AND(WEEKDAY($H$1,2)<6,A11<>""),'Base de données'!$E$35,"") | G11: =IF(OR(WEEKDAY($H$1,2)<6,A11=""),"",'Base de données'!$E$36) | H11: =SUM(E11:G11) -> 0 | L11: =IF(K11='Base de données'!$D$5,'Base de données'!$E$5,IF('FEUILLE SOIN'!K11='Base de données'!$D$6,'Base de données'!$E$6,IF('FEUILLE SOIN'!K11='Base de données'!$D$7,'Base de données'!$E$7,IF('FEUILLE SOIN'!K11='Base de données'!$D$8,'Base de données'!$E$8,IF('FEUILLE SOIN'!K11='Base de données'!$D$9,'Base de données'!$E$9,IF('FEUILLE SOIN'!K11='Base de données'!$D$10,'Base de données'!$E$10,IF('FEUILLE SOIN'!K11='Base de données'!$D$11,'Base de données'!$E$11,IF(K11='Base de données'!$D$12,'Base de données'!$E$12,IF('FEUILLE SOIN'!K11='Base de données'!$D$13,'Base de données'!$E$13,IF(K11='Base de données'!$D$14,'Base de données'!$E$14,IF(K11='Base de données'!$D$15,'Base de données'!$E$15,IF(K11='Base de données'!$D$16,'Base de données'!$E$16)))))))))))) -> 0 | M11: =SUM((L11*10/100)) -> 0 | N11: =SUM(L11-M11) -> 0 | Q11: =SUM(N11:P11) -> 0
C12: =IFERROR(VLOOKUP(B12,Tb_Soins,2,0),"") | D12: =IFERROR(SUM((C12*10/100)),"") | E12: =IFERROR(SUM(C12-D12),"") | F12: =IF(AND(WEEKDAY($H$1,2)<6,A12<>""),'Base de données'!$E$35,"") | G12: =IF(OR(WEEKDAY($H$1,2)<6,A12=""),"",'Base de données'!$E$36) | H12: =SUM(E12:G12) -> 0 | L12: =IF(K12='Base de données'!$D$5,'Base de données'!$E$5,IF('FEUILLE SOIN'!K12='Base de données'!$D$6,'Base de données'!$E$6,IF('FEUILLE SOIN'!K12='Base de données'!$D$7,'Base de données'!$E$7,IF('FEUILLE SOIN'!K12='Base de données'!$D$8,'Base de données'!$E$8,IF('FEUILLE SOIN'!K12='Base de données'!$D$9,'Base de données'!$E$9,IF('FEUILLE SOIN'!K12='Base de données'!$D$10,'Base de données'!$E$10,IF('FEUILLE SOIN'!K12='Base de données'!$D$11,'Base de données'!$E$11,IF(K12='Base de données'!$D$12,'Base de données'!$E$12,IF('FEUILLE SOIN'!K12='Base de données'!$D$13,'Base de données'!$E$13,IF(K12='Base de données'!$D$14,'Base de données'!$E$14,IF(K12='Base de données'!$D$15,'Base de données'!$E$15,IF(K12='Base de données'!$D$16,'Base de données'!$E$16)))))))))))) -> 0 | M12: =SUM((L12*10/100)) -> 0 | N12: =SUM(L12-M12) -> 0 | Q12: =SUM(N12:P12) -> 0
C13: =IFERROR(VLOOKUP(B13,Tb_Soins,2,0),"") | D13: =IFERROR(SUM((C13*10/100)),"") | E13: =IFERROR(SUM(C13-D13),"") | F13: =IF(AND(WEEKDAY($H$1,2)<6,A13<>""),'Base de données'!$E$35,"") | G13: =IF(OR(WEEKDAY($H$1,2)<6,A13=""),"",'Base de données'!$E$36) | H13: =SUM(E13:G13) -> 0 | L13: =IF(K13='Base de données'!$D$5,'Base de données'!$E$5,IF('FEUILLE SOIN'!K13='Base de données'!$D$6,'Base de données'!$E$6,IF('FEUILLE SOIN'!K13='Base de données'!$D$7,'Base de données'!$E$7,IF('FEUILLE SOIN'!K13='Base de données'!$D$8,'Base de données'!$E$8,IF('FEUILLE SOIN'!K13='Base de données'!$D$9,'Base de données'!$E$9,IF('FEUILLE SOIN'!K13='Base de données'!$D$10,'Base de données'!$E$10,IF('FEUILLE SOIN'!K13='Base de données'!$D$11,'Base de données'!$E$11,IF(K13='Base de données'!$D$12,'Base de données'!$E$12,IF('FEUILLE SOIN'!K13='Base de données'!$D$13,'Base de données'!$E$13,IF(K13='Base de données'!$D$14,'Base de données'!$E$14,IF(K13='Base de données'!$D$15,'Base de données'!$E$15,IF(K13='Base de données'!$D$16,'Base de données'!$E$16)))))))))))) -> 0 | M13: =SUM((L13*10/100)) -> 0 | N13: =SUM(L13-M13) -> 0 | Q13: =SUM(N13:P13) -> 0
C14: =IFERROR(VLOOKUP(B14,Tb_Soins,2,0),"") | D14: =IFERROR(SUM((C14*10/100)),"") | E14: =IFERROR(SUM(C14-D14),"") | F14: =IF(AND(WEEKDAY($H$1,2)<6,A14<>""),'Base de données'!$E$35,"") | G14: =IF(OR(WEEKDAY($H$1,2)<6,A14=""),"",'Base de données'!$E$36) | H14: =SUM(E14:G14) -> 0 | L14: =IF(K14='Base de données'!$D$5,'Base de données'!$E$5,IF('FEUILLE SOIN'!K14='Base de données'!$D$6,'Base de données'!$E$6,IF('FEUILLE SOIN'!K14='Base de données'!$D$7,'Base de données'!$E$7,IF('FEUILLE SOIN'!K14='Base de données'!$D$8,'Base de données'!$E$8,IF('FEUILLE SOIN'!K14='Base de données'!$D$9,'Base de données'!$E$9,IF('FEUILLE SOIN'!K14='Base de données'!$D$10,'Base de données'!$E$10,IF('FEUILLE SOIN'!K14='Base de données'!$D$11,'Base de données'!$E$11,IF(K14='Base de données'!$D$12,'Base de données'!$E$12,IF('FEUILLE SOIN'!K14='Base de données'!$D$13,'Base de données'!$E$13,IF(K14='Base de données'!$D$14,'Base de données'!$E$14,IF(K14='Base de données'!$D$15,'Base de données'!$E$15,IF(K14='Base de données'!$D$16,'Base de données'!$E$16)))))))))))) -> 0 | M14: =SUM((L14*10/100)) -> 0 | N14: =SUM(L14-M14) -> 0 | Q14: =SUM(N14:P14) -> 0
C15: =IFERROR(VLOOKUP(B15,Tb_Soins,2,0),"") | D15: =IFERROR(SUM((C15*10/100)),"") | E15: =IFERROR(SUM(C15-D15),"") | F15: =IF(AND(WEEKDAY($H$1,2)<6,A15<>""),'Base de données'!$E$35,"") | G15: =IF(OR(WEEKDAY($H$1,2)<6,A15=""),"",'Base de données'!$E$36) | H15: =SUM(E15:G15) -> 0 | L15: =IF(K15='Base de données'!$D$5,'Base de données'!$E$5,IF('FEUILLE SOIN'!K15='Base de données'!$D$6,'Base de données'!$E$6,IF('FEUILLE SOIN'!K15='Base de données'!$D$7,'Base de données'!$E$7,IF('FEUILLE SOIN'!K15='Base de données'!$D$8,'Base de données'!$E$8,IF('FEUILLE SOIN'!K15='Base de données'!$D$9,'Base de données'!$E$9,IF('FEUILLE SOIN'!K15='Base de données'!$D$10,'Base de données'!$E$10,IF('FEUILLE SOIN'!K15='Base de données'!$D$11,'Base de données'!$E$11,IF(K15='Base de données'!$D$12,'Base de données'!$E$12,IF('FEUILLE SOIN'!K15='Base de données'!$D$13,'Base de données'!$E$13,IF(K15='Base de données'!$D$14,'Base de données'!$E$14,IF(K15='Base de données'!$D$15,'Base de données'!$E$15,IF(K15='Base de données'!$D$16,'Base de données'!$E$16)))))))))))) -> 0 | M15: =SUM((L15*10/100)) -> 0 | N15: =SUM(L15-M15) -> 0 | Q15: =SUM(N15:P15) -> 0
C16: =IFERROR(VLOOKUP(B16,Tb_Soins,2,0),"") | D16: =IFERROR(SUM((C16*10/100)),"") | E16: =IFERROR(SUM(C16-D16),"") | F16: =IF(AND(WEEKDAY($H$1,2)<6,A16<>""),'Base de données'!$E$35,"") | G16: =IF(OR(WEEKDAY($H$1,2)<6,A16=""),"",'Base de données'!$E$36) | H16: =SUM(E16:G16) -> 0 | L16: =IF(K16='Base de données'!$D$5,'Base de données'!$E$5,IF('FEUILLE SOIN'!K16='Base de données'!$D$6,'Base de données'!$E$6,IF('FEUILLE SOIN'!K16='Base de données'!$D$7,'Base de données'!$E$7,IF('FEUILLE SOIN'!K16='Base de données'!$D$8,'Base de données'!$E$8,IF('FEUILLE SOIN'!K16='Base de données'!$D$9,'Base de données'!$E$9,IF('FEUILLE SOIN'!K16='Base de données'!$D$10,'Base de données'!$E$10,IF('FEUILLE SOIN'!K16='Base de données'!$D$11,'Base de données'!$E$11,IF(K16='Base de données'!$D$12,'Base de données'!$E$12,IF('FEUILLE SOIN'!K16='Base de données'!$D$13,'Base de données'!$E$13,IF(K16='Base de données'!$D$14,'Base de données'!$E$14,IF(K16='Base de données'!$D$15,'Base de données'!$E$15,IF(K16='Base de données'!$D$16,'Base de données'!$E$16)))))))))))) -> 0 | M16: =SUM((L16*10/100)) -> 0 | N16: =SUM(L16-M16) -> 0 | Q16: =SUM(N16:P16) -> 0
... C23: =IFERROR(VLOOKUP(B23,Tb_Soins,2,0),"") | D23: =IFERROR(SUM((C23*10/100)),"") | E23: =IFERROR(SUM(C23-D23),"") | F23: =IF(AND(WEEKDAY($H$1,2)<6,A23<>""),'Base de données'!$E$35,"") | G23: =IF(OR(WEEKDAY($H$1,2)<6,A23=""),"",'Base de données'!$E$36) | H23: =SUM(E23:G23) -> 0 | L23: =IF(K23='Base de données'!$D$5,'Base de données'!$E$5,IF('FEUILLE SOIN'!K23='Base de données'!$D$6,'Base de données'!$E$6,IF('FEUILLE SOIN'!K23='Base de données'!$D$7,'Base de données'!$E$7,IF('FEUILLE SOIN'!K23='Base de données'!$D$8,'Base de données'!$E$8,IF('FEUILLE SOIN'!K23='Base de données'!$D$9,'Base de données'!$E$9,IF('FEUILLE SOIN'!K23='Base de données'!$D$10,'Base de données'!$E$10,IF('FEUILLE SOIN'!K23='Base de données'!$D$11,'Base de données'!$E$11,IF(K23='Base de données'!$D$12,'Base de données'!$E$12,IF('FEUILLE SOIN'!K23='Base de données'!$D$13,'Base de données'!$E$13,IF(K23='Base de données'!$D$14,'Base de données'!$E$14,IF(K23='Base de données'!$D$15,'Base de données'!$E$15,IF(K23='Base de données'!$D$16,'Base de données'!$E$16)))))))))))) -> 0 | M23: =SUM((L23*10/100)) -> 0 | N23: =SUM(L23-M23) -> 0 | Q23: =SUM(N23:P23) -> 0
C24: =IFERROR(VLOOKUP(B24,Tb_Soins,2,0),"") | D24: =IFERROR(SUM((C24*10/100)),"") | E24: =IFERROR(SUM(C24-D24),"") | F24: =IF(AND(WEEKDAY($H$1,2)<6,A24<>""),'Base de données'!$E$35,"") | G24: =IF(OR(WEEKDAY($H$1,2)<6,A24=""),"",'Base de données'!$E$36) | H24: =SUM(E24:G24) -> 0 | L24: =IF(K24='Base de données'!$D$5,'Base de données'!$E$5,IF('FEUILLE SOIN'!K24='Base de données'!$D$6,'Base de données'!$E$6,IF('FEUILLE SOIN'!K24='Base de données'!$D$7,'Base de données'!$E$7,IF('FEUILLE SOIN'!K24='Base de données'!$D$8,'Base de données'!$E$8,IF('FEUILLE SOIN'!K24='Base de données'!$D$9,'Base de données'!$E$9,IF('FEUILLE SOIN'!K24='Base de données'!$D$10,'Base de données'!$E$10,IF('FEUILLE SOIN'!K24='Base de données'!$D$11,'Base de données'!$E$11,IF(K24='Base de données'!$D$12,'Base de données'!$E$12,IF('FEUILLE SOIN'!K24='Base de données'!$D$13,'Base de données'!$E$13,IF(K24='Base de données'!$D$14,'Base de données'!$E$14,IF(K24='Base de données'!$D$15,'Base de données'!$E$15,IF(K24='Base de données'!$D$16,'Base de données'!$E$16)))))))))))) -> 0 | M24: =SUM(L24*10/100) -> 0 | N24: =SUM(L24-M24) -> 0 | Q24: =SUM(N24:P24) -> 0
C25: =IFERROR(VLOOKUP(B25,Tb_Soins,2,0),"") | D25: =IFERROR(SUM((C25*10/100)),"") | E25: =IFERROR(SUM(C25-D25),"") | F25: =IF(AND(WEEKDAY($H$1,2)<6,A25<>""),'Base de données'!$E$35,"") | G25: =IF(OR(WEEKDAY($H$1,2)<6,A25=""),"",'Base de données'!$E$36) | H25: =SUM(E25:G25) -> 0 | L25: =IF(K25='Base de données'!$D$5,'Base de données'!$E$5,IF('FEUILLE SOIN'!K25='Base de données'!$D$6,'Base de données'!$E$6,IF('FEUILLE SOIN'!K25='Base de données'!$D$7,'Base de données'!$E$7,IF('FEUILLE SOIN'!K25='Base de données'!$D$8,'Base de données'!$E$8,IF('FEUILLE SOIN'!K25='Base de données'!$D$9,'Base de données'!$E$9,IF('FEUILLE SOIN'!K25='Base de données'!$D$10,'Base de données'!$E$10,IF('FEUILLE SOIN'!K25='Base de données'!$D$11,'Base de données'!$E$11,IF(K25='Base de données'!$D$12,'Base de données'!$E$12,IF('FEUILLE SOIN'!K25='Base de données'!$D$13,'Base de données'!$E$13,IF(K25='Base de données'!$D$14,'Base de données'!$E$14,IF(K25='Base de données'!$D$15,'Base de données'!$E$15,IF(K25='Base de données'!$D$16,'Base de données'!$E$16)))))))))))) -> 0 | M25: =SUM((L25*10/100)) -> 0 | N25: =SUM(L25-M25) -> 0 | Q25: =SUM(N25:P25) -> 0
C26: =IFERROR(VLOOKUP(B26,Tb_Soins,2,0),"") | D26: =IFERROR(SUM((C26*10/100)),"") | E26: =IFERROR(SUM(C26-D26),"") | F26: =IF(AND(WEEKDAY($H$1,2)<6,A26<>""),'Base de données'!$E$35,"") | G26: =IF(OR(WEEKDAY($H$1,2)<6,A26=""),"",'Base de données'!$E$36) | H26: =SUM(E26:G26) -> 0 | L26: =IF(K26='Base de données'!$D$5,'Base de données'!$E$5,IF('FEUILLE SOIN'!K26='Base de données'!$D$6,'Base de données'!$E$6,IF('FEUILLE SOIN'!K26='Base de données'!$D$7,'Base de données'!$E$7,IF('FEUILLE SOIN'!K26='Base de données'!$D$8,'Base de données'!$E$8,IF('FEUILLE SOIN'!K26='Base de données'!$D$9,'Base de données'!$E$9,IF('FEUILLE SOIN'!K26='Base de données'!$D$10,'Base de données'!$E$10,IF('FEUILLE SOIN'!K26='Base de données'!$D$11,'Base de données'!$E$11,IF(K26='Base de données'!$D$12,'Base de données'!$E$12,IF('FEUILLE SOIN'!K26='Base de données'!$D$13,'Base de données'!$E$13,IF(K26='Base de données'!$D$14,'Base de données'!$E$14,IF(K26='Base de données'!$D$15,'Base de données'!$E$15,IF(K26='Base de données'!$D$16,'Base de données'!$E$16)))))))))))) -> 0 | M26: =SUM((L26*10/100)) -> 0 | N26: =SUM(L26-M26) -> 0 | Q26: =SUM(N26:P26) -> 0
C27: =IFERROR(VLOOKUP(B27,Tb_Soins,2,0),"") | D27: =IFERROR(SUM((C27*10/100)),"") | E27: =IFERROR(SUM(C27-D27),"") | F27: =IF(AND(WEEKDAY($H$1,2)<6,A27<>""),'Base de données'!$E$35,"") | G27: =IF(OR(WEEKDAY($H$1,2)<6,A27=""),"",'Base de données'!$E$36) | H27: =SUM(E27:G27) -> 0 | L27: =IF(K27='Base de données'!$D$5,'Base de données'!$E$5,IF('FEUILLE SOIN'!K27='Base de données'!$D$6,'Base de données'!$E$6,IF('FEUILLE SOIN'!K27='Base de données'!$D$7,'Base de données'!$E$7,IF('FEUILLE SOIN'!K27='Base de données'!$D$8,'Base de données'!$E$8,IF('FEUILLE SOIN'!K27='Base de données'!$D$9,'Base de données'!$E$9,IF('FEUILLE SOIN'!K27='Base de données'!$D$10,'Base de données'!$E$10,IF('FEUILLE SOIN'!K27='Base de données'!$D$11,'Base de données'!$E$11,IF(K27='Base de données'!$D$12,'Base de données'!$E$12,IF('FEUILLE SOIN'!K27='Base de données'!$D$13,'Base de données'!$E$13,IF(K27='Base de données'!$D$14,'Base de données'!$E$14,IF(K27='Base de données'!$D$15,'Base de données'!$E$15,IF(K27='Base de données'!$D$16,'Base de données'!$E$16)))))))))))) -> 0 | M27: =SUM((L27*10/100)) -> 0 | N27: =SUM(L27-M27) -> 0 | Q27: =SUM(N27:P27) -> 0
C28: =IFERROR(VLOOKUP(B28,Tb_Soins,2,0),"") | D28: =IFERROR(SUM((C28*10/100)),"") | E28: =IFERROR(SUM(C28-D28),"") | F28: =IF(AND(WEEKDAY($H$1,2)<6,A28<>""),'Base de données'!$E$35,"") | G28: =IF(OR(WEEKDAY($H$1,2)<6,A28=""),"",'Base de données'!$E$36) | H28: =SUM(E28:G28) -> 0 | L28: =IF(K28='Base de données'!$D$5,'Base de données'!$E$5,IF('FEUILLE SOIN'!K28='Base de données'!$D$6,'Base de données'!$E$6,IF('FEUILLE SOIN'!K28='Base de données'!$D$7,'Base de données'!$E$7,IF('FEUILLE SOIN'!K28='Base de données'!$D$8,'Base de données'!$E$8,IF('FEUILLE SOIN'!K28='Base de données'!$D$9,'Base de données'!$E$9,IF('FEUILLE SOIN'!K28='Base de données'!$D$10,'Base de données'!$E$10,IF('FEUILLE SOIN'!K28='Base de données'!$D$11,'Base de données'!$E$11,IF(K28='Base de données'!$D$12,'Base de données'!$E$12,IF('FEUILLE SOIN'!K28='Base de données'!$D$13,'Base de données'!$E$13,IF(K28='Base de données'!$D$14,'Base de données'!$E$14,IF(K28='Base de données'!$D$15,'Base de données'!$E$15,IF(K28='Base de données'!$D$16,'Base de données'!$E$16)))))))))))) -> 0 | M28: =SUM((L28*10/100)) -> 0 | N28: =SUM(L28-M28) -> 0 | Q28: =SUM(N28:P28) -> 0
C29: =IFERROR(VLOOKUP(B29,Tb_Soins,2,0),"") | D29: =IFERROR(SUM((C29*10/100)),"") | E29: =IFERROR(SUM(C29-D29),"") | F29: =IF(AND(WEEKDAY($H$1,2)<6,A29<>""),'Base de données'!$E$35,"") | G29: =IF(OR(WEEKDAY($H$1,2)<6,A29=""),"",'Base de données'!$E$36) | H29: =SUM(E29:G29) -> 0 | L29: =IF(K29='Base de données'!$D$5,'Base de données'!$E$5,IF('FEUILLE SOIN'!K29='Base de données'!$D$6,'Base de données'!$E$6,IF('FEUILLE SOIN'!K29='Base de données'!$D$7,'Base de données'!$E$7,IF('FEUILLE SOIN'!K29='Base de données'!$D$8,'Base de données'!$E$8,IF('FEUILLE SOIN'!K29='Base de données'!$D$9,'Base de données'!$E$9,IF('FEUILLE SOIN'!K29='Base de données'!$D$10,'Base de données'!$E$10,IF('FEUILLE SOIN'!K29='Base de données'!$D$11,'Base de données'!$E$11,IF(K29='Base de données'!$D$12,'Base de données'!$E$12,IF('FEUILLE SOIN'!K29='Base de données'!$D$13,'Base de données'!$E$13,IF(K29='Base de données'!$D$14,'Base de données'!$E$14,IF(K29='Base de données'!$D$15,'Base de données'!$E$15,IF(K29='Base de données'!$D$16,'Base de données'!$E$16)))))))))))) -> 0 | M29: =SUM((L29*10/100)) -> 0 | N29: =SUM(L29-M29) -> 0 | Q29: =SUM(N29:P29) -> 0
C30: =IFERROR(VLOOKUP(B30,Tb_Soins,2,0),"") | D30: =IFERROR(SUM((C30*10/100)),"") | E30: =IFERROR(SUM(C30-D30),"") | F30: =IF(AND(WEEKDAY($H$1,2)<6,A30<>""),'Base de données'!$E$35,"") | G30: =IF(OR(WEEKDAY($H$1,2)<6,A30=""),"",'Base de données'!$E$36) | H30: =SUM(E30:G30) -> 0 | L30: =IF(K30='Base de données'!$D$5,'Base de données'!$E$5,IF('FEUILLE SOIN'!K30='Base de données'!$D$6,'Base de données'!$E$6,IF('FEUILLE SOIN'!K30='Base de données'!$D$7,'Base de données'!$E$7,IF('FEUILLE SOIN'!K30='Base de données'!$D$8,'Base de données'!$E$8,IF('FEUILLE SOIN'!K30='Base de données'!$D$9,'Base de données'!$E$9,IF('FEUILLE SOIN'!K30='Base de données'!$D$10,'Base de données'!$E$10,IF('FEUILLE SOIN'!K30='Base de données'!$D$11,'Base de données'!$E$11,IF(K30='Base de données'!$D$12,'Base de données'!$E$12,IF('FEUILLE SOIN'!K30='Base de données'!$D$13,'Base de données'!$E$13,IF(K30='Base de données'!$D$14,'Base de données'!$E$14,IF(K30='Base de données'!$D$15,'Base de données'!$E$15,IF(K30='Base de données'!$D$16,'Base de données'!$E$16)))))))))))) -> 0 | M30: =SUM((L30*10/100)) -> 0 | N30: =SUM(L30-M30) -> 0 | Q30: =SUM(N30:P30) -> 0
C31: =IFERROR(VLOOKUP(B31,Tb_Soins,2,0),"") | D31: =IFERROR(SUM((C31*10/100)),"") | E31: =IFERROR(SUM(C31-D31),"") | F31: =IF(AND(WEEKDAY($H$1,2)<6,A31<>""),'Base de données'!$E$35,"") | G31: =IF(OR(WEEKDAY($H$1,2)<6,A31=""),"",'Base de données'!$E$36) | H31: =SUM(E31:G31) -> 0 | L31: =IF(K31='Base de données'!$D$5,'Base de données'!$E$5,IF('FEUILLE SOIN'!K31='Base de données'!$D$6,'Base de données'!$E$6,IF('FEUILLE SOIN'!K31='Base de données'!$D$7,'Base de données'!$E$7,IF('FEUILLE SOIN'!K31='Base de données'!$D$8,'Base de données'!$E$8,IF('FEUILLE SOIN'!K31='Base de données'!$D$9,'Base de données'!$E$9,IF('FEUILLE SOIN'!K31='Base de données'!$D$10,'Base de données'!$E$10,IF('FEUILLE SOIN'!K31='Base de données'!$D$11,'Base de données'!$E$11,IF(K31='Base de données'!$D$12,'Base de données'!$E$12,IF('FEUILLE SOIN'!K31='Base de données'!$D$13,'Base de données'!$E$13,IF(K31='Base de données'!$D$14,'Base de données'!$E$14,IF(K31='Base de données'!$D$15,'Base de données'!$E$15,IF(K31='Base de données'!$D$16,'Base de données'!$E$16)))))))))))) -> 0 | M31: =SUM((L31*10/100)) -> 0 | N31: =SUM(L31-M31) -> 0 | Q31: =SUM(N31:P31) -> 0
C32: =IFERROR(VLOOKUP(B32,Tb_Soins,2,0),"") | D32: =IFERROR(SUM((C32*10/100)),"") | E32: =IFERROR(SUM(C32-D32),"") | F32: =IF(AND(WEEKDAY($H$1,2)<6,A32<>""),'Base de données'!$E$35,"") | G32: =IF(OR(WEEKDAY($H$1,2)<6,A32=""),"",'Base de données'!$E$36) | H32: =SUM(E32:G32) -> 0 | L32: =IF(K32='Base de données'!$D$5,'Base de données'!$E$5,IF('FEUILLE SOIN'!K32='Base de données'!$D$6,'Base de données'!$E$6,IF('FEUILLE SOIN'!K32='Base de données'!$D$7,'Base de données'!$E$7,IF('FEUILLE SOIN'!K32='Base de données'!$D$8,'Base de données'!$E$8,IF('FEUILLE SOIN'!K32='Base de données'!$D$9,'Base de données'!$E$9,IF('FEUILLE SOIN'!K32='Base de données'!$D$10,'Base de données'!$E$10,IF('FEUILLE SOIN'!K32='Base de données'!$D$11,'Base de données'!$E$11,IF(K32='Base de données'!$D$12,'Base de données'!$E$12,IF('FEUILLE SOIN'!K32='Base de données'!$D$13,'Base de données'!$E$13,IF(K32='Base de données'!$D$14,'Base de données'!$E$14,IF(K32='Base de données'!$D$15,'Base de données'!$E$15,IF(K32='Base de données'!$D$16,'Base de données'!$E$16)))))))))))) -> 0 | M32: =SUM((L32*10/100)) -> 0 | N32: =SUM(L32-M32) -> 0 | Q32: =SUM(N32:P32) -> 0
A33: Total Colonne | D33: =SUM(D3:D32) -> 1.291 | E33: =SUM(E3:E32) -> 11.619 | F33: =SUM(F3:F32) -> 2.5 | G33: =SUM(G3:G32) -> 0 | H33: =SUM(E33+#REF!+G33) -> #REF! | J33: Total Colonne | L33: =IF(K33='Base de données'!$D$5,'Base de données'!$E$5,IF('FEUILLE SOIN'!K33='Base de données'!$D$6,'Base de données'!$E$6,IF('FEUILLE SOIN'!K33='Base de données'!$D$7,'Base de données'!$E$7,IF('FEUILLE SOIN'!K33='Base de données'!$D$8,'Base de données'!$E$8,IF('FEUILLE SOIN'!K33='Base de données'!$D$9,'Base de données'!$E$9,IF('FEUILLE SOIN'!K33='Base de données'!$D$10,'Base de données'!$E$10,IF('FEUILLE SOIN'!K33='Base de données'!$D$11,'Base de données'!$E$11,IF(K33='Base de données'!$D$12,'Base de données'!$E$12,IF('FEUILLE SOIN'!K33='Base de données'!$D$13,'Base de données'!$E$13,IF(K33='Base de données'!$D$14,'Base de données'!$E$14,IF(K33='Base de données'!$D$15,'Base de données'!$E$15,IF(K33='Base de données'!$D$16,'Base de données'!$E$16)))))))))))) -> 0 | M33: =SUM(M3:M32) -> 0 | N33: =SUM(N3:N32) -> 0 | O33: =SUM(O3:O32) -> 0 | P33: =SUM(P3:P32) -> 0 | Q33: =SUM(N33+O33+P33) -> 0
