Workbook

Sheet Nomenclature
AC1: Flag Immobilisable | AF1: Département de gestion | AG1: Activité
B2: FAMILLES - NIVEAU 1 | C2: SOUS-FAMILLES - NIVEAU 2 | D2: CATEGORIES - NIVEAU 3 | E2: Formule Cat 3 sans code | F2: Texte Cat 3 sans code | G2: DESCRIPTION | H2: ACHETEUR RESPONSABLE | I2: CODE | J2: DESCRIPTION | K2: ACHETEUR RESPONSABLE | L2: BIEN/SERVICE | M2: Maintenance | N2: Compte comptable | O2: Flux Bilan | P2: CAPEX/OPEX/CBM | Q2: Code TVA | R2: Compte comptable | S2: Flux Bilan | T2: CAPEX/OPEX/CBM | U2: FAMILLES - NIVEAU 1 | V2: SOUS-FAMILLES - NIVEAU 2 | W2: CATEGORIES - NIVEAU 3 | X2: DESCRIPTION | Y2: FAMILLES - NIVEAU 1 | Z2: SOUS-FAMILLES - NIVEAU 2 | AA2: CATEGORIES - NIVEAU 3 | AB2: DESCRIPTION | AC2: CAPEX / Immobilisable | AD2: Compte de Capex | AE2: Si valeur unitaire | AF2: GER | AG2: CPA (Construction pour compte d'autrui en concession)
B3: 01 CONTENANT | C3: 01.01 CONTENANT | D3: 01.01.01 ARMOIRE DMD - DMS | E3: =RIGHT(D3,LEN(D3)-10) -> RMOIRE DMD - DMS | F3: ARMOIRE DMD - DMS | G3: 01 CONTENANT > 01.01 CONTENANT | I3: 01.01.01 | J3: 01 CONTENANT > 01.01 CONTENANT | K3: Camille BONNAVE | L3: BIEN | M3: N | N3: 23915400 | O3: F322 | P3: CAPEX | Q3: IMMB-AC-DEB-FR | U3: 01 CONTAINER | V3: 01.01 CONTAINER | W3: 01.01.01 DMD - DMS CABINET | X3: 01 CONTAINER > 01.01 CONTAINER | Y3: 01 CONTENEDOR | Z3: 01.01 CONTENEDOR | AA3: 01.01.01 ARMARIO DMD - DMS | AB3: 01 CONTENEDOR > 01.01 CONTENEDOR
D4: 01.01.02 BAC ROULANT - MATERIEL NEUF | E4: =RIGHT(D4,LEN(D4)-10) -> AC ROULANT - MATERIEL NEUF | F4: BAC ROULANT - MATERIEL NEUF | G4: 01 CONTENANT > 01.01 CONTENANT | I4: 01.01.02 | J4: 01 CONTENANT > 01.01 CONTENANT | K4: Vincent GROULT | L4: BIEN | M4: N | N4: 23915400 | O4: F32C | P4: CBM | Q4: IMMB-AC-DEB-FR | W4: 01.01.02 WHEELED BIN - NEW EQUIPMENT | X4: 01 CONTAINER > 01.01 CONTAINER | AA4: 01.01.02 CONTENEDOR RODANTE - MATERIAL NUEVO | AB4: 01 CONTENEDOR > 01.01 CONTENEDOR
D5: 01.01.03 BAC ROULANT - ACCESSOIRE - PIECE | E5: =RIGHT(D5,LEN(D5)-10) -> AC ROULANT - ACCESSOIRE - PIECE | F5: BAC ROULANT - ACCESSOIRE - PIECE | G5: 01 CONTENANT > 01.01 CONTENANT | I5: 01.01.03 | J5: 01 CONTENANT > 01.01 CONTENANT | K5: Vincent GROULT | L5: BIEN | M5: N | N5: 60230000 | O5: N/A | P5: OPEX | Q5: NORB-AC-DEB-FR | W5: 01.01.03 WHEELED BIN - ACCESSORIES - PARTS | X5: 01 CONTAINER > 01.01 CONTAINER | AA5: 01.01.03 CONTENEDOR RODANTE - ACCESORIO - PIEZA | AB5: 01 CONTENEDOR > 01.01 CONTENEDOR | AC5: X | AD5: 23915400 | AE5: Immo si valeur unitaire > 500€ + durée d'utilisation du bien > 1 an
D6: 01.01.04 BENNE - BORNE - CAISSON - COLONNE AV - MATERIEL NEUF | E6: =RIGHT(D6,LEN(D6)-10) -> ENNE - BORNE - CAISSON - COLONNE AV - MATERIEL NEUF | F6: BENNE - BORNE - CAISSON - COLONNE AV - MATERIEL NEUF | G6: 01 CONTENANT > 01.01 CONTENANT | I6: 01.01.04 | J6: 01 CONTENANT > 01.01 CONTENANT | K6: Camille BONNAVE | L6: BIEN | M6: N | N6: 23915400 | O6: F32C | P6: CBM | Q6: IMMB-AC-DEB-FR | W6: 01.01.04 SKIP - BIN - CONTAINER - GLASS COLLECTION BIN - NEW EQUIPMENT | X6: 01 CONTAINER > 01.01 CONTAINER | AA6: 01.01.04 VOLQUETE - TERMINAL - CAJÓN - COLUMNA AV - MATERIAL NUEVO | AB6: 01 CONTENEDOR > 01.01 CONTENEDOR
D7: 01.01.05 BENNE - BORNE - CAISSON - COLONNE AV - ACCESSOIRE - PIECE | E7: =RIGHT(D7,LEN(D7)-10) -> ENNE - BORNE - CAISSON - COLONNE AV - ACCESSOIRE - PIECE | F7: BENNE - BORNE - CAISSON - COLONNE AV - ACCESSOIRE - PIECE | G7: 01 CONTENANT > 01.01 CONTENANT | I7: 01.01.05 | J7: 01 CONTENANT > 01.01 CONTENANT | K7: Camille BONNAVE | L7: BIEN | M7: N | N7: 60230000 | O7: N/A | P7: OPEX | Q7: NORB-AC-DEB-FR | W7: 01.01.04 SKIP - BIN - CONTAINER - GLASS COLLECTION BIN - PARTS | X7: 01 CONTAINER > 01.01 CONTAINER | AA7: 01.01.05 VOLQUETE - TERMINAL - CAJÓN - COLUMNA AV - ACCESORIO - PIEZA | AB7: 01 CONTENEDOR > 01.01 CONTENEDOR | AC7: X | AD7: 23915400 | AE7: Immo si valeur unitaire > 500€ + durée d'utilisation du bien > 1 an
D8: 01.01.06 BIG BAG | E8: =RIGHT(D8,LEN(D8)-10) -> IG BAG | F8: BIG BAG | G8: 01 CONTENANT > 01.01 CONTENANT | I8: 01.01.06 | J8: 01 CONTENANT > 01.01 CONTENANT | K8: Lydie BULLE | L8: BIEN | M8: N | N8: 60210000 | O8: N/A | P8: OPEX | Q8: NORB-AC-DEB-FR | W8: 01.01.06 BIG BAG | X8: 01 CONTAINER > 01.01 CONTAINER | AA8: 01.01.06 BIG BAG | AB8: 01 CONTENEDOR > 01.01 CONTENEDOR
D9: 01.01.07 CAISSE GRILLAGEE | E9: =RIGHT(D9,LEN(D9)-10) -> AISSE GRILLAGEE | F9: CAISSE GRILLAGEE | G9: 01 CONTENANT > 01.01 CONTENANT | I9: 01.01.07 | J9: 01 CONTENANT > 01.01 CONTENANT | K9: Camille BONNAVE | L9: BIEN | M9: N | N9: 23915400 | O9: F322 | P9: CAPEX | Q9: IMMB-AC-DEB-FR | W9: 01.01.07 CAGE CONTAINER | X9: 01 CONTAINER > 01.01 CONTAINER | AA9: 01.01.07 CAJA ENREJADA | AB9: 01 CONTENEDOR > 01.01 CONTENEDOR
D10: 01.01.08 CAISSE PALETTE - RIGIDE | E10: =RIGHT(D10,LEN(D10)-10) -> AISSE PALETTE - RIGIDE | F10: CAISSE PALETTE - RIGIDE | G10: 01 CONTENANT > 01.01 CONTENANT | I10: 01.01.08 | J10: 01 CONTENANT > 01.01 CONTENANT | K10: Vincent GROULT | L10: BIEN | M10: N | N10: 23915400 | O10: F322 | P10: CAPEX | Q10: IMMB-AC-DEB-FR | W10: 01.01.08 PALLET CONTAINER - RIGID | X10: 01 CONTAINER > 01.01 CONTAINER | AA10: 01.01.08 CAJA PALÉ - RÍGIDO | AB10: 01 CONTENEDOR > 01.01 CONTENEDOR
D11: 01.01.09 CAISSON MARITIME | E11: =RIGHT(D11,LEN(D11)-10) -> AISSON MARITIME | F11: CAISSON MARITIME | G11: 01 CONTENANT > 01.01 CONTENANT | I11: 01.01.09 | J11: 01 CONTENANT > 01.01 CONTENANT | K11: Camille BONNAVE | L11: BIEN | M11: N | N11: 23915400 | O11: F32C | P11: CBM | Q11: IMMB-AC-DEB-FR | W11: 01.01.09 MARITIME CONTAINER | X11: 01 CONTAINER > 01.01 CONTAINER | AA11: 01.01.09 CONTENEDOR MARÍTIMO | AB11: 01 CONTENEDOR > 01.01 CONTENEDOR
D12: 01.01.10 PLOMB | E12: =RIGHT(D12,LEN(D12)-10) -> LOMB | F12: PLOMB | G12: 01 CONTENANT > 01.01 CONTENANT | I12: 01.01.10 | J12: 01 CONTENANT > 01.01 CONTENANT | K12: Camille BONNAVE | L12: BIEN | M12: N | N12: 60610070 | O12: N/A | P12: OPEX | Q12: NORB-AC-DEB-FR | W12: 01.01.10 LEAD | X12: 01 CONTAINER > 01.01 CONTAINER | AA12: 01.01.10 SELLO | AB12: 01 CONTENEDOR > 01.01 CONTENEDOR
D13: 01.01.11 ROLL | E13: =RIGHT(D13,LEN(D13)-10) -> OLL | F13: ROLL | G13: 01 CONTENANT > 01.01 CONTENANT | I13: 01.01.11 | J13: 01 CONTENANT > 01.01 CONTENANT | K13: Camille BONNAVE | L13: BIEN | M13: N | N13: 60610070 | O13: N/A | P13: OPEX | Q13: NORB-AC-DEB-FR | W13: 01.01.11 ROLL | X13: 01 CONTAINER > 01.01 CONTAINER | AA13: 01.01.11 ROLL | AB13: 01 CONTENEDOR > 01.01 CONTENEDOR
D14: 01.01.12 SAC | E14: =RIGHT(D14,LEN(D14)-10) -> AC | F14: SAC | G14: 01 CONTENANT > 01.01 CONTENANT | I14: 01.01.12 | J14: 01 CONTENANT > 01.01 CONTENANT | K14: Vincent GROULT | L14: BIEN | M14: N | N14: 60210000 | O14: N/A | P14: OPEX | Q14: NORB-AC-DEB-FR | W14: 01.01.12 BAG | X14: 01 CONTAINER > 01.01 CONTAINER | AA14: 01.01.12 BOLSA | AB14: 01 CONTENEDOR > 01.01 CONTENEDOR
D15: 01.01.13 COMPACTEUR MONOBLOC- MATERIEL NEUF | E15: =RIGHT(D15,LEN(D15)-10) -> OMPACTEUR MONOBLOC- MATERIEL NEUF | F15: COMPACTEUR MONOBLOC- MATERIEL NEUF | G15: 01 CONTENANT > 01.01 CONTENANT | I15: 01.01.13 | J15: 01 CONTENANT > 01.01 CONTENANT | K15: Vincent GROULT | L15: BIEN | M15: N | N15: 23915400 | O15: F32C | P15: CBM | Q15: IMMB-AC-DEB-FR | W15: 01.01.13 MOBILE COMPACTOR - NEW EQUIPMENT | X15: 01 CONTAINER > 01.01 CONTAINER | AA15: 01.01.13 COMPACTADOR MONOBLOQUE- MATERIAL NUEVO | AB15: 01 CONTENEDOR > 01.01 CONTENEDOR
D16: 01.01.14 COMPACTEUR MONOBLOC- ACCESSOIRE - PIECE | E16: =RIGHT(D16,LEN(D16)-10) -> OMPACTEUR MONOBLOC- ACCESSOIRE - PIECE | F16: COMPACTEUR MONOBLOC- ACCESSOIRE - PIECE | G16: 01 CONTENANT > 01.01 CONTENANT | I16: 01.01.14 | J16: 01 CONTENANT > 01.01 CONTENANT | K16: Vincent GROULT | L16: BIEN | M16: N | N16: 60230000 | O16: N/A | P16: OPEX | Q16: NORB-AC-DEB-FR | W16: 01.01.14 MOBILE COMPACTOR - ACCESSORIES - PARTS | X16: 01 CONTAINER > 01.01 CONTAINER | AA16: 01.01.14 COMPACTADOR MONOBLOQUE- ACCESORIO - PIEZA | AB16: 01 CONTENEDOR > 01.01 CONTENEDOR | AC16: X | AD16: 23915400 | AE16: Immo si valeur unitaire > 500€ + durée d'utilisation du bien > 1 an
D17: 01.01.15 COMPACTEUR POSTE FIXE- MATERIEL NEUF | E17: =RIGHT(D17,LEN(D17)-10) -> OMPACTEUR POSTE FIXE- MATERIEL NEUF | F17: COMPACTEUR POSTE FIXE- MATERIEL NEUF | G17: 01 CONTENANT > 01.01 CONTENANT | I17: 01.01.15 | J17: 01 CONTENANT > 01.01 CONTENANT | K17: Vincent GROULT | L17: BIEN | M17: N | N17: 23915400 | O17: F32C | P17: CBM | Q17: IMMB-AC-DEB-FR | W17: 01.01.15 FIXED COMPACTOR - NEW EQUIPMENT | X17: 01 CONTAINER > 01.01 CONTAINER | AA17: 01.01.15 COMPACTADOR DE PUESTO FIJO- MATERIAL NUEVO | AB17: 01 CONTENEDOR > 01.01 CONTENEDOR
D18: 01.01.16 COMPACTEUR POSTE FIXE- ACCESSOIRE - PIECE | E18: =RIGHT(D18,LEN(D18)-10) -> OMPACTEUR POSTE FIXE- ACCESSOIRE - PIECE | F18: COMPACTEUR POSTE FIXE- ACCESSOIRE - PIECE | G18: 01 CONTENANT > 01.01 CONTENANT | I18: 01.01.16 | J18: 01 CONTENANT > 01.01 CONTENANT | K18: Vincent GROULT | L18: BIEN | M18: N | N18: 60230000 | O18: N/A | P18: OPEX | Q18: NORB-AC-DEB-FR | W18: 01.01.16 FIXED COMPACTOR - ACCESSORIES - PARTS | X18: 01 CONTAINER > 01.01 CONTAINER | AA18: 01.01.16 COMPACTADOR DE PUESTO FIJO- ACCESORIO - PIEZA | AB18: 01 CONTENEDOR > 01.01 CONTENEDOR | AC18: X | AD18: 23915400 | AE18: Immo si valeur unitaire > 500€ + durée d'utilisation du bien > 1 an
C19: 01.02 CONTENANT - MAINTENANCE - SERVICE | D19: 01.02.01 BAC ROULANT - MAINTENANCE - SERVICE | E19: =RIGHT(D19,LEN(D19)-10) -> AC ROULANT - MAINTENANCE - SERVICE | F19: BAC ROULANT - MAINTENANCE - SERVICE | G19: 01 CONTENANT > 01.02 CONTENANT - MAINTENANCE - SERVICE | I19: 01.02.01 | J19: 01 CONTENANT > 01.02 CONTENANT - MAINTENANCE - SERVICE | K19: Vincent GROULT | L19: SERVICE | M19: Y | N19: 61550000 | O19: N/A | P19: OPEX | Q19: NORS-AC-ENC-FR | V19: 01.02 CONTAINER - MAINTENANCE - SERVICE | W19: 01.02.01 WHEELED BIN - MAINTENANCE - SERVICE | X19: 01 CONTAINER > 01.02 CONTAINER - MAINTENANCE - SERVICE | Z19: 01.02 CONTENEDOR - MANTENIMIENTO - SERVICIO TÉCNICO | AA19: 01.02.01 CONTENEDOR RODANTE - MANTENIMIENTO - SERVICIO TÉCNICO | AB19: 01 CONTENEDOR > 01.02 CONTENEDOR - MANTENIMIENTO - SERVICIO TÉCNICO | AC19: X | AD19: 23915400 | AE19: Réparation > 3000€ et augmente la valeur de vente et augmente la durée de vie du bien concerné par la maintenance
D20: 01.02.02 BENNE - BORNE - CAISSON - COLONNE AV - MAINTENANCE - SERVICE | E20: =RIGHT(D20,LEN(D20)-10) -> ENNE - BORNE - CAISSON - COLONNE AV - MAINTENANCE - SERVICE | F20: BENNE - BORNE - CAISSON - COLONNE AV - MAINTENANCE - SERVICE | G20: 01 CONTENANT > 01.02 CONTENANT - MAINTENANCE - SERVICE | I20: 01.02.02 | J20: 01 CONTENANT > 01.02 CONTENANT - MAINTENANCE - SERVICE | K20: Sébastien HUART | L20: SERVICE | M20: Y | N20: 61550000 | O20: N/A | P20: OPEX | Q20: NORS-AC-ENC-FR | W20: 01.02.02 SKIP - BIN - CONTAINER - GLASS COLLECTION BIN - MAINTENANCE - SERVICE | X20: 01 CONTAINER > 01.02 CONTAINER - MAINTENANCE - SERVICE | AA20: 01.02.02 VOLQUETE - TERMINAL - CAJÓN - COLUMNA AV - MANTENIMIENTO - SERVICIO TÉCNICO | AB20: 01 CONTENEDOR > 01.02 CONTENEDOR - MANTENIMIENTO - SERVICIO TÉCNICO | AC20: X | AD20: 23915400 | AE20: Réparation > 3000€ et augmente la valeur de vente et augmente la durée de vie du bien concerné par la maintenance
D21: 01.02.03 COMPACTEUR MONOBLOC- MAINTENANCE - SERVICE | E21: =RIGHT(D21,LEN(D21)-10) -> OMPACTEUR MONOBLOC- MAINTENANCE - SERVICE | F21: COMPACTEUR MONOBLOC- MAINTENANCE - SERVICE | G21: 01 CONTENANT > 01.02 CONTENANT - MAINTENANCE - SERVICE | I21: 01.02.03 | J21: 01 CONTENANT > 01.02 CONTENANT - MAINTENANCE - SERVICE | K21: Vincent GROULT | L21: SERVICE | M21: Y | N21: 61550000 | O21: N/A | P21: OPEX | Q21: NORS-AC-ENC-FR | W21: 01.02.03 MOBILE COMPACTOR - MAINTENANCE - SERVICE | X21: 01 CONTAINER > 01.02 CONTAINER - MAINTENANCE - SERVICE | AA21: 01.02.03 COMPACTADOR MONOBLOQUE- MANTENIMIENTO - SERVICIO TÉCNICO | AB21: 01 CONTENEDOR > 01.02 CONTENEDOR - MANTENIMIENTO - SERVICIO TÉCNICO | AC21: X | AD21: 23915400 | AE21: Réparation > 3000€ et augmente la valeur de vente et augmente la durée de vie du bien concerné par la maintenance
D22: 01.02.04 COMPACTEUR POSTE FIXE- MAINTENANCE - SERVICE | E22: =RIGHT(D22,LEN(D22)-10) -> OMPACTEUR POSTE FIXE- MAINTENANCE - SERVICE | F22: COMPACTEUR POSTE FIXE- MAINTENANCE - SERVICE | G22: 01 CONTENANT > 01.02 CONTENANT - MAINTENANCE - SERVICE | I22: 01.02.04 | J22: 01 CONTENANT > 01.02 CONTENANT - MAINTENANCE - SERVICE | K22: Vincent GROULT | L22: SERVICE | M22: Y | N22: 61550000 | O22: N/A | P22: OPEX | Q22: NORS-AC-ENC-FR | W22: 01.02.04 FIXED COMPACTOR - MAINTENANCE - SERVICE | X22: 01 CONTAINER > 01.02 CONTAINER - MAINTENANCE - SERVICE | AA22: 01.02.04 COMPACTADOR DE PUESTO FIJO- MANTENIMIENTO - SERVICIO TÉCNICO | AB22: 01 CONTENEDOR > 01.02 CONTENEDOR - MANTENIMIENTO - SERVICIO TÉCNICO | AC22: X | AD22: 23915400 | AE22: Réparation > 3000€ et augmente la valeur de vente et augmente la durée de vie du bien concerné par la maintenance
B23: 02 FOUR - CHAUDIERE - TRAITEMENT FUMEE - GTA | C23: 02.01 FOUR - CHAUDIERE | D23: 02.01.01 REFRACTAIRE - MATERIEL NEUF | E23: =RIGHT(D23,LEN(D23)-10) -> EFRACTAIRE - MATERIEL NEUF | F23: REFRACTAIRE - MATERIEL NEUF | G23: 02 FOUR - CHAUDIERE - TRAITEMENT FUMEE - GTA > 02.01 FOUR - CHAUDIERE | I23: 02.01.01 | J23: 02 FOUR - CHAUDIERE - TRAITEMENT FUMEE - GTA > 02.01 FOUR - CHAUDIERE | K23: Jean Roch DIDRY | L23: BIEN | M23: N | N23: 60500000 | O23: N/A | P23: OPEX | Q23: NORB-AC-DEB-FR | U23: 02 KILN - BOILER - FLUE GAS TREATMENT - TURBO-GENERATOR | V23: 02.01 KILN - BOILER | W23: 02.01.01 REFRACTORY - NEW EQUIPMENT | X23: 02 KILN - BOILER - FLUE GAS TREATMENT - TURBO-GENERATOR > 02.01 KILN - BOILER | Y23: 02 HORNO - CALDERA - TRATAMIENTO DEL HUMO - GTA | Z23: 02.01 HORNO - CALDERA | AA23: 02.01.01 REFRACTARIO - MATERIAL NUEVO | AB23: 02 HORNO - CALDERA - TRATAMIENTO DEL HUMO - GTA > 02.01 HORNO - CALDERA | AF23: 60500000 | AG23: 22500000
D24: 02.01.02 PIECE DE FONDERIE CHAUDIERE - FOUR - MATERIEL NEUF | E24: =RIGHT(D24,LEN(D24)-10) -> IECE DE FONDERIE CHAUDIERE - FOUR - MATERIEL NEUF | F24: PIECE DE FONDERIE CHAUDIERE - FOUR - MATERIEL NEUF | G24: 02 FOUR - CHAUDIERE - TRAITEMENT FUMEE - GTA > 02.01 FOUR - CHAUDIERE | I24: 02.01.02 | J24: 02 FOUR - CHAUDIERE - TRAITEMENT FUMEE - GTA > 02.01 FOUR - CHAUDIERE | K24: Jean Roch DIDRY | L24: BIEN | M24: N | N24: 60230000 | O24: N/A | P24: OPEX | Q24: NORB-AC-DEB-FR | W24: 02.01.02 FOUNDRY PARTS BOILER - KILN - NEW EQUIPMENT | X24: 02 KILN - BOILER - FLUE GAS TREATMENT - TURBO-GENERATOR > 02.01 KILN - BOILER | AA24: 02.01.02 PIEZA DE FUNDICIÓN DE CALDERA - HORNO - MATERIAL NUEVO | AB24: 02 HORNO - CALDERA - TRATAMIENTO DEL HUMO - GTA > 02.01 HORNO - CALDERA | AG24: 22500000
D25: 02.01.03 TUBE - ELEMENT CHAUDIERE - MATERIEL NEUF | E25: =RIGHT(D25,LEN(D25)-10) -> UBE - ELEMENT CHAUDIERE - MATERIEL NEUF | F25: TUBE - ELEMENT CHAUDIERE - MATERIEL NEUF | G25: 02 FOUR - CHAUDIERE - TRAITEMENT FUMEE - GTA > 02.01 FOUR - CHAUDIERE | I25: 02.01.03 | J25: 02 FOUR - CHAUDIERE - TRAITEMENT FUMEE - GTA > 02.01 FOUR - CHAUDIERE | K25: Jean Roch DIDRY | L25: BIEN | M25: N | N25: 60230000 | O25: N/A | P25: OPEX | Q25: NORB-AC-DEB-FR | W25: 02.01.03 TUBE - BOILER ELEMENT - NEW EQUIPMENT | X25: 02 KILN - BOILER - FLUE GAS TREATMENT - TURBO-GENERATOR > 02.01 KILN - BOILER | AA25: 02.01.03 TUBO - ELEMENTO DE CALDERA - MATERIAL NUEVO | AB25: 02 HORNO - CALDERA - TRATAMIENTO DEL HUMO - GTA > 02.01 HORNO - CALDERA | AG25: 22500000
D26: 02.01.04 BRULEUR - MATERIEL NEUF | E26: =RIGHT(D26,LEN(D26)-10) -> RULEUR - MATERIEL NEUF | F26: BRULEUR - MATERIEL NEUF | G26: 02 FOUR - CHAUDIERE - TRAITEMENT FUMEE - GTA > 02.01 FOUR - CHAUDIERE | I26: 02.01.04 | J26: 02 FOUR - CHAUDIERE - TRAITEMENT FUMEE - GTA > 02.01 FOUR - CHAUDIERE | K26: Jean Roch DIDRY | L26: BIEN | M26: N | N26: 60500000 | O26: N/A | P26: OPEX | Q26: NORB-AC-DEB-FR | W26: 02.01.04 BURNER - NEW EQUIPMENT | X26: 02 KILN - BOILER - FLUE GAS TREATMENT - TURBO-GENERATOR > 02.01 KILN - BOILER | AA26: 02.01.04 QUEMADOR - MATERIAL NUEVO | AB26: 02 HORNO - CALDERA - TRATAMIENTO DEL HUMO - GTA > 02.01 HORNO - CALDERA | AF26: 60500000 | AG26: 22500000
D27: 02.01.05 BRULEUR - ACCESSOIRE - PIECE | E27: =RIGHT(D27,LEN(D27)-10) -> RULEUR - ACCESSOIRE - PIECE | F27: BRULEUR - ACCESSOIRE - PIECE | G27: 02 FOUR - CHAUDIERE - TRAITEMENT FUMEE - GTA > 02.01 FOUR - CHAUDIERE | I27: 02.01.05 | J27: 02 FOUR - CHAUDIERE - TRAITEMENT FUMEE - GTA > 02.01 FOUR - CHAUDIERE | K27: Jean Roch DIDRY | L27: BIEN | M27: N | N27: 60230000 | O27: N/A | P27: OPEX | Q27: NORB-AC-DEB-FR | W27: 02.01.05 BURNER - ACCESSORIES - PARTS | X27: 02 KILN - BOILER - FLUE GAS TREATMENT - TURBO-GENERATOR > 02.01 KILN - BOILER | AA27: 02.01.05 QUEMADOR - ACCESORIO - PIEZA | AB27: 02 HORNO - CALDERA - TRATAMIENTO DEL HUMO - GTA > 02.01 HORNO - CALDERA | AG27: 22500000
D28: 02.01.06 SYSTEME NETTOYAGE CHAUDIERE EN MARCHE - MATERIEL NEUF | E28: =RIGHT(D28,LEN(D28)-10) -> YSTEME NETTOYAGE CHAUDIERE EN MARCHE - MATERIEL NEUF | F28: SYSTEME NETTOYAGE CHAUDIERE EN MARCHE - MATERIEL NEUF | G28: 02 FOUR - CHAUDIERE - TRAITEMENT FUMEE - GTA > 02.01 FOUR - CHAUDIERE | I28: 02.01.06 | J28: 02 FOUR - CHAUDIERE - TRAITEMENT FUMEE - GTA > 02.01 FOUR - CHAUDIERE | K28: Jean Roch DIDRY | L28: BIEN | M28: N | N28: 60500000 | O28: N/A | P28: OPEX | Q28: NORB-AC-DEB-FR | W28: 02.01.06 BOILER CLEANING SYSTEM IN OPERATION - NEW EQUIPMENT | X28: 02 KILN - BOILER - FLUE GAS TREATMENT - TURBO-GENERATOR > 02.01 KILN - BOILER | AA28: 02.01.06 SISTEMA DE LIMPIEZA DE CALDERA EN FUNCIONES - MATERIAL NUEVO | AB28: 02 HORNO - CALDERA - TRATAMIENTO DEL HUMO - GTA > 02.01 HORNO - CALDERA | AF28: 60500000 | AG28: 22500000
D29: 02.01.07 SYSTÈME NETTOYAGE CHAUDIERE EN MARCHE - ACCESSOIRE - PIECE | E29: =RIGHT(D29,LEN(D29)-10) -> YSTÈME NETTOYAGE CHAUDIERE EN MARCHE - ACCESSOIRE - PIECE | F29: SYSTÈME NETTOYAGE CHAUDIERE EN MARCHE - ACCESSOIRE - PIECE | G29: 02 FOUR - CHAUDIERE - TRAITEMENT FUMEE - GTA > 02.01 FOUR - CHAUDIERE | I29: 02.01.07 | J29: 02 FOUR - CHAUDIERE - TRAITEMENT FUMEE - GTA > 02.01 FOUR - CHAUDIERE | K29: Jean Roch DIDRY | L29: BIEN | M29: N | N29: 60230000 | O29: N/A | P29: OPEX | Q29: NORB-AC-DEB-FR | W29: 02.01.07 BOILER CLEANING SYSTEM IN OPERATION - ACCESSORIES - PARTS | X29: 02 KILN - BOILER - FLUE GAS TREATMENT - TURBO-GENERATOR > 02.01 KILN - BOILER | AA29: 02.01.07 SISTEMA DE LIMPIEZA DE CALDERA EN FUNCIONES - ACCESORIO - PIEZA | AB29: 02 HORNO - CALDERA - TRATAMIENTO DEL HUMO - GTA > 02.01 HORNO - CALDERA | AG29: 22500000
D30: 02.01.08 CHAUDIERE - REVAMPING | E30: =RIGHT(D30,LEN(D30)-10) -> HAUDIERE - REVAMPING | F30: CHAUDIERE - REVAMPING | G30: 02 FOUR - CHAUDIERE - TRAITEMENT FUMEE - GTA > 02.01 FOUR - CHAUDIERE | I30: 02.01.08 | J30: 02 FOUR - CHAUDIERE - TRAITEMENT FUMEE - GTA > 02.01 FOUR - CHAUDIERE | K30: Jean Roch DIDRY | L30: BIEN | M30: N | N30: 60500000 | O30: N/A | P30: OPEX | Q30: NORB-AC-DEB-FR | W30: 02.01.08 BOILER - REVAMPING | X30: 02 KILN - BOILER - FLUE GAS TREATMENT - TURBO-GENERATOR > 02.01 KILN - BOILER | AA30: 02.01.08 CALDERA - RENOVACIÓN | AB30: 02 HORNO - CALDERA - TRATAMIENTO DEL HUMO - GTA > 02.01 HORNO - CALDERA | AF30: 60500000 | AG30: 22500000
D31: 02.01.09 EXTRACTEUR MACHEFERS - MATERIEL NEUF | E31: =RIGHT(D31,LEN(D31)-10) -> XTRACTEUR MACHEFERS - MATERIEL NEUF | F31: EXTRACTEUR MACHEFERS - MATERIEL NEUF | G31: 02 FOUR - CHAUDIERE - TRAITEMENT FUMEE - GTA > 02.01 FOUR - CHAUDIERE | I31: 02.01.09 | J31: 02 FOUR - CHAUDIERE - TRAITEMENT FUMEE - GTA > 02.01 FOUR - CHAUDIERE | K31: Jean Roch DIDRY | L31: BIEN | M31: N | N31: 60500000 | O31: N/A | P31: OPEX | Q31: NORB-AC-DEB-FR | W31: 02.01.09 BOTTOM ASH EXTRACTOR - NEW EQUIPMENT | X31: 02 KILN - BOILER - FLUE GAS TREATMENT - TURBO-GENERATOR > 02.01 KILN - BOILER | AA31: 02.01.09 EXTRACTOR DE ESCORIA - MATERIAL NUEVO | AB31: 02 HORNO - CALDERA - TRATAMIENTO DEL HUMO - GTA > 02.01 HORNO - CALDERA | AF31: 60500000 | AG31: 22500000
D32: 02.01.10 EXTRACTEUR MACHEFERS - ACCESSOIRE - PIECE | E32: =RIGHT(D32,LEN(D32)-10) -> XTRACTEUR MACHEFERS - ACCESSOIRE - PIECE | F32: EXTRACTEUR MACHEFERS - ACCESSOIRE - PIECE | G32: 02 FOUR - CHAUDIERE - TRAITEMENT FUMEE - GTA > 02.01 FOUR - CHAUDIERE | I32: 02.01.10 | J32: 02 FOUR - CHAUDIERE - TRAITEMENT FUMEE - GTA > 02.01 FOUR - CHAUDIERE | K32: Jean Roch DIDRY | L32: BIEN | M32: N | N32: 60230000 | O32: N/A | P32: OPEX | Q32: NORB-AC-DEB-FR | W32: 02.01.10 BOTTOM ASH EXTRACTOR - ACCESSORIES - PARTS | X32: 02 KILN - BOILER - FLUE GAS TREATMENT - TURBO-GENERATOR > 02.01 KILN - BOILER | AA32: 02.01.10 EXTRACTOR DE ESCORIA- ACCESORIO - PIEZA | AB32: 02 HORNO - CALDERA - TRATAMIENTO DEL HUMO - GTA > 02.01 HORNO - CALDERA | AG32: 22500000
D33: 02.01.11 GRILLE - MATERIEL NEUF | E33: =RIGHT(D33,LEN(D33)-10) -> RILLE - MATERIEL NEUF | F33: GRILLE - MATERIEL NEUF | G33: 02 FOUR - CHAUDIERE - TRAITEMENT FUMEE - GTA > 02.01 FOUR - CHAUDIERE | I33: 02.01.11 | J33: 02 FOUR - CHAUDIERE - TRAITEMENT FUMEE - GTA > 02.01 FOUR - CHAUDIERE | K33: Jean Roch DIDRY | L33: BIEN | M33: N | N33: 60500000 | O33: N/A | P33: OPEX | Q33: NORB-AC-DEB-FR | W33: 02.01.11 GRATE - NEW EQUIPMENT | X33: 02 KILN - BOILER - FLUE GAS TREATMENT - TURBO-GENERATOR > 02.01 KILN - BOILER | AA33: 02.01.11 REJA - MATERIAL NUEVO | AB33: 02 HORNO - CALDERA - TRATAMIENTO DEL HUMO - GTA > 02.01 HORNO - CALDERA | AF33: 60500000 | AG33: 22500000
D34: 02.01.12 GRILLE - ACCESSOIRE - PIECE | E34: =RIGHT(D34,LEN(D34)-10) -> RILLE - ACCESSOIRE - PIECE | F34: GRILLE - ACCESSOIRE - PIECE | G34: 02 FOUR - CHAUDIERE - TRAITEMENT FUMEE - GTA > 02.01 FOUR - CHAUDIERE | I34: 02.01.12 | J34: 02 FOUR - CHAUDIERE - TRAITEMENT FUMEE - GTA > 02.01 FOUR - CHAUDIERE | K34: Jean Roch DIDRY | L34: BIEN | M34: N | N34: 60230000 | O34: N/A | P34: OPEX | Q34: NORB-AC-DEB-FR | W34: 02.01.12 GRATE - ACCESSORIES - PARTS | X34: 02 KILN - BOILER - FLUE GAS TREATMENT - TURBO-GENERATOR > 02.01 KILN - BOILER | AA34: 02.01.12 REJA - ACCESORIO - PIEZA | AB34: 02 HORNO - CALDERA - TRATAMIENTO DEL HUMO - GTA > 02.01 HORNO - CALDERA | AG34: 22500000
C35: 02.02 FOUR - CHAUDIERE - MAINTENANCE - SERVICE | D35: 02.02.01 PIECE DE FONDERIE CHAUDIERE - FOUR - MAINTENANCE - SERVICE | E35: =RIGHT(D35,LEN(D35)-10) -> IECE DE FONDERIE CHAUDIERE - FOUR - MAINTENANCE - SERVICE | F35: PIECE DE FONDERIE CHAUDIERE - FOUR - MAINTENANCE - SERVICE | G35: 02 FOUR - CHAUDIERE - TRAITEMENT FUMEE - GTA > 02.02 FOUR - CHAUDIERE - MAINTENANCE - SERVICE | I35: 02.02.01 | J35: 02 FOUR - CHAUDIERE - TRAITEMENT FUMEE - GTA > 02.02 FOUR - CHAUDIERE - MAINTENANCE - SERVICE | K35: Jean Roch DIDRY | L35: SERVICE | M35: Y | N35: 61560000 | O35: N/A | P35: OPEX | Q35: NORS-AC-ENC-FR | V35: 02.02 KILN - BOILER - MAINTENANCE - SERVICE | W35: 02.02.01 FOUNDRY PARTS BOILER - KILN - MAINTENANCE - SERVICE | X35: 02 KILN - BOILER - FLUE GAS TREATMENT - TURBO-GENERATOR > 02.02 KILN - BOILER - MAINTENANCE - SERVICE | Z35: 02.02 HORNO - CALDERA - MANTENIMIENTO - SERVICIO TÉCNICO | AA35: 02.02.01 PIEZA DE FUNDICIÓN DE CALDERA - HORNO - MANTENIMIENTO - SERVICIO TÉCNICO | AB35: 02 HORNO - CALDERA - TRATAMIENTO DEL HUMO - GTA > 02.02 HORNO - CALDERA - MANTENIMIENTO - SERVICIO TÉCNICO | AC35: ? | AG35: 22500000
D36: 02.02.02 TUBE - ELEMENT CHAUDIERE - MAINTENANCE - SERVICE | E36: =RIGHT(D36,LEN(D36)-10) -> UBE - ELEMENT CHAUDIERE - MAINTENANCE - SERVICE | F36: TUBE - ELEMENT CHAUDIERE - MAINTENANCE - SERVICE | G36: 02 FOUR - CHAUDIERE - TRAITEMENT FUMEE - GTA > 02.02 FOUR - CHAUDIERE - MAINTENANCE - SERVICE | I36: 02.02.02 | J36: 02 FOUR - CHAUDIERE - TRAITEMENT FUMEE - GTA > 02.02 FOUR - CHAUDIERE - MAINTENANCE - SERVICE | K36: Jean Roch DIDRY | L36: SERVICE | M36: Y | N36: 61560000 | O36: N/A | P36: OPEX | Q36: NORS-AC-ENC-FR | W36: 02.02.02 TUBE - BOILER ELEMENT - MAINTENANCE - SERVICE | X36: 02 KILN - BOILER - FLUE GAS TREATMENT - TURBO-GENERATOR > 02.02 KILN - BOILER - MAINTENANCE - SERVICE | AA36: 02.02.02 TUBO - ELEMENTO DE CALDERA - MANTENIMIENTO - SERVICIO TÉCNICO | AB36: 02 HORNO - CALDERA - TRATAMIENTO DEL HUMO - GTA > 02.02 HORNO - CALDERA - MANTENIMIENTO - SERVICIO TÉCNICO | AC36: ? | AG36: 22500000
D37: 02.02.03 BRULEUR - MAINTENANCE - SERVICE | E37: =RIGHT(D37,LEN(D37)-10) -> RULEUR - MAINTENANCE - SERVICE | F37: BRULEUR - MAINTENANCE - SERVICE | G37: 02 FOUR - CHAUDIERE - TRAITEMENT FUMEE - GTA > 02.02 FOUR - CHAUDIERE - MAINTENANCE - SERVICE | I37: 02.02.03 | J37: 02 FOUR - CHAUDIERE - TRAITEMENT FUMEE - GTA > 02.02 FOUR - CHAUDIERE - MAINTENANCE - SERVICE | K37: Jean Roch DIDRY | L37: SERVICE | M37: Y | N37: 61560000 | O37: N/A | P37: OPEX | Q37: NORS-AC-ENC-FR | W37: 02.02.03 BURNER - MAINTENANCE - SERVICE | X37: 02 KILN - BOILER - FLUE GAS TREATMENT - TURBO-GENERATOR > 02.02 KILN - BOILER - MAINTENANCE - SERVICE | AA37: 02.02.03 QUEMADOR - MANTENIMIENTO - SERVICIO TÉCNICO | AB37: 02 HORNO - CALDERA - TRATAMIENTO DEL HUMO - GTA > 02.02 HORNO - CALDERA - MANTENIMIENTO - SERVICIO TÉCNICO | AC37: ? | AG37: 22500000
D38: 02.02.04 SYSTÈME NETTOYAGE CHAUDIERE EN MARCHE - MAINTENANCE - SERVICE | E38: =RIGHT(D38,LEN(D38)-10) -> YSTÈME NETTOYAGE CHAUDIERE EN MARCHE - MAINTENANCE - SERVICE | F38: SYSTÈME NETTOYAGE CHAUDIERE EN MARCHE - MAINTENANCE - SERVICE | G38: 02 FOUR - CHAUDIERE - TRAITEMENT FUMEE - GTA > 02.02 FOUR - CHAUDIERE - MAINTENANCE - SERVICE | I38: 02.02.04 | J38: 02 FOUR - CHAUDIERE - TRAITEMENT FUMEE - GTA > 02.02 FOUR - CHAUDIERE - MAINTENANCE - SERVICE | K38: Jean Roch DIDRY | L38: SERVICE | M38: Y | N38: 61560000 | O38: N/A | P38: OPEX | Q38: NORS-AC-ENC-FR | W38: 02.02.04 BOILER CLEANING SYSTEM IN OPERATION - MAINTENANCE - SERVICE | X38: 02 KILN - BOILER - FLUE GAS TREATMENT - TURBO-GENERATOR > 02.02 KILN - BOILER - MAINTENANCE - SERVICE | AA38: 02.02.04 SISTEMA DE LIMPIEZA DE CALDERA EN FUNCIONES - MANTENIMIENTO - SERVICIO TÉCNICO | AB38: 02 HORNO - CALDERA - TRATAMIENTO DEL HUMO - GTA > 02.02 HORNO - CALDERA - MANTENIMIENTO - SERVICIO TÉCNICO | AC38: ? | AG38: 22500000
D39: 02.02.05 EXTRACTEUR MACHEFERS - MAINTENANCE - SERVICE | E39: =RIGHT(D39,LEN(D39)-10) -> XTRACTEUR MACHEFERS - MAINTENANCE - SERVICE | F39: EXTRACTEUR MACHEFERS - MAINTENANCE - SERVICE | G39: 02 FOUR - CHAUDIERE - TRAITEMENT FUMEE - GTA > 02.02 FOUR - CHAUDIERE - MAINTENANCE - SERVICE | I39: 02.02.05 | J39: 02 FOUR - CHAUDIERE - TRAITEMENT FUMEE - GTA > 02.02 FOUR - CHAUDIERE - MAINTENANCE - SERVICE | K39: Jean Roch DIDRY | L39: SERVICE | M39: Y | N39: 61560000 | O39: N/A | P39: OPEX | Q39: NORS-AC-ENC-FR | W39: 02.02.05 BOTTOM ASH EXTRACTOR - MAINTENANCE - SERVICE | X39: 02 KILN - BOILER - FLUE GAS TREATMENT - TURBO-GENERATOR > 02.02 KILN - BOILER - MAINTENANCE - SERVICE | AA39: 02.02.05 EXTRACTOR DE ESCORIA - MANTENIMIENTO - SERVICIO TÉCNICO | AB39: 02 HORNO - CALDERA - TRATAMIENTO DEL HUMO - GTA > 02.02 HORNO - CALDERA - MANTENIMIENTO - SERVICIO TÉCNICO | AC39: ? | AG39: 22500000
D40: 02.02.06 GRILLE - MAINTENANCE - SERVICE | E40: =RIGHT(D40,LEN(D40)-10) -> RILLE - MAINTENANCE - SERVICE | F40: GRILLE - MAINTENANCE - SERVICE | G40: 02 FOUR - CHAUDIERE - TRAITEMENT FUMEE - GTA > 02.02 FOUR - CHAUDIERE - MAINTENANCE - SERVICE | I40: 02.02.06 | J40: 02 FOUR - CHAUDIERE - TRAITEMENT FUMEE - GTA > 02.02 FOUR - CHAUDIERE - MAINTENANCE - SERVICE | K40: Jean Roch DIDRY | L40: SERVICE | M40: Y | N40: 61560000 | O40: N/A | P40: OPEX | Q40: NORS-AC-ENC-FR | W40: 02.02.06 GRATE - MAINTENANCE - SERVICE | X40: 02 KILN - BOILER - FLUE GAS TREATMENT - TURBO-GENERATOR > 02.02 KILN - BOILER - MAINTENANCE - SERVICE | AA40: 02.02.06 REJA - MANTENIMIENTO - SERVICIO TÉCNICO | AB40: 02 HORNO - CALDERA - TRATAMIENTO DEL HUMO - GTA > 02.02 HORNO - CALDERA - MANTENIMIENTO - SERVICIO TÉCNICO | AC40: ? | AG40: 22500000
...

Sheet Formulaires intelligents EN
C2: Nom du formulaire | D2: Règle Nom du formulaire | E2: Mots-clés | F2: Règle Mots clés | G2: Type de ligne | H2: Description de l'article | I2: Limiter à la catégorie de navigation | J2: Règle "Limiter à la catégorie de navigation" | K2: Nom de la catégorie | L2: Champ précédent modifiable par l'utilisateur | M2: Quantité | N2: Unité de mesure | O2: Champ précédent modifiable par l'utilisateur | P2: Prix | Q2: Champ précédent modifiable par l'utilisateur | R2: Devise | S2: Champ précédent modifiable par l'utilisateur | T2: Numéro Accord | U2: Champ précédent modifiable par l'utilisateur | V2: Fournisseur | W2: Champ précédent modifiable par l'utilisateur | X2: Site fournisseur | Y2: Champ précédent modifiable par l'utilisateur | Z2: Article fournisseur | AA2: Champ précédent modifiable par l'utilisateur | AB2: Négocié | AC2: Champ précédent modifiable par l'utilisateur | AD2: Telephone | AE2: Champ précédent modifiable par l'utilisateur | AF2: Negociation requise | AG2: Champ précédent modifiable par l'utilisateur
C4: 01.01 CONTENANT - Hors Catalogue | D4: {=_xlfn.TEXTJOIN(" -",,_xlfn._xlws.FILTER(Nomenclature!$V$3:$V$615,LEFT(Nomenclature!$V$3:$V$615,5)=LEFT('Formulaires intelligents EN'!C4,5)),_xlfn.IFS($G4="fourniture","Non Catalog",$G4="Presta forfait","-Fixed Price - Non Catalog",$G4="presta quantite","-Qty based - Non Catalog"))} -> 01.01 CONTAINER -Non Catalog | E4: 01.01 CONTENANT 01.01.01 ARMOIRE DMD - DMS 01.01.02 BAC ROULANT - MATERIEL NEUF 01.01.03 BAC ROULANT - ACCESSOIRE - PIECE 01.01.04 BENNE - BORNE - CAISSON - COLONNE AV - MATERIEL NEUF 01.01.05 BENNE - BORNE - CAISSON - COLONNE AV - ACCESSOIRE - PIECE 01.01.06 BIG BAG 01.01.07 CAISSE GRILLAGEE 01.01.08 CAISSE PALETTE - RIGIDE 01.01.09 CAISSON MARITIME 01.01.10 PLOMB 01.01.11 ROLL 01.01.12 SAC 01.01.13 COMPACTEUR MONOBLOC- MATERIEL NEUF 01.01.14 COMPACTEUR MONOBLOC- ACCESSOIRE - PIECE 01.01.15 COMPACTEUR POSTE FIXE- MATERIEL NEUF 01.01.16 COMPACTEUR POSTE FIXE- ACCESSOIRE - PIECE | F4: ='[1]Formulaires intelligents EN'!$A$4 -> 01.01 CONTAINER | G4: Fourniture | I4: 01.01 CONTENANT | J4: {=_xlfn._xlws.FILTER(Nomenclature!$V$3:$V$615,LEFT(Nomenclature!$V$3:$V$615,5)=LEFT('Formulaires intelligents EN'!C4,5))} -> 01.01 CONTAINER | L4: Oui | N4: Unité | O4: Oui | Q4: Oui | R4: EUR | S4: Oui | U4: Non | W4: Oui | Y4: Oui | AA4: Oui | AB4: Oui | AC4: Non | AE4: Oui | AG4: Non
C5: 01.02 CONTENANT - MAINTENANCE - SERVICE - Forfait - Hors Catalogue | D5: {=_xlfn.TEXTJOIN(" -",,_xlfn._xlws.FILTER(Nomenclature!$V$3:$V$615,LEFT(Nomenclature!$V$3:$V$615,5)=LEFT('Formulaires intelligents EN'!C5,5)),_xlfn.IFS($G5="fourniture","Non Catalog",$G5="Presta forfait","-Fixed Price - Non Catalog",$G5="presta quantite","-Qty based - Non Catalog"))} -> 01.02 CONTAINER - MAINTENANCE - SERVICE --Fixed Price - Non Catalog | E5: 01.02 CONTENANT - MAINTENANCE - SERVICE 01.02.01 BAC ROULANT - MAINTENANCE - SERVICE 01.02.02 BENNE - BORNE - CAISSON - COLONNE AV - MAINTENANCE - SERVICE 01.02.03 COMPACTEUR MONOBLOC- MAINTENANCE - SERVICE 01.02.04 COMPACTEUR POSTE FIXE- MAINTENANCE - SERVICE | F5: {=_xlfn.TEXTJOIN(" -",,$I5,_xlfn._xlws.FILTER(Nomenclature!$W$3:$W$615,LEFT(Nomenclature!$W$3:$W$615,5)=LEFT($I5,5)))} -> 01.02 CONTENANT - MAINTENANCE - SERVICE -01.02.01 WHEELED BIN - MAINTENANCE - SERVICE -01.02.02 SKIP - BIN - CONTAINER - GLASS COLLECTION BIN - MAINTENANCE - SERVICE -01.02.03 MOBILE COMPACTOR - MAINTENANCE - SERVICE -01.02.04 FIXED COMPACTOR - MAINTENANCE - SERVICE | G5: Presta Forfait | I5: 01.02 CONTENANT - MAINTENANCE - SERVICE | J5: {=_xlfn._xlws.FILTER(Nomenclature!$V$3:$V$615,LEFT(Nomenclature!$V$3:$V$615,5)=LEFT('Formulaires intelligents EN'!C5,5))} -> 01.02 CONTAINER - MAINTENANCE - SERVICE | L5: Oui | O5: Oui | Q5: Oui | R5: EUR | S5: Oui | U5: Non | W5: Oui | Y5: Oui | AA5: Oui | AB5: Oui | AC5: Non | AE5: Oui | AG5: Non
C6: 01.02 CONTENANT - MAINTENANCE - SERVICE - Régie - Hors Catalogue | D6: {=_xlfn.TEXTJOIN(" -",,_xlfn._xlws.FILTER(Nomenclature!$V$3:$V$615,LEFT(Nomenclature!$V$3:$V$615,5)=LEFT('Formulaires intelligents EN'!C6,5)),_xlfn.IFS($G6="fourniture","Non Catalog",$G6="Presta forfait","-Fixed Price - Non Catalog",$G6="presta quantite","-Qty based - Non Catalog"))} -> 01.02 CONTAINER - MAINTENANCE - SERVICE --Qty based - Non Catalog | E6: 01.02 CONTENANT - MAINTENANCE - SERVICE 01.02.01 BAC ROULANT - MAINTENANCE - SERVICE 01.02.02 BENNE - BORNE - CAISSON - COLONNE AV - MAINTENANCE - SERVICE 01.02.03 COMPACTEUR MONOBLOC- MAINTENANCE - SERVICE 01.02.04 COMPACTEUR POSTE FIXE- MAINTENANCE - SERVICE | F6: 01.02 CONTAINER - MAINTENANCE - SERVICE 01.02.01 WHEELED BIN - MAINTENANCE - SERVICE 01.02.02 SKIP - BIN - CONTAINER - GLASS COLLECTION BIN - MAINTENANCE - SERVICE 01.02.03 MOBILE COMPACTOR - MAINTENANCE - SERVICE 01.02.04 FIXED COMPACTOR - MAINTENANCE - SERVICE | G6: Presta Quantite | I6: 01.02 CONTENANT - MAINTENANCE - SERVICE | J6: {=_xlfn._xlws.FILTER(Nomenclature!$V$3:$V$615,LEFT(Nomenclature!$V$3:$V$615,5)=LEFT('Formulaires intelligents EN'!C6,5))} -> 01.02 CONTAINER - MAINTENANCE - SERVICE | L6: Oui | N6: Unité | O6: Oui | Q6: Oui | R6: EUR | S6: Oui | U6: Non | W6: Oui | Y6: Oui | AA6: Oui | AB6: Oui | AC6: Non | AE6: Oui | AG6: Non
B7: {=_xlfn.IFS($G7="fourniture","Non Catalog",$G7="Presta forfait","-Fixed Price - Non Catalog",$G7="presta quantité","-Qty based - Non Catalog")} -> Non Catalog | C7: 02.01 FOUR - CHAUDIERE - Hors Catalogue | D7: {=_xlfn.TEXTJOIN(" -",,_xlfn._xlws.FILTER(Nomenclature!$V$3:$V$615,LEFT(Nomenclature!$V$3:$V$615,5)=LEFT('Formulaires intelligents EN'!C7,5)),_xlfn.IFS($G7="fourniture","Non Catalog",$G7="Presta forfait","-Fixed Price - Non Catalog",$G7="presta quantité","-Qty based - Non Catalog"))} -> 02.01 KILN - BOILER -Non Catalog | E7: 02.01 FOUR - CHAUDIERE 02.01.01 REFRACTAIRE - MATERIEL NEUF 02.01.02 PIECE DE FONDERIE CHAUDIERE - FOUR - MATERIEL NEUF 02.01.03 TUBE - ELEMENT CHAUDIERE - MATERIEL NEUF 02.01.04 BRULEUR - MATERIEL NEUF 02.01.05 BRULEUR - ACCESSOIRE - PIECE 02.01.06 SYSTEME NETTOYAGE CHAUDIERE EN MARCHE - MATERIEL NEUF 02.01.07 SYSTÈME NETTOYAGE CHAUDIERE EN MARCHE - ACCESSOIRE - PIECE 02.01.08 CHAUDIERE - REVAMPING 02.01.09 EXTRACTEUR MACHEFERS - MATERIEL NEUF 02.01.10 EXTRACTEUR MACHEFERS - ACCESSOIRE - PIECE 02.01.11 GRILLE - MATERIEL NEUF 02.01.12 GRILLE - ACCESSOIRE - PIECE | F7: 01.02 CONTAINER - MAINTENANCE - SERVICE 01.02.01 WHEELED BIN - MAINTENANCE - SERVICE 01.02.02 SKIP - BIN - CONTAINER - GLASS COLLECTION BIN - MAINTENANCE - SERVICE 01.02.03 MOBILE COMPACTOR - MAINTENANCE - SERVICE 01.02.04 FIXED COMPACTOR - MAINTENANCE - SERVICE | G7: Fourniture | I7: 02.01 FOUR - CHAUDIERE | J7: {=_xlfn._xlws.FILTER(Nomenclature!$V$3:$V$615,LEFT(Nomenclature!$V$3:$V$615,5)=LEFT('Formulaires intelligents EN'!C7,5))} -> 02.01 KILN - BOILER | L7: Oui | N7: Unité | O7: Oui | Q7: Oui | R7: EUR | S7: Oui | U7: Non | W7: Oui | Y7: Oui | AA7: Oui | AB7: Oui | AC7: Non | AE7: Oui | AG7: Non
C8: 02.02 FOUR - CHAUDIERE - MAINTENANCE - SERVICE - Forfait - Hors Catalogue | D8: {=_xlfn.TEXTJOIN(" -",,_xlfn._xlws.FILTER(Nomenclature!$V$3:$V$615,LEFT(Nomenclature!$V$3:$V$615,5)=LEFT('Formulaires intelligents EN'!C8,5)),_xlfn.IFS($G8="fourniture","Non Catalog",$G8="Presta forfait","-Fixed Price - Non Catalog",$G8="presta quantité","-Qty based - Non Catalog"))} -> 02.02 KILN - BOILER - MAINTENANCE - SERVICE --Fixed Price - Non Catalog | E8: 02.02 FOUR - CHAUDIERE - MAINTENANCE - SERVICE 02.02.01 PIECE DE FONDERIE CHAUDIERE - FOUR - MAINTENANCE - SERVICE 02.02.02 TUBE - ELEMENT CHAUDIERE - MAINTENANCE - SERVICE 02.02.03 BRULEUR - MAINTENANCE - SERVICE 02.02.04 SYSTÈME NETTOYAGE CHAUDIERE EN MARCHE - MAINTENANCE - SERVICE 02.02.05 EXTRACTEUR MACHEFERS - MAINTENANCE - SERVICE 02.02.06 GRILLE - MAINTENANCE - SERVICE | F8: 01.02 CONTAINER - MAINTENANCE - SERVICE 01.02.01 WHEELED BIN - MAINTENANCE - SERVICE 01.02.02 SKIP - BIN - CONTAINER - GLASS COLLECTION BIN - MAINTENANCE - SERVICE 01.02.03 MOBILE COMPACTOR - MAINTENANCE - SERVICE 01.02.04 FIXED COMPACTOR - MAINTENANCE - SERVICE | G8: Presta Forfait | I8: 02.02 FOUR - CHAUDIERE - MAINTENANCE - SERVICE | J8: {=_xlfn._xlws.FILTER(Nomenclature!$V$3:$V$615,LEFT(Nomenclature!$V$3:$V$615,5)=LEFT('Formulaires intelligents EN'!C8,5))} -> 02.02 KILN - BOILER - MAINTENANCE - SERVICE | L8: Oui | O8: Oui | Q8: Oui | R8: EUR | S8: Oui | U8: Non | W8: Oui | Y8: Oui | AA8: Oui | AB8: Oui | AC8: Non | AE8: Oui | AG8: Non
C9: 02.02 FOUR - CHAUDIERE - MAINTENANCE - SERVICE - Régie - Hors Catalogue | E9: 02.02 FOUR - CHAUDIERE - MAINTENANCE - SERVICE 02.02.01 PIECE DE FONDERIE CHAUDIERE - FOUR - MAINTENANCE - SERVICE 02.02.02 TUBE - ELEMENT CHAUDIERE - MAINTENANCE - SERVICE 02.02.03 BRULEUR - MAINTENANCE - SERVICE 02.02.04 SYSTÈME NETTOYAGE CHAUDIERE EN MARCHE - MAINTENANCE - SERVICE 02.02.05 EXTRACTEUR MACHEFERS - MAINTENANCE - SERVICE 02.02.06 GRILLE - MAINTENANCE - SERVICE | F9: 01.02 CONTAINER - MAINTENANCE - SERVICE 01.02.01 WHEELED BIN - MAINTENANCE - SERVICE 01.02.02 SKIP - BIN - CONTAINER - GLASS COLLECTION BIN - MAINTENANCE - SERVICE 01.02.03 MOBILE COMPACTOR - MAINTENANCE - SERVICE 01.02.04 FIXED COMPACTOR - MAINTENANCE - SERVICE | G9: Presta Quantite | I9: 02.02 FOUR - CHAUDIERE - MAINTENANCE - SERVICE | L9: Oui | N9: Unité | O9: Oui | Q9: Oui | R9: EUR | S9: Oui | U9: Non | W9: Oui | Y9: Oui | AA9: Oui | AB9: Oui | AC9: Non | AE9: Oui | AG9: Non
C10: 02.03 TRAITEMENT FUMEE - Hors Catalogue | E10: 02.03 TRAITEMENT FUMEE 02.03.01 VENTILATEUR EXTRACTION - MATERIEL NEUF 02.03.02 ALIMENTATION - INJECTION REACTIF 02.03.03 MANCHE DE FILTRE - MATERIEL NEUF 02.03.04 CATALYSEUR - MATERIEL NEUF | F10: 01.02 CONTAINER - MAINTENANCE - SERVICE 01.02.01 WHEELED BIN - MAINTENANCE - SERVICE 01.02.02 SKIP - BIN - CONTAINER - GLASS COLLECTION BIN - MAINTENANCE - SERVICE 01.02.03 MOBILE COMPACTOR - MAINTENANCE - SERVICE 01.02.04 FIXED COMPACTOR - MAINTENANCE - SERVICE | G10: Fourniture | I10: 02.03 TRAITEMENT FUMEE | L10: Oui | N10: Unité | O10: Oui | Q10: Oui | R10: EUR | S10: Oui | U10: Non | W10: Oui | Y10: Oui | AA10: Oui | AB10: Oui | AC10: Non | AE10: Oui | AG10: Non
C11: 02.04 TRAITEMENT FUMEE - MAINTENANCE - SERVICE - Forfait - Hors Catalogue | E11: 02.04 TRAITEMENT FUMEE - MAINTENANCE - SERVICE 02.04.01 VENTILATEUR EXTRACTION - MAINTENANCE - SERVICE 02.04.02 MANCHE DE FILTRE - POSE - SERVICE 02.04.03 CATALYSEUR - POSE - SERVICE | F11: 01.02 CONTAINER - MAINTENANCE - SERVICE 01.02.01 WHEELED BIN - MAINTENANCE - SERVICE 01.02.02 SKIP - BIN - CONTAINER - GLASS COLLECTION BIN - MAINTENANCE - SERVICE 01.02.03 MOBILE COMPACTOR - MAINTENANCE - SERVICE 01.02.04 FIXED COMPACTOR - MAINTENANCE - SERVICE | G11: Presta Forfait | I11: 02.04 TRAITEMENT FUMEE - MAINTENANCE - SERVICE | L11: Oui | O11: Oui | Q11: Oui | R11: EUR | S11: Oui | U11: Non | W11: Oui | Y11: Oui | AA11: Oui | AB11: Oui | AC11: Non | AE11: Oui | AG11: Non
C12: 02.04 TRAITEMENT FUMEE - MAINTENANCE - SERVICE - Régie - Hors Catalogue | E12: 02.04 TRAITEMENT FUMEE - MAINTENANCE - SERVICE 02.04.01 VENTILATEUR EXTRACTION - MAINTENANCE - SERVICE 02.04.02 MANCHE DE FILTRE - POSE - SERVICE 02.04.03 CATALYSEUR - POSE - SERVICE | F12: 01.02 CONTAINER - MAINTENANCE - SERVICE 01.02.01 WHEELED BIN - MAINTENANCE - SERVICE 01.02.02 SKIP - BIN - CONTAINER - GLASS COLLECTION BIN - MAINTENANCE - SERVICE 01.02.03 MOBILE COMPACTOR - MAINTENANCE - SERVICE 01.02.04 FIXED COMPACTOR - MAINTENANCE - SERVICE | G12: Presta Quantite | I12: 02.04 TRAITEMENT FUMEE - MAINTENANCE - SERVICE | L12: Oui | N12: Unité | O12: Oui | Q12: Oui | R12: EUR | S12: Oui | U12: Non | W12: Oui | Y12: Oui | AA12: Oui | AB12: Oui | AC12: Non | AE12: Oui | AG12: Non
C13: 02.05 GROUPE TURBO ALTERNATEUR - TURBINE - Hors Catalogue | E13: 02.05 GROUPE TURBO ALTERNATEUR - TURBINE 02.05.01 TURBINE - MATERIEL NEUF 02.05.02 REDUCTEUR - MATERIEL NEUF 02.05.03 ALTERNATEUR - MATERIEL NEUF 02.05.04 TURBINE - REDUCTEUR - ALTERNATEUR - ACCESSOIRE - PIECE | F13: 01.02 CONTAINER - MAINTENANCE - SERVICE 01.02.01 WHEELED BIN - MAINTENANCE - SERVICE 01.02.02 SKIP - BIN - CONTAINER - GLASS COLLECTION BIN - MAINTENANCE - SERVICE 01.02.03 MOBILE COMPACTOR - MAINTENANCE - SERVICE 01.02.04 FIXED COMPACTOR - MAINTENANCE - SERVICE | G13: Fourniture | I13: 02.05 GROUPE TURBO ALTERNATEUR - TURBINE | L13: Oui | N13: Unité | O13: Oui | Q13: Oui | R13: EUR | S13: Oui | U13: Non | W13: Oui | Y13: Oui | AA13: Oui | AB13: Oui | AC13: Non | AE13: Oui | AG13: Non
C14: 02.06 GROUPE TURBO ALTERNATEUR - TURBINE - MAINTENANCE - SERVICE - Forfait - Hors Catalogue | E14: 02.06 GROUPE TURBO ALTERNATEUR - TURBINE - MAINTENANCE - SERVICE 02.06.01 GROUPE TURBO ALTERNATEUR - TURBINE - MAINTENANCE - SERVICE | F14: 01.02 CONTAINER - MAINTENANCE - SERVICE 01.02.01 WHEELED BIN - MAINTENANCE - SERVICE 01.02.02 SKIP - BIN - CONTAINER - GLASS COLLECTION BIN - MAINTENANCE - SERVICE 01.02.03 MOBILE COMPACTOR - MAINTENANCE - SERVICE 01.02.04 FIXED COMPACTOR - MAINTENANCE - SERVICE | G14: Presta Forfait | I14: 02.06 GROUPE TURBO ALTERNATEUR - TURBINE - MAINTENANCE - SERVICE | L14: Oui | O14: Oui | Q14: Oui | R14: EUR | S14: Oui | U14: Non | W14: Oui | Y14: Oui | AA14: Oui | AB14: Oui | AC14: Non | AE14: Oui | AG14: Non
C15: 02.06 GROUPE TURBO ALTERNATEUR - TURBINE - MAINTENANCE - SERVICE - Régie - Hors Catalogue | E15: 02.06 GROUPE TURBO ALTERNATEUR - TURBINE - MAINTENANCE - SERVICE 02.06.01 GROUPE TURBO ALTERNATEUR - TURBINE - MAINTENANCE - SERVICE | F15: 01.02 CONTAINER - MAINTENANCE - SERVICE 01.02.01 WHEELED BIN - MAINTENANCE - SERVICE 01.02.02 SKIP - BIN - CONTAINER - GLASS COLLECTION BIN - MAINTENANCE - SERVICE 01.02.03 MOBILE COMPACTOR - MAINTENANCE - SERVICE 01.02.04 FIXED COMPACTOR - MAINTENANCE - SERVICE | G15: Presta Quantite | I15: 02.06 GROUPE TURBO ALTERNATEUR - TURBINE - MAINTENANCE - SERVICE | L15: Oui | N15: Unité | O15: Oui | Q15: Oui | R15: EUR | S15: Oui | U15: Non | W15: Oui | Y15: Oui | AA15: Oui | AB15: Oui | AC15: Non | AE15: Oui | AG15: Non
C16: 03.01 PONT BASCULE - PORTIQUE - Hors Catalogue | E16: 03.01 PONT BASCULE - PORTIQUE 03.01.01 PONT BASCULE - MATERIEL NEUF 03.01.02 BORNE DE PESEE - MATERIEL NEUF 03.01.03 BASCULE - MATERIEL NEUF 03.01.04 PORTIQUE RADIOACTIVITE - MATERIEL NEUF | F16: 01.02 CONTAINER - MAINTENANCE - SERVICE 01.02.01 WHEELED BIN - MAINTENANCE - SERVICE 01.02.02 SKIP - BIN - CONTAINER - GLASS COLLECTION BIN - MAINTENANCE - SERVICE 01.02.03 MOBILE COMPACTOR - MAINTENANCE - SERVICE 01.02.04 FIXED COMPACTOR - MAINTENANCE - SERVICE | G16: Fourniture | I16: 03.01 PONT BASCULE - PORTIQUE | L16: Oui | N16: Unité | O16: Oui | Q16: Oui | R16: EUR | S16: Oui | U16: Non | W16: Oui | Y16: Oui | AA16: Oui | AB16: Oui | AC16: Non | AE16: Oui | AG16: Non
C17: 03.02 EQUIPEMENT LEVAGE - Hors Catalogue | E17: 03.02 EQUIPEMENT LEVAGE 03.02.01 PONT ROULANT - MATERIEL NEUF 03.02.02 PONT ROULANT - ACCESSOIRE - PIECE 03.02.03 PALAN - MATERIEL NEUF 03.02.04 POTENCE - MATERIEL NEUF 03.02.05 PORTIQUE - MATERIEL NEUF 03.02.06 GRAPPIN OM - MATERIEL NEUF 03.02.07 GRAPPIN OM - ACCESSOIRE - PIECE 03.02.08 GRUE PORTATIVE - MATERIEL NEUF | F17: 01.02 CONTAINER - MAINTENANCE - SERVICE 01.02.01 WHEELED BIN - MAINTENANCE - SERVICE 01.02.02 SKIP - BIN - CONTAINER - GLASS COLLECTION BIN - MAINTENANCE - SERVICE 01.02.03 MOBILE COMPACTOR - MAINTENANCE - SERVICE 01.02.04 FIXED COMPACTOR - MAINTENANCE - SERVICE | G17: Fourniture | I17: 03.02 EQUIPEMENT LEVAGE | L17: Oui | N17: Unité | O17: Oui | Q17: Oui | R17: EUR | S17: Oui | U17: Non | W17: Oui | Y17: Oui | AA17: Oui | AB17: Oui | AC17: Non | AE17: Oui | AG17: Non
C18: 03.03 EQUIPEMENT LEVAGE - PONT BASCULE - PORTIQUE - MAINTENANCE - SERVICE - Forfait - Hors Catalogue | E18: 03.03 EQUIPEMENT LEVAGE - PONT BASCULE - PORTIQUE - MAINTENANCE - SERVICE 03.03.01 PONT ROULANT - MAINTENANCE - SERVICE 03.03.02 PALAN - MAINTENANCE - SERVICE 03.03.03 POTENCE - MAINTENANCE - SERVICE 03.03.04 PORTIQUE - MAINTENANCE - SERVICE 03.03.05 GRAPPIN OM - MAINTENANCE - SERVICE 03.03.06 GRUE PORTATIVE - MAINTENANCE - SERVICE 03.03.07 PONT BASCULE - MAINTENANCE - SERVICE 03.03.08 BORNE DE PESEE - MAINTENANCE - SERVICE 03.03.09 BASCULE - MAINTENANCE - SERVICE 03.03.10 PORTIQUE RADIOACTIVITE - MAINTENANCE - SERVICE | F18: 01.02 CONTAINER - MAINTENANCE - SERVICE 01.02.01 WHEELED BIN - MAINTENANCE - SERVICE 01.02.02 SKIP - BIN - CONTAINER - GLASS COLLECTION BIN - MAINTENANCE - SERVICE 01.02.03 MOBILE COMPACTOR - MAINTENANCE - SERVICE 01.02.04 FIXED COMPACTOR - MAINTENANCE - SERVICE | G18: Presta Forfait | I18: 03.03 EQUIPEMENT LEVAGE - PONT BASCULE - PORTIQUE - MAINTENANCE - SERVICE | L18: Oui | O18: Oui | Q18: Oui | R18: EUR | S18: Oui | U18: Non | W18: Oui | Y18: Oui | AA18: Oui | AB18: Oui | AC18: Non | AE18: Oui | AG18: Non
C19: 03.03 EQUIPEMENT LEVAGE - PONT BASCULE - PORTIQUE - MAINTENANCE - SERVICE - Régie - Hors Catalogue | E19: 03.03 EQUIPEMENT LEVAGE - PONT BASCULE - PORTIQUE - MAINTENANCE - SERVICE 03.03.01 PONT ROULANT - MAINTENANCE - SERVICE 03.03.02 PALAN - MAINTENANCE - SERVICE 03.03.03 POTENCE - MAINTENANCE - SERVICE 03.03.04 PORTIQUE - MAINTENANCE - SERVICE 03.03.05 GRAPPIN OM - MAINTENANCE - SERVICE 03.03.06 GRUE PORTATIVE - MAINTENANCE - SERVICE 03.03.07 PONT BASCULE - MAINTENANCE - SERVICE 03.03.08 BORNE DE PESEE - MAINTENANCE - SERVICE 03.03.09 BASCULE - MAINTENANCE - SERVICE 03.03.10 PORTIQUE RADIOACTIVITE - MAINTENANCE - SERVICE | F19: 01.02 CONTAINER - MAINTENANCE - SERVICE 01.02.01 WHEELED BIN - MAINTENANCE - SERVICE 01.02.02 SKIP - BIN - CONTAINER - GLASS COLLECTION BIN - MAINTENANCE - SERVICE 01.02.03 MOBILE COMPACTOR - MAINTENANCE - SERVICE 01.02.04 FIXED COMPACTOR - MAINTENANCE - SERVICE | G19: Presta Quantite | I19: 03.03 EQUIPEMENT LEVAGE - PONT BASCULE - PORTIQUE - MAINTENANCE - SERVICE | L19: Oui | N19: Unité | O19: Oui | Q19: Oui | R19: EUR | S19: Oui | U19: Non | W19: Oui | Y19: Oui | AA19: Oui | AB19: Oui | AC19: Non | AE19: Oui | AG19: Non
C20: 03.04 CIRCUIT EAU - VAPEUR - Hors Catalogue | E20: 03.04 CIRCUIT EAU - VAPEUR 03.04.01 ECHANGEUR CHALEUR - MATERIEL NEUF 03.04.02 ECHANGEUR CHALEUR - ACCESSOIRE - PIECE 03.04.03 AEROCONDENSEUR - MATERIEL NEUF 03.04.04 AEROCONDENSEUR - ACCESSOIRE - PIECE 03.04.05 AEROREFRIGERANT - MATERIEL NEUF 03.04.06 AEROREFRIGERANT - ACCESSOIRE - PIECE 03.04.07 VIS CHAUFFANTE - MATERIEL NEUF 03.04.08 VIS CHAUFFANTE - ACCESSOIRE - PIECE 03.04.09 BACHE ALIMENTAIRE - DEGAZEUR | F20: 01.02 CONTAINER - MAINTENANCE - SERVICE 01.02.01 WHEELED BIN - MAINTENANCE - SERVICE 01.02.02 SKIP - BIN - CONTAINER - GLASS COLLECTION BIN - MAINTENANCE - SERVICE 01.02.03 MOBILE COMPACTOR - MAINTENANCE - SERVICE 01.02.04 FIXED COMPACTOR - MAINTENANCE - SERVICE | G20: Fourniture | I20: 03.04 CIRCUIT EAU - VAPEUR | L20: Oui | N20: Unité | O20: Oui | Q20: Oui | R20: EUR | S20: Oui | U20: Non | W20: Oui | Y20: Oui | AA20: Oui | AB20: Oui | AC20: Non | AE20: Oui | AG20: Non
C21: 03.05 CIRCUIT EAU - VAPEUR - MAINTENANCE - SERVICE - Forfait - Hors Catalogue | E21: 03.05 CIRCUIT EAU - VAPEUR - MAINTENANCE - SERVICE 03.05.01 ECHANGEUR CHALEUR - MAINTENANCE - SERVICE 03.05.02 AEROCONDENSEUR - MAINTENANCE - SERVICE 03.05.03 AEROREFRIGERANT - MAINTENANCE - SERVICE 03.05.04 VIS CHAUFFANTE - MAINTENANCE - SERVICE | F21: 01.02 CONTAINER - MAINTENANCE - SERVICE 01.02.01 WHEELED BIN - MAINTENANCE - SERVICE 01.02.02 SKIP - BIN - CONTAINER - GLASS COLLECTION BIN - MAINTENANCE - SERVICE 01.02.03 MOBILE COMPACTOR - MAINTENANCE - SERVICE 01.02.04 FIXED COMPACTOR - MAINTENANCE - SERVICE | G21: Presta Forfait | I21: 03.05 CIRCUIT EAU - VAPEUR - MAINTENANCE - SERVICE | L21: Oui | O21: Oui | Q21: Oui | R21: EUR | S21: Oui | U21: Non | W21: Oui | Y21: Oui | AA21: Oui | AB21: Oui | AC21: Non | AE21: Oui | AG21: Non
C22: 03.05 CIRCUIT EAU - VAPEUR - MAINTENANCE - SERVICE - Régie - Hors Catalogue | E22: 03.05 CIRCUIT EAU - VAPEUR - MAINTENANCE - SERVICE 03.05.01 ECHANGEUR CHALEUR - MAINTENANCE - SERVICE 03.05.02 AEROCONDENSEUR - MAINTENANCE - SERVICE 03.05.03 AEROREFRIGERANT - MAINTENANCE - SERVICE 03.05.04 VIS CHAUFFANTE - MAINTENANCE - SERVICE | F22: 01.02 CONTAINER - MAINTENANCE - SERVICE 01.02.01 WHEELED BIN - MAINTENANCE - SERVICE 01.02.02 SKIP - BIN - CONTAINER - GLASS COLLECTION BIN - MAINTENANCE - SERVICE 01.02.03 MOBILE COMPACTOR - MAINTENANCE - SERVICE 01.02.04 FIXED COMPACTOR - MAINTENANCE - SERVICE | G22: Presta Quantite | I22: 03.05 CIRCUIT EAU - VAPEUR - MAINTENANCE - SERVICE | L22: Oui | N22: Unité | O22: Oui | Q22: Oui | R22: EUR | S22: Oui | U22: Non | W22: Oui | Y22: Oui | AA22: Oui | AB22: Oui | AC22: Non | AE22: Oui | AG22: Non
C23: 03.06 MOTEUR - Hors Catalogue | E23: 03.06 MOTEUR 03.06.01 MOTEUR - MATERIEL NEUF 03.06.02 MOTEUR - ACCESSOIRE - PIECE | F23: 01.02 CONTAINER - MAINTENANCE - SERVICE 01.02.01 WHEELED BIN - MAINTENANCE - SERVICE 01.02.02 SKIP - BIN - CONTAINER - GLASS COLLECTION BIN - MAINTENANCE - SERVICE 01.02.03 MOBILE COMPACTOR - MAINTENANCE - SERVICE 01.02.04 FIXED COMPACTOR - MAINTENANCE - SERVICE | G23: Fourniture | I23: 03.06 MOTEUR | L23: Oui | N23: Unité | O23: Oui | Q23: Oui | R23: EUR | S23: Oui | U23: Non | W23: Oui | Y23: Oui | AA23: Oui | AB23: Oui | AC23: Non | AE23: Oui | AG23: Non
C24: 03.07 POMPE - Hors Catalogue | E24: 03.07 POMPE 03.07.01 POMPE ALIMENTAIRE - MATERIEL NEUF 03.07.02 POMPE ALIMENTAIRE - ACCESSOIRE - PIECE 03.07.03 POMPE EXTRACTION CONDENSAT - MATERIEL NEUF 03.07.04 POMPE EXTRACTION CONDENSAT - ACCESSOIRE - PIECE 03.07.05 POMPE EAU BRUTE - MATERIEL NEUF 03.07.06 POMPE EAU BRUTE - ACCESSOIRE - PIECE 03.07.07 POMPE EAU DEMINERALISEE - MATERIEL NEUF 03.07.08 POMPE EAU DEMINERALISEE - ACCESSOIRE - PIECE 03.07.09 AUTRE POMPE - MATERIEL NEUF 03.07.10 AUTRE POMPE - ACCESSOIRE - PIECE | F24: 01.02 CONTAINER - MAINTENANCE - SERVICE 01.02.01 WHEELED BIN - MAINTENANCE - SERVICE 01.02.02 SKIP - BIN - CONTAINER - GLASS COLLECTION BIN - MAINTENANCE - SERVICE 01.02.03 MOBILE COMPACTOR - MAINTENANCE - SERVICE 01.02.04 FIXED COMPACTOR - MAINTENANCE - SERVICE | G24: Fourniture | I24: 03.07 POMPE | L24: Oui | N24: Unité | O24: Oui | Q24: Oui | R24: EUR | S24: Oui | U24: Non | W24: Oui | Y24: Oui | AA24: Oui | AB24: Oui | AC24: Non | AE24: Oui | AG24: Non
C25: 03.08 POMPE - MOTEUR - MAINTENANCE - SERVICE - Forfait - Hors Catalogue | E25: 03.08 POMPE - MOTEUR - MAINTENANCE - SERVICE 03.08.01 POMPE ALIMENTAIRE - MAINTENANCE - SERVICE 03.08.02 POMPE EXTRACTION CONDENSAT - MAINTENANCE - SERVICE 03.08.03 POMPE EAU BRUTE - MAINTENANCE - SERVICE 03.08.04 POMPE EAU DEMINERALISEE - MAINTENANCE - SERVICE 03.08.05 AUTRE POMPE - MAINTENANCE - SERVICE 03.08.06 MOTEUR - MAINTENANCE - SERVICE | F25: 01.02 CONTAINER - MAINTENANCE - SERVICE 01.02.01 WHEELED BIN - MAINTENANCE - SERVICE 01.02.02 SKIP - BIN - CONTAINER - GLASS COLLECTION BIN - MAINTENANCE - SERVICE 01.02.03 MOBILE COMPACTOR - MAINTENANCE - SERVICE 01.02.04 FIXED COMPACTOR - MAINTENANCE - SERVICE | G25: Presta Forfait | I25: 03.08 POMPE - MOTEUR - MAINTENANCE - SERVICE | L25: Oui | O25: Oui | Q25: Oui | R25: EUR | S25: Oui | U25: Non | W25: Oui | Y25: Oui | AA25: Oui | AB25: Oui | AC25: Non | AE25: Oui | AG25: Non
C26: 03.08 POMPE - MOTEUR - MAINTENANCE - SERVICE - Régie - Hors Catalogue | E26: 03.08 POMPE - MOTEUR - MAINTENANCE - SERVICE 03.08.01 POMPE ALIMENTAIRE - MAINTENANCE - SERVICE 03.08.02 POMPE EXTRACTION CONDENSAT - MAINTENANCE - SERVICE 03.08.03 POMPE EAU BRUTE - MAINTENANCE - SERVICE 03.08.04 POMPE EAU DEMINERALISEE - MAINTENANCE - SERVICE 03.08.05 AUTRE POMPE - MAINTENANCE - SERVICE 03.08.06 MOTEUR - MAINTENANCE - SERVICE | F26: 01.02 CONTAINER - MAINTENANCE - SERVICE 01.02.01 WHEELED BIN - MAINTENANCE - SERVICE 01.02.02 SKIP - BIN - CONTAINER - GLASS COLLECTION BIN - MAINTENANCE - SERVICE 01.02.03 MOBILE COMPACTOR - MAINTENANCE - SERVICE 01.02.04 FIXED COMPACTOR - MAINTENANCE - SERVICE | G26: Presta Quantite | I26: 03.08 POMPE - MOTEUR - MAINTENANCE - SERVICE | L26: Oui | N26: Unité | O26: Oui | Q26: Oui | R26: EUR | S26: Oui | U26: Non | W26: Oui | Y26: Oui | AA26: Oui | AB26: Oui | AC26: Non | AE26: Oui | AG26: Non
C27: 03.09 BROYEUR - Hors Catalogue | E27: 03.09 BROYEUR 03.09.01 BROYEUR BOIS - MATERIEL NEUF 03.09.02 BROYEUR DECHETS VERTS - MATERIEL NEUF 03.09.03 BROYEUR DI - MATERIEL NEUF 03.09.04 BROYEUR METAL- MATERIEL NEUF 03.09.05 BROYEUR PLASTIQUE - MATERIEL NEUF 03.09.06 BROYEUR BICAR - MATERIEL NEUF 03.09.07 BROYEUR - ACCESSOIRE - PIECE 03.09.08 CISAILLE FERRAILLE - METAUX | F27: 01.02 CONTAINER - MAINTENANCE - SERVICE 01.02.01 WHEELED BIN - MAINTENANCE - SERVICE 01.02.02 SKIP - BIN - CONTAINER - GLASS COLLECTION BIN - MAINTENANCE - SERVICE 01.02.03 MOBILE COMPACTOR - MAINTENANCE - SERVICE 01.02.04 FIXED COMPACTOR - MAINTENANCE - SERVICE | G27: Fourniture | I27: 03.09 BROYEUR | L27: Oui | N27: Unité | O27: Oui | Q27: Oui | R27: EUR | S27: Oui | U27: Non | W27: Oui | Y27: Oui | AA27: Oui | AB27: Oui | AC27: Non | AE27: Oui | AG27: Non
C28: 03.10 EQUIPEMENT TRI - Hors Catalogue | E28: 03.10 EQUIPEMENT TRI 03.10.01 TRIEUR OPTIQUE - MATERIEL NEUF 03.10.02 TRIEUR OPTIQUE - ACCESSOIRE - PIECE 03.10.03 TROMMEL - MATERIEL NEUF 03.10.04 TROMMEL - ACCESSOIRE - PIECE 03.10.05 SEPARATEUR BALISTIQUE - MATERIEL NEUF 03.10.06 SEPARATEUR BALISTIQUE - ACCESSOIRE - PIECE 03.10.07 CRIBLE - MATERIEL NEUF 03.10.08 CRIBLE - ACCESSOIRE - PIECE 03.10.09 COURANT DE FOUCAULT- MATERIEL NEUF 03.10.10 COURANT DE FOUCAULT - ACCESSOIRE - PIECE 03.10.11 DECONDITIONNEUR - MATERIEL NEUF 03.10.12 DECONDITIONNEUR - ACCESSOIRE - PIECE 03.10.13 OVERBAND - MATERIEL NEUF 03.10.14 OVERBAND - ACCESSOIRE - PIECE 03.10.15 GUILLOTINE - MATERIEL NEUF 03.10.16 SYSTÈME D'ALIMENTATION - OUVREUR DE SACS - MATERIEL NEUF 03.10.17 SYSTÈME D'ALIMENTATION - OUVREUR DE SACS - ACCESSOIRE - PIECE | F28: 01.02 CONTAINER - MAINTENANCE - SERVICE 01.02.01 WHEELED BIN - MAINTENANCE - SERVICE 01.02.02 SKIP - BIN - CONTAINER - GLASS COLLECTION BIN - MAINTENANCE - SERVICE 01.02.03 MOBILE COMPACTOR - MAINTENANCE - SERVICE 01.02.04 FIXED COMPACTOR - MAINTENANCE - SERVICE | G28: Fourniture | I28: 03.10 EQUIPEMENT TRI | L28: Oui | N28: Unité | O28: Oui | Q28: Oui | R28: EUR | S28: Oui | U28: Non | W28: Oui | Y28: Oui | AA28: Oui | AB28: Oui | AC28: Non | AE28: Oui | AG28: Non
C29: 03.11 EQUIPEMENT TRI - BROYEUR - MAINTENANCE - SERVICE - Forfait - Hors Catalogue | E29: 03.11 EQUIPEMENT TRI - BROYEUR - MAINTENANCE - SERVICE 03.11.01 TRIEUR OPTIQUE - MAINTENANCE - SERVICE 03.11.02 TROMMEL - MAINTENANCE - SERVICE 03.11.03 SEPARATEUR BALISTIQUE - MAINTENANCE - SERVICE 03.11.04 CRIBLE - MAINTENANCE - SERVICE 03.11.05 COURANT DE FOUCAULT- MAINTENANCE - SERVICE 03.11.06 DECONDITIONNEUR - MAINTENANCE - SERVICE 03.11.07 OVERBAND - MAINTENANCE - SERVICE 03.11.08 GUILLOTINE - MAINTENANCE - SERVICE 03.11.09 SYSTÈME D'ALIMENTATION - OUVREUR DE SACS - MAINTENANCE - SERVICE 03.11.10 BROYEUR - MAINTENANCE - SERVICE | F29: 01.02 CONTAINER - MAINTENANCE - SERVICE 01.02.01 WHEELED BIN - MAINTENANCE - SERVICE 01.02.02 SKIP - BIN - CONTAINER - GLASS COLLECTION BIN - MAINTENANCE - SERVICE 01.02.03 MOBILE COMPACTOR - MAINTENANCE - SERVICE 01.02.04 FIXED COMPACTOR - MAINTENANCE - SERVICE | G29: Presta Forfait | I29: 03.11 EQUIPEMENT TRI - BROYEUR - MAINTENANCE - SERVICE | L29: Oui | O29: Oui | Q29: Oui | R29: EUR | S29: Oui | U29: Non | W29: Oui | Y29: Oui | AA29: Oui | AB29: Oui | AC29: Non | AE29: Oui | AG29: Non
C30: 03.11 EQUIPEMENT TRI - BROYEUR - MAINTENANCE - SERVICE - Régie - Hors Catalogue | E30: 03.11 EQUIPEMENT TRI - BROYEUR - MAINTENANCE - SERVICE 03.11.01 TRIEUR OPTIQUE - MAINTENANCE - SERVICE 03.11.02 TROMMEL - MAINTENANCE - SERVICE 03.11.03 SEPARATEUR BALISTIQUE - MAINTENANCE - SERVICE 03.11.04 CRIBLE - MAINTENANCE - SERVICE 03.11.05 COURANT DE FOUCAULT- MAINTENANCE - SERVICE 03.11.06 DECONDITIONNEUR - MAINTENANCE - SERVICE 03.11.07 OVERBAND - MAINTENANCE - SERVICE 03.11.08 GUILLOTINE - MAINTENANCE - SERVICE 03.11.09 SYSTÈME D'ALIMENTATION - OUVREUR DE SACS - MAINTENANCE - SERVICE 03.11.10 BROYEUR - MAINTENANCE - SERVICE | F30: 01.02 CONTAINER - MAINTENANCE - SERVICE 01.02.01 WHEELED BIN - MAINTENANCE - SERVICE 01.02.02 SKIP - BIN - CONTAINER - GLASS COLLECTION BIN - MAINTENANCE - SERVICE 01.02.03 MOBILE COMPACTOR - MAINTENANCE - SERVICE 01.02.04 FIXED COMPACTOR - MAINTENANCE - SERVICE | G30: Presta Quantite | I30: 03.11 EQUIPEMENT TRI - BROYEUR - MAINTENANCE - SERVICE | L30: Oui | N30: Unité | O30: Oui | Q30: Oui | R30: EUR | S30: Oui | U30: Non | W30: Oui | Y30: Oui | AA30: Oui | AB30: Oui | AC30: Non | AE30: Oui | AG30: Non
C31: 03.12 PRESSE - Hors Catalogue | E31: 03.12 PRESSE 03.12.01 PRESSE A BALLE - MATERIEL NEUF 03.12.02 PRESSE A BALLE - ACCESSOIRE - PIECE 03.12.03 PRESSE A CANNETTE - MATERIEL NEUF 03.12.04 PRESSE A CANNETTE - ACCESSOIRE - PIECE 03.12.05 PRESSE A METAL - MATERIEL NEUF 03.12.06 PRESSE A METAL - ACCESSOIRE - PIECE 03.12.07 PRESSE A FUT - MATERIEL NEUF 03.12.08 PRESSE A FUT - ACCESSOIRE - PIECE 03.12.09 PRESSE A POLYSTYRENE - MATERIEL NEUF 03.12.10 PRESSE A POLYSTYRENE - ACCESSOIRE - PIECE 03.12.11 PRESSE REFLEX - MATERIEL NEUF 03.12.12 PRESSE REFLEX - ACCESSOIRE - PIECE 03.12.13 PRESSE VERTICALE - MATERIEL NEUF 03.12.14 PRESSE VERTICALE - ACCESSOIRE - PIECE 03.12.15 PRESSE A PAQUET - MATERIEL NEUF 03.12.16 PRESSE A PAQUET - ACCESSOIRE - PIECE 03.12.17 ENRUBANNEUSE - MATERIEL NEUF 03.12.18 ENRUBANNEUSE - ACCESSOIRE - PIECE | F31: 01.02 CONTAINER - MAINTENANCE - SERVICE 01.02.01 WHEELED BIN - MAINTENANCE - SERVICE 01.02.02 SKIP - BIN - CONTAINER - GLASS COLLECTION BIN - MAINTENANCE - SERVICE 01.02.03 MOBILE COMPACTOR - MAINTENANCE - SERVICE 01.02.04 FIXED COMPACTOR - MAINTENANCE - SERVICE | G31: Fourniture | I31: 03.12 PRESSE | L31: Oui | N31: Unité | O31: Oui | Q31: Oui | R31: EUR | S31: Oui | U31: Non | W31: Oui | Y31: Oui | AA31: Oui | AB31: Oui | AC31: Non | AE31: Oui | AG31: Non
C32: 03.13 PRESSE - MAINTENANCE - SERVICE - Forfait - Hors Catalogue | E32: 03.13 PRESSE - MAINTENANCE - SERVICE 03.13.01 PRESSE A BALLE - MAINTENANCE - SERVICE 03.13.02 PRESSE A CANNETTE - MAINTENANCE - SERVICE 03.13.03 PRESSE A METAL - MAINTENANCE - SERVICE 03.13.04 PRESSE A FUT - MAINTENANCE - SERVICE 03.13.05 PRESSE A POLYSTYRENE - MAINTENANCE - SERVICE 03.13.06 PRESSE REFLEX - MAINTENANCE - SERVICE 03.13.07 PRESSE VERTICALE - MAINTENANCE - SERVICE 03.13.08 PRESSE A PAQUET - MAINTENANCE - SERVICE 03.13.09 ENRUBANNEUSE - MAINTENANCE - SERVICE | F32: 01.02 CONTAINER - MAINTENANCE - SERVICE 01.02.01 WHEELED BIN - MAINTENANCE - SERVICE 01.02.02 SKIP - BIN - CONTAINER - GLASS COLLECTION BIN - MAINTENANCE - SERVICE 01.02.03 MOBILE COMPACTOR - MAINTENANCE - SERVICE 01.02.04 FIXED COMPACTOR - MAINTENANCE - SERVICE | G32: Presta Forfait | I32: 03.13 PRESSE - MAINTENANCE - SERVICE | L32: Oui | O32: Oui | Q32: Oui | R32: EUR | S32: Oui | U32: Non | W32: Oui | Y32: Oui | AA32: Oui | AB32: Oui | AC32: Non | AE32: Oui | AG32: Non
C33: 03.13 PRESSE - MAINTENANCE - SERVICE - Régie - Hors Catalogue | E33: 03.13 PRESSE - MAINTENANCE - SERVICE 03.13.01 PRESSE A BALLE - MAINTENANCE - SERVICE 03.13.02 PRESSE A CANNETTE - MAINTENANCE - SERVICE 03.13.03 PRESSE A METAL - MAINTENANCE - SERVICE 03.13.04 PRESSE A FUT - MAINTENANCE - SERVICE 03.13.05 PRESSE A POLYSTYRENE - MAINTENANCE - SERVICE 03.13.06 PRESSE REFLEX - MAINTENANCE - SERVICE 03.13.07 PRESSE VERTICALE - MAINTENANCE - SERVICE 03.13.08 PRESSE A PAQUET - MAINTENANCE - SERVICE 03.13.09 ENRUBANNEUSE - MAINTENANCE - SERVICE | F33: 01.02 CONTAINER - MAINTENANCE - SERVICE 01.02.01 WHEELED BIN - MAINTENANCE - SERVICE 01.02.02 SKIP - BIN - CONTAINER - GLASS COLLECTION BIN - MAINTENANCE - SERVICE 01.02.03 MOBILE COMPACTOR - MAINTENANCE - SERVICE 01.02.04 FIXED COMPACTOR - MAINTENANCE - SERVICE | G33: Presta Quantite | I33: 03.13 PRESSE - MAINTENANCE - SERVICE | L33: Oui | N33: Unité | O33: Oui | Q33: Oui | R33: EUR | S33: Oui | U33: Non | W33: Oui | Y33: Oui | AA33: Oui | AB33: Oui | AC33: Non | AE33: Oui | AG33: Non
