Workbook

Sheet INTOLERANCES
A1: NUM SEMAINE | B1: DATE ARRIVEE | C1: DATE DEPART | D1: NOM CLIENT | E1: PRENOM | F1: INTOLERANCES | G1: Filltre
A2: =_xlfn.ISOWEEKNUM(B2) -> 33 | B2: 45520 | C2: 45522 | D2: ARI | E2: BERNARD | F2: PAS DE POISSONS | G2: {=SUM(COUNTIF(_xlfn.ANCHORARRAY(recherches!$M$2),Tableau1[[#This Row],[DATE ARRIVEE]]+_xlfn.SEQUENCE(Tableau1[[#This Row],[DATE DEPART]]-Tableau1[[#This Row],[DATE ARRIVEE]])))} -> 0
A3: =_xlfn.ISOWEEKNUM(B3) -> 34 | B3: 45523 | C3: 45556 | D3: ACHI | E3: AURELIE | F3: PAS DE CEREALES | G3: {=SUM(COUNTIF(_xlfn.ANCHORARRAY(recherches!$M$2),Tableau1[[#This Row],[DATE ARRIVEE]]+_xlfn.SEQUENCE(Tableau1[[#This Row],[DATE DEPART]]-Tableau1[[#This Row],[DATE ARRIVEE]])))} -> 1
A4: =_xlfn.ISOWEEKNUM(B4) -> 34 | B4: 45526 | C4: 45528 | D4: RAGI | E4: YOHAN | F4: PAS DE VIANDE | G4: {=SUM(COUNTIF(_xlfn.ANCHORARRAY(recherches!$M$2),Tableau1[[#This Row],[DATE ARRIVEE]]+_xlfn.SEQUENCE(Tableau1[[#This Row],[DATE DEPART]]-Tableau1[[#This Row],[DATE ARRIVEE]])))} -> 1
A5: =_xlfn.ISOWEEKNUM(B5) -> 34 | B5: 45529 | C5: 45550 | D5: YONG | E5: CELINE | F5: PAS DE CEREALES | G5: {=SUM(COUNTIF(_xlfn.ANCHORARRAY(recherches!$M$2),Tableau1[[#This Row],[DATE ARRIVEE]]+_xlfn.SEQUENCE(Tableau1[[#This Row],[DATE DEPART]]-Tableau1[[#This Row],[DATE ARRIVEE]])))} -> 0
A6: =_xlfn.ISOWEEKNUM(B6) -> 34 | B6: 45529 | C6: 45550 | D6: BON | E6: ALAIN | F6: Sans Gluten, pas de moules | G6: {=SUM(COUNTIF(_xlfn.ANCHORARRAY(recherches!$M$2),Tableau1[[#This Row],[DATE ARRIVEE]]+_xlfn.SEQUENCE(Tableau1[[#This Row],[DATE DEPART]]-Tableau1[[#This Row],[DATE ARRIVEE]])))} -> 0
A7: =_xlfn.ISOWEEKNUM(B7) -> 35 | B7: 45530 | C7: 45531 | D7: SIMANGE | E7: STEF | F7: Sans Gluten | G7: {=SUM(COUNTIF(_xlfn.ANCHORARRAY(recherches!$M$2),Tableau1[[#This Row],[DATE ARRIVEE]]+_xlfn.SEQUENCE(Tableau1[[#This Row],[DATE DEPART]]-Tableau1[[#This Row],[DATE ARRIVEE]])))} -> 0
A8: =_xlfn.ISOWEEKNUM(B8) -> 35 | B8: 45532 | C8: 45534 | D8: JET | E8: CLAIRE | F8: PAS DE CRU | G8: {=SUM(COUNTIF(_xlfn.ANCHORARRAY(recherches!$M$2),Tableau1[[#This Row],[DATE ARRIVEE]]+_xlfn.SEQUENCE(Tableau1[[#This Row],[DATE DEPART]]-Tableau1[[#This Row],[DATE ARRIVEE]])))} -> 0
A9: =_xlfn.ISOWEEKNUM(B9) -> 35 | B9: 45534 | C9: 45537 | D9: GERMIN | E9: Alexandro | F9: PAS DE SUCRE | G9: {=SUM(COUNTIF(_xlfn.ANCHORARRAY(recherches!$M$2),Tableau1[[#This Row],[DATE ARRIVEE]]+_xlfn.SEQUENCE(Tableau1[[#This Row],[DATE DEPART]]-Tableau1[[#This Row],[DATE ARRIVEE]])))} -> 0
A10: =_xlfn.ISOWEEKNUM(B10) -> 38 | B10: 45551 | C10: 45552 | D10: MAGRE | E10: Alizé | F10: PAS DE SUCRE | G10: {=SUM(COUNTIF(_xlfn.ANCHORARRAY(recherches!$M$2),Tableau1[[#This Row],[DATE ARRIVEE]]+_xlfn.SEQUENCE(Tableau1[[#This Row],[DATE DEPART]]-Tableau1[[#This Row],[DATE ARRIVEE]])))} -> 0

Sheet recherches
E1: 45527 | G1: 45528 | M1: periode
M2: {=$E$1+_xlfn.SEQUENCE($G$1-$E$1)} -> 45528
D3: NUM SEMAINE | E3: DATE ARRIVEE | F3: DATE DEPART | G3: NOM CLIENT | H3: PRENOM | I3: INTOLERANCES
D4: {=_xlfn._xlws.FILTER(Tableau1[[NUM SEMAINE]:[INTOLERANCES]],Tableau1[Filltre]>0)} -> 34 | E4: 45523 | F4: 45556 | G4: ACHI | H4: AURELIE | I4: PAS DE CEREALES
D5: 34 | E5: 45526 | F5: 45528 | G5: RAGI | H5: YOHAN | I5: PAS DE VIANDE
A16: {=_xlfn._xlws.FILTER(#REF!,#REF!>0)} -> #REF!
