Workbook

Sheet Recherche
B4: Date | C4: Disponibles AM | D4: Disponibles PM | F4: Enseignant | G4: Date AM | H4: Date PM | I4: Ecole AM | J4: Ecole PM
B5: Matin | C5: {=IFERROR(INDEX(Planning[NOM],SMALL(IF(OFFSET(Planning!$A$3,1,MATCH($B$6,Planning[[#Headers],[AM_Sept_01]:[PM_Juil_09]],0),COUNTA(Planning[NOM]),1)=0,ROW(Planning[NOM])-3),ROW(Planning[NOM])-3)),"")} -> Bro | D5: {=IFERROR(INDEX(Planning[NOM],SMALL(IF(OFFSET(Planning!$A$3,1,MATCH($B$8,Planning[[#Headers],[AM_Sept_01]:[PM_Juil_09]],0),COUNTA(Planning[NOM]),1)=0,ROW(Planning[NOM])-3),ROW(Planning[NOM])-3)),"")} -> Coff | F5: Fron | G5: AM_Sept_03 | H5: PM_Sept_03 | I5: =INDEX(Planning[[AM_Sept_01]:[PM_Juil_09]],MATCH($F$5,Planning[NOM],0),MATCH($G$5,Planning[[#Headers],[AM_Sept_01]:[PM_Juil_09]],0)) -> Pinhous, GS | J5: =INDEX(Planning[[AM_Sept_01]:[PM_Juil_09]],MATCH($F$5,Planning[NOM],0),MATCH($H$5,Planning[[#Headers],[AM_Sept_01]:[PM_Juil_09]],0)) -> Renan, CE1CO
B6: AM_Sept_03 | C6: Eté | D6: Frays
B7: Après-midi | C7: Lahi | D7: Ga | F7: Ecole | G7: Date | H7: Formation
B8: PM_Sept_03 | C8: Rou | D8: Ri | F8: Buffon | G8: {=IFERROR(INDEX(Planning!$D$3:$XG$3,SMALL(IF(Planning!D$88:XG$88>0,COLUMN(Planning!$D$4:$XG$4)-3),ROW(Planning!1:1))),"")} -> AM_Sept_02 | H8: {=IFERROR(INDEX(Planning!$D$2:$XG$2,SMALL(IF(Planning!D$88:XG$88>0,COLUMN(Planning!$D$4:$XG$4)-3),ROW(Planning!1:1))),"")} -> Pondération 1
G9: {=IFERROR(INDEX(Planning!$D$3:$XG$3,SMALL(IF(Planning!D$88:XG$88>0,COLUMN(Planning!$D$4:$XG$4)-3),ROW(Planning!2:2))),"")} -> PM_Sept_02 | H9: {=IFERROR(INDEX(Planning!$D$2:$XG$2,SMALL(IF(Planning!D$88:XG$88>0,COLUMN(Planning!$D$4:$XG$4)-3),ROW(Planning!2:2))),"")} -> Pondération 1
G10: {=IFERROR(INDEX(Planning!$D$3:$XG$3,SMALL(IF(Planning!D$88:XG$88>0,COLUMN(Planning!$D$4:$XG$4)-3),ROW(Planning!3:3))),"")} | H10: {=IFERROR(INDEX(Planning!$D$2:$XG$2,SMALL(IF(Planning!D$88:XG$88>0,COLUMN(Planning!$D$4:$XG$4)-3),ROW(Planning!3:3))),"")}
G11: {=IFERROR(INDEX(Planning!$D$3:$XG$3,SMALL(IF(Planning!D$88:XG$88>0,COLUMN(Planning!$D$4:$XG$4)-3),ROW(Planning!4:4))),"")} | H11: {=IFERROR(INDEX(Planning!$D$2:$XG$2,SMALL(IF(Planning!D$88:XG$88>0,COLUMN(Planning!$D$4:$XG$4)-3),ROW(Planning!4:4))),"")}
G12: {=IFERROR(INDEX(Planning!$D$3:$XG$3,SMALL(IF(Planning!D$88:XG$88>0,COLUMN(Planning!$D$4:$XG$4)-3),ROW(Planning!5:5))),"")} | H12: {=IFERROR(INDEX(Planning!$D$2:$XG$2,SMALL(IF(Planning!D$88:XG$88>0,COLUMN(Planning!$D$4:$XG$4)-3),ROW(Planning!5:5))),"")}
G13: {=IFERROR(INDEX(Planning!$D$3:$XG$3,SMALL(IF(Planning!D$88:XG$88>0,COLUMN(Planning!$D$4:$XG$4)-3),ROW(Planning!6:6))),"")} | H13: {=IFERROR(INDEX(Planning!$D$2:$XG$2,SMALL(IF(Planning!D$88:XG$88>0,COLUMN(Planning!$D$4:$XG$4)-3),ROW(Planning!6:6))),"")}
G14: {=IFERROR(INDEX(Planning!$D$3:$XG$3,SMALL(IF(Planning!D$88:XG$88>0,COLUMN(Planning!$D$4:$XG$4)-3),ROW(Planning!7:7))),"")} | H14: {=IFERROR(INDEX(Planning!$D$2:$XG$2,SMALL(IF(Planning!D$88:XG$88>0,COLUMN(Planning!$D$4:$XG$4)-3),ROW(Planning!7:7))),"")}
G15: {=IFERROR(INDEX(Planning!$D$3:$XG$3,SMALL(IF(Planning!D$88:XG$88>0,COLUMN(Planning!$D$4:$XG$4)-3),ROW(Planning!8:8))),"")} | H15: {=IFERROR(INDEX(Planning!$D$2:$XG$2,SMALL(IF(Planning!D$88:XG$88>0,COLUMN(Planning!$D$4:$XG$4)-3),ROW(Planning!8:8))),"")}
G16: {=IFERROR(INDEX(Planning!$D$3:$XG$3,SMALL(IF(Planning!D$88:XG$88>0,COLUMN(Planning!$D$4:$XG$4)-3),ROW(Planning!9:9))),"")} | H16: {=IFERROR(INDEX(Planning!$D$2:$XG$2,SMALL(IF(Planning!D$88:XG$88>0,COLUMN(Planning!$D$4:$XG$4)-3),ROW(Planning!9:9))),"")}
G17: {=IFERROR(INDEX(Planning!$D$3:$XG$3,SMALL(IF(Planning!D$88:XG$88>0,COLUMN(Planning!$D$4:$XG$4)-3),ROW(Planning!10:10))),"")} | H17: {=IFERROR(INDEX(Planning!$D$2:$XG$2,SMALL(IF(Planning!D$88:XG$88>0,COLUMN(Planning!$D$4:$XG$4)-3),ROW(Planning!10:10))),"")}
G18: {=IFERROR(INDEX(Planning!$D$3:$XG$3,SMALL(IF(Planning!D$88:XG$88>0,COLUMN(Planning!$D$4:$XG$4)-3),ROW(Planning!11:11))),"")} | H18: {=IFERROR(INDEX(Planning!$D$2:$XG$2,SMALL(IF(Planning!D$88:XG$88>0,COLUMN(Planning!$D$4:$XG$4)-3),ROW(Planning!11:11))),"")}
G19: {=IFERROR(INDEX(Planning!$D$3:$XG$3,SMALL(IF(Planning!D$88:XG$88>0,COLUMN(Planning!$D$4:$XG$4)-3),ROW(Planning!12:12))),"")} | H19: {=IFERROR(INDEX(Planning!$D$2:$XG$2,SMALL(IF(Planning!D$88:XG$88>0,COLUMN(Planning!$D$4:$XG$4)-3),ROW(Planning!12:12))),"")}
G20: {=IFERROR(INDEX(Planning!$D$3:$XG$3,SMALL(IF(Planning!D$88:XG$88>0,COLUMN(Planning!$D$4:$XG$4)-3),ROW(Planning!13:13))),"")} | H20: {=IFERROR(INDEX(Planning!$D$2:$XG$2,SMALL(IF(Planning!D$88:XG$88>0,COLUMN(Planning!$D$4:$XG$4)-3),ROW(Planning!13:13))),"")}
G21: {=IFERROR(INDEX(Planning!$D$3:$XG$3,SMALL(IF(Planning!D$88:XG$88>0,COLUMN(Planning!$D$4:$XG$4)-3),ROW(Planning!14:14))),"")} | H21: {=IFERROR(INDEX(Planning!$D$2:$XG$2,SMALL(IF(Planning!D$88:XG$88>0,COLUMN(Planning!$D$4:$XG$4)-3),ROW(Planning!14:14))),"")}
G22: {=IFERROR(INDEX(Planning!$D$3:$XG$3,SMALL(IF(Planning!D$88:XG$88>0,COLUMN(Planning!$D$4:$XG$4)-3),ROW(Planning!15:15))),"")} | H22: {=IFERROR(INDEX(Planning!$D$2:$XG$2,SMALL(IF(Planning!D$88:XG$88>0,COLUMN(Planning!$D$4:$XG$4)-3),ROW(Planning!15:15))),"")}
G23: {=IFERROR(INDEX(Planning!$D$3:$XG$3,SMALL(IF(Planning!D$88:XG$88>0,COLUMN(Planning!$D$4:$XG$4)-3),ROW(Planning!16:16))),"")} | H23: {=IFERROR(INDEX(Planning!$D$2:$XG$2,SMALL(IF(Planning!D$88:XG$88>0,COLUMN(Planning!$D$4:$XG$4)-3),ROW(Planning!16:16))),"")}
G24: {=IFERROR(INDEX(Planning!$D$3:$XG$3,SMALL(IF(Planning!D$88:XG$88>0,COLUMN(Planning!$D$4:$XG$4)-3),ROW(Planning!17:17))),"")} | H24: {=IFERROR(INDEX(Planning!$D$2:$XG$2,SMALL(IF(Planning!D$88:XG$88>0,COLUMN(Planning!$D$4:$XG$4)-3),ROW(Planning!17:17))),"")}
G25: {=IFERROR(INDEX(Planning!$D$3:$XG$3,SMALL(IF(Planning!D$88:XG$88>0,COLUMN(Planning!$D$4:$XG$4)-3),ROW(Planning!18:18))),"")} | H25: {=IFERROR(INDEX(Planning!$D$2:$XG$2,SMALL(IF(Planning!D$88:XG$88>0,COLUMN(Planning!$D$4:$XG$4)-3),ROW(Planning!18:18))),"")}
G26: {=IFERROR(INDEX(Planning!$D$3:$XG$3,SMALL(IF(Planning!D$88:XG$88>0,COLUMN(Planning!$D$4:$XG$4)-3),ROW(Planning!19:19))),"")} | H26: {=IFERROR(INDEX(Planning!$D$2:$XG$2,SMALL(IF(Planning!D$88:XG$88>0,COLUMN(Planning!$D$4:$XG$4)-3),ROW(Planning!19:19))),"")}
G27: {=IFERROR(INDEX(Planning!$D$3:$XG$3,SMALL(IF(Planning!D$88:XG$88>0,COLUMN(Planning!$D$4:$XG$4)-3),ROW(Planning!20:20))),"")} | H27: {=IFERROR(INDEX(Planning!$D$2:$XG$2,SMALL(IF(Planning!D$88:XG$88>0,COLUMN(Planning!$D$4:$XG$4)-3),ROW(Planning!20:20))),"")}
G28: {=IFERROR(INDEX(Planning!$D$3:$XG$3,SMALL(IF(Planning!D$88:XG$88>0,COLUMN(Planning!$D$4:$XG$4)-3),ROW(Planning!21:21))),"")} | H28: {=IFERROR(INDEX(Planning!$D$2:$XG$2,SMALL(IF(Planning!D$88:XG$88>0,COLUMN(Planning!$D$4:$XG$4)-3),ROW(Planning!21:21))),"")}
G29: {=IFERROR(INDEX(Planning!$D$3:$XG$3,SMALL(IF(Planning!D$88:XG$88>0,COLUMN(Planning!$D$4:$XG$4)-3),ROW(Planning!22:22))),"")} | H29: {=IFERROR(INDEX(Planning!$D$2:$XG$2,SMALL(IF(Planning!D$88:XG$88>0,COLUMN(Planning!$D$4:$XG$4)-3),ROW(Planning!22:22))),"")}
G30: {=IFERROR(INDEX(Planning!$D$3:$XG$3,SMALL(IF(Planning!D$88:XG$88>0,COLUMN(Planning!$D$4:$XG$4)-3),ROW(Planning!23:23))),"")} | H30: {=IFERROR(INDEX(Planning!$D$2:$XG$2,SMALL(IF(Planning!D$88:XG$88>0,COLUMN(Planning!$D$4:$XG$4)-3),ROW(Planning!23:23))),"")}
G31: {=IFERROR(INDEX(Planning!$D$3:$XG$3,SMALL(IF(Planning!D$88:XG$88>0,COLUMN(Planning!$D$4:$XG$4)-3),ROW(Planning!24:24))),"")} | H31: {=IFERROR(INDEX(Planning!$D$2:$XG$2,SMALL(IF(Planning!D$88:XG$88>0,COLUMN(Planning!$D$4:$XG$4)-3),ROW(Planning!24:24))),"")}
G32: {=IFERROR(INDEX(Planning!$D$3:$XG$3,SMALL(IF(Planning!D$88:XG$88>0,COLUMN(Planning!$D$4:$XG$4)-3),ROW(Planning!25:25))),"")} | H32: {=IFERROR(INDEX(Planning!$D$2:$XG$2,SMALL(IF(Planning!D$88:XG$88>0,COLUMN(Planning!$D$4:$XG$4)-3),ROW(Planning!25:25))),"")}
G33: {=IFERROR(INDEX(Planning!$D$3:$XG$3,SMALL(IF(Planning!D$88:XG$88>0,COLUMN(Planning!$D$4:$XG$4)-3),ROW(Planning!26:26))),"")} | H33: {=IFERROR(INDEX(Planning!$D$2:$XG$2,SMALL(IF(Planning!D$88:XG$88>0,COLUMN(Planning!$D$4:$XG$4)-3),ROW(Planning!26:26))),"")}
G34: {=IFERROR(INDEX(Planning!$D$3:$XG$3,SMALL(IF(Planning!D$88:XG$88>0,COLUMN(Planning!$D$4:$XG$4)-3),ROW(Planning!27:27))),"")} | H34: {=IFERROR(INDEX(Planning!$D$2:$XG$2,SMALL(IF(Planning!D$88:XG$88>0,COLUMN(Planning!$D$4:$XG$4)-3),ROW(Planning!27:27))),"")}
G35: {=IFERROR(INDEX(Planning!$D$3:$XG$3,SMALL(IF(Planning!D$88:XG$88>0,COLUMN(Planning!$D$4:$XG$4)-3),ROW(Planning!#REF!))),"")} | H35: {=IFERROR(INDEX(Planning!$D$2:$XG$2,SMALL(IF(Planning!D$88:XG$88>0,COLUMN(Planning!$D$4:$XG$4)-3),ROW(Planning!#REF!))),"")}
G36: {=IFERROR(INDEX(Planning!$D$3:$XG$3,SMALL(IF(Planning!D$88:XG$88>0,COLUMN(Planning!$D$4:$XG$4)-3),ROW(Planning!#REF!))),"")} | H36: {=IFERROR(INDEX(Planning!$D$2:$XG$2,SMALL(IF(Planning!D$88:XG$88>0,COLUMN(Planning!$D$4:$XG$4)-3),ROW(Planning!#REF!))),"")}
G37: {=IFERROR(INDEX(Planning!$D$3:$XG$3,SMALL(IF(Planning!D$88:XG$88>0,COLUMN(Planning!$D$4:$XG$4)-3),ROW(Planning!#REF!))),"")} | H37: {=IFERROR(INDEX(Planning!$D$2:$XG$2,SMALL(IF(Planning!D$88:XG$88>0,COLUMN(Planning!$D$4:$XG$4)-3),ROW(Planning!#REF!))),"")}
G38: {=IFERROR(INDEX(Planning!$D$3:$XG$3,SMALL(IF(Planning!D$88:XG$88>0,COLUMN(Planning!$D$4:$XG$4)-3),ROW(Planning!#REF!))),"")} | H38: {=IFERROR(INDEX(Planning!$D$2:$XG$2,SMALL(IF(Planning!D$88:XG$88>0,COLUMN(Planning!$D$4:$XG$4)-3),ROW(Planning!#REF!))),"")}
G39: {=IFERROR(INDEX(Planning!$D$3:$XG$3,SMALL(IF(Planning!D$88:XG$88>0,COLUMN(Planning!$D$4:$XG$4)-3),ROW(Planning!#REF!))),"")} | H39: {=IFERROR(INDEX(Planning!$D$2:$XG$2,SMALL(IF(Planning!D$88:XG$88>0,COLUMN(Planning!$D$4:$XG$4)-3),ROW(Planning!#REF!))),"")}
G40: {=IFERROR(INDEX(Planning!$D$3:$XG$3,SMALL(IF(Planning!D$88:XG$88>0,COLUMN(Planning!$D$4:$XG$4)-3),ROW(Planning!#REF!))),"")} | H40: {=IFERROR(INDEX(Planning!$D$2:$XG$2,SMALL(IF(Planning!D$88:XG$88>0,COLUMN(Planning!$D$4:$XG$4)-3),ROW(Planning!#REF!))),"")}
G41: {=IFERROR(INDEX(Planning!$D$3:$XG$3,SMALL(IF(Planning!D$88:XG$88>0,COLUMN(Planning!$D$4:$XG$4)-3),ROW(Planning!#REF!))),"")} | H41: {=IFERROR(INDEX(Planning!$D$2:$XG$2,SMALL(IF(Planning!D$88:XG$88>0,COLUMN(Planning!$D$4:$XG$4)-3),ROW(Planning!#REF!))),"")}
G42: {=IFERROR(INDEX(Planning!$D$3:$XG$3,SMALL(IF(Planning!D$88:XG$88>0,COLUMN(Planning!$D$4:$XG$4)-3),ROW(Planning!29:29))),"")} | H42: {=IFERROR(INDEX(Planning!$D$2:$XG$2,SMALL(IF(Planning!D$88:XG$88>0,COLUMN(Planning!$D$4:$XG$4)-3),ROW(Planning!29:29))),"")}
G43: {=IFERROR(INDEX(Planning!$D$3:$XG$3,SMALL(IF(Planning!D$88:XG$88>0,COLUMN(Planning!$D$4:$XG$4)-3),ROW(Planning!30:30))),"")} | H43: {=IFERROR(INDEX(Planning!$D$2:$XG$2,SMALL(IF(Planning!D$88:XG$88>0,COLUMN(Planning!$D$4:$XG$4)-3),ROW(Planning!30:30))),"")}
G44: {=IFERROR(INDEX(Planning!$D$3:$XG$3,SMALL(IF(Planning!D$88:XG$88>0,COLUMN(Planning!$D$4:$XG$4)-3),ROW(Planning!31:31))),"")} | H44: {=IFERROR(INDEX(Planning!$D$2:$XG$2,SMALL(IF(Planning!D$88:XG$88>0,COLUMN(Planning!$D$4:$XG$4)-3),ROW(Planning!31:31))),"")}
G45: {=IFERROR(INDEX(Planning!$D$3:$XG$3,SMALL(IF(Planning!D$88:XG$88>0,COLUMN(Planning!$D$4:$XG$4)-3),ROW(Planning!32:32))),"")} | H45: {=IFERROR(INDEX(Planning!$D$2:$XG$2,SMALL(IF(Planning!D$88:XG$88>0,COLUMN(Planning!$D$4:$XG$4)-3),ROW(Planning!32:32))),"")}
G46: {=IFERROR(INDEX(Planning!$D$3:$XG$3,SMALL(IF(Planning!D$88:XG$88>0,COLUMN(Planning!$D$4:$XG$4)-3),ROW(Planning!33:33))),"")} | H46: {=IFERROR(INDEX(Planning!$D$2:$XG$2,SMALL(IF(Planning!D$88:XG$88>0,COLUMN(Planning!$D$4:$XG$4)-3),ROW(Planning!33:33))),"")}
G47: {=IFERROR(INDEX(Planning!$D$3:$XG$3,SMALL(IF(Planning!D$88:XG$88>0,COLUMN(Planning!$D$4:$XG$4)-3),ROW(Planning!34:34))),"")} | H47: {=IFERROR(INDEX(Planning!$D$2:$XG$2,SMALL(IF(Planning!D$88:XG$88>0,COLUMN(Planning!$D$4:$XG$4)-3),ROW(Planning!34:34))),"")}
G48: {=IFERROR(INDEX(Planning!$D$3:$XG$3,SMALL(IF(Planning!D$88:XG$88>0,COLUMN(Planning!$D$4:$XG$4)-3),ROW(Planning!35:35))),"")} | H48: {=IFERROR(INDEX(Planning!$D$2:$XG$2,SMALL(IF(Planning!D$88:XG$88>0,COLUMN(Planning!$D$4:$XG$4)-3),ROW(Planning!35:35))),"")}
G49: {=IFERROR(INDEX(Planning!$D$3:$XG$3,SMALL(IF(Planning!D$88:XG$88>0,COLUMN(Planning!$D$4:$XG$4)-3),ROW(Planning!36:36))),"")} | H49: {=IFERROR(INDEX(Planning!$D$2:$XG$2,SMALL(IF(Planning!D$88:XG$88>0,COLUMN(Planning!$D$4:$XG$4)-3),ROW(Planning!36:36))),"")}
G50: {=IFERROR(INDEX(Planning!$D$3:$XG$3,SMALL(IF(Planning!D$88:XG$88>0,COLUMN(Planning!$D$4:$XG$4)-3),ROW(Planning!37:37))),"")} | H50: {=IFERROR(INDEX(Planning!$D$2:$XG$2,SMALL(IF(Planning!D$88:XG$88>0,COLUMN(Planning!$D$4:$XG$4)-3),ROW(Planning!37:37))),"")}
G51: {=IFERROR(INDEX(Planning!$D$3:$XG$3,SMALL(IF(Planning!D$88:XG$88>0,COLUMN(Planning!$D$4:$XG$4)-3),ROW(Planning!38:38))),"")} | H51: {=IFERROR(INDEX(Planning!$D$2:$XG$2,SMALL(IF(Planning!D$88:XG$88>0,COLUMN(Planning!$D$4:$XG$4)-3),ROW(Planning!38:38))),"")}
G52: {=IFERROR(INDEX(Planning!$D$3:$XG$3,SMALL(IF(Planning!D$88:XG$88>0,COLUMN(Planning!$D$4:$XG$4)-3),ROW(Planning!39:39))),"")} | H52: {=IFERROR(INDEX(Planning!$D$2:$XG$2,SMALL(IF(Planning!D$88:XG$88>0,COLUMN(Planning!$D$4:$XG$4)-3),ROW(Planning!39:39))),"")}
G53: {=IFERROR(INDEX(Planning!$D$3:$XG$3,SMALL(IF(Planning!D$88:XG$88>0,COLUMN(Planning!$D$4:$XG$4)-3),ROW(Planning!40:40))),"")} | H53: {=IFERROR(INDEX(Planning!$D$2:$XG$2,SMALL(IF(Planning!D$88:XG$88>0,COLUMN(Planning!$D$4:$XG$4)-3),ROW(Planning!40:40))),"")}
G54: {=IFERROR(INDEX(Planning!$D$3:$XG$3,SMALL(IF(Planning!D$88:XG$88>0,COLUMN(Planning!$D$4:$XG$4)-3),ROW(Planning!41:41))),"")} | H54: {=IFERROR(INDEX(Planning!$D$2:$XG$2,SMALL(IF(Planning!D$88:XG$88>0,COLUMN(Planning!$D$4:$XG$4)-3),ROW(Planning!41:41))),"")}
G55: {=IFERROR(INDEX(Planning!$D$3:$XG$3,SMALL(IF(Planning!D$88:XG$88>0,COLUMN(Planning!$D$4:$XG$4)-3),ROW(Planning!42:42))),"")} | H55: {=IFERROR(INDEX(Planning!$D$2:$XG$2,SMALL(IF(Planning!D$88:XG$88>0,COLUMN(Planning!$D$4:$XG$4)-3),ROW(Planning!42:42))),"")}
G56: {=IFERROR(INDEX(Planning!$D$3:$XG$3,SMALL(IF(Planning!D$88:XG$88>0,COLUMN(Planning!$D$4:$XG$4)-3),ROW(Planning!43:43))),"")} | H56: {=IFERROR(INDEX(Planning!$D$2:$XG$2,SMALL(IF(Planning!D$88:XG$88>0,COLUMN(Planning!$D$4:$XG$4)-3),ROW(Planning!43:43))),"")}
G57: {=IFERROR(INDEX(Planning!$D$3:$XG$3,SMALL(IF(Planning!D$88:XG$88>0,COLUMN(Planning!$D$4:$XG$4)-3),ROW(Planning!44:44))),"")} | H57: {=IFERROR(INDEX(Planning!$D$2:$XG$2,SMALL(IF(Planning!D$88:XG$88>0,COLUMN(Planning!$D$4:$XG$4)-3),ROW(Planning!44:44))),"")}
G58: {=IFERROR(INDEX(Planning!$D$3:$XG$3,SMALL(IF(Planning!D$88:XG$88>0,COLUMN(Planning!$D$4:$XG$4)-3),ROW(Planning!45:45))),"")} | H58: {=IFERROR(INDEX(Planning!$D$2:$XG$2,SMALL(IF(Planning!D$88:XG$88>0,COLUMN(Planning!$D$4:$XG$4)-3),ROW(Planning!45:45))),"")}
G59: {=IFERROR(INDEX(Planning!$D$3:$XG$3,SMALL(IF(Planning!D$88:XG$88>0,COLUMN(Planning!$D$4:$XG$4)-3),ROW(Planning!46:46))),"")} | H59: {=IFERROR(INDEX(Planning!$D$2:$XG$2,SMALL(IF(Planning!D$88:XG$88>0,COLUMN(Planning!$D$4:$XG$4)-3),ROW(Planning!46:46))),"")}
G60: {=IFERROR(INDEX(Planning!$D$3:$XG$3,SMALL(IF(Planning!D$88:XG$88>0,COLUMN(Planning!$D$4:$XG$4)-3),ROW(Planning!47:47))),"")} | H60: {=IFERROR(INDEX(Planning!$D$2:$XG$2,SMALL(IF(Planning!D$88:XG$88>0,COLUMN(Planning!$D$4:$XG$4)-3),ROW(Planning!47:47))),"")}
G61: {=IFERROR(INDEX(Planning!$D$3:$XG$3,SMALL(IF(Planning!D$88:XG$88>0,COLUMN(Planning!$D$4:$XG$4)-3),ROW(Planning!48:48))),"")} | H61: {=IFERROR(INDEX(Planning!$D$2:$XG$2,SMALL(IF(Planning!D$88:XG$88>0,COLUMN(Planning!$D$4:$XG$4)-3),ROW(Planning!48:48))),"")}
G62: {=IFERROR(INDEX(Planning!$D$3:$XG$3,SMALL(IF(Planning!D$88:XG$88>0,COLUMN(Planning!$D$4:$XG$4)-3),ROW(Planning!49:49))),"")} | H62: {=IFERROR(INDEX(Planning!$D$2:$XG$2,SMALL(IF(Planning!D$88:XG$88>0,COLUMN(Planning!$D$4:$XG$4)-3),ROW(Planning!49:49))),"")}
G63: {=IFERROR(INDEX(Planning!$D$3:$XG$3,SMALL(IF(Planning!D$88:XG$88>0,COLUMN(Planning!$D$4:$XG$4)-3),ROW(Planning!50:50))),"")} | H63: {=IFERROR(INDEX(Planning!$D$2:$XG$2,SMALL(IF(Planning!D$88:XG$88>0,COLUMN(Planning!$D$4:$XG$4)-3),ROW(Planning!50:50))),"")}
G64: {=IFERROR(INDEX(Planning!$D$3:$XG$3,SMALL(IF(Planning!D$88:XG$88>0,COLUMN(Planning!$D$4:$XG$4)-3),ROW(Planning!51:51))),"")} | H64: {=IFERROR(INDEX(Planning!$D$2:$XG$2,SMALL(IF(Planning!D$88:XG$88>0,COLUMN(Planning!$D$4:$XG$4)-3),ROW(Planning!51:51))),"")}
G65: {=IFERROR(INDEX(Planning!$D$3:$XG$3,SMALL(IF(Planning!D$88:XG$88>0,COLUMN(Planning!$D$4:$XG$4)-3),ROW(Planning!52:52))),"")} | H65: {=IFERROR(INDEX(Planning!$D$2:$XG$2,SMALL(IF(Planning!D$88:XG$88>0,COLUMN(Planning!$D$4:$XG$4)-3),ROW(Planning!52:52))),"")}
G66: {=IFERROR(INDEX(Planning!$D$3:$XG$3,SMALL(IF(Planning!D$88:XG$88>0,COLUMN(Planning!$D$4:$XG$4)-3),ROW(Planning!53:53))),"")} | H66: {=IFERROR(INDEX(Planning!$D$2:$XG$2,SMALL(IF(Planning!D$88:XG$88>0,COLUMN(Planning!$D$4:$XG$4)-3),ROW(Planning!53:53))),"")}
G67: {=IFERROR(INDEX(Planning!$D$3:$XG$3,SMALL(IF(Planning!D$88:XG$88>0,COLUMN(Planning!$D$4:$XG$4)-3),ROW(Planning!54:54))),"")} | H67: {=IFERROR(INDEX(Planning!$D$2:$XG$2,SMALL(IF(Planning!D$88:XG$88>0,COLUMN(Planning!$D$4:$XG$4)-3),ROW(Planning!54:54))),"")}
G68: {=IFERROR(INDEX(Planning!$D$3:$XG$3,SMALL(IF(Planning!D$88:XG$88>0,COLUMN(Planning!$D$4:$XG$4)-3),ROW(Planning!55:55))),"")} | H68: {=IFERROR(INDEX(Planning!$D$2:$XG$2,SMALL(IF(Planning!D$88:XG$88>0,COLUMN(Planning!$D$4:$XG$4)-3),ROW(Planning!55:55))),"")}
G69: {=IFERROR(INDEX(Planning!$D$3:$XG$3,SMALL(IF(Planning!D$88:XG$88>0,COLUMN(Planning!$D$4:$XG$4)-3),ROW(Planning!56:56))),"")} | H69: {=IFERROR(INDEX(Planning!$D$2:$XG$2,SMALL(IF(Planning!D$88:XG$88>0,COLUMN(Planning!$D$4:$XG$4)-3),ROW(Planning!56:56))),"")}
G70: {=IFERROR(INDEX(Planning!$D$3:$XG$3,SMALL(IF(Planning!D$88:XG$88>0,COLUMN(Planning!$D$4:$XG$4)-3),ROW(Planning!57:57))),"")} | H70: {=IFERROR(INDEX(Planning!$D$2:$XG$2,SMALL(IF(Planning!D$88:XG$88>0,COLUMN(Planning!$D$4:$XG$4)-3),ROW(Planning!57:57))),"")}
G71: {=IFERROR(INDEX(Planning!$D$3:$XG$3,SMALL(IF(Planning!D$88:XG$88>0,COLUMN(Planning!$D$4:$XG$4)-3),ROW(Planning!58:58))),"")} | H71: {=IFERROR(INDEX(Planning!$D$2:$XG$2,SMALL(IF(Planning!D$88:XG$88>0,COLUMN(Planning!$D$4:$XG$4)-3),ROW(Planning!58:58))),"")}
G72: {=IFERROR(INDEX(Planning!$D$3:$XG$3,SMALL(IF(Planning!D$88:XG$88>0,COLUMN(Planning!$D$4:$XG$4)-3),ROW(Planning!59:59))),"")} | H72: {=IFERROR(INDEX(Planning!$D$2:$XG$2,SMALL(IF(Planning!D$88:XG$88>0,COLUMN(Planning!$D$4:$XG$4)-3),ROW(Planning!59:59))),"")}
G73: {=IFERROR(INDEX(Planning!$D$3:$XG$3,SMALL(IF(Planning!D$88:XG$88>0,COLUMN(Planning!$D$4:$XG$4)-3),ROW(Planning!60:60))),"")} | H73: {=IFERROR(INDEX(Planning!$D$2:$XG$2,SMALL(IF(Planning!D$88:XG$88>0,COLUMN(Planning!$D$4:$XG$4)-3),ROW(Planning!60:60))),"")}
G74: {=IFERROR(INDEX(Planning!$D$3:$XG$3,SMALL(IF(Planning!D$88:XG$88>0,COLUMN(Planning!$D$4:$XG$4)-3),ROW(Planning!61:61))),"")} | H74: {=IFERROR(INDEX(Planning!$D$2:$XG$2,SMALL(IF(Planning!D$88:XG$88>0,COLUMN(Planning!$D$4:$XG$4)-3),ROW(Planning!61:61))),"")}
G75: {=IFERROR(INDEX(Planning!$D$3:$XG$3,SMALL(IF(Planning!D$88:XG$88>0,COLUMN(Planning!$D$4:$XG$4)-3),ROW(Planning!62:62))),"")} | H75: {=IFERROR(INDEX(Planning!$D$2:$XG$2,SMALL(IF(Planning!D$88:XG$88>0,COLUMN(Planning!$D$4:$XG$4)-3),ROW(Planning!62:62))),"")}
G76: {=IFERROR(INDEX(Planning!$D$3:$XG$3,SMALL(IF(Planning!D$88:XG$88>0,COLUMN(Planning!$D$4:$XG$4)-3),ROW(Planning!63:63))),"")} | H76: {=IFERROR(INDEX(Planning!$D$2:$XG$2,SMALL(IF(Planning!D$88:XG$88>0,COLUMN(Planning!$D$4:$XG$4)-3),ROW(Planning!63:63))),"")}
G77: {=IFERROR(INDEX(Planning!$D$3:$XG$3,SMALL(IF(Planning!D$88:XG$88>0,COLUMN(Planning!$D$4:$XG$4)-3),ROW(Planning!64:64))),"")} | H77: {=IFERROR(INDEX(Planning!$D$2:$XG$2,SMALL(IF(Planning!D$88:XG$88>0,COLUMN(Planning!$D$4:$XG$4)-3),ROW(Planning!64:64))),"")}
G78: {=IFERROR(INDEX(Planning!$D$3:$XG$3,SMALL(IF(Planning!D$88:XG$88>0,COLUMN(Planning!$D$4:$XG$4)-3),ROW(Planning!65:65))),"")} | H78: {=IFERROR(INDEX(Planning!$D$2:$XG$2,SMALL(IF(Planning!D$88:XG$88>0,COLUMN(Planning!$D$4:$XG$4)-3),ROW(Planning!65:65))),"")}
G79: {=IFERROR(INDEX(Planning!$D$3:$XG$3,SMALL(IF(Planning!D$88:XG$88>0,COLUMN(Planning!$D$4:$XG$4)-3),ROW(Planning!66:66))),"")} | H79: {=IFERROR(INDEX(Planning!$D$2:$XG$2,SMALL(IF(Planning!D$88:XG$88>0,COLUMN(Planning!$D$4:$XG$4)-3),ROW(Planning!66:66))),"")}
G80: {=IFERROR(INDEX(Planning!$D$3:$XG$3,SMALL(IF(Planning!D$88:XG$88>0,COLUMN(Planning!$D$4:$XG$4)-3),ROW(Planning!67:67))),"")} | H80: {=IFERROR(INDEX(Planning!$D$2:$XG$2,SMALL(IF(Planning!D$88:XG$88>0,COLUMN(Planning!$D$4:$XG$4)-3),ROW(Planning!67:67))),"")}
G81: {=IFERROR(INDEX(Planning!$D$3:$XG$3,SMALL(IF(Planning!D$88:XG$88>0,COLUMN(Planning!$D$4:$XG$4)-3),ROW(Planning!68:68))),"")} | H81: {=IFERROR(INDEX(Planning!$D$2:$XG$2,SMALL(IF(Planning!D$88:XG$88>0,COLUMN(Planning!$D$4:$XG$4)-3),ROW(Planning!68:68))),"")}
G82: {=IFERROR(INDEX(Planning!$D$3:$XG$3,SMALL(IF(Planning!D$88:XG$88>0,COLUMN(Planning!$D$4:$XG$4)-3),ROW(Planning!69:69))),"")} | H82: {=IFERROR(INDEX(Planning!$D$2:$XG$2,SMALL(IF(Planning!D$88:XG$88>0,COLUMN(Planning!$D$4:$XG$4)-3),ROW(Planning!69:69))),"")}
G83: {=IFERROR(INDEX(Planning!$D$3:$XG$3,SMALL(IF(Planning!D$88:XG$88>0,COLUMN(Planning!$D$4:$XG$4)-3),ROW(Planning!70:70))),"")} | H83: {=IFERROR(INDEX(Planning!$D$2:$XG$2,SMALL(IF(Planning!D$88:XG$88>0,COLUMN(Planning!$D$4:$XG$4)-3),ROW(Planning!70:70))),"")}
G84: {=IFERROR(INDEX(Planning!$D$3:$XG$3,SMALL(IF(Planning!D$88:XG$88>0,COLUMN(Planning!$D$4:$XG$4)-3),ROW(Planning!71:71))),"")} | H84: {=IFERROR(INDEX(Planning!$D$2:$XG$2,SMALL(IF(Planning!D$88:XG$88>0,COLUMN(Planning!$D$4:$XG$4)-3),ROW(Planning!71:71))),"")}
G85: {=IFERROR(INDEX(Planning!$D$3:$XG$3,SMALL(IF(Planning!D$88:XG$88>0,COLUMN(Planning!$D$4:$XG$4)-3),ROW(Planning!72:72))),"")} | H85: {=IFERROR(INDEX(Planning!$D$2:$XG$2,SMALL(IF(Planning!D$88:XG$88>0,COLUMN(Planning!$D$4:$XG$4)-3),ROW(Planning!72:72))),"")}
G86: {=IFERROR(INDEX(Planning!$D$3:$XG$3,SMALL(IF(Planning!D$88:XG$88>0,COLUMN(Planning!$D$4:$XG$4)-3),ROW(Planning!73:73))),"")} | H86: {=IFERROR(INDEX(Planning!$D$2:$XG$2,SMALL(IF(Planning!D$88:XG$88>0,COLUMN(Planning!$D$4:$XG$4)-3),ROW(Planning!73:73))),"")}
G87: {=IFERROR(INDEX(Planning!$D$3:$XG$3,SMALL(IF(Planning!D$88:XG$88>0,COLUMN(Planning!$D$4:$XG$4)-3),ROW(Planning!74:74))),"")} | H87: {=IFERROR(INDEX(Planning!$D$2:$XG$2,SMALL(IF(Planning!D$88:XG$88>0,COLUMN(Planning!$D$4:$XG$4)-3),ROW(Planning!74:74))),"")}
G88: {=IFERROR(INDEX(Planning!$D$3:$XG$3,SMALL(IF(Planning!D$88:XG$88>0,COLUMN(Planning!$D$4:$XG$4)-3),ROW(Planning!75:75))),"")} | H88: {=IFERROR(INDEX(Planning!$D$2:$XG$2,SMALL(IF(Planning!D$88:XG$88>0,COLUMN(Planning!$D$4:$XG$4)-3),ROW(Planning!75:75))),"")}
G89: {=IFERROR(INDEX(Planning!$D$3:$XG$3,SMALL(IF(Planning!D$88:XG$88>0,COLUMN(Planning!$D$4:$XG$4)-3),ROW(Planning!76:76))),"")} | H89: {=IFERROR(INDEX(Planning!$D$2:$XG$2,SMALL(IF(Planning!D$88:XG$88>0,COLUMN(Planning!$D$4:$XG$4)-3),ROW(Planning!76:76))),"")}
G90: {=IFERROR(INDEX(Planning!$D$3:$XG$3,SMALL(IF(Planning!D$88:XG$88>0,COLUMN(Planning!$D$4:$XG$4)-3),ROW(Planning!77:77))),"")} | H90: {=IFERROR(INDEX(Planning!$D$2:$XG$2,SMALL(IF(Planning!D$88:XG$88>0,COLUMN(Planning!$D$4:$XG$4)-3),ROW(Planning!77:77))),"")}
G91: {=IFERROR(INDEX(Planning!$D$3:$XG$3,SMALL(IF(Planning!D$88:XG$88>0,COLUMN(Planning!$D$4:$XG$4)-3),ROW(Planning!78:78))),"")} | H91: {=IFERROR(INDEX(Planning!$D$2:$XG$2,SMALL(IF(Planning!D$88:XG$88>0,COLUMN(Planning!$D$4:$XG$4)-3),ROW(Planning!78:78))),"")}
G92: {=IFERROR(INDEX(Planning!$D$3:$XG$3,SMALL(IF(Planning!D$88:XG$88>0,COLUMN(Planning!$D$4:$XG$4)-3),ROW(Planning!79:79))),"")} | H92: {=IFERROR(INDEX(Planning!$D$2:$XG$2,SMALL(IF(Planning!D$88:XG$88>0,COLUMN(Planning!$D$4:$XG$4)-3),ROW(Planning!79:79))),"")}
G93: {=IFERROR(INDEX(Planning!$D$3:$XG$3,SMALL(IF(Planning!D$88:XG$88>0,COLUMN(Planning!$D$4:$XG$4)-3),ROW(Planning!80:80))),"")} | H93: {=IFERROR(INDEX(Planning!$D$2:$XG$2,SMALL(IF(Planning!D$88:XG$88>0,COLUMN(Planning!$D$4:$XG$4)-3),ROW(Planning!80:80))),"")}
G94: {=IFERROR(INDEX(Planning!$D$3:$XG$3,SMALL(IF(Planning!D$88:XG$88>0,COLUMN(Planning!$D$4:$XG$4)-3),ROW(Planning!81:81))),"")} | H94: {=IFERROR(INDEX(Planning!$D$2:$XG$2,SMALL(IF(Planning!D$88:XG$88>0,COLUMN(Planning!$D$4:$XG$4)-3),ROW(Planning!81:81))),"")}
G95: {=IFERROR(INDEX(Planning!$D$3:$XG$3,SMALL(IF(Planning!D$88:XG$88>0,COLUMN(Planning!$D$4:$XG$4)-3),ROW(Planning!82:82))),"")} | H95: {=IFERROR(INDEX(Planning!$D$2:$XG$2,SMALL(IF(Planning!D$88:XG$88>0,COLUMN(Planning!$D$4:$XG$4)-3),ROW(Planning!82:82))),"")}
G96: {=IFERROR(INDEX(Planning!$D$3:$XG$3,SMALL(IF(Planning!D$88:XG$88>0,COLUMN(Planning!$D$4:$XG$4)-3),ROW(Planning!83:83))),"")} | H96: {=IFERROR(INDEX(Planning!$D$2:$XG$2,SMALL(IF(Planning!D$88:XG$88>0,COLUMN(Planning!$D$4:$XG$4)-3),ROW(Planning!83:83))),"")}
G97: {=IFERROR(INDEX(Planning!$D$3:$XG$3,SMALL(IF(Planning!D$88:XG$88>0,COLUMN(Planning!$D$4:$XG$4)-3),ROW(Planning!84:84))),"")} | H97: {=IFERROR(INDEX(Planning!$D$2:$XG$2,SMALL(IF(Planning!D$88:XG$88>0,COLUMN(Planning!$D$4:$XG$4)-3),ROW(Planning!84:84))),"")}
G98: {=IFERROR(INDEX(Planning!$D$3:$XG$3,SMALL(IF(Planning!D$88:XG$88>0,COLUMN(Planning!$D$4:$XG$4)-3),ROW(Planning!85:85))),"")} | H98: {=IFERROR(INDEX(Planning!$D$2:$XG$2,SMALL(IF(Planning!D$88:XG$88>0,COLUMN(Planning!$D$4:$XG$4)-3),ROW(Planning!85:85))),"")}
G99: {=IFERROR(INDEX(Planning!$D$3:$XG$3,SMALL(IF(Planning!D$88:XG$88>0,COLUMN(Planning!$D$4:$XG$4)-3),ROW(Planning!86:86))),"")} | H99: {=IFERROR(INDEX(Planning!$D$2:$XG$2,SMALL(IF(Planning!D$88:XG$88>0,COLUMN(Planning!$D$4:$XG$4)-3),ROW(Planning!86:86))),"")}
G100: {=IFERROR(INDEX(Planning!$D$3:$XG$3,SMALL(IF(Planning!D$88:XG$88>0,COLUMN(Planning!$D$4:$XG$4)-3),ROW(Planning!87:87))),"")} | H100: {=IFERROR(INDEX(Planning!$D$2:$XG$2,SMALL(IF(Planning!D$88:XG$88>0,COLUMN(Planning!$D$4:$XG$4)-3),ROW(Planning!87:87))),"")}
G101: {=IFERROR(INDEX(Planning!$D$3:$XG$3,SMALL(IF(Planning!D$88:XG$88>0,COLUMN(Planning!$D$4:$XG$4)-3),ROW(Planning!#REF!))),"")} | H101: {=IFERROR(INDEX(Planning!$D$2:$XG$2,SMALL(IF(Planning!D$88:XG$88>0,COLUMN(Planning!$D$4:$XG$4)-3),ROW(Planning!#REF!))),"")}
G102: {=IFERROR(INDEX(Planning!$D$3:$XG$3,SMALL(IF(Planning!D$88:XG$88>0,COLUMN(Planning!$D$4:$XG$4)-3),ROW(Planning!89:89))),"")} | H102: {=IFERROR(INDEX(Planning!$D$2:$XG$2,SMALL(IF(Planning!D$88:XG$88>0,COLUMN(Planning!$D$4:$XG$4)-3),ROW(Planning!89:89))),"")}
G103: {=IFERROR(INDEX(Planning!$D$3:$XG$3,SMALL(IF(Planning!D$88:XG$88>0,COLUMN(Planning!$D$4:$XG$4)-3),ROW(Planning!90:90))),"")} | H103: {=IFERROR(INDEX(Planning!$D$2:$XG$2,SMALL(IF(Planning!D$88:XG$88>0,COLUMN(Planning!$D$4:$XG$4)-3),ROW(Planning!90:90))),"")}
...

Sheet Planning
A1: a | D1: d | E1: e | F1: f | G1: g | H1: h | I1: i
A2: Formations | D2: Pondération 1 | E2: Pondération 1 | F2: Pondération 1 | G2: Pondération 1 | H2: Pondération 1 | I2: Pondération 1 | J2: Pondération 1 | K2: Pondération 1 | L2: Semininaire Collège Fermat | M2: Pondération 2 | N2: Pondération 1 | O2: Pondération 1 | P2: Pondération 1 | Q2: Pondération 1 | R2: Pondération 2
A3: NOM | B3: AM_Sept_01 | C3: PM_Sept_01 | D3: AM_Sept_02 | E3: PM_Sept_02 | F3: AM_Sept_03 | G3: PM_Sept_03 | H3: AM_Sept_04 | I3: PM_Sept_04 | J3: AM_Sept_05 | K3: PM_Sept_05 | L3: AM_Sept_06 | M3: PM_Sept_06 | N3: AM_Sept_07 | O3: PM_Sept_07 | P3: AM_Sept_08 | Q3: PM_Sept_08 | R3: AM_Sept_09 | S3: PM_Sept_09 | T3: AM_Sept_10 | U3: PM_Sept_10 | V3: AM_Sept_11 | W3: PM_Sept_11 | X3: AM_Sept_12 | Y3: PM_Sept_12 | Z3: AM_Sept_13 | AA3: PM_Sept_13 | AB3: AM_Sept_14 | AC3: PM_Sept_14 | AD3: AM_Sept_15 | AE3: PM_Sept_15 | AF3: AM_Sept_16 | AG3: PM_Sept_16 | AH3: AM_Sept_17 | AI3: PM_Sept_17 | AJ3: AM_Sept_18 | AK3: PM_Sept_18 | AL3: AM_Sept_19 | AM3: PM_Sept_19 | AN3: AM_Sept_20 | AO3: PM_Sept_20 | AP3: AM_Sept_21 | AQ3: PM_Sept_21 | AR3: AM_Sept_22 | AS3: PM_Sept_22 | AT3: AM_Sept_23 | AU3: PM_Sept_23 | AV3: AM_Sept_24 | AW3: PM_Sept_24 | AX3: AM_Sept_25 | AY3: PM_Sept_25 | AZ3: AM_Sept_26 | BA3: PM_Sept_26 | BB3: AM_Sept_27 | BC3: PM_Sept_27 | BD3: AM_Sept_28 | BE3: PM_Sept_28 | BF3: AM_Sept_29 | BG3: PM_Sept_29 | BH3: AM_Sept_30 | BI3: PM_Sept_30 | BJ3: Octobre | BK3: AM_Oct_01 | BL3: PM_Oct_01 | BM3: AM_Oct_02 | BN3: PM_Oct_02 | BO3: AM_Oct_03 | BP3: PM_Oct_03 | BQ3: AM_Oct_04 | BR3: PM_Oct_04 | BS3: AM_Oct_05 | BT3: PM_Oct_05 | BU3: AM_Oct_06 | BV3: PM_Oct_06 | BW3: AM_Oct_07 | BX3: PM_Oct_07 | BY3: AM_Oct_08 | BZ3: PM_Oct_08 | CA3: AM_Oct_09 | CB3: PM_Oct_09 | CC3: AM_Oct_10 | CD3: PM_Oct_10 | CE3: AM_Oct_11 | CF3: PM_Oct_11 | CG3: AM_Oct_12 | CH3: PM_Oct_12 | CI3: AM_Oct_13 | CJ3: PM_Oct_13 | CK3: AM_Oct_14 | CL3: PM_Oct_14 | CM3: AM_Oct_15 | CN3: PM_Oct_15 | CO3: AM_Oct_16 | CP3: PM_Oct_16 | CQ3: AM_Oct_17 | CR3: PM_Oct_17 | CS3: AM_Oct_18 | CT3: PM_Oct_18 | CU3: AM_Oct_19 | CV3: PM_Oct_19 | CW3: AM_Oct_20 | CX3: PM_Oct_20 | CY3: AM_Oct_21 | CZ3: PM_Oct_21 | DA3: AM_Oct_22 | DB3: PM_Oct_22 | DC3: AM_Oct_23 | DD3: PM_Oct_23 | DE3: AM_Oct_24 | DF3: PM_Oct_24 | DG3: AM_Oct_25 | DH3: PM_Oct_25 | DI3: AM_Oct_26 | DJ3: PM_Oct_26 | DK3: AM_Oct_27 | DL3: PM_Oct_27 | DM3: AM_Oct_28 | DN3: PM_Oct_28 | DO3: AM_Oct_29 | DP3: PM_Oct_29 | DQ3: AM_Oct_30 | DR3: PM_Oct_30 | DS3: AM_Oct_31 | DT3: PM_Oct_31 | DU3: Novembre | DV3: AM_Nov_01 | DW3: PM_Nov_01 | DX3: AM_Nov_02 | DY3: PM_Nov_02 | DZ3: AM_Nov_03 | EA3: PM_Nov_03 | EB3: AM_Nov_04 | EC3: PM_Nov_04 | ED3: AM_Nov_05 | EE3: PM_Nov_05 | EF3: AM_Nov_06 | EG3: PM_Nov_06 | EH3: AM_Nov_07 | EI3: PM_Nov_07 | EJ3: AM_Nov_08 | EK3: PM_Nov_08 | EL3: AM_Nov_09 | EM3: PM_Nov_09 | EN3: AM_Nov_10 | EO3: PM_Nov_10 | EP3: AM_Nov_11 | EQ3: PM_Nov_11 | ER3: AM_Nov_12 | ES3: PM_Nov_12 | ET3: AM_Nov_13 | EU3: PM_Nov_13 | EV3: AM_Nov_14 | EW3: PM_Nov_14 | EX3: AM_Nov_15 | EY3: PM_Nov_15 | EZ3: AM_Nov_16 | FA3: PM_Nov_16 | FB3: AM_Nov_17 | FC3: PM_Nov_17 | FD3: AM_Nov_18 | FE3: PM_Nov_18 | FF3: AM_Nov_19 | FG3: PM_Nov_19 | FH3: AM_Nov_20 | FI3: PM_Nov_20 | FJ3: AM_Nov_21 | FK3: PM_Nov_21 | FL3: AM_Nov_22 | FM3: PM_Nov_22 | FN3: AM_Nov_23 | FO3: PM_Nov_23 | FP3: AM_Nov_24 | FQ3: PM_Nov_24 | FR3: AM_Nov_25 | FS3: PM_Nov_25 | FT3: AM_Nov_26 | FU3: PM_Nov_26 | FV3: AM_Nov_27 | FW3: PM_Nov_27 | FX3: AM_Nov_28 | FY3: PM_Nov_28 | FZ3: AM_Nov_29 | GA3: PM_Nov_29 | GB3: AM_Nov_30 | GC3: PM_Nov_30 | GD3: Décembre | GE3: AM_Déc_01 | GF3: PM_Déc_01 | GG3: AM_Déc_02 | GH3: PM_Déc_02 | GI3: AM_Déc_03 | GJ3: PM_Déc_03 | GK3: AM_Déc_04 | GL3: PM_Déc_04 | GM3: AM_Déc_05 | GN3: PM_Déc_05 | GO3: AM_Déc_06 | GP3: PM_Déc_06 | GQ3: AM_Déc_07 | GR3: PM_Déc_07 | GS3: AM_Déc_08 | GT3: PM_Déc_08 | GU3: AM_Déc_09 | GV3: PM_Déc_09 | GW3: AM_Déc_10 | GX3: PM_Déc_10 | GY3: AM_Déc_11 | GZ3: PM_Déc_11 | HA3: AM_Déc_12 | HB3: PM_Déc_12 | HC3: AM_Déc_13 | HD3: PM_Déc_13 | HE3: AM_Déc_14 | HF3: PM_Déc_14 | HG3: AM_Déc_15 | HH3: PM_Déc_15 | HI3: AM_Déc_16 | HJ3: PM_Déc_16 | HK3: AM_Déc_17 | HL3: PM_Déc_17 | HM3: AM_Déc_18 | HN3: PM_Déc_18 | HO3: AM_Déc_19 | HP3: PM_Déc_19 | HQ3: AM_Déc_20 | HR3: PM_Déc_20 | HS3: AM_Déc_21 | HT3: PM_Déc_21 | HU3: AM_Déc_22 | HV3: PM_Déc_22 | HW3: AM_Déc_23 | HX3: PM_Déc_23 | HY3: AM_Déc_24 | HZ3: PM_Déc_24 | IA3: AM_Déc_25 | IB3: PM_Déc_25 | IC3: AM_Déc_26 | ID3: PM_Déc_26 | IE3: AM_Déc_27 | IF3: PM_Déc_27 | IG3: AM_Déc_28 | IH3: PM_Déc_28 | II3: AM_Déc_29 | IJ3: PM_Déc_29 | IK3: AM_Déc_30 | IL3: PM_Déc_30 | IM3: AM_Déc_31 | IN3: PM_Déc_31 | IO3: Janvier | IP3: AM_Janv_01 | IQ3: PM_Janv_012 | IR3: AM_Janv_02 | IS3: PM_Janv_02 | IT3: AM_Janv_03 | IU3: PM_Janv_03 | IV3: AM_Janv_04 | IW3: PM_Janv_04 | IX3: AM_Janv_05 | IY3: PM_Janv_05 | IZ3: AM_Janv_06 | JA3: PM_Janv_06 | JB3: AM_Janv_07 | JC3: PM_Janv_07 | JD3: AM_Janv_08 | JE3: PM_Janv_08 | JF3: AM_Janv_09 | JG3: PM_Janv_09 | JH3: AM_Janv_10 | JI3: PM_Janv_10 | JJ3: AM_Janv_11 | JK3: PM_Janv_11 | JL3: AM_Janv_12 | JM3: PM_Janv_12 | JN3: AM_Janv_13 | JO3: PM_Janv_13 | JP3: AM_Janv_14 | JQ3: PM_Janv_14 | JR3: AM_Janv_15 | JS3: PM_Janv_15 | JT3: AM_Janv_16 | JU3: PM_Janv_16 | JV3: AM_Janv_17 | JW3: PM_Janv_17 | JX3: AM_Janv_18 | JY3: PM_Janv_18 | JZ3: AM_Janv_19 | KA3: PM_Janv_19 | KB3: AM_Janv_20 | KC3: PM_Janv_20 | KD3: AM_Janv_21 | KE3: PM_Janv_21 | KF3: AM_Janv_22 | KG3: PM_Janv_22 | KH3: AM_Janv_23 | KI3: PM_Janv_23 | KJ3: AM_Janv_24 | KK3: PM_Janv_24 | KL3: AM_Janv_25 | KM3: PM_Janv_25 | KN3: AM_Janv_26 | KO3: PM_Janv_26 | KP3: AM_Janv_27 | KQ3: PM_Janv_27 | KR3: AM_Janv_28 | KS3: PM_Janv_28 | KT3: AM_Janv_29 | KU3: PM_Janv_29 | KV3: AM_Janv_30 | KW3: PM_Janv_30 | KX3: Février | KY3: AM_Fév_01 | KZ3: PM_Fév_01 | LA3: AM_Fév_02 | LB3: PM_Fév_02 | LC3: AM_Fév_03 | LD3: PM_Fév_03 | LE3: AM_Fév_04 | LF3: PM_Fév_04 | LG3: AM_Fév_05 | LH3: PM_Fév_05 | LI3: AM_Fév_06 | LJ3: PM_Fév_06 | LK3: AM_Fév_07 | LL3: PM_Fév_07 | LM3: AM_Fév_08 | LN3: PM_Fév_08 | LO3: AM_Fév_09 | LP3: PM_Fév_09 | LQ3: AM_Fév_10 | LR3: PM_Fév_10 | LS3: AM_Fév_11 | LT3: PM_Fév_11 | LU3: AM_Fév_12 | LV3: PM_Fév_12 | LW3: AM_Fév_13 | LX3: PM_Fév_13 | LY3: AM_Fév_14 | LZ3: PM_Fév_14 | MA3: AM_Fév_15 | MB3: PM_Fév_15 | MC3: AM_Fév_16 | MD3: PM_Fév_16 | ME3: AM_Fév_17 | MF3: PM_Fév_17 | MG3: AM_Fév_18 | MH3: PM_Fév_18 | MI3: AM_Fév_19 | MJ3: PM_Fév_19 | MK3: AM_Fév_20 | ML3: PM_Fév_20 | MM3: AM_Fév_21 | MN3: PM_Fév_21 | MO3: AM_Fév_22 | MP3: PM_Fév_22 | MQ3: AM_Fév_23 | MR3: PM_Fév_23 | MS3: AM_Fév_24 | MT3: PM_Fév_24 | MU3: AM_Fév_25 | MV3: PM_Fév_25 | MW3: AM_Fév_26 | MX3: PM_Fév_26 | MY3: AM_Fév_27 | MZ3: PM_Fév_27 | NA3: AM_Fév_28 | NB3: PM_Fév_28 | NC3: AM_Fév_29 | ND3: PM_Fév_29 | NE3: Mars | NF3: AM_Mar_01 | NG3: PM_Mar_01 | NH3: AM_Mar_02 | NI3: PM_Mar_02 | NJ3: AM_Mar_03 | NK3: PM_Mar_03 | NL3: AM_Mar_04 | NM3: PM_Mar_04 | NN3: AM_Mar_05 | NO3: PM_Mar_05 | NP3: AM_Mar_06 | NQ3: PM_Mar_06 | NR3: AM_Mar_07 | NS3: PM_Mar_07 | NT3: AM_Mar_08 | NU3: PM_Mar_08 | NV3: AM_Mar_09 | NW3: PM_Mar_09 | NX3: AM_Mar_10 | NY3: PM_Mar_10 | NZ3: AM_Mar_11 | OA3: PM_Mar_11 | OB3: AM_Mar_12 | OC3: PM_Mar_12 | OD3: AM_Mar_13 | OE3: PM_Mar_13 | OF3: AM_Mar_14 | OG3: PM_Mar_14 | OH3: AM_Mar_15 | OI3: PM_Mar_15 | OJ3: AM_Mar_16 | OK3: PM_Mar_16 | OL3: AM_Mar_17 | OM3: PM_Mar_17 | ON3: AM_Mar_18 | OO3: PM_Mar_18 | OP3: AM_Mar_19 | OQ3: PM_Mar_19 | OR3: AM_Mar_20 | OS3: PM_Mar_20 | OT3: AM_Mar_21 | OU3: PM_Mar_21 | OV3: AM_Mar_22 | OW3: PM_Mar_22 | OX3: AM_Mar_23 | OY3: PM_Mar_23 | OZ3: AM_Mar_24 | PA3: PM_Mar_24 | PB3: AM_Mar_25 | PC3: PM_Mar_25 | PD3: AM_Mar_26 | PE3: PM_Mar_26 | PF3: AM_Mar_27 | PG3: PM_Mar_27 | PH3: AM_Mar_28 | PI3: PM_Mar_28 | PJ3: AM_Mar_29 | PK3: PM_Mar_29 | PL3: AM_Mar_30 | PM3: PM_Mar_30 | PN3: AM_Mar_31 | PO3: PM_Mar_31 | PP3: Avril | PQ3: AM_Avr_01 | PR3: PM_Avr_01 | PS3: AM_Avr_02 | PT3: PM_Avr_02 | PU3: AM_Avr_03 | PV3: PM_Avr_03 | PW3: AM_Avr_04 | PX3: PM_Avr_04 | PY3: AM_Avr_05 | PZ3: PM_Avr_05 | QA3: AM_Avr_06 | QB3: PM_Avr_06 | QC3: AM_Avr_07 | QD3: PM_Avr_07 | QE3: AM_Avr_08 | QF3: PM_Avr_08 | QG3: AM_Avr_09 | QH3: PM_Avr_09 | QI3: AM_Avr_10 | QJ3: PM_Avr_10 | QK3: AM_Avr_11 | QL3: PM_Avr_11 | QM3: AM_Avr_12 | QN3: PM_Avr_12 | QO3: AM_Avr_13 | QP3: PM_Avr_13 | QQ3: AM_Avr_14 | QR3: PM_Avr_14 | QS3: AM_Avr_15 | QT3: PM_Avr_15 | QU3: AM_Avr_16 | QV3: PM_Avr_16 | QW3: AM_Avr_17 | QX3: PM_Avr_17 | QY3: AM_Avr_18 | QZ3: PM_Avr_18 | RA3: AM_Avr_19 | RB3: PM_Avr_19 | RC3: AM_Avr_20 | RD3: PM_Avr_20 | RE3: AM_Avr_21 | RF3: PM_Avr_21 | RG3: AM_Avr_22 | RH3: PM_Avr_22 | RI3: AM_Avr_23 | RJ3: PM_Avr_23 | RK3: AM_Avr_24 | RL3: PM_Avr_24 | RM3: AM_Avr_25 | RN3: PM_Avr_25 | RO3: AM_Avr_26 | RP3: PM_Avr_26 | RQ3: AM_Avr_27 | RR3: PM_Avr_27 | RS3: AM_Avr_28 | RT3: PM_Avr_28 | RU3: AM_Avr_29 | RV3: PM_Avr_29 | RW3: AM_Avr_30 | RX3: PM_Avr_30 | RY3: Mai | RZ3: AM_Mai_01 | SA3: PM_Mai_02 | SB3: AM_Mai_02 | SC3: PM_Mai_022 | SD3: AM_Mai_03 | SE3: PM_Mai_03 | SF3: AM_Mai_04 | SG3: PM_Mai_04 | SH3: AM_Mai_05 | SI3: PM_Mai_05 | SJ3: AM_Mai_06 | SK3: PM_Mai_06 | SL3: AM_Mai_07 | SM3: PM_Mai_07 | SN3: AM_Mai_08 | SO3: PM_Mai_08 | SP3: AM_Mai_09 | SQ3: PM_Mai_09 | SR3: AM_Mai_10 | SS3: PM_Mai_10 | ST3: AM_Mai_11 | SU3: PM_Mai_11 | SV3: AM_Mai_12 | SW3: PM_Mai_12 | SX3: AM_Mai_13 | SY3: PM_Mai_13 | SZ3: AM_Mai_14 | TA3: PM_Mai_14 | TB3: AM_Mai_15 | TC3: PM_Mai_15 | TD3: AM_Mai_16 | TE3: PM_Mai_16 | TF3: AM_Mai_17 | TG3: PM_Mai_17 | TH3: AM_Mai_18 | TI3: PM_Mai_18 | TJ3: AM_Mai_19 | TK3: PM_Mai_19 | TL3: AM_Mai_20 | TM3: PM_Mai_20 | TN3: AM_Mai_21 | TO3: PM_Mai_21 | TP3: AM_Mai_22 | TQ3: PM_Mai_22 | TR3: AM_Mai_23 | TS3: PM_Mai_23 | TT3: AM_Mai_24 | TU3: PM_Mai_24 | TV3: AM_Mai_25 | TW3: PM_Mai_25 | TX3: AM_Mai_26 | TY3: PM_Mai_26 | TZ3: AM_Mai_27 | UA3: PM_Mai_27 | UB3: AM_Mai_28 | UC3: PM_Mai_28 | UD3: AM_Mai_29 | UE3: PM_Mai_29 | UF3: AM_Mai_30 | UG3: PM_Mai_30 | UH3: AM_Mai_31 | UI3: PM_Mai_31 | UJ3: Juin | UK3: AM_Juin_01 | UL3: PM_Juin_01 | UM3: AM_Juin_02 | UN3: PM_Juin_02 | UO3: AM_Juin_03 | UP3: PM_Juin_03 | UQ3: AM_Juin_04 | UR3: PM_Juin_04 | US3: AM_Juin_05 | UT3: PM_Juin_05 | UU3: AM_Juin_06 | UV3: PM_Juin_06 | UW3: AM_Juin_07 | UX3: PM_Juin_07 | UY3: AM_Juin_08 | UZ3: PM_Juin_08 | VA3: AM_Juin_09 | VB3: PM_Juin_09 | VC3: AM_Juin_10 | VD3: PM_Juin_10 | VE3: AM_Juin_11 | VF3: PM_Juin_11 | VG3: AM_Juin_12 | VH3: PM_Juin_12 | VI3: AM_Juin_13 | VJ3: PM_Juin_13 | VK3: AM_Juin_14 | VL3: PM_Juin_14 | VM3: AM_Juin_15 | VN3: PM_Juin_15 | VO3: AM_Juin_16 | VP3: PM_Juin_16 | VQ3: AM_Juin_17 | VR3: PM_Juin_17 | VS3: AM_Juin_18 | VT3: PM_Juin_18 | VU3: AM_Juin_19 | VV3: PM_Juin_19 | VW3: AM_Juin_20 | VX3: PM_Juin_20 | VY3: AM_Juin_21 | VZ3: PM_Juin_21 | WA3: AM_Juin_22 | WB3: PM_Juin_22 | WC3: AM_Juin_23 | WD3: PM_Juin_23 | WE3: AM_Juin_24 | WF3: PM_Juin_24 | WG3: AM_Juin_25 | WH3: PM_Juin_25 | WI3: AM_Juin_26 | WJ3: PM_Juin_26 | WK3: AM_Juin_27 | WL3: PM_Juin_27 | WM3: AM_Juin_28 | WN3: PM_Juin_28 | WO3: AM_Juin_29 | WP3: PM_Juin_29 | WQ3: AM_Juin_30 | WR3: PM_Juin_30 | WS3: Juillet | WT3: AM_Juil_01 | WU3: PM_Juil_01 | WV3: AM_Juil_02 | WW3: PM_Juil_02 | WX3: AM_Juil_03 | WY3: PM_Juil_03 | WZ3: AM_Juil_04 | XA3: PM_Juil_04 | XB3: AM_Juil_05 | XC3: PM_Juil_05 | XD3: AM_Juil_06 | XE3: PM_Juil_06 | XF3: AM_Juil_09 | XG3: PM_Juil_09
A4: Bert | D4: Hugo, CE1 | E4: Buffon, CE1 | F4: Pinhous, GS | G4: Renan, CP | H4: Faucher, TPS PS | I4: Monnet, TPS PS
A5: Bro | D5: Hugo, CE2 CM1 | E5: Buffon, CM1 CM2 | G5: Renan, PS MS | H5: Faucher, CE1 | I5: Pagnol, CP
A6: Cod | D6: Hugo, CM1 CM2 | E6: Buffon, CM1 CM2 | F6: Lalande, CM2 | G6: Renan, CM2 | H6: Faucher, GS | I6: Monnet, GS CO
A7: Coff | D7: Hugo, CP | E7: Dieuzaide, MS GS | F7: Pinhous, PS MS | H7: Héritier, CP | I7: Monnet, PS MS
A8: Del | D8: Hugo, CM2 | E8: Dieuzaide, TPS PS | F8: Lalande, CM2 | G8: Renan, GS | H8: Héritier, CE2 | I8: Monnet, GS CO
A9: Del | D9: Hugo, CE2 | E9: Buffon, CP | F9: Lalande, CE2 | G9: Renan, CM1 | H9: Faucher, GS | I9: Monnet, GS CO
A10: Eté | D10: Daurat, MS | E10: Dieuzaide, GS | G10: Renan, CE1CO | H10: Faucher, GS | I10: Monnet, TPS PS
A11: Fron | D11: Hugo, CM1 | E11: Buffon, CP | F11: Pinhous, GS | G11: Renan, CE1CO | H11: Héritier, CM1 | I11: Pagnol, CE1
A12: Frays | D12: Hugo, CM1 CM2 | E12: Buffon, CP | F12: Lalande, CE1 | H12: Héritier, ULIS | I12: Monnet, PS MS
A13: Ga | D13: Hugo, CM1 CM2 | E13: Dieuzaide, PS MS | F13: Lalande, CM1 | H13: Faucher, CP | I13: Monnet, GS CO
A14: Gri | D14: Hugo, CP | E14: Buffon, CE1 | F14: Lalande, CP | G14: Renan, TPS MS | H14: Héritier, CM2 | I14: Pagnol, CE2
A15: Herra | D15: Hugo, CE1 | E15: Buffon, CP | F15: Lalande, CE1 | G15: Renan, CP | H15: Faucher, PS MS | I15: Monnet, GS CO
A16: Hosf | D16: Daurat, TPS PS | E16: Buffon, CE2 | F16: Lalande, CE2 | G16: Renan, ULIS | H16: Héritier, CE2 CM1 | I16: Pagnol, CP
A17: Ku | D17: Hugo, CE1 | E17: Buffon, CP | F17: Lalande, CP | G17: Renan, CE1 | H17: Faucher, CE2 | I17: Pagnol, CM2
A18: Lahi | D18: Daurat, GS | E18: Buffon, CE1 CE2 | G18: Renan, GS | H18: Faucher, PS MS | I18: Monnet, GS CO
A19: Le F | D19: Hugo, CP | E19: Buffon, CM1 CM2 | F19: Lalande, CP | G19: Renan, TPS MS | H19: Hyon, CP | I19: Monnet, PS MS
A20: Lef | D20: Daurat, MS | E20: Buffon, CM1 CM2 | F20: Lalande, CE1 | G20: Renan, PS MS | H20: Billières, A PS MS | I20: Pagnol, CE1
A21: Mou | D21: Hugo, CE1 | E21: Buffon, CM1 CM2 | F21: Pinhous, PS MS | G21: Faucher, CM1 CM2 | H21: Billières, D PS MS | I21: Monnet, PS MS
A22: Ri | D22: Hugo, CM1 CM2 | E22: Buffon, CE1 CE2 | F22: Lalande, CP | H22: Billières, A MS GS | I22: Pagnol, CM1 | J22: Hugo, CM1
A23: Roiat | D23: Hugo, ULIS | E23: Buffon, CE2 | F23: Lalande, ULIS | G23: Faucher, CM1 CM2 | H23: Hyon, ULIS | I23: Pagnol, CP CE1
A24: Rons | D24: Hugo, CP | E24: Buffon, ULIS | F24: Renan, CP | G24: Faucher, CP | H24: Veil, D MS GS | I24: Hugo, MS
A25: Rou | D25: Daurat, GS | E25: Pinhous, GS | G25: Faucher, ULIS | H25: Billières, D TPS PS MS | I25: Dauriac, CP
A26: Salva | D26: Buffon, CM1 CM2 | E26: Lalande, CE1 | F26: Renan, GS | G26: Faucher, CE1 | H26: Veil, PS MS | I26: Hugo, MS
A27: Ta | D27: Hugo, CE2 | E27: Buffon, CE1 CE2 | F27: Lalande, CM1 | G27: Renan, CM2 | H27: Héritier, CP | I27: Pagnol, CE2 CM1
A28: Wal | D28: Buffon, CE1 | E28: Lalande, CP | F28: Renan, CE2 | G28: Héritier, CE1 | H28: Billières, D GS | I28: Hugo, GS
A31: Formations/Séminaires
A32: Pondération Brigade
A88: ="Contient "&Recherche!F8 -> Contient Buffon | D88: =COUNTIF(D$4:D$28,Recherche!$F$8&"*") -> 2 | E88: =COUNTIF(E$4:E$28,Recherche!$F$8&"*") -> 18 | G88: =COUNTIF(G$4:G$28,Recherche!$F$8&"*") -> 0 | H88: =COUNTIF(H$4:H$28,Recherche!$F$8&"*") -> 0 | I88: =COUNTIF(I$4:I$28,Recherche!$F$8&"*") -> 0 | J88: =COUNTIF(J$4:J$28,Recherche!$F$8&"*") -> 0 | K88: =COUNTIF(K$4:K$28,Recherche!$F$8&"*") -> 0 | L88: =COUNTIF(L$4:L$28,Recherche!$F$8&"*") -> 0 | M88: =COUNTIF(M$4:M$28,Recherche!$F$8&"*") -> 0 | N88: =COUNTIF(N$4:N$28,Recherche!$F$8&"*") -> 0 | ... XG88: =COUNTIF(XG$4:XG$28,Recherche!$F$8&"*") -> 0

Sheet Feuil3
A1: Ecoles | F1: Ecoles
A2: Bastide | F2: Bastide
A3: Bastide, CE1 | F3: Billières
A4: Bastide, CE2 | F4: Buffon
A5: Bastide, CM1 CM2 | F5: Claudel
A6: Bastide, CP | F6: Daurat
A7: Bastide, GS | F7: Dauriac
A8: Bastide, PS MS | F8: Dieuzaide
A9: Bastide, TPS PS | F9: Dottin
A10: Billières | F10: Falcucci
A11: Billières, A MS GS | F11: Faucher
A12: Billières, A PS MS | F12: Galia
... A26: Buffon, CE1 | F26: Veil
A27: Buffon, CE1 CE2
A28: Buffon, CE2
A29: Buffon, CM1 CM2
A30: Buffon, CP
A31: Buffon, GS
A32: Buffon, MS
A33: Buffon, PS
A34: Buffon, PS MS
A35: Buffon, TPS
A36: Buffon, ULIS
A37: Claudel
A38: Claudel, GS
... A211: Veil, ULIS
