Workbook

Sheet Feuil1
C3: Index | H3: nom | I3: tél.
C4: Rd | H4: adr | I4: 123654
C5: AF | H5: d | I5: 12563
C6: Rd | H6: ggh | I6: 3256
C7: Rd | H7: ujty | I7: 2589
C8: Rd | H8: juyt | I8: 2541
C9: Rd | H9: ghji | I9: 1596
C10: RD | H10: llopm | I10: 3574
C11: Rd | H11: hrgzg | I11: 1258
C12: Rd | H12: gzgzg | I12: 98543254
C13: Rd | H13: ujnht | I13: 1478
C14: Rd | H14: yhtr | I14: 3698
C15: Rd | H15: ftghj | I15: 4563
... C66: af | H66: fin | I66: 3256478

Sheet Feuil2
A1: RD | B1: _ | C1: _ | D1: <==Index
A3: {=IFERROR(INDEX(Feuil1!$H$4:$H$66,SMALL(IF((Feuil1!$C$4:$C$66=Feuil2!$A$1)+(Feuil1!$C$4:$C$66=Feuil2!$B$1)+(Feuil1!$C$4:$C$66=Feuil2!$C$1),ROW(Feuil1!$H$4:$H$66)-3),ROW(1:1))),"")} -> adr | B3: {=IFERROR(INDEX(Feuil1!$I$4:$I$66,SMALL(IF((Feuil1!$C$4:$C$66=Feuil2!$A$1)+(Feuil1!$C$4:$C$66=Feuil2!$B$1)+(Feuil1!$C$4:$C$66=Feuil2!$C$1),ROW(Feuil1!$H$4:$H$66)-3),ROW(1:1))),"")} -> 123654
A4: {=IFERROR(INDEX(Feuil1!$H$4:$H$66,SMALL(IF((Feuil1!$C$4:$C$66=Feuil2!$A$1)+(Feuil1!$C$4:$C$66=Feuil2!$B$1)+(Feuil1!$C$4:$C$66=Feuil2!$C$1),ROW(Feuil1!$H$4:$H$66)-3),ROW(2:2))),"")} -> ggh | B4: {=IFERROR(INDEX(Feuil1!$I$4:$I$66,SMALL(IF((Feuil1!$C$4:$C$66=Feuil2!$A$1)+(Feuil1!$C$4:$C$66=Feuil2!$B$1)+(Feuil1!$C$4:$C$66=Feuil2!$C$1),ROW(Feuil1!$H$4:$H$66)-3),ROW(2:2))),"")} -> 3256
A5: {=IFERROR(INDEX(Feuil1!$H$4:$H$66,SMALL(IF((Feuil1!$C$4:$C$66=Feuil2!$A$1)+(Feuil1!$C$4:$C$66=Feuil2!$B$1)+(Feuil1!$C$4:$C$66=Feuil2!$C$1),ROW(Feuil1!$H$4:$H$66)-3),ROW(3:3))),"")} -> ujty | B5: {=IFERROR(INDEX(Feuil1!$I$4:$I$66,SMALL(IF((Feuil1!$C$4:$C$66=Feuil2!$A$1)+(Feuil1!$C$4:$C$66=Feuil2!$B$1)+(Feuil1!$C$4:$C$66=Feuil2!$C$1),ROW(Feuil1!$H$4:$H$66)-3),ROW(3:3))),"")} -> 2589
A6: {=IFERROR(INDEX(Feuil1!$H$4:$H$66,SMALL(IF((Feuil1!$C$4:$C$66=Feuil2!$A$1)+(Feuil1!$C$4:$C$66=Feuil2!$B$1)+(Feuil1!$C$4:$C$66=Feuil2!$C$1),ROW(Feuil1!$H$4:$H$66)-3),ROW(4:4))),"")} -> juyt | B6: {=IFERROR(INDEX(Feuil1!$I$4:$I$66,SMALL(IF((Feuil1!$C$4:$C$66=Feuil2!$A$1)+(Feuil1!$C$4:$C$66=Feuil2!$B$1)+(Feuil1!$C$4:$C$66=Feuil2!$C$1),ROW(Feuil1!$H$4:$H$66)-3),ROW(4:4))),"")} -> 2541
A7: {=IFERROR(INDEX(Feuil1!$H$4:$H$66,SMALL(IF((Feuil1!$C$4:$C$66=Feuil2!$A$1)+(Feuil1!$C$4:$C$66=Feuil2!$B$1)+(Feuil1!$C$4:$C$66=Feuil2!$C$1),ROW(Feuil1!$H$4:$H$66)-3),ROW(5:5))),"")} -> ghji | B7: {=IFERROR(INDEX(Feuil1!$I$4:$I$66,SMALL(IF((Feuil1!$C$4:$C$66=Feuil2!$A$1)+(Feuil1!$C$4:$C$66=Feuil2!$B$1)+(Feuil1!$C$4:$C$66=Feuil2!$C$1),ROW(Feuil1!$H$4:$H$66)-3),ROW(5:5))),"")} -> 1596
A8: {=IFERROR(INDEX(Feuil1!$H$4:$H$66,SMALL(IF((Feuil1!$C$4:$C$66=Feuil2!$A$1)+(Feuil1!$C$4:$C$66=Feuil2!$B$1)+(Feuil1!$C$4:$C$66=Feuil2!$C$1),ROW(Feuil1!$H$4:$H$66)-3),ROW(6:6))),"")} -> llopm | B8: {=IFERROR(INDEX(Feuil1!$I$4:$I$66,SMALL(IF((Feuil1!$C$4:$C$66=Feuil2!$A$1)+(Feuil1!$C$4:$C$66=Feuil2!$B$1)+(Feuil1!$C$4:$C$66=Feuil2!$C$1),ROW(Feuil1!$H$4:$H$66)-3),ROW(6:6))),"")} -> 3574
A9: {=IFERROR(INDEX(Feuil1!$H$4:$H$66,SMALL(IF((Feuil1!$C$4:$C$66=Feuil2!$A$1)+(Feuil1!$C$4:$C$66=Feuil2!$B$1)+(Feuil1!$C$4:$C$66=Feuil2!$C$1),ROW(Feuil1!$H$4:$H$66)-3),ROW(7:7))),"")} -> hrgzg | B9: {=IFERROR(INDEX(Feuil1!$I$4:$I$66,SMALL(IF((Feuil1!$C$4:$C$66=Feuil2!$A$1)+(Feuil1!$C$4:$C$66=Feuil2!$B$1)+(Feuil1!$C$4:$C$66=Feuil2!$C$1),ROW(Feuil1!$H$4:$H$66)-3),ROW(7:7))),"")} -> 1258
A10: {=IFERROR(INDEX(Feuil1!$H$4:$H$66,SMALL(IF((Feuil1!$C$4:$C$66=Feuil2!$A$1)+(Feuil1!$C$4:$C$66=Feuil2!$B$1)+(Feuil1!$C$4:$C$66=Feuil2!$C$1),ROW(Feuil1!$H$4:$H$66)-3),ROW(8:8))),"")} -> gzgzg | B10: {=IFERROR(INDEX(Feuil1!$I$4:$I$66,SMALL(IF((Feuil1!$C$4:$C$66=Feuil2!$A$1)+(Feuil1!$C$4:$C$66=Feuil2!$B$1)+(Feuil1!$C$4:$C$66=Feuil2!$C$1),ROW(Feuil1!$H$4:$H$66)-3),ROW(8:8))),"")} -> 98543254
A11: {=IFERROR(INDEX(Feuil1!$H$4:$H$66,SMALL(IF((Feuil1!$C$4:$C$66=Feuil2!$A$1)+(Feuil1!$C$4:$C$66=Feuil2!$B$1)+(Feuil1!$C$4:$C$66=Feuil2!$C$1),ROW(Feuil1!$H$4:$H$66)-3),ROW(9:9))),"")} -> ujnht | B11: {=IFERROR(INDEX(Feuil1!$I$4:$I$66,SMALL(IF((Feuil1!$C$4:$C$66=Feuil2!$A$1)+(Feuil1!$C$4:$C$66=Feuil2!$B$1)+(Feuil1!$C$4:$C$66=Feuil2!$C$1),ROW(Feuil1!$H$4:$H$66)-3),ROW(9:9))),"")} -> 1478
A12: {=IFERROR(INDEX(Feuil1!$H$4:$H$66,SMALL(IF((Feuil1!$C$4:$C$66=Feuil2!$A$1)+(Feuil1!$C$4:$C$66=Feuil2!$B$1)+(Feuil1!$C$4:$C$66=Feuil2!$C$1),ROW(Feuil1!$H$4:$H$66)-3),ROW(10:10))),"")} -> yhtr | B12: {=IFERROR(INDEX(Feuil1!$I$4:$I$66,SMALL(IF((Feuil1!$C$4:$C$66=Feuil2!$A$1)+(Feuil1!$C$4:$C$66=Feuil2!$B$1)+(Feuil1!$C$4:$C$66=Feuil2!$C$1),ROW(Feuil1!$H$4:$H$66)-3),ROW(10:10))),"")} -> 3698
A13: {=IFERROR(INDEX(Feuil1!$H$4:$H$66,SMALL(IF((Feuil1!$C$4:$C$66=Feuil2!$A$1)+(Feuil1!$C$4:$C$66=Feuil2!$B$1)+(Feuil1!$C$4:$C$66=Feuil2!$C$1),ROW(Feuil1!$H$4:$H$66)-3),ROW(11:11))),"")} -> ftghj | B13: {=IFERROR(INDEX(Feuil1!$I$4:$I$66,SMALL(IF((Feuil1!$C$4:$C$66=Feuil2!$A$1)+(Feuil1!$C$4:$C$66=Feuil2!$B$1)+(Feuil1!$C$4:$C$66=Feuil2!$C$1),ROW(Feuil1!$H$4:$H$66)-3),ROW(11:11))),"")} -> 4563
A14: {=IFERROR(INDEX(Feuil1!$H$4:$H$66,SMALL(IF((Feuil1!$C$4:$C$66=Feuil2!$A$1)+(Feuil1!$C$4:$C$66=Feuil2!$B$1)+(Feuil1!$C$4:$C$66=Feuil2!$C$1),ROW(Feuil1!$H$4:$H$66)-3),ROW(12:12))),"")} -> mlokj | B14: {=IFERROR(INDEX(Feuil1!$I$4:$I$66,SMALL(IF((Feuil1!$C$4:$C$66=Feuil2!$A$1)+(Feuil1!$C$4:$C$66=Feuil2!$B$1)+(Feuil1!$C$4:$C$66=Feuil2!$C$1),ROW(Feuil1!$H$4:$H$66)-3),ROW(12:12))),"")} -> 7895
A15: {=IFERROR(INDEX(Feuil1!$H$4:$H$66,SMALL(IF((Feuil1!$C$4:$C$66=Feuil2!$A$1)+(Feuil1!$C$4:$C$66=Feuil2!$B$1)+(Feuil1!$C$4:$C$66=Feuil2!$C$1),ROW(Feuil1!$H$4:$H$66)-3),ROW(13:13))),"")} -> cdfbh | B15: {=IFERROR(INDEX(Feuil1!$I$4:$I$66,SMALL(IF((Feuil1!$C$4:$C$66=Feuil2!$A$1)+(Feuil1!$C$4:$C$66=Feuil2!$B$1)+(Feuil1!$C$4:$C$66=Feuil2!$C$1),ROW(Feuil1!$H$4:$H$66)-3),ROW(13:13))),"")} -> 4562
A16: {=IFERROR(INDEX(Feuil1!$H$4:$H$66,SMALL(IF((Feuil1!$C$4:$C$66=Feuil2!$A$1)+(Feuil1!$C$4:$C$66=Feuil2!$B$1)+(Feuil1!$C$4:$C$66=Feuil2!$C$1),ROW(Feuil1!$H$4:$H$66)-3),ROW(14:14))),"")} -> kjrft | B16: {=IFERROR(INDEX(Feuil1!$I$4:$I$66,SMALL(IF((Feuil1!$C$4:$C$66=Feuil2!$A$1)+(Feuil1!$C$4:$C$66=Feuil2!$B$1)+(Feuil1!$C$4:$C$66=Feuil2!$C$1),ROW(Feuil1!$H$4:$H$66)-3),ROW(14:14))),"")} -> 1235
A17: {=IFERROR(INDEX(Feuil1!$H$4:$H$66,SMALL(IF((Feuil1!$C$4:$C$66=Feuil2!$A$1)+(Feuil1!$C$4:$C$66=Feuil2!$B$1)+(Feuil1!$C$4:$C$66=Feuil2!$C$1),ROW(Feuil1!$H$4:$H$66)-3),ROW(15:15))),"")} -> byhgt | B17: {=IFERROR(INDEX(Feuil1!$I$4:$I$66,SMALL(IF((Feuil1!$C$4:$C$66=Feuil2!$A$1)+(Feuil1!$C$4:$C$66=Feuil2!$B$1)+(Feuil1!$C$4:$C$66=Feuil2!$C$1),ROW(Feuil1!$H$4:$H$66)-3),ROW(15:15))),"")} -> 6666
A18: {=IFERROR(INDEX(Feuil1!$H$4:$H$66,SMALL(IF((Feuil1!$C$4:$C$66=Feuil2!$A$1)+(Feuil1!$C$4:$C$66=Feuil2!$B$1)+(Feuil1!$C$4:$C$66=Feuil2!$C$1),ROW(Feuil1!$H$4:$H$66)-3),ROW(16:16))),"")} -> rdftikl | B18: {=IFERROR(INDEX(Feuil1!$I$4:$I$66,SMALL(IF((Feuil1!$C$4:$C$66=Feuil2!$A$1)+(Feuil1!$C$4:$C$66=Feuil2!$B$1)+(Feuil1!$C$4:$C$66=Feuil2!$C$1),ROW(Feuil1!$H$4:$H$66)-3),ROW(16:16))),"")} -> 3333
A19: {=IFERROR(INDEX(Feuil1!$H$4:$H$66,SMALL(IF((Feuil1!$C$4:$C$66=Feuil2!$A$1)+(Feuil1!$C$4:$C$66=Feuil2!$B$1)+(Feuil1!$C$4:$C$66=Feuil2!$C$1),ROW(Feuil1!$H$4:$H$66)-3),ROW(17:17))),"")} -> mlijol | B19: {=IFERROR(INDEX(Feuil1!$I$4:$I$66,SMALL(IF((Feuil1!$C$4:$C$66=Feuil2!$A$1)+(Feuil1!$C$4:$C$66=Feuil2!$B$1)+(Feuil1!$C$4:$C$66=Feuil2!$C$1),ROW(Feuil1!$H$4:$H$66)-3),ROW(17:17))),"")} -> 2222
A20: {=IFERROR(INDEX(Feuil1!$H$4:$H$66,SMALL(IF((Feuil1!$C$4:$C$66=Feuil2!$A$1)+(Feuil1!$C$4:$C$66=Feuil2!$B$1)+(Feuil1!$C$4:$C$66=Feuil2!$C$1),ROW(Feuil1!$H$4:$H$66)-3),ROW(18:18))),"")} -> asde | B20: {=IFERROR(INDEX(Feuil1!$I$4:$I$66,SMALL(IF((Feuil1!$C$4:$C$66=Feuil2!$A$1)+(Feuil1!$C$4:$C$66=Feuil2!$B$1)+(Feuil1!$C$4:$C$66=Feuil2!$C$1),ROW(Feuil1!$H$4:$H$66)-3),ROW(18:18))),"")} -> 8888
A21: {=IFERROR(INDEX(Feuil1!$H$4:$H$66,SMALL(IF((Feuil1!$C$4:$C$66=Feuil2!$A$1)+(Feuil1!$C$4:$C$66=Feuil2!$B$1)+(Feuil1!$C$4:$C$66=Feuil2!$C$1),ROW(Feuil1!$H$4:$H$66)-3),ROW(19:19))),"")} -> fgh | B21: {=IFERROR(INDEX(Feuil1!$I$4:$I$66,SMALL(IF((Feuil1!$C$4:$C$66=Feuil2!$A$1)+(Feuil1!$C$4:$C$66=Feuil2!$B$1)+(Feuil1!$C$4:$C$66=Feuil2!$C$1),ROW(Feuil1!$H$4:$H$66)-3),ROW(19:19))),"")} -> 7777
A22: {=IFERROR(INDEX(Feuil1!$H$4:$H$66,SMALL(IF((Feuil1!$C$4:$C$66=Feuil2!$A$1)+(Feuil1!$C$4:$C$66=Feuil2!$B$1)+(Feuil1!$C$4:$C$66=Feuil2!$C$1),ROW(Feuil1!$H$4:$H$66)-3),ROW(20:20))),"")} -> rfth | B22: {=IFERROR(INDEX(Feuil1!$I$4:$I$66,SMALL(IF((Feuil1!$C$4:$C$66=Feuil2!$A$1)+(Feuil1!$C$4:$C$66=Feuil2!$B$1)+(Feuil1!$C$4:$C$66=Feuil2!$C$1),ROW(Feuil1!$H$4:$H$66)-3),ROW(20:20))),"")} -> 6541
A23: {=IFERROR(INDEX(Feuil1!$H$4:$H$66,SMALL(IF((Feuil1!$C$4:$C$66=Feuil2!$A$1)+(Feuil1!$C$4:$C$66=Feuil2!$B$1)+(Feuil1!$C$4:$C$66=Feuil2!$C$1),ROW(Feuil1!$H$4:$H$66)-3),ROW(21:21))),"")} -> adfv | B23: {=IFERROR(INDEX(Feuil1!$I$4:$I$66,SMALL(IF((Feuil1!$C$4:$C$66=Feuil2!$A$1)+(Feuil1!$C$4:$C$66=Feuil2!$B$1)+(Feuil1!$C$4:$C$66=Feuil2!$C$1),ROW(Feuil1!$H$4:$H$66)-3),ROW(21:21))),"")} -> 6325
A24: {=IFERROR(INDEX(Feuil1!$H$4:$H$66,SMALL(IF((Feuil1!$C$4:$C$66=Feuil2!$A$1)+(Feuil1!$C$4:$C$66=Feuil2!$B$1)+(Feuil1!$C$4:$C$66=Feuil2!$C$1),ROW(Feuil1!$H$4:$H$66)-3),ROW(22:22))),"")} -> kfj | B24: {=IFERROR(INDEX(Feuil1!$I$4:$I$66,SMALL(IF((Feuil1!$C$4:$C$66=Feuil2!$A$1)+(Feuil1!$C$4:$C$66=Feuil2!$B$1)+(Feuil1!$C$4:$C$66=Feuil2!$C$1),ROW(Feuil1!$H$4:$H$66)-3),ROW(22:22))),"")} -> 65893
A25: {=IFERROR(INDEX(Feuil1!$H$4:$H$66,SMALL(IF((Feuil1!$C$4:$C$66=Feuil2!$A$1)+(Feuil1!$C$4:$C$66=Feuil2!$B$1)+(Feuil1!$C$4:$C$66=Feuil2!$C$1),ROW(Feuil1!$H$4:$H$66)-3),ROW(23:23))),"")} -> kfjr | B25: {=IFERROR(INDEX(Feuil1!$I$4:$I$66,SMALL(IF((Feuil1!$C$4:$C$66=Feuil2!$A$1)+(Feuil1!$C$4:$C$66=Feuil2!$B$1)+(Feuil1!$C$4:$C$66=Feuil2!$C$1),ROW(Feuil1!$H$4:$H$66)-3),ROW(23:23))),"")} -> 25896
A26: {=IFERROR(INDEX(Feuil1!$H$4:$H$66,SMALL(IF((Feuil1!$C$4:$C$66=Feuil2!$A$1)+(Feuil1!$C$4:$C$66=Feuil2!$B$1)+(Feuil1!$C$4:$C$66=Feuil2!$C$1),ROW(Feuil1!$H$4:$H$66)-3),ROW(24:24))),"")} -> okfj | B26: {=IFERROR(INDEX(Feuil1!$I$4:$I$66,SMALL(IF((Feuil1!$C$4:$C$66=Feuil2!$A$1)+(Feuil1!$C$4:$C$66=Feuil2!$B$1)+(Feuil1!$C$4:$C$66=Feuil2!$C$1),ROW(Feuil1!$H$4:$H$66)-3),ROW(24:24))),"")} -> 85693
A27: {=IFERROR(INDEX(Feuil1!$H$4:$H$66,SMALL(IF((Feuil1!$C$4:$C$66=Feuil2!$A$1)+(Feuil1!$C$4:$C$66=Feuil2!$B$1)+(Feuil1!$C$4:$C$66=Feuil2!$C$1),ROW(Feuil1!$H$4:$H$66)-3),ROW(25:25))),"")} -> plurµ | B27: {=IFERROR(INDEX(Feuil1!$I$4:$I$66,SMALL(IF((Feuil1!$C$4:$C$66=Feuil2!$A$1)+(Feuil1!$C$4:$C$66=Feuil2!$B$1)+(Feuil1!$C$4:$C$66=Feuil2!$C$1),ROW(Feuil1!$H$4:$H$66)-3),ROW(25:25))),"")} -> 12378
A28: {=IFERROR(INDEX(Feuil1!$H$4:$H$66,SMALL(IF((Feuil1!$C$4:$C$66=Feuil2!$A$1)+(Feuil1!$C$4:$C$66=Feuil2!$B$1)+(Feuil1!$C$4:$C$66=Feuil2!$C$1),ROW(Feuil1!$H$4:$H$66)-3),ROW(26:26))),"")} -> plmen | B28: {=IFERROR(INDEX(Feuil1!$I$4:$I$66,SMALL(IF((Feuil1!$C$4:$C$66=Feuil2!$A$1)+(Feuil1!$C$4:$C$66=Feuil2!$B$1)+(Feuil1!$C$4:$C$66=Feuil2!$C$1),ROW(Feuil1!$H$4:$H$66)-3),ROW(26:26))),"")} -> 95123
A29: {=IFERROR(INDEX(Feuil1!$H$4:$H$66,SMALL(IF((Feuil1!$C$4:$C$66=Feuil2!$A$1)+(Feuil1!$C$4:$C$66=Feuil2!$B$1)+(Feuil1!$C$4:$C$66=Feuil2!$C$1),ROW(Feuil1!$H$4:$H$66)-3),ROW(27:27))),"")} -> ben | B29: {=IFERROR(INDEX(Feuil1!$I$4:$I$66,SMALL(IF((Feuil1!$C$4:$C$66=Feuil2!$A$1)+(Feuil1!$C$4:$C$66=Feuil2!$B$1)+(Feuil1!$C$4:$C$66=Feuil2!$C$1),ROW(Feuil1!$H$4:$H$66)-3),ROW(27:27))),"")} -> 15987
A30: {=IFERROR(INDEX(Feuil1!$H$4:$H$66,SMALL(IF((Feuil1!$C$4:$C$66=Feuil2!$A$1)+(Feuil1!$C$4:$C$66=Feuil2!$B$1)+(Feuil1!$C$4:$C$66=Feuil2!$C$1),ROW(Feuil1!$H$4:$H$66)-3),ROW(28:28))),"")} -> paul | B30: {=IFERROR(INDEX(Feuil1!$I$4:$I$66,SMALL(IF((Feuil1!$C$4:$C$66=Feuil2!$A$1)+(Feuil1!$C$4:$C$66=Feuil2!$B$1)+(Feuil1!$C$4:$C$66=Feuil2!$C$1),ROW(Feuil1!$H$4:$H$66)-3),ROW(28:28))),"")} -> 632154
A31: {=IFERROR(INDEX(Feuil1!$H$4:$H$66,SMALL(IF((Feuil1!$C$4:$C$66=Feuil2!$A$1)+(Feuil1!$C$4:$C$66=Feuil2!$B$1)+(Feuil1!$C$4:$C$66=Feuil2!$C$1),ROW(Feuil1!$H$4:$H$66)-3),ROW(29:29))),"")} -> jfhf | B31: {=IFERROR(INDEX(Feuil1!$I$4:$I$66,SMALL(IF((Feuil1!$C$4:$C$66=Feuil2!$A$1)+(Feuil1!$C$4:$C$66=Feuil2!$B$1)+(Feuil1!$C$4:$C$66=Feuil2!$C$1),ROW(Feuil1!$H$4:$H$66)-3),ROW(29:29))),"")} -> 895632
A32: {=IFERROR(INDEX(Feuil1!$H$4:$H$66,SMALL(IF((Feuil1!$C$4:$C$66=Feuil2!$A$1)+(Feuil1!$C$4:$C$66=Feuil2!$B$1)+(Feuil1!$C$4:$C$66=Feuil2!$C$1),ROW(Feuil1!$H$4:$H$66)-3),ROW(30:30))),"")} -> pkjf | B32: {=IFERROR(INDEX(Feuil1!$I$4:$I$66,SMALL(IF((Feuil1!$C$4:$C$66=Feuil2!$A$1)+(Feuil1!$C$4:$C$66=Feuil2!$B$1)+(Feuil1!$C$4:$C$66=Feuil2!$C$1),ROW(Feuil1!$H$4:$H$66)-3),ROW(30:30))),"")} -> 974563
A33: {=IFERROR(INDEX(Feuil1!$H$4:$H$66,SMALL(IF((Feuil1!$C$4:$C$66=Feuil2!$A$1)+(Feuil1!$C$4:$C$66=Feuil2!$B$1)+(Feuil1!$C$4:$C$66=Feuil2!$C$1),ROW(Feuil1!$H$4:$H$66)-3),ROW(31:31))),"")} -> jfhgfb | B33: {=IFERROR(INDEX(Feuil1!$I$4:$I$66,SMALL(IF((Feuil1!$C$4:$C$66=Feuil2!$A$1)+(Feuil1!$C$4:$C$66=Feuil2!$B$1)+(Feuil1!$C$4:$C$66=Feuil2!$C$1),ROW(Feuil1!$H$4:$H$66)-3),ROW(31:31))),"")} -> 325618
A34: {=IFERROR(INDEX(Feuil1!$H$4:$H$66,SMALL(IF((Feuil1!$C$4:$C$66=Feuil2!$A$1)+(Feuil1!$C$4:$C$66=Feuil2!$B$1)+(Feuil1!$C$4:$C$66=Feuil2!$C$1),ROW(Feuil1!$H$4:$H$66)-3),ROW(32:32))),"")} -> kfjfu | B34: {=IFERROR(INDEX(Feuil1!$I$4:$I$66,SMALL(IF((Feuil1!$C$4:$C$66=Feuil2!$A$1)+(Feuil1!$C$4:$C$66=Feuil2!$B$1)+(Feuil1!$C$4:$C$66=Feuil2!$C$1),ROW(Feuil1!$H$4:$H$66)-3),ROW(32:32))),"")} -> 985236
A35: {=IFERROR(INDEX(Feuil1!$H$4:$H$66,SMALL(IF((Feuil1!$C$4:$C$66=Feuil2!$A$1)+(Feuil1!$C$4:$C$66=Feuil2!$B$1)+(Feuil1!$C$4:$C$66=Feuil2!$C$1),ROW(Feuil1!$H$4:$H$66)-3),ROW(33:33))),"")} -> lfhf | B35: {=IFERROR(INDEX(Feuil1!$I$4:$I$66,SMALL(IF((Feuil1!$C$4:$C$66=Feuil2!$A$1)+(Feuil1!$C$4:$C$66=Feuil2!$B$1)+(Feuil1!$C$4:$C$66=Feuil2!$C$1),ROW(Feuil1!$H$4:$H$66)-3),ROW(33:33))),"")} -> 258741
A36: {=IFERROR(INDEX(Feuil1!$H$4:$H$66,SMALL(IF((Feuil1!$C$4:$C$66=Feuil2!$A$1)+(Feuil1!$C$4:$C$66=Feuil2!$B$1)+(Feuil1!$C$4:$C$66=Feuil2!$C$1),ROW(Feuil1!$H$4:$H$66)-3),ROW(34:34))),"")} -> plrb | B36: {=IFERROR(INDEX(Feuil1!$I$4:$I$66,SMALL(IF((Feuil1!$C$4:$C$66=Feuil2!$A$1)+(Feuil1!$C$4:$C$66=Feuil2!$B$1)+(Feuil1!$C$4:$C$66=Feuil2!$C$1),ROW(Feuil1!$H$4:$H$66)-3),ROW(34:34))),"")} -> 236547
A37: {=IFERROR(INDEX(Feuil1!$H$4:$H$66,SMALL(IF((Feuil1!$C$4:$C$66=Feuil2!$A$1)+(Feuil1!$C$4:$C$66=Feuil2!$B$1)+(Feuil1!$C$4:$C$66=Feuil2!$C$1),ROW(Feuil1!$H$4:$H$66)-3),ROW(35:35))),"")} -> plut | B37: {=IFERROR(INDEX(Feuil1!$I$4:$I$66,SMALL(IF((Feuil1!$C$4:$C$66=Feuil2!$A$1)+(Feuil1!$C$4:$C$66=Feuil2!$B$1)+(Feuil1!$C$4:$C$66=Feuil2!$C$1),ROW(Feuil1!$H$4:$H$66)-3),ROW(35:35))),"")} -> 985632
A38: {=IFERROR(INDEX(Feuil1!$H$4:$H$66,SMALL(IF((Feuil1!$C$4:$C$66=Feuil2!$A$1)+(Feuil1!$C$4:$C$66=Feuil2!$B$1)+(Feuil1!$C$4:$C$66=Feuil2!$C$1),ROW(Feuil1!$H$4:$H$66)-3),ROW(36:36))),"")} -> lokr | B38: {=IFERROR(INDEX(Feuil1!$I$4:$I$66,SMALL(IF((Feuil1!$C$4:$C$66=Feuil2!$A$1)+(Feuil1!$C$4:$C$66=Feuil2!$B$1)+(Feuil1!$C$4:$C$66=Feuil2!$C$1),ROW(Feuil1!$H$4:$H$66)-3),ROW(36:36))),"")} -> 985623
A39: {=IFERROR(INDEX(Feuil1!$H$4:$H$66,SMALL(IF((Feuil1!$C$4:$C$66=Feuil2!$A$1)+(Feuil1!$C$4:$C$66=Feuil2!$B$1)+(Feuil1!$C$4:$C$66=Feuil2!$C$1),ROW(Feuil1!$H$4:$H$66)-3),ROW(37:37))),"")} -> plnd | B39: {=IFERROR(INDEX(Feuil1!$I$4:$I$66,SMALL(IF((Feuil1!$C$4:$C$66=Feuil2!$A$1)+(Feuil1!$C$4:$C$66=Feuil2!$B$1)+(Feuil1!$C$4:$C$66=Feuil2!$C$1),ROW(Feuil1!$H$4:$H$66)-3),ROW(37:37))),"")} -> 965103
A40: {=IFERROR(INDEX(Feuil1!$H$4:$H$66,SMALL(IF((Feuil1!$C$4:$C$66=Feuil2!$A$1)+(Feuil1!$C$4:$C$66=Feuil2!$B$1)+(Feuil1!$C$4:$C$66=Feuil2!$C$1),ROW(Feuil1!$H$4:$H$66)-3),ROW(38:38))),"")} -> plmjf | B40: {=IFERROR(INDEX(Feuil1!$I$4:$I$66,SMALL(IF((Feuil1!$C$4:$C$66=Feuil2!$A$1)+(Feuil1!$C$4:$C$66=Feuil2!$B$1)+(Feuil1!$C$4:$C$66=Feuil2!$C$1),ROW(Feuil1!$H$4:$H$66)-3),ROW(38:38))),"")} -> 4521789
A41: {=IFERROR(INDEX(Feuil1!$H$4:$H$66,SMALL(IF((Feuil1!$C$4:$C$66=Feuil2!$A$1)+(Feuil1!$C$4:$C$66=Feuil2!$B$1)+(Feuil1!$C$4:$C$66=Feuil2!$C$1),ROW(Feuil1!$H$4:$H$66)-3),ROW(39:39))),"")} -> resc | B41: {=IFERROR(INDEX(Feuil1!$I$4:$I$66,SMALL(IF((Feuil1!$C$4:$C$66=Feuil2!$A$1)+(Feuil1!$C$4:$C$66=Feuil2!$B$1)+(Feuil1!$C$4:$C$66=Feuil2!$C$1),ROW(Feuil1!$H$4:$H$66)-3),ROW(39:39))),"")} -> 6458792
A42: {=IFERROR(INDEX(Feuil1!$H$4:$H$66,SMALL(IF((Feuil1!$C$4:$C$66=Feuil2!$A$1)+(Feuil1!$C$4:$C$66=Feuil2!$B$1)+(Feuil1!$C$4:$C$66=Feuil2!$C$1),ROW(Feuil1!$H$4:$H$66)-3),ROW(40:40))),"")} -> pleu | B42: {=IFERROR(INDEX(Feuil1!$I$4:$I$66,SMALL(IF((Feuil1!$C$4:$C$66=Feuil2!$A$1)+(Feuil1!$C$4:$C$66=Feuil2!$B$1)+(Feuil1!$C$4:$C$66=Feuil2!$C$1),ROW(Feuil1!$H$4:$H$66)-3),ROW(40:40))),"")} -> 15965412
A43: {=IFERROR(INDEX(Feuil1!$H$4:$H$66,SMALL(IF((Feuil1!$C$4:$C$66=Feuil2!$A$1)+(Feuil1!$C$4:$C$66=Feuil2!$B$1)+(Feuil1!$C$4:$C$66=Feuil2!$C$1),ROW(Feuil1!$H$4:$H$66)-3),ROW(41:41))),"")} | B43: {=IFERROR(INDEX(Feuil1!$I$4:$I$66,SMALL(IF((Feuil1!$C$4:$C$66=Feuil2!$A$1)+(Feuil1!$C$4:$C$66=Feuil2!$B$1)+(Feuil1!$C$4:$C$66=Feuil2!$C$1),ROW(Feuil1!$H$4:$H$66)-3),ROW(41:41))),"")}
A44: {=IFERROR(INDEX(Feuil1!$H$4:$H$66,SMALL(IF((Feuil1!$C$4:$C$66=Feuil2!$A$1)+(Feuil1!$C$4:$C$66=Feuil2!$B$1)+(Feuil1!$C$4:$C$66=Feuil2!$C$1),ROW(Feuil1!$H$4:$H$66)-3),ROW(42:42))),"")} | B44: {=IFERROR(INDEX(Feuil1!$I$4:$I$66,SMALL(IF((Feuil1!$C$4:$C$66=Feuil2!$A$1)+(Feuil1!$C$4:$C$66=Feuil2!$B$1)+(Feuil1!$C$4:$C$66=Feuil2!$C$1),ROW(Feuil1!$H$4:$H$66)-3),ROW(42:42))),"")}
A45: {=IFERROR(INDEX(Feuil1!$H$4:$H$66,SMALL(IF((Feuil1!$C$4:$C$66=Feuil2!$A$1)+(Feuil1!$C$4:$C$66=Feuil2!$B$1)+(Feuil1!$C$4:$C$66=Feuil2!$C$1),ROW(Feuil1!$H$4:$H$66)-3),ROW(43:43))),"")} | B45: {=IFERROR(INDEX(Feuil1!$I$4:$I$66,SMALL(IF((Feuil1!$C$4:$C$66=Feuil2!$A$1)+(Feuil1!$C$4:$C$66=Feuil2!$B$1)+(Feuil1!$C$4:$C$66=Feuil2!$C$1),ROW(Feuil1!$H$4:$H$66)-3),ROW(43:43))),"")}
A46: {=IFERROR(INDEX(Feuil1!$H$4:$H$66,SMALL(IF((Feuil1!$C$4:$C$66=Feuil2!$A$1)+(Feuil1!$C$4:$C$66=Feuil2!$B$1)+(Feuil1!$C$4:$C$66=Feuil2!$C$1),ROW(Feuil1!$H$4:$H$66)-3),ROW(44:44))),"")} | B46: {=IFERROR(INDEX(Feuil1!$I$4:$I$66,SMALL(IF((Feuil1!$C$4:$C$66=Feuil2!$A$1)+(Feuil1!$C$4:$C$66=Feuil2!$B$1)+(Feuil1!$C$4:$C$66=Feuil2!$C$1),ROW(Feuil1!$H$4:$H$66)-3),ROW(44:44))),"")}
A47: {=IFERROR(INDEX(Feuil1!$H$4:$H$66,SMALL(IF((Feuil1!$C$4:$C$66=Feuil2!$A$1)+(Feuil1!$C$4:$C$66=Feuil2!$B$1)+(Feuil1!$C$4:$C$66=Feuil2!$C$1),ROW(Feuil1!$H$4:$H$66)-3),ROW(45:45))),"")} | B47: {=IFERROR(INDEX(Feuil1!$I$4:$I$66,SMALL(IF((Feuil1!$C$4:$C$66=Feuil2!$A$1)+(Feuil1!$C$4:$C$66=Feuil2!$B$1)+(Feuil1!$C$4:$C$66=Feuil2!$C$1),ROW(Feuil1!$H$4:$H$66)-3),ROW(45:45))),"")}
A48: {=IFERROR(INDEX(Feuil1!$H$4:$H$66,SMALL(IF((Feuil1!$C$4:$C$66=Feuil2!$A$1)+(Feuil1!$C$4:$C$66=Feuil2!$B$1)+(Feuil1!$C$4:$C$66=Feuil2!$C$1),ROW(Feuil1!$H$4:$H$66)-3),ROW(46:46))),"")} | B48: {=IFERROR(INDEX(Feuil1!$I$4:$I$66,SMALL(IF((Feuil1!$C$4:$C$66=Feuil2!$A$1)+(Feuil1!$C$4:$C$66=Feuil2!$B$1)+(Feuil1!$C$4:$C$66=Feuil2!$C$1),ROW(Feuil1!$H$4:$H$66)-3),ROW(46:46))),"")}
A49: {=IFERROR(INDEX(Feuil1!$H$4:$H$66,SMALL(IF((Feuil1!$C$4:$C$66=Feuil2!$A$1)+(Feuil1!$C$4:$C$66=Feuil2!$B$1)+(Feuil1!$C$4:$C$66=Feuil2!$C$1),ROW(Feuil1!$H$4:$H$66)-3),ROW(47:47))),"")} | B49: {=IFERROR(INDEX(Feuil1!$I$4:$I$66,SMALL(IF((Feuil1!$C$4:$C$66=Feuil2!$A$1)+(Feuil1!$C$4:$C$66=Feuil2!$B$1)+(Feuil1!$C$4:$C$66=Feuil2!$C$1),ROW(Feuil1!$H$4:$H$66)-3),ROW(47:47))),"")}
A50: {=IFERROR(INDEX(Feuil1!$H$4:$H$66,SMALL(IF((Feuil1!$C$4:$C$66=Feuil2!$A$1)+(Feuil1!$C$4:$C$66=Feuil2!$B$1)+(Feuil1!$C$4:$C$66=Feuil2!$C$1),ROW(Feuil1!$H$4:$H$66)-3),ROW(48:48))),"")} | B50: {=IFERROR(INDEX(Feuil1!$I$4:$I$66,SMALL(IF((Feuil1!$C$4:$C$66=Feuil2!$A$1)+(Feuil1!$C$4:$C$66=Feuil2!$B$1)+(Feuil1!$C$4:$C$66=Feuil2!$C$1),ROW(Feuil1!$H$4:$H$66)-3),ROW(48:48))),"")}
A51: {=IFERROR(INDEX(Feuil1!$H$4:$H$66,SMALL(IF((Feuil1!$C$4:$C$66=Feuil2!$A$1)+(Feuil1!$C$4:$C$66=Feuil2!$B$1)+(Feuil1!$C$4:$C$66=Feuil2!$C$1),ROW(Feuil1!$H$4:$H$66)-3),ROW(49:49))),"")} | B51: {=IFERROR(INDEX(Feuil1!$I$4:$I$66,SMALL(IF((Feuil1!$C$4:$C$66=Feuil2!$A$1)+(Feuil1!$C$4:$C$66=Feuil2!$B$1)+(Feuil1!$C$4:$C$66=Feuil2!$C$1),ROW(Feuil1!$H$4:$H$66)-3),ROW(49:49))),"")}
A52: {=IFERROR(INDEX(Feuil1!$H$4:$H$66,SMALL(IF((Feuil1!$C$4:$C$66=Feuil2!$A$1)+(Feuil1!$C$4:$C$66=Feuil2!$B$1)+(Feuil1!$C$4:$C$66=Feuil2!$C$1),ROW(Feuil1!$H$4:$H$66)-3),ROW(50:50))),"")} | B52: {=IFERROR(INDEX(Feuil1!$I$4:$I$66,SMALL(IF((Feuil1!$C$4:$C$66=Feuil2!$A$1)+(Feuil1!$C$4:$C$66=Feuil2!$B$1)+(Feuil1!$C$4:$C$66=Feuil2!$C$1),ROW(Feuil1!$H$4:$H$66)-3),ROW(50:50))),"")}
A53: {=IFERROR(INDEX(Feuil1!$H$4:$H$66,SMALL(IF((Feuil1!$C$4:$C$66=Feuil2!$A$1)+(Feuil1!$C$4:$C$66=Feuil2!$B$1)+(Feuil1!$C$4:$C$66=Feuil2!$C$1),ROW(Feuil1!$H$4:$H$66)-3),ROW(51:51))),"")} | B53: {=IFERROR(INDEX(Feuil1!$I$4:$I$66,SMALL(IF((Feuil1!$C$4:$C$66=Feuil2!$A$1)+(Feuil1!$C$4:$C$66=Feuil2!$B$1)+(Feuil1!$C$4:$C$66=Feuil2!$C$1),ROW(Feuil1!$H$4:$H$66)-3),ROW(51:51))),"")}
A54: {=IFERROR(INDEX(Feuil1!$H$4:$H$66,SMALL(IF((Feuil1!$C$4:$C$66=Feuil2!$A$1)+(Feuil1!$C$4:$C$66=Feuil2!$B$1)+(Feuil1!$C$4:$C$66=Feuil2!$C$1),ROW(Feuil1!$H$4:$H$66)-3),ROW(52:52))),"")} | B54: {=IFERROR(INDEX(Feuil1!$I$4:$I$66,SMALL(IF((Feuil1!$C$4:$C$66=Feuil2!$A$1)+(Feuil1!$C$4:$C$66=Feuil2!$B$1)+(Feuil1!$C$4:$C$66=Feuil2!$C$1),ROW(Feuil1!$H$4:$H$66)-3),ROW(52:52))),"")}
A55: {=IFERROR(INDEX(Feuil1!$H$4:$H$66,SMALL(IF((Feuil1!$C$4:$C$66=Feuil2!$A$1)+(Feuil1!$C$4:$C$66=Feuil2!$B$1)+(Feuil1!$C$4:$C$66=Feuil2!$C$1),ROW(Feuil1!$H$4:$H$66)-3),ROW(53:53))),"")} | B55: {=IFERROR(INDEX(Feuil1!$I$4:$I$66,SMALL(IF((Feuil1!$C$4:$C$66=Feuil2!$A$1)+(Feuil1!$C$4:$C$66=Feuil2!$B$1)+(Feuil1!$C$4:$C$66=Feuil2!$C$1),ROW(Feuil1!$H$4:$H$66)-3),ROW(53:53))),"")}
A56: {=IFERROR(INDEX(Feuil1!$H$4:$H$66,SMALL(IF((Feuil1!$C$4:$C$66=Feuil2!$A$1)+(Feuil1!$C$4:$C$66=Feuil2!$B$1)+(Feuil1!$C$4:$C$66=Feuil2!$C$1),ROW(Feuil1!$H$4:$H$66)-3),ROW(54:54))),"")} | B56: {=IFERROR(INDEX(Feuil1!$I$4:$I$66,SMALL(IF((Feuil1!$C$4:$C$66=Feuil2!$A$1)+(Feuil1!$C$4:$C$66=Feuil2!$B$1)+(Feuil1!$C$4:$C$66=Feuil2!$C$1),ROW(Feuil1!$H$4:$H$66)-3),ROW(54:54))),"")}
A57: {=IFERROR(INDEX(Feuil1!$H$4:$H$66,SMALL(IF((Feuil1!$C$4:$C$66=Feuil2!$A$1)+(Feuil1!$C$4:$C$66=Feuil2!$B$1)+(Feuil1!$C$4:$C$66=Feuil2!$C$1),ROW(Feuil1!$H$4:$H$66)-3),ROW(55:55))),"")} | B57: {=IFERROR(INDEX(Feuil1!$I$4:$I$66,SMALL(IF((Feuil1!$C$4:$C$66=Feuil2!$A$1)+(Feuil1!$C$4:$C$66=Feuil2!$B$1)+(Feuil1!$C$4:$C$66=Feuil2!$C$1),ROW(Feuil1!$H$4:$H$66)-3),ROW(55:55))),"")}
A58: {=IFERROR(INDEX(Feuil1!$H$4:$H$66,SMALL(IF((Feuil1!$C$4:$C$66=Feuil2!$A$1)+(Feuil1!$C$4:$C$66=Feuil2!$B$1)+(Feuil1!$C$4:$C$66=Feuil2!$C$1),ROW(Feuil1!$H$4:$H$66)-3),ROW(56:56))),"")} | B58: {=IFERROR(INDEX(Feuil1!$I$4:$I$66,SMALL(IF((Feuil1!$C$4:$C$66=Feuil2!$A$1)+(Feuil1!$C$4:$C$66=Feuil2!$B$1)+(Feuil1!$C$4:$C$66=Feuil2!$C$1),ROW(Feuil1!$H$4:$H$66)-3),ROW(56:56))),"")}
A59: {=IFERROR(INDEX(Feuil1!$H$4:$H$66,SMALL(IF((Feuil1!$C$4:$C$66=Feuil2!$A$1)+(Feuil1!$C$4:$C$66=Feuil2!$B$1)+(Feuil1!$C$4:$C$66=Feuil2!$C$1),ROW(Feuil1!$H$4:$H$66)-3),ROW(57:57))),"")} | B59: {=IFERROR(INDEX(Feuil1!$I$4:$I$66,SMALL(IF((Feuil1!$C$4:$C$66=Feuil2!$A$1)+(Feuil1!$C$4:$C$66=Feuil2!$B$1)+(Feuil1!$C$4:$C$66=Feuil2!$C$1),ROW(Feuil1!$H$4:$H$66)-3),ROW(57:57))),"")}
A60: {=IFERROR(INDEX(Feuil1!$H$4:$H$66,SMALL(IF((Feuil1!$C$4:$C$66=Feuil2!$A$1)+(Feuil1!$C$4:$C$66=Feuil2!$B$1)+(Feuil1!$C$4:$C$66=Feuil2!$C$1),ROW(Feuil1!$H$4:$H$66)-3),ROW(58:58))),"")} | B60: {=IFERROR(INDEX(Feuil1!$I$4:$I$66,SMALL(IF((Feuil1!$C$4:$C$66=Feuil2!$A$1)+(Feuil1!$C$4:$C$66=Feuil2!$B$1)+(Feuil1!$C$4:$C$66=Feuil2!$C$1),ROW(Feuil1!$H$4:$H$66)-3),ROW(58:58))),"")}
A61: {=IFERROR(INDEX(Feuil1!$H$4:$H$66,SMALL(IF((Feuil1!$C$4:$C$66=Feuil2!$A$1)+(Feuil1!$C$4:$C$66=Feuil2!$B$1)+(Feuil1!$C$4:$C$66=Feuil2!$C$1),ROW(Feuil1!$H$4:$H$66)-3),ROW(59:59))),"")} | B61: {=IFERROR(INDEX(Feuil1!$I$4:$I$66,SMALL(IF((Feuil1!$C$4:$C$66=Feuil2!$A$1)+(Feuil1!$C$4:$C$66=Feuil2!$B$1)+(Feuil1!$C$4:$C$66=Feuil2!$C$1),ROW(Feuil1!$H$4:$H$66)-3),ROW(59:59))),"")}
A62: {=IFERROR(INDEX(Feuil1!$H$4:$H$66,SMALL(IF((Feuil1!$C$4:$C$66=Feuil2!$A$1)+(Feuil1!$C$4:$C$66=Feuil2!$B$1)+(Feuil1!$C$4:$C$66=Feuil2!$C$1),ROW(Feuil1!$H$4:$H$66)-3),ROW(60:60))),"")} | B62: {=IFERROR(INDEX(Feuil1!$I$4:$I$66,SMALL(IF((Feuil1!$C$4:$C$66=Feuil2!$A$1)+(Feuil1!$C$4:$C$66=Feuil2!$B$1)+(Feuil1!$C$4:$C$66=Feuil2!$C$1),ROW(Feuil1!$H$4:$H$66)-3),ROW(60:60))),"")}
A63: {=IFERROR(INDEX(Feuil1!$H$4:$H$66,SMALL(IF((Feuil1!$C$4:$C$66=Feuil2!$A$1)+(Feuil1!$C$4:$C$66=Feuil2!$B$1)+(Feuil1!$C$4:$C$66=Feuil2!$C$1),ROW(Feuil1!$H$4:$H$66)-3),ROW(61:61))),"")} | B63: {=IFERROR(INDEX(Feuil1!$I$4:$I$66,SMALL(IF((Feuil1!$C$4:$C$66=Feuil2!$A$1)+(Feuil1!$C$4:$C$66=Feuil2!$B$1)+(Feuil1!$C$4:$C$66=Feuil2!$C$1),ROW(Feuil1!$H$4:$H$66)-3),ROW(61:61))),"")}
A64: {=IFERROR(INDEX(Feuil1!$H$4:$H$66,SMALL(IF((Feuil1!$C$4:$C$66=Feuil2!$A$1)+(Feuil1!$C$4:$C$66=Feuil2!$B$1)+(Feuil1!$C$4:$C$66=Feuil2!$C$1),ROW(Feuil1!$H$4:$H$66)-3),ROW(62:62))),"")} | B64: {=IFERROR(INDEX(Feuil1!$I$4:$I$66,SMALL(IF((Feuil1!$C$4:$C$66=Feuil2!$A$1)+(Feuil1!$C$4:$C$66=Feuil2!$B$1)+(Feuil1!$C$4:$C$66=Feuil2!$C$1),ROW(Feuil1!$H$4:$H$66)-3),ROW(62:62))),"")}
A65: {=IFERROR(INDEX(Feuil1!$H$4:$H$66,SMALL(IF((Feuil1!$C$4:$C$66=Feuil2!$A$1)+(Feuil1!$C$4:$C$66=Feuil2!$B$1)+(Feuil1!$C$4:$C$66=Feuil2!$C$1),ROW(Feuil1!$H$4:$H$66)-3),ROW(63:63))),"")} | B65: {=IFERROR(INDEX(Feuil1!$I$4:$I$66,SMALL(IF(Feuil1!$C$4:$C$66=Feuil2!$A$1,ROW(Feuil1!$I$4:$I$66)-3),ROW(63:63))),"")}
A66: {=IFERROR(INDEX(Feuil1!$H$4:$H$66,SMALL(IF((Feuil1!$C$4:$C$66=Feuil2!$A$1)+(Feuil1!$C$4:$C$66=Feuil2!$B$1)+(Feuil1!$C$4:$C$66=Feuil2!$C$1),ROW(Feuil1!$H$4:$H$66)-3),ROW(64:64))),"")} | B66: {=IFERROR(INDEX(Feuil1!$I$4:$I$66,SMALL(IF(Feuil1!$C$4:$C$66=Feuil2!$A$1,ROW(Feuil1!$I$4:$I$66)-3),ROW(64:64))),"")}
A67: {=IFERROR(INDEX(Feuil1!$H$4:$H$66,SMALL(IF((Feuil1!$C$4:$C$66=Feuil2!$A$1)+(Feuil1!$C$4:$C$66=Feuil2!$B$1)+(Feuil1!$C$4:$C$66=Feuil2!$C$1),ROW(Feuil1!$H$4:$H$66)-3),ROW(65:65))),"")} | B67: {=IFERROR(INDEX(Feuil1!$I$4:$I$66,SMALL(IF(Feuil1!$C$4:$C$66=Feuil2!$A$1,ROW(Feuil1!$I$4:$I$66)-3),ROW(65:65))),"")}
A68: {=IFERROR(INDEX(Feuil1!$H$4:$H$66,SMALL(IF((Feuil1!$C$4:$C$66=Feuil2!$A$1)+(Feuil1!$C$4:$C$66=Feuil2!$B$1)+(Feuil1!$C$4:$C$66=Feuil2!$C$1),ROW(Feuil1!$H$4:$H$66)-3),ROW(66:66))),"")} | B68: {=IFERROR(INDEX(Feuil1!$I$4:$I$66,SMALL(IF(Feuil1!$C$4:$C$66=Feuil2!$A$1,ROW(Feuil1!$I$4:$I$66)-3),ROW(66:66))),"")}
A69: {=IFERROR(INDEX(Feuil1!$H$4:$H$66,SMALL(IF((Feuil1!$C$4:$C$66=Feuil2!$A$1)+(Feuil1!$C$4:$C$66=Feuil2!$B$1)+(Feuil1!$C$4:$C$66=Feuil2!$C$1),ROW(Feuil1!$H$4:$H$66)-3),ROW(67:67))),"")} | B69: {=IFERROR(INDEX(Feuil1!$I$4:$I$66,SMALL(IF(Feuil1!$C$4:$C$66=Feuil2!$A$1,ROW(Feuil1!$I$4:$I$66)-3),ROW(67:67))),"")}
A70: {=IFERROR(INDEX(Feuil1!$H$4:$H$66,SMALL(IF((Feuil1!$C$4:$C$66=Feuil2!$A$1)+(Feuil1!$C$4:$C$66=Feuil2!$B$1)+(Feuil1!$C$4:$C$66=Feuil2!$C$1),ROW(Feuil1!$H$4:$H$66)-3),ROW(68:68))),"")} | B70: {=IFERROR(INDEX(Feuil1!$I$4:$I$66,SMALL(IF(Feuil1!$C$4:$C$66=Feuil2!$A$1,ROW(Feuil1!$I$4:$I$66)-3),ROW(68:68))),"")}
A71: {=IFERROR(INDEX(Feuil1!$H$4:$H$66,SMALL(IF((Feuil1!$C$4:$C$66=Feuil2!$A$1)+(Feuil1!$C$4:$C$66=Feuil2!$B$1)+(Feuil1!$C$4:$C$66=Feuil2!$C$1),ROW(Feuil1!$H$4:$H$66)-3),ROW(69:69))),"")} | B71: {=IFERROR(INDEX(Feuil1!$I$4:$I$66,SMALL(IF(Feuil1!$C$4:$C$66=Feuil2!$A$1,ROW(Feuil1!$I$4:$I$66)-3),ROW(69:69))),"")}
A72: {=IFERROR(INDEX(Feuil1!$H$4:$H$66,SMALL(IF((Feuil1!$C$4:$C$66=Feuil2!$A$1)+(Feuil1!$C$4:$C$66=Feuil2!$B$1)+(Feuil1!$C$4:$C$66=Feuil2!$C$1),ROW(Feuil1!$H$4:$H$66)-3),ROW(70:70))),"")} | B72: {=IFERROR(INDEX(Feuil1!$I$4:$I$66,SMALL(IF(Feuil1!$C$4:$C$66=Feuil2!$A$1,ROW(Feuil1!$I$4:$I$66)-3),ROW(70:70))),"")}
A73: {=IFERROR(INDEX(Feuil1!$H$4:$H$66,SMALL(IF((Feuil1!$C$4:$C$66=Feuil2!$A$1)+(Feuil1!$C$4:$C$66=Feuil2!$B$1)+(Feuil1!$C$4:$C$66=Feuil2!$C$1),ROW(Feuil1!$H$4:$H$66)-3),ROW(71:71))),"")} | B73: {=IFERROR(INDEX(Feuil1!$I$4:$I$66,SMALL(IF(Feuil1!$C$4:$C$66=Feuil2!$A$1,ROW(Feuil1!$I$4:$I$66)-3),ROW(71:71))),"")}
A74: {=IFERROR(INDEX(Feuil1!$H$4:$H$66,SMALL(IF((Feuil1!$C$4:$C$66=Feuil2!$A$1)+(Feuil1!$C$4:$C$66=Feuil2!$B$1)+(Feuil1!$C$4:$C$66=Feuil2!$C$1),ROW(Feuil1!$H$4:$H$66)-3),ROW(72:72))),"")} | B74: {=IFERROR(INDEX(Feuil1!$I$4:$I$66,SMALL(IF(Feuil1!$C$4:$C$66=Feuil2!$A$1,ROW(Feuil1!$I$4:$I$66)-3),ROW(72:72))),"")}
A75: {=IFERROR(INDEX(Feuil1!$H$4:$H$66,SMALL(IF((Feuil1!$C$4:$C$66=Feuil2!$A$1)+(Feuil1!$C$4:$C$66=Feuil2!$B$1)+(Feuil1!$C$4:$C$66=Feuil2!$C$1),ROW(Feuil1!$H$4:$H$66)-3),ROW(73:73))),"")} | B75: {=IFERROR(INDEX(Feuil1!$I$4:$I$66,SMALL(IF(Feuil1!$C$4:$C$66=Feuil2!$A$1,ROW(Feuil1!$I$4:$I$66)-3),ROW(73:73))),"")}
A76: {=IFERROR(INDEX(Feuil1!$H$4:$H$66,SMALL(IF((Feuil1!$C$4:$C$66=Feuil2!$A$1)+(Feuil1!$C$4:$C$66=Feuil2!$B$1)+(Feuil1!$C$4:$C$66=Feuil2!$C$1),ROW(Feuil1!$H$4:$H$66)-3),ROW(74:74))),"")} | B76: {=IFERROR(INDEX(Feuil1!$I$4:$I$66,SMALL(IF(Feuil1!$C$4:$C$66=Feuil2!$A$1,ROW(Feuil1!$I$4:$I$66)-3),ROW(74:74))),"")}
A77: {=IFERROR(INDEX(Feuil1!$H$4:$H$66,SMALL(IF((Feuil1!$C$4:$C$66=Feuil2!$A$1)+(Feuil1!$C$4:$C$66=Feuil2!$B$1)+(Feuil1!$C$4:$C$66=Feuil2!$C$1),ROW(Feuil1!$H$4:$H$66)-3),ROW(75:75))),"")} | B77: {=IFERROR(INDEX(Feuil1!$I$4:$I$66,SMALL(IF(Feuil1!$C$4:$C$66=Feuil2!$A$1,ROW(Feuil1!$I$4:$I$66)-3),ROW(75:75))),"")}
A78: {=IFERROR(INDEX(Feuil1!$H$4:$H$66,SMALL(IF((Feuil1!$C$4:$C$66=Feuil2!$A$1)+(Feuil1!$C$4:$C$66=Feuil2!$B$1)+(Feuil1!$C$4:$C$66=Feuil2!$C$1),ROW(Feuil1!$H$4:$H$66)-3),ROW(76:76))),"")} | B78: {=IFERROR(INDEX(Feuil1!$I$4:$I$66,SMALL(IF(Feuil1!$C$4:$C$66=Feuil2!$A$1,ROW(Feuil1!$I$4:$I$66)-3),ROW(76:76))),"")}
A79: {=IFERROR(INDEX(Feuil1!$H$4:$H$66,SMALL(IF((Feuil1!$C$4:$C$66=Feuil2!$A$1)+(Feuil1!$C$4:$C$66=Feuil2!$B$1)+(Feuil1!$C$4:$C$66=Feuil2!$C$1),ROW(Feuil1!$H$4:$H$66)-3),ROW(77:77))),"")} | B79: {=IFERROR(INDEX(Feuil1!$I$4:$I$66,SMALL(IF(Feuil1!$C$4:$C$66=Feuil2!$A$1,ROW(Feuil1!$I$4:$I$66)-3),ROW(77:77))),"")}
A80: {=IFERROR(INDEX(Feuil1!$H$4:$H$66,SMALL(IF((Feuil1!$C$4:$C$66=Feuil2!$A$1)+(Feuil1!$C$4:$C$66=Feuil2!$B$1)+(Feuil1!$C$4:$C$66=Feuil2!$C$1),ROW(Feuil1!$H$4:$H$66)-3),ROW(78:78))),"")} | B80: {=IFERROR(INDEX(Feuil1!$I$4:$I$66,SMALL(IF(Feuil1!$C$4:$C$66=Feuil2!$A$1,ROW(Feuil1!$I$4:$I$66)-3),ROW(78:78))),"")}
A81: {=IFERROR(INDEX(Feuil1!$H$4:$H$66,SMALL(IF((Feuil1!$C$4:$C$66=Feuil2!$A$1)+(Feuil1!$C$4:$C$66=Feuil2!$B$1)+(Feuil1!$C$4:$C$66=Feuil2!$C$1),ROW(Feuil1!$H$4:$H$66)-3),ROW(79:79))),"")} | B81: {=IFERROR(INDEX(Feuil1!$I$4:$I$66,SMALL(IF(Feuil1!$C$4:$C$66=Feuil2!$A$1,ROW(Feuil1!$I$4:$I$66)-3),ROW(79:79))),"")}
A82: {=IFERROR(INDEX(Feuil1!$H$4:$H$66,SMALL(IF((Feuil1!$C$4:$C$66=Feuil2!$A$1)+(Feuil1!$C$4:$C$66=Feuil2!$B$1)+(Feuil1!$C$4:$C$66=Feuil2!$C$1),ROW(Feuil1!$H$4:$H$66)-3),ROW(80:80))),"")} | B82: {=IFERROR(INDEX(Feuil1!$I$4:$I$66,SMALL(IF(Feuil1!$C$4:$C$66=Feuil2!$A$1,ROW(Feuil1!$I$4:$I$66)-3),ROW(80:80))),"")}
A83: {=IFERROR(INDEX(Feuil1!$H$4:$H$66,SMALL(IF((Feuil1!$C$4:$C$66=Feuil2!$A$1)+(Feuil1!$C$4:$C$66=Feuil2!$B$1)+(Feuil1!$C$4:$C$66=Feuil2!$C$1),ROW(Feuil1!$H$4:$H$66)-3),ROW(81:81))),"")} | B83: {=IFERROR(INDEX(Feuil1!$I$4:$I$66,SMALL(IF(Feuil1!$C$4:$C$66=Feuil2!$A$1,ROW(Feuil1!$I$4:$I$66)-3),ROW(81:81))),"")}
A84: {=IFERROR(INDEX(Feuil1!$H$4:$H$66,SMALL(IF((Feuil1!$C$4:$C$66=Feuil2!$A$1)+(Feuil1!$C$4:$C$66=Feuil2!$B$1)+(Feuil1!$C$4:$C$66=Feuil2!$C$1),ROW(Feuil1!$H$4:$H$66)-3),ROW(82:82))),"")} | B84: {=IFERROR(INDEX(Feuil1!$I$4:$I$66,SMALL(IF(Feuil1!$C$4:$C$66=Feuil2!$A$1,ROW(Feuil1!$I$4:$I$66)-3),ROW(82:82))),"")}
A85: {=IFERROR(INDEX(Feuil1!$H$4:$H$66,SMALL(IF((Feuil1!$C$4:$C$66=Feuil2!$A$1)+(Feuil1!$C$4:$C$66=Feuil2!$B$1)+(Feuil1!$C$4:$C$66=Feuil2!$C$1),ROW(Feuil1!$H$4:$H$66)-3),ROW(83:83))),"")} | B85: {=IFERROR(INDEX(Feuil1!$I$4:$I$66,SMALL(IF(Feuil1!$C$4:$C$66=Feuil2!$A$1,ROW(Feuil1!$I$4:$I$66)-3),ROW(83:83))),"")}
A86: {=IFERROR(INDEX(Feuil1!$H$4:$H$66,SMALL(IF((Feuil1!$C$4:$C$66=Feuil2!$A$1)+(Feuil1!$C$4:$C$66=Feuil2!$B$1)+(Feuil1!$C$4:$C$66=Feuil2!$C$1),ROW(Feuil1!$H$4:$H$66)-3),ROW(84:84))),"")} | B86: {=IFERROR(INDEX(Feuil1!$I$4:$I$66,SMALL(IF(Feuil1!$C$4:$C$66=Feuil2!$A$1,ROW(Feuil1!$I$4:$I$66)-3),ROW(84:84))),"")}
A87: {=IFERROR(INDEX(Feuil1!$H$4:$H$66,SMALL(IF((Feuil1!$C$4:$C$66=Feuil2!$A$1)+(Feuil1!$C$4:$C$66=Feuil2!$B$1)+(Feuil1!$C$4:$C$66=Feuil2!$C$1),ROW(Feuil1!$H$4:$H$66)-3),ROW(85:85))),"")} | B87: {=IFERROR(INDEX(Feuil1!$I$4:$I$66,SMALL(IF(Feuil1!$C$4:$C$66=Feuil2!$A$1,ROW(Feuil1!$I$4:$I$66)-3),ROW(85:85))),"")}
A88: {=IFERROR(INDEX(Feuil1!$H$4:$H$66,SMALL(IF((Feuil1!$C$4:$C$66=Feuil2!$A$1)+(Feuil1!$C$4:$C$66=Feuil2!$B$1)+(Feuil1!$C$4:$C$66=Feuil2!$C$1),ROW(Feuil1!$H$4:$H$66)-3),ROW(86:86))),"")} | B88: {=IFERROR(INDEX(Feuil1!$I$4:$I$66,SMALL(IF(Feuil1!$C$4:$C$66=Feuil2!$A$1,ROW(Feuil1!$I$4:$I$66)-3),ROW(86:86))),"")}
A89: {=IFERROR(INDEX(Feuil1!$H$4:$H$66,SMALL(IF((Feuil1!$C$4:$C$66=Feuil2!$A$1)+(Feuil1!$C$4:$C$66=Feuil2!$B$1)+(Feuil1!$C$4:$C$66=Feuil2!$C$1),ROW(Feuil1!$H$4:$H$66)-3),ROW(87:87))),"")} | B89: {=IFERROR(INDEX(Feuil1!$I$4:$I$66,SMALL(IF(Feuil1!$C$4:$C$66=Feuil2!$A$1,ROW(Feuil1!$I$4:$I$66)-3),ROW(87:87))),"")}
A90: {=IFERROR(INDEX(Feuil1!$H$4:$H$66,SMALL(IF((Feuil1!$C$4:$C$66=Feuil2!$A$1)+(Feuil1!$C$4:$C$66=Feuil2!$B$1)+(Feuil1!$C$4:$C$66=Feuil2!$C$1),ROW(Feuil1!$H$4:$H$66)-3),ROW(88:88))),"")} | B90: {=IFERROR(INDEX(Feuil1!$I$4:$I$66,SMALL(IF(Feuil1!$C$4:$C$66=Feuil2!$A$1,ROW(Feuil1!$I$4:$I$66)-3),ROW(88:88))),"")}
A91: {=IFERROR(INDEX(Feuil1!$H$4:$H$66,SMALL(IF((Feuil1!$C$4:$C$66=Feuil2!$A$1)+(Feuil1!$C$4:$C$66=Feuil2!$B$1)+(Feuil1!$C$4:$C$66=Feuil2!$C$1),ROW(Feuil1!$H$4:$H$66)-3),ROW(89:89))),"")} | B91: {=IFERROR(INDEX(Feuil1!$I$4:$I$66,SMALL(IF(Feuil1!$C$4:$C$66=Feuil2!$A$1,ROW(Feuil1!$I$4:$I$66)-3),ROW(89:89))),"")}
A92: {=IFERROR(INDEX(Feuil1!$H$4:$H$66,SMALL(IF((Feuil1!$C$4:$C$66=Feuil2!$A$1)+(Feuil1!$C$4:$C$66=Feuil2!$B$1)+(Feuil1!$C$4:$C$66=Feuil2!$C$1),ROW(Feuil1!$H$4:$H$66)-3),ROW(90:90))),"")} | B92: {=IFERROR(INDEX(Feuil1!$I$4:$I$66,SMALL(IF(Feuil1!$C$4:$C$66=Feuil2!$A$1,ROW(Feuil1!$I$4:$I$66)-3),ROW(90:90))),"")}
A93: {=IFERROR(INDEX(Feuil1!$H$4:$H$66,SMALL(IF((Feuil1!$C$4:$C$66=Feuil2!$A$1)+(Feuil1!$C$4:$C$66=Feuil2!$B$1)+(Feuil1!$C$4:$C$66=Feuil2!$C$1),ROW(Feuil1!$H$4:$H$66)-3),ROW(91:91))),"")} | B93: {=IFERROR(INDEX(Feuil1!$I$4:$I$66,SMALL(IF(Feuil1!$C$4:$C$66=Feuil2!$A$1,ROW(Feuil1!$I$4:$I$66)-3),ROW(91:91))),"")}
A94: {=IFERROR(INDEX(Feuil1!$H$4:$H$66,SMALL(IF((Feuil1!$C$4:$C$66=Feuil2!$A$1)+(Feuil1!$C$4:$C$66=Feuil2!$B$1)+(Feuil1!$C$4:$C$66=Feuil2!$C$1),ROW(Feuil1!$H$4:$H$66)-3),ROW(92:92))),"")} | B94: {=IFERROR(INDEX(Feuil1!$I$4:$I$66,SMALL(IF(Feuil1!$C$4:$C$66=Feuil2!$A$1,ROW(Feuil1!$I$4:$I$66)-3),ROW(92:92))),"")}
A95: {=IFERROR(INDEX(Feuil1!$H$4:$H$66,SMALL(IF((Feuil1!$C$4:$C$66=Feuil2!$A$1)+(Feuil1!$C$4:$C$66=Feuil2!$B$1)+(Feuil1!$C$4:$C$66=Feuil2!$C$1),ROW(Feuil1!$H$4:$H$66)-3),ROW(93:93))),"")} | B95: {=IFERROR(INDEX(Feuil1!$I$4:$I$66,SMALL(IF(Feuil1!$C$4:$C$66=Feuil2!$A$1,ROW(Feuil1!$I$4:$I$66)-3),ROW(93:93))),"")}
A96: {=IFERROR(INDEX(Feuil1!$H$4:$H$66,SMALL(IF((Feuil1!$C$4:$C$66=Feuil2!$A$1)+(Feuil1!$C$4:$C$66=Feuil2!$B$1)+(Feuil1!$C$4:$C$66=Feuil2!$C$1),ROW(Feuil1!$H$4:$H$66)-3),ROW(94:94))),"")} | B96: {=IFERROR(INDEX(Feuil1!$I$4:$I$66,SMALL(IF(Feuil1!$C$4:$C$66=Feuil2!$A$1,ROW(Feuil1!$I$4:$I$66)-3),ROW(94:94))),"")}
A97: {=IFERROR(INDEX(Feuil1!$H$4:$H$66,SMALL(IF((Feuil1!$C$4:$C$66=Feuil2!$A$1)+(Feuil1!$C$4:$C$66=Feuil2!$B$1)+(Feuil1!$C$4:$C$66=Feuil2!$C$1),ROW(Feuil1!$H$4:$H$66)-3),ROW(95:95))),"")}
A98: {=IFERROR(INDEX(Feuil1!$H$4:$H$66,SMALL(IF((Feuil1!$C$4:$C$66=Feuil2!$A$1)+(Feuil1!$C$4:$C$66=Feuil2!$B$1)+(Feuil1!$C$4:$C$66=Feuil2!$C$1),ROW(Feuil1!$H$4:$H$66)-3),ROW(96:96))),"")}
A99: {=IFERROR(INDEX(Feuil1!$H$4:$H$66,SMALL(IF((Feuil1!$C$4:$C$66=Feuil2!$A$1)+(Feuil1!$C$4:$C$66=Feuil2!$B$1)+(Feuil1!$C$4:$C$66=Feuil2!$C$1),ROW(Feuil1!$H$4:$H$66)-3),ROW(97:97))),"")}
A100: {=IFERROR(INDEX(Feuil1!$H$4:$H$66,SMALL(IF((Feuil1!$C$4:$C$66=Feuil2!$A$1)+(Feuil1!$C$4:$C$66=Feuil2!$B$1)+(Feuil1!$C$4:$C$66=Feuil2!$C$1),ROW(Feuil1!$H$4:$H$66)-3),ROW(98:98))),"")}
