Workbook
Name Code_article: OFFSET(BDD!#REF!,0,0,COUNTA(BDD!$A:$A)-1)

Sheet Set
B1: Titre | C1: Auteur | D1: Tonalité | E1: Tempo | F1: Temps
A2: 1 | B2: LE BRIO | C2: =IF(B2="","",VLOOKUP(B2,BDD!$A$1:$E$57,2,FALSE)) -> Big Soul | D2: =IF(B2="","",VLOOKUP(B2,BDD!$A$1:$E$57,3,FALSE)) -> Am | E2: =IF(B2="","",VLOOKUP(B2,BDD!$A$1:$E$57,4,FALSE)) -> 125 | F2: =IF(B2="","",VLOOKUP(B2,BDD!$A$1:$E$57,5,FALSE)) -> 0.0018518519
A3: 2 | B3: L'HOMME PRESSE | C3: =IF(B3="","",VLOOKUP(B3,BDD!$A$1:$E$57,2,FALSE)) -> Noir Désir | D3: =IF(B3="","",VLOOKUP(B3,BDD!$A$1:$E$57,3,FALSE)) -> Am | E3: =IF(B3="","",VLOOKUP(B3,BDD!$A$1:$E$57,4,FALSE)) -> 110 | F3: =IF(B3="","",VLOOKUP(B3,BDD!$A$1:$E$57,5,FALSE)) -> 0.0024305556
A4: 3 | B4: LE TOURBILLON DE LA VIE | C4: =IF(B4="","",VLOOKUP(B4,BDD!$A$1:$E$57,2,FALSE)) -> Jeanne Moreau | D4: =IF(B4="","",VLOOKUP(B4,BDD!$A$1:$E$57,3,FALSE)) -> Cm | E4: =IF(B4="","",VLOOKUP(B4,BDD!$A$1:$E$57,4,FALSE)) -> 95 | F4: =IF(B4="","",VLOOKUP(B4,BDD!$A$1:$E$57,5,FALSE)) -> 0.0019675926
A5: 4 | B5: UN HOMME COMME VOUS | C5: =IF(B5="","",VLOOKUP(B5,BDD!$A$1:$E$57,2,FALSE)) -> Le livre de la jungle | D5: =IF(B5="","",VLOOKUP(B5,BDD!$A$1:$E$57,3,FALSE)) -> Am | E5: =IF(B5="","",VLOOKUP(B5,BDD!$A$1:$E$57,4,FALSE)) -> 115 | F5: =IF(B5="","",VLOOKUP(B5,BDD!$A$1:$E$57,5,FALSE)) -> 0.0020833333
A6: 5 | B6: VIEILLE CANAILLE | C6: =IF(B6="","",VLOOKUP(B6,BDD!$A$1:$E$57,2,FALSE)) -> Serge Gainsbourg | D6: =IF(B6="","",VLOOKUP(B6,BDD!$A$1:$E$57,3,FALSE)) -> F#m | E6: =IF(B6="","",VLOOKUP(B6,BDD!$A$1:$E$57,4,FALSE)) -> 80 | F6: =IF(B6="","",VLOOKUP(B6,BDD!$A$1:$E$57,5,FALSE)) -> 0.0017361111
A7: 6 | B7: LE VENT NOUS PORTERA | C7: =IF(B7="","",VLOOKUP(B7,BDD!$A$1:$E$57,2,FALSE)) -> Noir Désir | D7: =IF(B7="","",VLOOKUP(B7,BDD!$A$1:$E$57,3,FALSE)) -> Dm | E7: =IF(B7="","",VLOOKUP(B7,BDD!$A$1:$E$57,4,FALSE)) -> 120 | F7: =IF(B7="","",VLOOKUP(B7,BDD!$A$1:$E$57,5,FALSE)) -> 0.0021990741
A8: 7 | B8: COMIC STRIP | C8: =IF(B8="","",VLOOKUP(B8,BDD!$A$1:$E$57,2,FALSE)) -> Serge Gainsbourg | D8: =IF(B8="","",VLOOKUP(B8,BDD!$A$1:$E$57,3,FALSE)) -> Fm | E8: =IF(B8="","",VLOOKUP(B8,BDD!$A$1:$E$57,4,FALSE)) -> 160 | F8: =IF(B8="","",VLOOKUP(B8,BDD!$A$1:$E$57,5,FALSE)) -> 0.0013888889
A9: 8 | B9: BELLEVILLE RENDEZ-VOUS | C9: =IF(B9="","",VLOOKUP(B9,BDD!$A$1:$E$57,2,FALSE)) -> Matthieu Chedid | D9: =IF(B9="","",VLOOKUP(B9,BDD!$A$1:$E$57,3,FALSE)) -> Am | E9: =IF(B9="","",VLOOKUP(B9,BDD!$A$1:$E$57,4,FALSE)) -> 115 | F9: =IF(B9="","",VLOOKUP(B9,BDD!$A$1:$E$57,5,FALSE)) -> 0.0026041667
A10: 9 | B10: J'VEUX DU SOLEIL | C10: =IF(B10="","",VLOOKUP(B10,BDD!$A$1:$E$57,2,FALSE)) -> Au petit bonheur | D10: =IF(B10="","",VLOOKUP(B10,BDD!$A$1:$E$57,3,FALSE)) -> Bm | E10: =IF(B10="","",VLOOKUP(B10,BDD!$A$1:$E$57,4,FALSE)) -> 115 | F10: =IF(B10="","",VLOOKUP(B10,BDD!$A$1:$E$57,5,FALSE)) -> 0.0023148148
A11: 10 | B11: ET SI DEMAIN | C11: =IF(B11="","",VLOOKUP(B11,BDD!$A$1:$E$57,2,FALSE)) -> Zoufris Maracas | D11: =IF(B11="","",VLOOKUP(B11,BDD!$A$1:$E$57,3,FALSE)) -> G | E11: =IF(B11="","",VLOOKUP(B11,BDD!$A$1:$E$57,4,FALSE)) -> 135 | F11: =IF(B11="","",VLOOKUP(B11,BDD!$A$1:$E$57,5,FALSE)) -> 0.0027777778
A12: 11 | B12: MAMA SAM | C12: =IF(B12="","",VLOOKUP(B12,BDD!$A$1:$E$57,2,FALSE)) -> Matthieu Chedid | D12: =IF(B12="","",VLOOKUP(B12,BDD!$A$1:$E$57,3,FALSE)) -> G | E12: =IF(B12="","",VLOOKUP(B12,BDD!$A$1:$E$57,4,FALSE)) -> 115 | F12: =IF(B12="","",VLOOKUP(B12,BDD!$A$1:$E$57,5,FALSE)) -> 0.0024305556
A13: 12 | B13: LE TEMPS DES FLEURS | C13: =IF(B13="","",VLOOKUP(B13,BDD!$A$1:$E$57,2,FALSE)) -> Dalida | D13: =IF(B13="","",VLOOKUP(B13,BDD!$A$1:$E$57,3,FALSE)) -> Am | E13: =IF(B13="","",VLOOKUP(B13,BDD!$A$1:$E$57,4,FALSE)) -> 140 | F13: =IF(B13="","",VLOOKUP(B13,BDD!$A$1:$E$57,5,FALSE)) -> 0.0030092593
... A27: 26 | B27: SOIS FAINEANT | C27: =IF(B27="","",VLOOKUP(B27,BDD!$A$1:$E$57,2,FALSE)) -> Coluche | D27: =IF(B27="","",VLOOKUP(B27,BDD!$A$1:$E$57,3,FALSE)) -> D | E27: =IF(B27="","",VLOOKUP(B27,BDD!$A$1:$E$57,4,FALSE)) -> 130 | F27: =IF(B27="","",VLOOKUP(B27,BDD!$A$1:$E$57,5,FALSE)) -> 0.0023148148
A28: 27 | C28: =IF(B28="","",VLOOKUP(B28,BDD!$A$1:$E$57,2,FALSE)) | D28: =IF(B28="","",VLOOKUP(B28,BDD!$A$1:$E$57,3,FALSE)) | E28: =IF(B28="","",VLOOKUP(B28,BDD!$A$1:$E$57,4,FALSE)) | F28: =IF(B28="","",VLOOKUP(B28,BDD!$A$1:$E$57,5,FALSE))
D30: moyenne/morçeau | F30: =AVERAGE(Tableau2[Temps]) -> 0.0024127493
D31: durée totale | F31: =SUBTOTAL(109,Tableau2[Temps]) -> 0.062731481

Sheet BDD
A1: Titre | B1: Auteur | C1: Tonalité | D1: Tempo | E1: Temps
A2: ACHETE UN CHIEN | B2: Joyeux Urbains | C2: A7 | D2: 95 | E2: 0.0030092593
A3: AH C'EST DOMMAGE | B3: Bigflo & Oli | C3: Am | D3: 85 | E3: 0.0023148148
A4: ALEXANDRIE | B4: Claude François | C4: Am | D4: 120 | E4: 0.0032986111
A5: ALORS ON DANSE | B5: Stromae | C5: Dm | D5: 130 | E5: 0.0024305556
A6: ANTISOCIAL | B6: Trust | C6: D | D6: 90 | E6: 0.0027777778
A7: AU CAFE DES JOURS HEUREUX | B7: Les hurlements de Léo | C7: Dm | D7: 115 | E7: 0.0025462963
A8: BANANA SPLIT | B8: Lio | C8: G | D8: 90 | E8: 0.0020833333
A9: BELLEVILLE RENDEZ-VOUS | B9: Matthieu Chedid | C9: Am | D9: 115 | E9: 0.0026041667
A10: BOUGE DE LA | B10: MC Solaar | C10: Cm | D10: 95 | E10: 0.0020833333
A11: CA M'ENERVE | B11: Helmutz Fritz | C11: Em | D11: 125 | E11: 0.0025462963
A12: COMIC STRIP | B12: Serge Gainsbourg | C12: Fm | D12: 160 | E12: 0.0013888889
A13: DANIELA (pixies) | B13: Elmer food beat | C13: Em | D13: 80 | E13: 0.0024305556
... A56: VIEILLE CANAILLE | B56: Serge Gainsbourg | C56: F#m | D56: 80 | E56: 0.0017361111
A58: =COUNTA(Tableau3[Titre]) -> 55 | D58: TOTAL | E58: =SUM(Tableau3[Temps]) -> 0.13460648
D59: Moyenne | E59: =AVERAGE(Tableau3[Temps]) -> 0.0024473906
