Workbook

Sheet Tableau1
A1: Fusionné | B1: Véhicule | C1: Entrée | D1: Sortie | E1: Durée
A2: POLE de Lalbenque | B2: 695-K6906-FX908SL | D2: 45264.294
A3: POLE de Lalbenque | B3: 695-K6965-FY719TE | C3: 45264.332 | D3: 45264.339 | E3: 0.0074884259
A4: POLE de Lalbenque | B4: 695-K6976-FZ102SD | D4: 45264.288
A5: POLE de Lalbenque | B5: 695-K6979-GA432NK | D5: 45264.253
A6: POLE de Lalbenque | B6: 695-K6985-GB276EW | D6: 45264.259
A7: POLE de Lalbenque | B7: 695-K7004-GE161HL | D7: 45264.253
A8: POLE de Lalbenque | B8: 695-K7083-FZ492CQ | D8: 45264.26
A9: POLE de Lalbenque | B9: 695-K7084-FZ869GF | D9: 45264.33
A10: POLE de Lalbenque | B10: 695-K7096-GB922QS | D10: 45264.237
A11: POLE de Lalbenque | B11: 695-K7211-GD239HP | D11: 45264.264
A12: POLE de Lalbenque | B12: 695-K8097-GH727EK | D12: 45264.253
A13: POLE de Lalbenque | B13: 695-K9060-GQ901QT | D13: 45264.265
A14: POLE de VIRIVILLE | B14: 685-FD252GL | C14: 45261.673 | D14: 45264.346 | E14: 2.6722569
A15: POLE de VIRIVILLE | B15: 685-FJ736VH | D15: 45264.263
A16: POLE de VIRIVILLE | B16: 685-FX673SL | D16: 45264.256
A17: POLE de VIRIVILLE | B17: 685-FZ829KH | D17: 45264.32
A18: POLE de VIRIVILLE | B18: 685-GD683QQ | D18: 45264.279
A19: POLE de VIRIVILLE | B19: 685-GJ129QR | D19: 45264.283
A20: POLE de VIRIVILLE | B20: 685-GJ466PT | D20: 45264.229
A21: POLE de VIRIVILLE | B21: 685-GQ758QN | D21: 45264.214
A22: POLE de VIRIVILLE | B22: 685-GS887EW | C22: 45264.322 | D22: 45264.351 | E22: 0.028842593
A23: PTF LAVAUR | B23: 690-FZ272CQ | D23: 45264.222
A24: PTF LAVAUR | B24: 690-GC569XQ | D24: 45264.311
A25: PTF LAVAUR | B25: 690-GC690DK | D25: 45264.275
A26: PTF LAVAUR | B26: 690-GE241HL | D26: 45261.275
A27: PTF LAVAUR | B27: 690-GQ703QT | D27: 45261.548
A28: RECTOR Voreppe | B28: 685-FJ736VH | C28: 45264.371

Sheet Feuil1
B1: Type | C1: Véhicule | D1: Date/Heure
A2: 1 | B2: Entrée de zone RECTOR Voreppe | C2: 685-FJ736VH | D2: 04.12.2023 08:54:34
A3: 2 | B3: Sortie de zone POLE de VIRIVILLE | C3: 685-GS887EW | D3: 04.12.2023 08:25:36
A4: 3 | B4: Sortie de zone POLE de VIRIVILLE | C4: 685-FD252GL | D4: 04.12.2023 08:17:38
A5: 4 | B5: Sortie de zone POLE de Lalbenque | C5: 695-K6965-FY719TE | D5: 04.12.2023 08:08:11
A6: 5 | B6: Entrée de zone POLE de Lalbenque | C6: 695-K6965-FY719TE | D6: 04.12.2023 07:57:24
A7: 6 | B7: Sortie de zone POLE de Lalbenque | C7: 695-K7084-FZ869GF | D7: 04.12.2023 07:54:35
A8: 7 | B8: Entrée de zone POLE de VIRIVILLE | C8: 685-GS887EW | D8: 04.12.2023 07:44:04
A9: 8 | B9: Sortie de zone POLE de VIRIVILLE | C9: 685-FZ829KH | D9: 04.12.2023 07:40:17
A10: 9 | B10: Sortie de zone PTF LAVAUR | C10: 690-GC569XQ | D10: 04.12.2023 07:28:30
A11: 10 | B11: Sortie de zone POLE de Lalbenque | C11: 695-K6906-FX908SL | D11: 04.12.2023 07:02:50
A12: 11 | B12: Sortie de zone POLE de Lalbenque | C12: 695-K6976-FZ102SD | D12: 04.12.2023 06:54:05
A13: 12 | B13: Sortie de zone POLE de VIRIVILLE | C13: 685-GJ129QR | D13: 04.12.2023 06:47:13
... A31: 30 | B31: Sortie de zone PTF LAVAUR | C31: 690-GE241HL | D31: 01.12.2023 06:35:19

Sheet MATRICE AUTO
B1: N° POLE | C1: LIEU | D1: IMMAT | E1: OPERATION | F1: DATE | G1: HEURE | H1: DUREE sur le lieu
A2: =(Feuil1!A2) -> 1 | B2: =LEFT(Feuil1!C2,3) -> 685 | C2: =MID(Feuil1!B2,16,30) -> RECTOR Voreppe | D2: =RIGHT(Feuil1!C2,7) -> FJ736VH | E2: =LEFT(Feuil1!B2,7) -> Entrée | F2: =LEFT(Feuil1!D2,10) -> 04.12.2023 | G2: =RIGHT(Feuil1!D2,8) -> 08:54:34 | P2: Dans cette matrice, je cherche à montrer que l'IMMAT (D) est entrée le (date) à (HEURE) et est sortie le (DATE) à (HEURE). Je souhaite aussi faire le calcul du temps passé sur le lieu ATTENTION LES VEHICULES NE ROULE PAS LE WEEK-END. PAR CONSEQUENCE, ILS ENTRENT SUR UN LIEU LE VENDREDI ET N'EN SORTENT QUE LE LUNDI
A3: =(Feuil1!A3) -> 2 | B3: =LEFT(Feuil1!C3,3) -> 685 | C3: =MID(Feuil1!B3,16,30) -> POLE de VIRIVILLE | D3: =RIGHT(Feuil1!C3,7) -> GS887EW | E3: =LEFT(Feuil1!B3,7) -> Sortie | F3: =LEFT(Feuil1!D3,10) -> 04.12.2023 | G3: =RIGHT(Feuil1!D3,8) -> 08:25:36
A4: =(Feuil1!A4) -> 3 | B4: =LEFT(Feuil1!C4,3) -> 685 | C4: =MID(Feuil1!B4,16,30) -> POLE de VIRIVILLE | D4: =RIGHT(Feuil1!C4,7) -> FD252GL | E4: =LEFT(Feuil1!B4,7) -> Sortie | F4: =LEFT(Feuil1!D4,10) -> 04.12.2023 | G4: =RIGHT(Feuil1!D4,8) -> 08:17:38
A5: =(Feuil1!A5) -> 4 | B5: =LEFT(Feuil1!C5,3) -> 695 | C5: =MID(Feuil1!B5,16,30) -> POLE de Lalbenque | D5: =RIGHT(Feuil1!C5,7) -> FY719TE | E5: =LEFT(Feuil1!B5,7) -> Sortie | F5: =LEFT(Feuil1!D5,10) -> 04.12.2023 | G5: =RIGHT(Feuil1!D5,8) -> 08:08:11
A6: =(Feuil1!A6) -> 5 | B6: =LEFT(Feuil1!C6,3) -> 695 | C6: =MID(Feuil1!B6,16,30) -> POLE de Lalbenque | D6: =RIGHT(Feuil1!C6,7) -> FY719TE | E6: =LEFT(Feuil1!B6,7) -> Entrée | F6: =LEFT(Feuil1!D6,10) -> 04.12.2023 | G6: =RIGHT(Feuil1!D6,8) -> 07:57:24
A7: =(Feuil1!A7) -> 6 | B7: =LEFT(Feuil1!C7,3) -> 695 | C7: =MID(Feuil1!B7,16,30) -> POLE de Lalbenque | D7: =RIGHT(Feuil1!C7,7) -> FZ869GF | E7: =LEFT(Feuil1!B7,7) -> Sortie | F7: =LEFT(Feuil1!D7,10) -> 04.12.2023 | G7: =RIGHT(Feuil1!D7,8) -> 07:54:35
A8: =(Feuil1!A8) -> 7 | B8: =LEFT(Feuil1!C8,3) -> 685 | C8: =MID(Feuil1!B8,16,30) -> POLE de VIRIVILLE | D8: =RIGHT(Feuil1!C8,7) -> GS887EW | E8: =LEFT(Feuil1!B8,7) -> Entrée | F8: =LEFT(Feuil1!D8,10) -> 04.12.2023 | G8: =RIGHT(Feuil1!D8,8) -> 07:44:04
A9: =(Feuil1!A9) -> 8 | B9: =LEFT(Feuil1!C9,3) -> 685 | C9: =MID(Feuil1!B9,16,30) -> POLE de VIRIVILLE | D9: =RIGHT(Feuil1!C9,7) -> FZ829KH | E9: =LEFT(Feuil1!B9,7) -> Sortie | F9: =LEFT(Feuil1!D9,10) -> 04.12.2023 | G9: =RIGHT(Feuil1!D9,8) -> 07:40:17
A10: =(Feuil1!A10) -> 9 | B10: =LEFT(Feuil1!C10,3) -> 690 | C10: =MID(Feuil1!B10,16,30) -> PTF LAVAUR | D10: =RIGHT(Feuil1!C10,7) -> GC569XQ | E10: =LEFT(Feuil1!B10,7) -> Sortie | F10: =LEFT(Feuil1!D10,10) -> 04.12.2023 | G10: =RIGHT(Feuil1!D10,8) -> 07:28:30
A11: =(Feuil1!A11) -> 10 | B11: =LEFT(Feuil1!C11,3) -> 695 | C11: =MID(Feuil1!B11,16,30) -> POLE de Lalbenque | D11: =RIGHT(Feuil1!C11,7) -> FX908SL | E11: =LEFT(Feuil1!B11,7) -> Sortie | F11: =LEFT(Feuil1!D11,10) -> 04.12.2023 | G11: =RIGHT(Feuil1!D11,8) -> 07:02:50
A12: =(Feuil1!A12) -> 11 | B12: =LEFT(Feuil1!C12,3) -> 695 | C12: =MID(Feuil1!B12,16,30) -> POLE de Lalbenque | D12: =RIGHT(Feuil1!C12,7) -> FZ102SD | E12: =LEFT(Feuil1!B12,7) -> Sortie | F12: =LEFT(Feuil1!D12,10) -> 04.12.2023 | G12: =RIGHT(Feuil1!D12,8) -> 06:54:05
A13: =(Feuil1!A13) -> 12 | B13: =LEFT(Feuil1!C13,3) -> 685 | C13: =MID(Feuil1!B13,16,30) -> POLE de VIRIVILLE | D13: =RIGHT(Feuil1!C13,7) -> GJ129QR | E13: =LEFT(Feuil1!B13,7) -> Sortie | F13: =LEFT(Feuil1!D13,10) -> 04.12.2023 | G13: =RIGHT(Feuil1!D13,8) -> 06:47:13
A14: =(Feuil1!A14) -> 13 | B14: =LEFT(Feuil1!C14,3) -> 685 | C14: =MID(Feuil1!B14,16,30) -> POLE de VIRIVILLE | D14: =RIGHT(Feuil1!C14,7) -> D683QQ | E14: =LEFT(Feuil1!B14,7) -> Sortie | F14: =LEFT(Feuil1!D14,10) -> 04.12.2023 | G14: =RIGHT(Feuil1!D14,8) -> 06:41:07
... A100: =(Feuil1!A100) -> 0 | B100: =LEFT(Feuil1!C100,3) | C100: =MID(Feuil1!B100,16,30) | D100: =RIGHT(Feuil1!C100,7) | E100: =LEFT(Feuil1!B100,7) | F100: =LEFT(Feuil1!D100,10) | G100: =RIGHT(Feuil1!D100,8)
