Workbook
Name CHAUSSURES: [1]Feuil1!$A$2:$A$4

Sheet Fiche besoin chantier
A1: Nom prénom | B1: Casque | C1: Pantalon de pluie | E1: Pantalon vert | G1: Tee-shirt | I1: Sweat | K1: Parka | L1: Blouson leger | M1: Chaussures de sécurité | N1: Botte de pluie | O1: Botte fourrée
B2: date fabrication / utilisation | C2: Qte | D2: Taille S à 4L | E2: Qte | F2: Taille 0 à 6 | G2: Qte | H2: Taille S à 4XL | I2: Qte | J2: Taille S à 4XL | K2: Taille S à 3XL | L2: Taille S à 5XL | M2: Pointure | N2: Pointure | O2: Pointure
A3: Pierre | B3: 45290 | C3: 2 | D3: L | E3: 7 | F3: 2 | K3: s
A4: Olivier | B4: 45162 | C4: 10 | D4: M | E4: 8 | F4: 4
A5: Jacques | B5: 45468 | C5: 25 | D5: L | E5: 4 | F5: 2 | K5: 2XL

Sheet Fiche besoin bureau
A1: Nom prénom | B1: Casque | C1: Pantalon de pluie | E1: Pantalon vert | G1: Tee-shirt | I1: Sweat | K1: Parka | L1: Blouson leger | M1: Chaussures de sécurité | N1: Botte de pluie | O1: Botte fourrée
B2: date fabrication / utilisation | C2: Qte | D2: Taille S à 4L | E2: Qte | F2: Taille 0 à 6 | G2: Qte | H2: Taille S à 4XL | I2: Qte | J2: Taille S à 4XL | K2: Taille S à 3XL | L2: Taille S à 5XL | M2: Pointure | N2: Pointure | O2: Pointure
A3: Brad | B3: 45494 | E3: 4 | F3: 1 | G3: 8 | H3: M | K3: xl
A4: Kelly | B4: 45667 | I4: 10 | J4: S | K4: L
A5: David | B5: 45257 | G5: 7 | H5: 2XL
A6: Sylvie | B6: 45993 | E6: 16 | F6: 1

Sheet Récap besoin personnel
A1: Nom prénom | B1: Casque | C1: Pantalon de pluie | E1: Pantalon vert | G1: Tee-shirt | I1: Sweat | K1: Parka | L1: Blouson leger | M1: Chaussures de sécurité | N1: Botte de pluie | O1: Botte fourrée
B2: date fabrication / utilisation | C2: Qte | D2: Taille S à 4L | E2: Qte | F2: Taille 0 à 6 | G2: Qte | H2: Taille S à 4XL | I2: Qte | J2: Taille S à 4XL | K2: Taille S à 3XL | L2: Taille S à 5XL | M2: Pointure | N2: Pointure | O2: Pointure
A3: {=_xlfn._xlws.SORT(_xlfn.VSTACK(OFFSET('Fiche besoin chantier'!$A$1,2,,COUNTA('Fiche besoin chantier'!A:A)-1),OFFSET('Fiche besoin bureau'!$A$1,2,,COUNTA('Fiche besoin bureau'!A:A)-1)))} -> Brad | B3: =IF($A3="","",_xlfn.XLOOKUP($A3,'Fiche besoin bureau'!$A:$A,'Fiche besoin bureau'!B:B,_xlfn.XLOOKUP($A3,'Fiche besoin chantier'!$A:$A,'Fiche besoin chantier'!B:B))) -> 45494 | C3: =IF($A3="","",_xlfn.XLOOKUP($A3,'Fiche besoin bureau'!$A:$A,'Fiche besoin bureau'!C:C,_xlfn.XLOOKUP($A3,'Fiche besoin chantier'!$A:$A,'Fiche besoin chantier'!C:C))) -> 0 | D3: =IF($A3="","",_xlfn.XLOOKUP($A3,'Fiche besoin bureau'!$A:$A,'Fiche besoin bureau'!D:D,_xlfn.XLOOKUP($A3,'Fiche besoin chantier'!$A:$A,'Fiche besoin chantier'!D:D))) -> 0 | E3: =IF($A3="","",_xlfn.XLOOKUP($A3,'Fiche besoin bureau'!$A:$A,'Fiche besoin bureau'!E:E,_xlfn.XLOOKUP($A3,'Fiche besoin chantier'!$A:$A,'Fiche besoin chantier'!E:E))) -> 4 | F3: =IF($A3="","",_xlfn.XLOOKUP($A3,'Fiche besoin bureau'!$A:$A,'Fiche besoin bureau'!F:F,_xlfn.XLOOKUP($A3,'Fiche besoin chantier'!$A:$A,'Fiche besoin chantier'!F:F))) -> 1 | G3: =IF($A3="","",_xlfn.XLOOKUP($A3,'Fiche besoin bureau'!$A:$A,'Fiche besoin bureau'!G:G,_xlfn.XLOOKUP($A3,'Fiche besoin chantier'!$A:$A,'Fiche besoin chantier'!G:G))) -> 8 | H3: =IF($A3="","",_xlfn.XLOOKUP($A3,'Fiche besoin bureau'!$A:$A,'Fiche besoin bureau'!H:H,_xlfn.XLOOKUP($A3,'Fiche besoin chantier'!$A:$A,'Fiche besoin chantier'!H:H))) -> M | I3: =IF($A3="","",_xlfn.XLOOKUP($A3,'Fiche besoin bureau'!$A:$A,'Fiche besoin bureau'!I:I,_xlfn.XLOOKUP($A3,'Fiche besoin chantier'!$A:$A,'Fiche besoin chantier'!I:I))) -> 0 | J3: =IF($A3="","",_xlfn.XLOOKUP($A3,'Fiche besoin bureau'!$A:$A,'Fiche besoin bureau'!J:J,_xlfn.XLOOKUP($A3,'Fiche besoin chantier'!$A:$A,'Fiche besoin chantier'!J:J))) -> 0 | K3: =IF($A3="","",_xlfn.XLOOKUP($A3,'Fiche besoin bureau'!$A:$A,'Fiche besoin bureau'!K:K,_xlfn.XLOOKUP($A3,'Fiche besoin chantier'!$A:$A,'Fiche besoin chantier'!K:K))) -> xl | L3: =IF($A3="","",_xlfn.XLOOKUP($A3,'Fiche besoin bureau'!$A:$A,'Fiche besoin bureau'!L:L,_xlfn.XLOOKUP($A3,'Fiche besoin chantier'!$A:$A,'Fiche besoin chantier'!L:L))) -> 0 | M3: =IF($A3="","",_xlfn.XLOOKUP($A3,'Fiche besoin bureau'!$A:$A,'Fiche besoin bureau'!M:M,_xlfn.XLOOKUP($A3,'Fiche besoin chantier'!$A:$A,'Fiche besoin chantier'!M:M))) -> 0 | N3: =IF($A3="","",_xlfn.XLOOKUP($A3,'Fiche besoin bureau'!$A:$A,'Fiche besoin bureau'!N:N,_xlfn.XLOOKUP($A3,'Fiche besoin chantier'!$A:$A,'Fiche besoin chantier'!N:N))) -> 0 | O3: =IF($A3="","",_xlfn.XLOOKUP($A3,'Fiche besoin bureau'!$A:$A,'Fiche besoin bureau'!O:O,_xlfn.XLOOKUP($A3,'Fiche besoin chantier'!$A:$A,'Fiche besoin chantier'!O:O))) -> 0
A4: David | B4: =IF($A4="","",_xlfn.XLOOKUP($A4,'Fiche besoin bureau'!$A:$A,'Fiche besoin bureau'!B:B,_xlfn.XLOOKUP($A4,'Fiche besoin chantier'!$A:$A,'Fiche besoin chantier'!B:B))) -> 45257 | C4: =IF($A4="","",_xlfn.XLOOKUP($A4,'Fiche besoin bureau'!$A:$A,'Fiche besoin bureau'!C:C,_xlfn.XLOOKUP($A4,'Fiche besoin chantier'!$A:$A,'Fiche besoin chantier'!C:C))) -> 0 | D4: =IF($A4="","",_xlfn.XLOOKUP($A4,'Fiche besoin bureau'!$A:$A,'Fiche besoin bureau'!D:D,_xlfn.XLOOKUP($A4,'Fiche besoin chantier'!$A:$A,'Fiche besoin chantier'!D:D))) -> 0 | E4: =IF($A4="","",_xlfn.XLOOKUP($A4,'Fiche besoin bureau'!$A:$A,'Fiche besoin bureau'!E:E,_xlfn.XLOOKUP($A4,'Fiche besoin chantier'!$A:$A,'Fiche besoin chantier'!E:E))) -> 0 | F4: =IF($A4="","",_xlfn.XLOOKUP($A4,'Fiche besoin bureau'!$A:$A,'Fiche besoin bureau'!F:F,_xlfn.XLOOKUP($A4,'Fiche besoin chantier'!$A:$A,'Fiche besoin chantier'!F:F))) -> 0 | G4: =IF($A4="","",_xlfn.XLOOKUP($A4,'Fiche besoin bureau'!$A:$A,'Fiche besoin bureau'!G:G,_xlfn.XLOOKUP($A4,'Fiche besoin chantier'!$A:$A,'Fiche besoin chantier'!G:G))) -> 7 | H4: =IF($A4="","",_xlfn.XLOOKUP($A4,'Fiche besoin bureau'!$A:$A,'Fiche besoin bureau'!H:H,_xlfn.XLOOKUP($A4,'Fiche besoin chantier'!$A:$A,'Fiche besoin chantier'!H:H))) -> 2XL | I4: =IF($A4="","",_xlfn.XLOOKUP($A4,'Fiche besoin bureau'!$A:$A,'Fiche besoin bureau'!I:I,_xlfn.XLOOKUP($A4,'Fiche besoin chantier'!$A:$A,'Fiche besoin chantier'!I:I))) -> 0 | J4: =IF($A4="","",_xlfn.XLOOKUP($A4,'Fiche besoin bureau'!$A:$A,'Fiche besoin bureau'!J:J,_xlfn.XLOOKUP($A4,'Fiche besoin chantier'!$A:$A,'Fiche besoin chantier'!J:J))) -> 0 | K4: =IF($A4="","",_xlfn.XLOOKUP($A4,'Fiche besoin bureau'!$A:$A,'Fiche besoin bureau'!K:K,_xlfn.XLOOKUP($A4,'Fiche besoin chantier'!$A:$A,'Fiche besoin chantier'!K:K))) -> 0 | L4: =IF($A4="","",_xlfn.XLOOKUP($A4,'Fiche besoin bureau'!$A:$A,'Fiche besoin bureau'!L:L,_xlfn.XLOOKUP($A4,'Fiche besoin chantier'!$A:$A,'Fiche besoin chantier'!L:L))) -> 0 | M4: =IF($A4="","",_xlfn.XLOOKUP($A4,'Fiche besoin bureau'!$A:$A,'Fiche besoin bureau'!M:M,_xlfn.XLOOKUP($A4,'Fiche besoin chantier'!$A:$A,'Fiche besoin chantier'!M:M))) -> 0 | N4: =IF($A4="","",_xlfn.XLOOKUP($A4,'Fiche besoin bureau'!$A:$A,'Fiche besoin bureau'!N:N,_xlfn.XLOOKUP($A4,'Fiche besoin chantier'!$A:$A,'Fiche besoin chantier'!N:N))) -> 0 | O4: =IF($A4="","",_xlfn.XLOOKUP($A4,'Fiche besoin bureau'!$A:$A,'Fiche besoin bureau'!O:O,_xlfn.XLOOKUP($A4,'Fiche besoin chantier'!$A:$A,'Fiche besoin chantier'!O:O))) -> 0
A5: Jacques | B5: =IF($A5="","",_xlfn.XLOOKUP($A5,'Fiche besoin bureau'!$A:$A,'Fiche besoin bureau'!B:B,_xlfn.XLOOKUP($A5,'Fiche besoin chantier'!$A:$A,'Fiche besoin chantier'!B:B))) -> 45468 | C5: =IF($A5="","",_xlfn.XLOOKUP($A5,'Fiche besoin bureau'!$A:$A,'Fiche besoin bureau'!C:C,_xlfn.XLOOKUP($A5,'Fiche besoin chantier'!$A:$A,'Fiche besoin chantier'!C:C))) -> 25 | D5: =IF($A5="","",_xlfn.XLOOKUP($A5,'Fiche besoin bureau'!$A:$A,'Fiche besoin bureau'!D:D,_xlfn.XLOOKUP($A5,'Fiche besoin chantier'!$A:$A,'Fiche besoin chantier'!D:D))) -> L | E5: =IF($A5="","",_xlfn.XLOOKUP($A5,'Fiche besoin bureau'!$A:$A,'Fiche besoin bureau'!E:E,_xlfn.XLOOKUP($A5,'Fiche besoin chantier'!$A:$A,'Fiche besoin chantier'!E:E))) -> 4 | F5: =IF($A5="","",_xlfn.XLOOKUP($A5,'Fiche besoin bureau'!$A:$A,'Fiche besoin bureau'!F:F,_xlfn.XLOOKUP($A5,'Fiche besoin chantier'!$A:$A,'Fiche besoin chantier'!F:F))) -> 2 | G5: =IF($A5="","",_xlfn.XLOOKUP($A5,'Fiche besoin bureau'!$A:$A,'Fiche besoin bureau'!G:G,_xlfn.XLOOKUP($A5,'Fiche besoin chantier'!$A:$A,'Fiche besoin chantier'!G:G))) -> 0 | H5: =IF($A5="","",_xlfn.XLOOKUP($A5,'Fiche besoin bureau'!$A:$A,'Fiche besoin bureau'!H:H,_xlfn.XLOOKUP($A5,'Fiche besoin chantier'!$A:$A,'Fiche besoin chantier'!H:H))) -> 0 | I5: =IF($A5="","",_xlfn.XLOOKUP($A5,'Fiche besoin bureau'!$A:$A,'Fiche besoin bureau'!I:I,_xlfn.XLOOKUP($A5,'Fiche besoin chantier'!$A:$A,'Fiche besoin chantier'!I:I))) -> 0 | J5: =IF($A5="","",_xlfn.XLOOKUP($A5,'Fiche besoin bureau'!$A:$A,'Fiche besoin bureau'!J:J,_xlfn.XLOOKUP($A5,'Fiche besoin chantier'!$A:$A,'Fiche besoin chantier'!J:J))) -> 0 | K5: =IF($A5="","",_xlfn.XLOOKUP($A5,'Fiche besoin bureau'!$A:$A,'Fiche besoin bureau'!K:K,_xlfn.XLOOKUP($A5,'Fiche besoin chantier'!$A:$A,'Fiche besoin chantier'!K:K))) -> 2XL | L5: =IF($A5="","",_xlfn.XLOOKUP($A5,'Fiche besoin bureau'!$A:$A,'Fiche besoin bureau'!L:L,_xlfn.XLOOKUP($A5,'Fiche besoin chantier'!$A:$A,'Fiche besoin chantier'!L:L))) -> 0 | M5: =IF($A5="","",_xlfn.XLOOKUP($A5,'Fiche besoin bureau'!$A:$A,'Fiche besoin bureau'!M:M,_xlfn.XLOOKUP($A5,'Fiche besoin chantier'!$A:$A,'Fiche besoin chantier'!M:M))) -> 0 | N5: =IF($A5="","",_xlfn.XLOOKUP($A5,'Fiche besoin bureau'!$A:$A,'Fiche besoin bureau'!N:N,_xlfn.XLOOKUP($A5,'Fiche besoin chantier'!$A:$A,'Fiche besoin chantier'!N:N))) -> 0 | O5: =IF($A5="","",_xlfn.XLOOKUP($A5,'Fiche besoin bureau'!$A:$A,'Fiche besoin bureau'!O:O,_xlfn.XLOOKUP($A5,'Fiche besoin chantier'!$A:$A,'Fiche besoin chantier'!O:O))) -> 0
A6: Kelly | B6: =IF($A6="","",_xlfn.XLOOKUP($A6,'Fiche besoin bureau'!$A:$A,'Fiche besoin bureau'!B:B,_xlfn.XLOOKUP($A6,'Fiche besoin chantier'!$A:$A,'Fiche besoin chantier'!B:B))) -> 45667 | C6: =IF($A6="","",_xlfn.XLOOKUP($A6,'Fiche besoin bureau'!$A:$A,'Fiche besoin bureau'!C:C,_xlfn.XLOOKUP($A6,'Fiche besoin chantier'!$A:$A,'Fiche besoin chantier'!C:C))) -> 0 | D6: =IF($A6="","",_xlfn.XLOOKUP($A6,'Fiche besoin bureau'!$A:$A,'Fiche besoin bureau'!D:D,_xlfn.XLOOKUP($A6,'Fiche besoin chantier'!$A:$A,'Fiche besoin chantier'!D:D))) -> 0 | E6: =IF($A6="","",_xlfn.XLOOKUP($A6,'Fiche besoin bureau'!$A:$A,'Fiche besoin bureau'!E:E,_xlfn.XLOOKUP($A6,'Fiche besoin chantier'!$A:$A,'Fiche besoin chantier'!E:E))) -> 0 | F6: =IF($A6="","",_xlfn.XLOOKUP($A6,'Fiche besoin bureau'!$A:$A,'Fiche besoin bureau'!F:F,_xlfn.XLOOKUP($A6,'Fiche besoin chantier'!$A:$A,'Fiche besoin chantier'!F:F))) -> 0 | G6: =IF($A6="","",_xlfn.XLOOKUP($A6,'Fiche besoin bureau'!$A:$A,'Fiche besoin bureau'!G:G,_xlfn.XLOOKUP($A6,'Fiche besoin chantier'!$A:$A,'Fiche besoin chantier'!G:G))) -> 0 | H6: =IF($A6="","",_xlfn.XLOOKUP($A6,'Fiche besoin bureau'!$A:$A,'Fiche besoin bureau'!H:H,_xlfn.XLOOKUP($A6,'Fiche besoin chantier'!$A:$A,'Fiche besoin chantier'!H:H))) -> 0 | I6: =IF($A6="","",_xlfn.XLOOKUP($A6,'Fiche besoin bureau'!$A:$A,'Fiche besoin bureau'!I:I,_xlfn.XLOOKUP($A6,'Fiche besoin chantier'!$A:$A,'Fiche besoin chantier'!I:I))) -> 10 | J6: =IF($A6="","",_xlfn.XLOOKUP($A6,'Fiche besoin bureau'!$A:$A,'Fiche besoin bureau'!J:J,_xlfn.XLOOKUP($A6,'Fiche besoin chantier'!$A:$A,'Fiche besoin chantier'!J:J))) -> S | K6: =IF($A6="","",_xlfn.XLOOKUP($A6,'Fiche besoin bureau'!$A:$A,'Fiche besoin bureau'!K:K,_xlfn.XLOOKUP($A6,'Fiche besoin chantier'!$A:$A,'Fiche besoin chantier'!K:K))) -> L | L6: =IF($A6="","",_xlfn.XLOOKUP($A6,'Fiche besoin bureau'!$A:$A,'Fiche besoin bureau'!L:L,_xlfn.XLOOKUP($A6,'Fiche besoin chantier'!$A:$A,'Fiche besoin chantier'!L:L))) -> 0 | M6: =IF($A6="","",_xlfn.XLOOKUP($A6,'Fiche besoin bureau'!$A:$A,'Fiche besoin bureau'!M:M,_xlfn.XLOOKUP($A6,'Fiche besoin chantier'!$A:$A,'Fiche besoin chantier'!M:M))) -> 0 | N6: =IF($A6="","",_xlfn.XLOOKUP($A6,'Fiche besoin bureau'!$A:$A,'Fiche besoin bureau'!N:N,_xlfn.XLOOKUP($A6,'Fiche besoin chantier'!$A:$A,'Fiche besoin chantier'!N:N))) -> 0 | O6: =IF($A6="","",_xlfn.XLOOKUP($A6,'Fiche besoin bureau'!$A:$A,'Fiche besoin bureau'!O:O,_xlfn.XLOOKUP($A6,'Fiche besoin chantier'!$A:$A,'Fiche besoin chantier'!O:O))) -> 0
A7: Olivier | B7: =IF($A7="","",_xlfn.XLOOKUP($A7,'Fiche besoin bureau'!$A:$A,'Fiche besoin bureau'!B:B,_xlfn.XLOOKUP($A7,'Fiche besoin chantier'!$A:$A,'Fiche besoin chantier'!B:B))) -> 45162 | C7: =IF($A7="","",_xlfn.XLOOKUP($A7,'Fiche besoin bureau'!$A:$A,'Fiche besoin bureau'!C:C,_xlfn.XLOOKUP($A7,'Fiche besoin chantier'!$A:$A,'Fiche besoin chantier'!C:C))) -> 10 | D7: =IF($A7="","",_xlfn.XLOOKUP($A7,'Fiche besoin bureau'!$A:$A,'Fiche besoin bureau'!D:D,_xlfn.XLOOKUP($A7,'Fiche besoin chantier'!$A:$A,'Fiche besoin chantier'!D:D))) -> M | E7: =IF($A7="","",_xlfn.XLOOKUP($A7,'Fiche besoin bureau'!$A:$A,'Fiche besoin bureau'!E:E,_xlfn.XLOOKUP($A7,'Fiche besoin chantier'!$A:$A,'Fiche besoin chantier'!E:E))) -> 8 | F7: =IF($A7="","",_xlfn.XLOOKUP($A7,'Fiche besoin bureau'!$A:$A,'Fiche besoin bureau'!F:F,_xlfn.XLOOKUP($A7,'Fiche besoin chantier'!$A:$A,'Fiche besoin chantier'!F:F))) -> 4 | G7: =IF($A7="","",_xlfn.XLOOKUP($A7,'Fiche besoin bureau'!$A:$A,'Fiche besoin bureau'!G:G,_xlfn.XLOOKUP($A7,'Fiche besoin chantier'!$A:$A,'Fiche besoin chantier'!G:G))) -> 0 | H7: =IF($A7="","",_xlfn.XLOOKUP($A7,'Fiche besoin bureau'!$A:$A,'Fiche besoin bureau'!H:H,_xlfn.XLOOKUP($A7,'Fiche besoin chantier'!$A:$A,'Fiche besoin chantier'!H:H))) -> 0 | I7: =IF($A7="","",_xlfn.XLOOKUP($A7,'Fiche besoin bureau'!$A:$A,'Fiche besoin bureau'!I:I,_xlfn.XLOOKUP($A7,'Fiche besoin chantier'!$A:$A,'Fiche besoin chantier'!I:I))) -> 0 | J7: =IF($A7="","",_xlfn.XLOOKUP($A7,'Fiche besoin bureau'!$A:$A,'Fiche besoin bureau'!J:J,_xlfn.XLOOKUP($A7,'Fiche besoin chantier'!$A:$A,'Fiche besoin chantier'!J:J))) -> 0 | K7: =IF($A7="","",_xlfn.XLOOKUP($A7,'Fiche besoin bureau'!$A:$A,'Fiche besoin bureau'!K:K,_xlfn.XLOOKUP($A7,'Fiche besoin chantier'!$A:$A,'Fiche besoin chantier'!K:K))) -> 0 | L7: =IF($A7="","",_xlfn.XLOOKUP($A7,'Fiche besoin bureau'!$A:$A,'Fiche besoin bureau'!L:L,_xlfn.XLOOKUP($A7,'Fiche besoin chantier'!$A:$A,'Fiche besoin chantier'!L:L))) -> 0 | M7: =IF($A7="","",_xlfn.XLOOKUP($A7,'Fiche besoin bureau'!$A:$A,'Fiche besoin bureau'!M:M,_xlfn.XLOOKUP($A7,'Fiche besoin chantier'!$A:$A,'Fiche besoin chantier'!M:M))) -> 0 | N7: =IF($A7="","",_xlfn.XLOOKUP($A7,'Fiche besoin bureau'!$A:$A,'Fiche besoin bureau'!N:N,_xlfn.XLOOKUP($A7,'Fiche besoin chantier'!$A:$A,'Fiche besoin chantier'!N:N))) -> 0 | O7: =IF($A7="","",_xlfn.XLOOKUP($A7,'Fiche besoin bureau'!$A:$A,'Fiche besoin bureau'!O:O,_xlfn.XLOOKUP($A7,'Fiche besoin chantier'!$A:$A,'Fiche besoin chantier'!O:O))) -> 0
A8: Pierre | B8: =IF($A8="","",_xlfn.XLOOKUP($A8,'Fiche besoin bureau'!$A:$A,'Fiche besoin bureau'!B:B,_xlfn.XLOOKUP($A8,'Fiche besoin chantier'!$A:$A,'Fiche besoin chantier'!B:B))) -> 45290 | C8: =IF($A8="","",_xlfn.XLOOKUP($A8,'Fiche besoin bureau'!$A:$A,'Fiche besoin bureau'!C:C,_xlfn.XLOOKUP($A8,'Fiche besoin chantier'!$A:$A,'Fiche besoin chantier'!C:C))) -> 2 | D8: =IF($A8="","",_xlfn.XLOOKUP($A8,'Fiche besoin bureau'!$A:$A,'Fiche besoin bureau'!D:D,_xlfn.XLOOKUP($A8,'Fiche besoin chantier'!$A:$A,'Fiche besoin chantier'!D:D))) -> L | E8: =IF($A8="","",_xlfn.XLOOKUP($A8,'Fiche besoin bureau'!$A:$A,'Fiche besoin bureau'!E:E,_xlfn.XLOOKUP($A8,'Fiche besoin chantier'!$A:$A,'Fiche besoin chantier'!E:E))) -> 7 | F8: =IF($A8="","",_xlfn.XLOOKUP($A8,'Fiche besoin bureau'!$A:$A,'Fiche besoin bureau'!F:F,_xlfn.XLOOKUP($A8,'Fiche besoin chantier'!$A:$A,'Fiche besoin chantier'!F:F))) -> 2 | G8: =IF($A8="","",_xlfn.XLOOKUP($A8,'Fiche besoin bureau'!$A:$A,'Fiche besoin bureau'!G:G,_xlfn.XLOOKUP($A8,'Fiche besoin chantier'!$A:$A,'Fiche besoin chantier'!G:G))) -> 0 | H8: =IF($A8="","",_xlfn.XLOOKUP($A8,'Fiche besoin bureau'!$A:$A,'Fiche besoin bureau'!H:H,_xlfn.XLOOKUP($A8,'Fiche besoin chantier'!$A:$A,'Fiche besoin chantier'!H:H))) -> 0 | I8: =IF($A8="","",_xlfn.XLOOKUP($A8,'Fiche besoin bureau'!$A:$A,'Fiche besoin bureau'!I:I,_xlfn.XLOOKUP($A8,'Fiche besoin chantier'!$A:$A,'Fiche besoin chantier'!I:I))) -> 0 | J8: =IF($A8="","",_xlfn.XLOOKUP($A8,'Fiche besoin bureau'!$A:$A,'Fiche besoin bureau'!J:J,_xlfn.XLOOKUP($A8,'Fiche besoin chantier'!$A:$A,'Fiche besoin chantier'!J:J))) -> 0 | K8: =IF($A8="","",_xlfn.XLOOKUP($A8,'Fiche besoin bureau'!$A:$A,'Fiche besoin bureau'!K:K,_xlfn.XLOOKUP($A8,'Fiche besoin chantier'!$A:$A,'Fiche besoin chantier'!K:K))) -> s | L8: =IF($A8="","",_xlfn.XLOOKUP($A8,'Fiche besoin bureau'!$A:$A,'Fiche besoin bureau'!L:L,_xlfn.XLOOKUP($A8,'Fiche besoin chantier'!$A:$A,'Fiche besoin chantier'!L:L))) -> 0 | M8: =IF($A8="","",_xlfn.XLOOKUP($A8,'Fiche besoin bureau'!$A:$A,'Fiche besoin bureau'!M:M,_xlfn.XLOOKUP($A8,'Fiche besoin chantier'!$A:$A,'Fiche besoin chantier'!M:M))) -> 0 | N8: =IF($A8="","",_xlfn.XLOOKUP($A8,'Fiche besoin bureau'!$A:$A,'Fiche besoin bureau'!N:N,_xlfn.XLOOKUP($A8,'Fiche besoin chantier'!$A:$A,'Fiche besoin chantier'!N:N))) -> 0 | O8: =IF($A8="","",_xlfn.XLOOKUP($A8,'Fiche besoin bureau'!$A:$A,'Fiche besoin bureau'!O:O,_xlfn.XLOOKUP($A8,'Fiche besoin chantier'!$A:$A,'Fiche besoin chantier'!O:O))) -> 0
A9: Sylvie | B9: =IF($A9="","",_xlfn.XLOOKUP($A9,'Fiche besoin bureau'!$A:$A,'Fiche besoin bureau'!B:B,_xlfn.XLOOKUP($A9,'Fiche besoin chantier'!$A:$A,'Fiche besoin chantier'!B:B))) -> 45993 | C9: =IF($A9="","",_xlfn.XLOOKUP($A9,'Fiche besoin bureau'!$A:$A,'Fiche besoin bureau'!C:C,_xlfn.XLOOKUP($A9,'Fiche besoin chantier'!$A:$A,'Fiche besoin chantier'!C:C))) -> 0 | D9: =IF($A9="","",_xlfn.XLOOKUP($A9,'Fiche besoin bureau'!$A:$A,'Fiche besoin bureau'!D:D,_xlfn.XLOOKUP($A9,'Fiche besoin chantier'!$A:$A,'Fiche besoin chantier'!D:D))) -> 0 | E9: =IF($A9="","",_xlfn.XLOOKUP($A9,'Fiche besoin bureau'!$A:$A,'Fiche besoin bureau'!E:E,_xlfn.XLOOKUP($A9,'Fiche besoin chantier'!$A:$A,'Fiche besoin chantier'!E:E))) -> 16 | F9: =IF($A9="","",_xlfn.XLOOKUP($A9,'Fiche besoin bureau'!$A:$A,'Fiche besoin bureau'!F:F,_xlfn.XLOOKUP($A9,'Fiche besoin chantier'!$A:$A,'Fiche besoin chantier'!F:F))) -> 1 | G9: =IF($A9="","",_xlfn.XLOOKUP($A9,'Fiche besoin bureau'!$A:$A,'Fiche besoin bureau'!G:G,_xlfn.XLOOKUP($A9,'Fiche besoin chantier'!$A:$A,'Fiche besoin chantier'!G:G))) -> 0 | H9: =IF($A9="","",_xlfn.XLOOKUP($A9,'Fiche besoin bureau'!$A:$A,'Fiche besoin bureau'!H:H,_xlfn.XLOOKUP($A9,'Fiche besoin chantier'!$A:$A,'Fiche besoin chantier'!H:H))) -> 0 | I9: =IF($A9="","",_xlfn.XLOOKUP($A9,'Fiche besoin bureau'!$A:$A,'Fiche besoin bureau'!I:I,_xlfn.XLOOKUP($A9,'Fiche besoin chantier'!$A:$A,'Fiche besoin chantier'!I:I))) -> 0 | J9: =IF($A9="","",_xlfn.XLOOKUP($A9,'Fiche besoin bureau'!$A:$A,'Fiche besoin bureau'!J:J,_xlfn.XLOOKUP($A9,'Fiche besoin chantier'!$A:$A,'Fiche besoin chantier'!J:J))) -> 0 | K9: =IF($A9="","",_xlfn.XLOOKUP($A9,'Fiche besoin bureau'!$A:$A,'Fiche besoin bureau'!K:K,_xlfn.XLOOKUP($A9,'Fiche besoin chantier'!$A:$A,'Fiche besoin chantier'!K:K))) -> 0 | L9: =IF($A9="","",_xlfn.XLOOKUP($A9,'Fiche besoin bureau'!$A:$A,'Fiche besoin bureau'!L:L,_xlfn.XLOOKUP($A9,'Fiche besoin chantier'!$A:$A,'Fiche besoin chantier'!L:L))) -> 0 | M9: =IF($A9="","",_xlfn.XLOOKUP($A9,'Fiche besoin bureau'!$A:$A,'Fiche besoin bureau'!M:M,_xlfn.XLOOKUP($A9,'Fiche besoin chantier'!$A:$A,'Fiche besoin chantier'!M:M))) -> 0 | N9: =IF($A9="","",_xlfn.XLOOKUP($A9,'Fiche besoin bureau'!$A:$A,'Fiche besoin bureau'!N:N,_xlfn.XLOOKUP($A9,'Fiche besoin chantier'!$A:$A,'Fiche besoin chantier'!N:N))) -> 0 | O9: =IF($A9="","",_xlfn.XLOOKUP($A9,'Fiche besoin bureau'!$A:$A,'Fiche besoin bureau'!O:O,_xlfn.XLOOKUP($A9,'Fiche besoin chantier'!$A:$A,'Fiche besoin chantier'!O:O))) -> 0

Sheet CDE
A1: DESIGNATION | B1: TAILLE Couleur | C1: STOCK DISPONIBLE | D1: COUT UNITAIRE | E1: MONTANT DU STOCK | F1: BESOIN
A2: Pantalon de pluie | B2: S | C2: 12 | D2: 23.8 | E2: =C2*$D$8 -> 285.6 | F2: {=SUMPRODUCT((_xlfn.CHOOSECOLS('Récap besoin personnel'!$C$3:$O$9,MATCH(CDE!$A2,'Récap besoin personnel'!$C$1:$O$1,0))*(_xlfn.CHOOSECOLS('Récap besoin personnel'!$C$3:$O$9,MATCH(CDE!$A2,'Récap besoin personnel'!$C$1:$O$1,0)+1)=CDE!B2)))} -> 0
A3: Pantalon de pluie | B3: M | C3: 40 | D3: 23.8 | E3: =C3*$D$8 -> 952 | F3: {=SUMPRODUCT((_xlfn.CHOOSECOLS('Récap besoin personnel'!$C$3:$O$9,MATCH(CDE!$A3,'Récap besoin personnel'!$C$1:$O$1,0))*(_xlfn.CHOOSECOLS('Récap besoin personnel'!$C$3:$O$9,MATCH(CDE!$A3,'Récap besoin personnel'!$C$1:$O$1,0)+1)=CDE!B3)))} -> 10
A4: Pantalon de pluie | B4: L | C4: 55 | D4: 23.8 | E4: =C4*$D$8 -> 1309 | F4: {=SUMPRODUCT((_xlfn.CHOOSECOLS('Récap besoin personnel'!$C$3:$O$9,MATCH(CDE!$A4,'Récap besoin personnel'!$C$1:$O$1,0))*(_xlfn.CHOOSECOLS('Récap besoin personnel'!$C$3:$O$9,MATCH(CDE!$A4,'Récap besoin personnel'!$C$1:$O$1,0)+1)=CDE!B4)))} -> 27
A5: Pantalon de pluie | B5: XL | C5: 35 | D5: 23.8 | E5: =C5*$D$8 -> 833 | F5: {=SUMPRODUCT((_xlfn.CHOOSECOLS('Récap besoin personnel'!$C$3:$O$9,MATCH(CDE!$A5,'Récap besoin personnel'!$C$1:$O$1,0))*(_xlfn.CHOOSECOLS('Récap besoin personnel'!$C$3:$O$9,MATCH(CDE!$A5,'Récap besoin personnel'!$C$1:$O$1,0)+1)=CDE!B5)))} -> 0
A6: Pantalon de pluie | B6: 2L | C6: 13 | D6: 23.8 | E6: =C6*$D$8 -> 309.4 | F6: {=SUMPRODUCT((_xlfn.CHOOSECOLS('Récap besoin personnel'!$C$3:$O$9,MATCH(CDE!$A6,'Récap besoin personnel'!$C$1:$O$1,0))*(_xlfn.CHOOSECOLS('Récap besoin personnel'!$C$3:$O$9,MATCH(CDE!$A6,'Récap besoin personnel'!$C$1:$O$1,0)+1)=CDE!B6)))} -> 0
A7: Pantalon de pluie | B7: 3L | C7: 2 | D7: 23.8 | E7: =C7*$D$8 -> 47.6 | F7: {=SUMPRODUCT((_xlfn.CHOOSECOLS('Récap besoin personnel'!$C$3:$O$9,MATCH(CDE!$A7,'Récap besoin personnel'!$C$1:$O$1,0))*(_xlfn.CHOOSECOLS('Récap besoin personnel'!$C$3:$O$9,MATCH(CDE!$A7,'Récap besoin personnel'!$C$1:$O$1,0)+1)=CDE!B7)))} -> 0
A8: Pantalon de pluie | B8: 4L | C8: 3 | D8: 23.8 | E8: =C8*$D$8 -> 71.4 | F8: {=SUMPRODUCT((_xlfn.CHOOSECOLS('Récap besoin personnel'!$C$3:$O$9,MATCH(CDE!$A8,'Récap besoin personnel'!$C$1:$O$1,0))*(_xlfn.CHOOSECOLS('Récap besoin personnel'!$C$3:$O$9,MATCH(CDE!$A8,'Récap besoin personnel'!$C$1:$O$1,0)+1)=CDE!B8)))} -> 0
A9: Pantalon vert | B9: 0 | C9: 4 | D9: 20.63 | E9: =C9*$D$15 -> 82.52 | F9: {=SUMPRODUCT((_xlfn.CHOOSECOLS('Récap besoin personnel'!$C$3:$O$9,MATCH(CDE!$A9,'Récap besoin personnel'!$C$1:$O$1,0))*(_xlfn.CHOOSECOLS('Récap besoin personnel'!$C$3:$O$9,MATCH(CDE!$A9,'Récap besoin personnel'!$C$1:$O$1,0)+1)=CDE!B9)))} -> 0
A10: Pantalon vert | B10: 1 | C10: 26 | D10: 20.63 | E10: =C10*$D$15 -> 536.38 | F10: {=SUMPRODUCT((_xlfn.CHOOSECOLS('Récap besoin personnel'!$C$3:$O$9,MATCH(CDE!$A10,'Récap besoin personnel'!$C$1:$O$1,0))*(_xlfn.CHOOSECOLS('Récap besoin personnel'!$C$3:$O$9,MATCH(CDE!$A10,'Récap besoin personnel'!$C$1:$O$1,0)+1)=CDE!B10)))} -> 20
A11: Pantalon vert | B11: 2 | C11: 36 | D11: 20.63 | E11: =C11*$D$15 -> 742.68 | F11: {=SUMPRODUCT((_xlfn.CHOOSECOLS('Récap besoin personnel'!$C$3:$O$9,MATCH(CDE!$A11,'Récap besoin personnel'!$C$1:$O$1,0))*(_xlfn.CHOOSECOLS('Récap besoin personnel'!$C$3:$O$9,MATCH(CDE!$A11,'Récap besoin personnel'!$C$1:$O$1,0)+1)=CDE!B11)))} -> 11
A12: Pantalon vert | B12: 3 | C12: 28 | D12: 20.63 | E12: =C12*$D$15 -> 577.64 | F12: {=SUMPRODUCT((_xlfn.CHOOSECOLS('Récap besoin personnel'!$C$3:$O$9,MATCH(CDE!$A12,'Récap besoin personnel'!$C$1:$O$1,0))*(_xlfn.CHOOSECOLS('Récap besoin personnel'!$C$3:$O$9,MATCH(CDE!$A12,'Récap besoin personnel'!$C$1:$O$1,0)+1)=CDE!B12)))} -> 0
A13: Pantalon vert | B13: 4 | C13: 10 | D13: 20.63 | E13: =C13*$D$15 -> 206.3 | F13: {=SUMPRODUCT((_xlfn.CHOOSECOLS('Récap besoin personnel'!$C$3:$O$9,MATCH(CDE!$A13,'Récap besoin personnel'!$C$1:$O$1,0))*(_xlfn.CHOOSECOLS('Récap besoin personnel'!$C$3:$O$9,MATCH(CDE!$A13,'Récap besoin personnel'!$C$1:$O$1,0)+1)=CDE!B13)))} -> 8
A14: Pantalon vert | B14: 5 | C14: 12 | D14: 20.63 | E14: =C14*$D$15 -> 247.56 | F14: {=SUMPRODUCT((_xlfn.CHOOSECOLS('Récap besoin personnel'!$C$3:$O$9,MATCH(CDE!$A14,'Récap besoin personnel'!$C$1:$O$1,0))*(_xlfn.CHOOSECOLS('Récap besoin personnel'!$C$3:$O$9,MATCH(CDE!$A14,'Récap besoin personnel'!$C$1:$O$1,0)+1)=CDE!B14)))} -> 0
A15: Pantalon vert | B15: 6 | C15: 11 | D15: 20.63 | E15: =C15*$D$15 -> 226.93 | F15: {=SUMPRODUCT((_xlfn.CHOOSECOLS('Récap besoin personnel'!$C$3:$O$9,MATCH(CDE!$A15,'Récap besoin personnel'!$C$1:$O$1,0))*(_xlfn.CHOOSECOLS('Récap besoin personnel'!$C$3:$O$9,MATCH(CDE!$A15,'Récap besoin personnel'!$C$1:$O$1,0)+1)=CDE!B15)))} -> 0
A16: Tee-shirt | B16: S | C16: 18 | D16: 17.85 | E16: =C16*$D$22 -> 321.3 | F16: {=SUMPRODUCT((_xlfn.CHOOSECOLS('Récap besoin personnel'!$C$3:$O$9,MATCH(CDE!$A16,'Récap besoin personnel'!$C$1:$O$1,0))*(_xlfn.CHOOSECOLS('Récap besoin personnel'!$C$3:$O$9,MATCH(CDE!$A16,'Récap besoin personnel'!$C$1:$O$1,0)+1)=CDE!B16)))} -> 0
A17: Tee-shirt | B17: M | C17: 34 | D17: 17.85 | E17: =C17*$D$22 -> 606.9 | F17: {=SUMPRODUCT((_xlfn.CHOOSECOLS('Récap besoin personnel'!$C$3:$O$9,MATCH(CDE!$A17,'Récap besoin personnel'!$C$1:$O$1,0))*(_xlfn.CHOOSECOLS('Récap besoin personnel'!$C$3:$O$9,MATCH(CDE!$A17,'Récap besoin personnel'!$C$1:$O$1,0)+1)=CDE!B17)))} -> 8
A18: Tee-shirt | B18: L | C18: 55 | D18: 17.85 | E18: =C18*$D$22 -> 981.75 | F18: {=SUMPRODUCT((_xlfn.CHOOSECOLS('Récap besoin personnel'!$C$3:$O$9,MATCH(CDE!$A18,'Récap besoin personnel'!$C$1:$O$1,0))*(_xlfn.CHOOSECOLS('Récap besoin personnel'!$C$3:$O$9,MATCH(CDE!$A18,'Récap besoin personnel'!$C$1:$O$1,0)+1)=CDE!B18)))} -> 0
A19: Tee-shirt | B19: XL | C19: 28 | D19: 17.85 | E19: =C19*$D$22 -> 499.8 | F19: {=SUMPRODUCT((_xlfn.CHOOSECOLS('Récap besoin personnel'!$C$3:$O$9,MATCH(CDE!$A19,'Récap besoin personnel'!$C$1:$O$1,0))*(_xlfn.CHOOSECOLS('Récap besoin personnel'!$C$3:$O$9,MATCH(CDE!$A19,'Récap besoin personnel'!$C$1:$O$1,0)+1)=CDE!B19)))} -> 0
A20: Tee-shirt | B20: 2XL | C20: 15 | D20: 17.85 | E20: =C20*$D$22 -> 267.75 | F20: {=SUMPRODUCT((_xlfn.CHOOSECOLS('Récap besoin personnel'!$C$3:$O$9,MATCH(CDE!$A20,'Récap besoin personnel'!$C$1:$O$1,0))*(_xlfn.CHOOSECOLS('Récap besoin personnel'!$C$3:$O$9,MATCH(CDE!$A20,'Récap besoin personnel'!$C$1:$O$1,0)+1)=CDE!B20)))} -> 7
A21: Tee-shirt | B21: 3XL | C21: 22 | D21: 17.85 | E21: =C21*$D$22 -> 392.7 | F21: {=SUMPRODUCT((_xlfn.CHOOSECOLS('Récap besoin personnel'!$C$3:$O$9,MATCH(CDE!$A21,'Récap besoin personnel'!$C$1:$O$1,0))*(_xlfn.CHOOSECOLS('Récap besoin personnel'!$C$3:$O$9,MATCH(CDE!$A21,'Récap besoin personnel'!$C$1:$O$1,0)+1)=CDE!B21)))} -> 0
A22: Tee-shirt | B22: 4XL | C22: 10 | D22: 17.85 | E22: =C22*$D$22 -> 178.5 | F22: {=SUMPRODUCT((_xlfn.CHOOSECOLS('Récap besoin personnel'!$C$3:$O$9,MATCH(CDE!$A22,'Récap besoin personnel'!$C$1:$O$1,0))*(_xlfn.CHOOSECOLS('Récap besoin personnel'!$C$3:$O$9,MATCH(CDE!$A22,'Récap besoin personnel'!$C$1:$O$1,0)+1)=CDE!B22)))} -> 0
A23: Sweat | B23: S | C23: 10 | D23: 27.6 | E23: =C23*$D$29 -> 276 | F23: {=SUMPRODUCT((_xlfn.CHOOSECOLS('Récap besoin personnel'!$C$3:$O$9,MATCH(CDE!$A23,'Récap besoin personnel'!$C$1:$O$1,0))*(_xlfn.CHOOSECOLS('Récap besoin personnel'!$C$3:$O$9,MATCH(CDE!$A23,'Récap besoin personnel'!$C$1:$O$1,0)+1)=CDE!B23)))} -> 10
A24: Sweat | B24: M | C24: 31 | D24: 27.6 | E24: =C24*$D$29 -> 855.6 | F24: {=SUMPRODUCT((_xlfn.CHOOSECOLS('Récap besoin personnel'!$C$3:$O$9,MATCH(CDE!$A24,'Récap besoin personnel'!$C$1:$O$1,0))*(_xlfn.CHOOSECOLS('Récap besoin personnel'!$C$3:$O$9,MATCH(CDE!$A24,'Récap besoin personnel'!$C$1:$O$1,0)+1)=CDE!B24)))} -> 0
A25: Sweat | B25: L | C25: 21 | D25: 27.6 | E25: =C25*$D$29 -> 579.6 | F25: {=SUMPRODUCT((_xlfn.CHOOSECOLS('Récap besoin personnel'!$C$3:$O$9,MATCH(CDE!$A25,'Récap besoin personnel'!$C$1:$O$1,0))*(_xlfn.CHOOSECOLS('Récap besoin personnel'!$C$3:$O$9,MATCH(CDE!$A25,'Récap besoin personnel'!$C$1:$O$1,0)+1)=CDE!B25)))} -> 0
A26: Sweat | B26: XL | C26: 25 | D26: 27.6 | E26: =C26*$D$29 -> 690 | F26: {=SUMPRODUCT((_xlfn.CHOOSECOLS('Récap besoin personnel'!$C$3:$O$9,MATCH(CDE!$A26,'Récap besoin personnel'!$C$1:$O$1,0))*(_xlfn.CHOOSECOLS('Récap besoin personnel'!$C$3:$O$9,MATCH(CDE!$A26,'Récap besoin personnel'!$C$1:$O$1,0)+1)=CDE!B26)))} -> 0
A27: Sweat | B27: 2XL | C27: 11 | D27: 27.6 | E27: =C27*$D$29 -> 303.6 | F27: {=SUMPRODUCT((_xlfn.CHOOSECOLS('Récap besoin personnel'!$C$3:$O$9,MATCH(CDE!$A27,'Récap besoin personnel'!$C$1:$O$1,0))*(_xlfn.CHOOSECOLS('Récap besoin personnel'!$C$3:$O$9,MATCH(CDE!$A27,'Récap besoin personnel'!$C$1:$O$1,0)+1)=CDE!B27)))} -> 0
A28: Sweat | B28: 3XL | C28: 13 | D28: 27.6 | E28: =C28*$D$29 -> 358.8 | F28: {=SUMPRODUCT((_xlfn.CHOOSECOLS('Récap besoin personnel'!$C$3:$O$9,MATCH(CDE!$A28,'Récap besoin personnel'!$C$1:$O$1,0))*(_xlfn.CHOOSECOLS('Récap besoin personnel'!$C$3:$O$9,MATCH(CDE!$A28,'Récap besoin personnel'!$C$1:$O$1,0)+1)=CDE!B28)))} -> 0
A29: Sweat | B29: 4XL | C29: 15 | D29: 27.6 | E29: =C29*$D$29 -> 414 | F29: {=SUMPRODUCT((_xlfn.CHOOSECOLS('Récap besoin personnel'!$C$3:$O$9,MATCH(CDE!$A29,'Récap besoin personnel'!$C$1:$O$1,0))*(_xlfn.CHOOSECOLS('Récap besoin personnel'!$C$3:$O$9,MATCH(CDE!$A29,'Récap besoin personnel'!$C$1:$O$1,0)+1)=CDE!B29)))} -> 0
A30: Parka | B30: S | F30: {=SUMPRODUCT((_xlfn.CHOOSECOLS('Récap besoin personnel'!$C$3:$O$9,MATCH(CDE!$A30,'Récap besoin personnel'!$C$1:$O$1,0))=B30)*1)} -> 1
A31: Parka | B31: M | F31: {=SUMPRODUCT((_xlfn.CHOOSECOLS('Récap besoin personnel'!$C$3:$O$9,MATCH(CDE!$A31,'Récap besoin personnel'!$C$1:$O$1,0))=B31)*1)} -> 0
A32: Parka | B32: L | F32: {=SUMPRODUCT((_xlfn.CHOOSECOLS('Récap besoin personnel'!$C$3:$O$9,MATCH(CDE!$A32,'Récap besoin personnel'!$C$1:$O$1,0))=B32)*1)} -> 1
A33: Parka | B33: XL | F33: {=SUMPRODUCT((_xlfn.CHOOSECOLS('Récap besoin personnel'!$C$3:$O$9,MATCH(CDE!$A33,'Récap besoin personnel'!$C$1:$O$1,0))=B33)*1)} -> 1
A34: Parka | B34: 2XL | F34: {=SUMPRODUCT((_xlfn.CHOOSECOLS('Récap besoin personnel'!$C$3:$O$9,MATCH(CDE!$A34,'Récap besoin personnel'!$C$1:$O$1,0))=B34)*1)} -> 1
A35: Parka | B35: 3XL | F35: {=SUMPRODUCT((_xlfn.CHOOSECOLS('Récap besoin personnel'!$C$3:$O$9,MATCH(CDE!$A35,'Récap besoin personnel'!$C$1:$O$1,0))=B35)*1)} -> 0
