Workbook
Name Type_de_cas: 'Données listes'!$A$1:$A$6

Sheet Général
A1: N°Réf | B1: Nom | C1: Prénom | D1: AS | E1: Langue | F1: Resp. | G1: Date réception | H1: Demande de prise de position | I1: Date de fin | J1: Type de cas
A2: REV/2023001 | B2: Dupont | C2: Georges | E2: D | G2: 44971 | H2: 44971 | I2: 45009 | J2: Révision
A3: REV/2023002 | B3: Croche | C3: Sarah | E3: F | G3: 44972 | H3: 44972 | I3: 45003 | J3: Révision
A4: REV/2023003 | B4: Ween | C4: Hallo | E4: D | G4: 45015 | H4: 45015 | I4: 45031 | J4: Dénonciation externe
A5: REV/2023004 | B5: Federer | C5: Roger | E5: D | G5: 45013 | H5: 45013 | I5: 45031 | J5: Soupçon abus interne
A6: REV/2023005 | B6: Gut | C6: Wigäts | E6: F | G6: 44982 | H6: 44982 | I6: 45004 | J6: Révision
A7: REV/2023006 | B7: Onciterne | C7: Camille | E7: F | G7: 45015 | H7: 45015 | I7: 45010 | J7: Révision après LAK
A8: REV/2023007 | B8: D'Arc | C8: Jeanne | E8: D | G8: 45015 | H8: 45015 | I8: 45017 | J8: Révision après LAK
A9: REV/2023008 | B9: Hollande | C9: Mary-Jane | E9: F | G9: 45031 | H9: 45031 | I9: 45047 | J9: Réclamation

Sheet Détails cas révision
A1: Nom | B1: Prénom | C1: Date rapport | D1: Motif du cas de révision | E1: SAP | F1: ASD | G1: Remarques
A2: {=IFERROR(INDEX(Général!$B$2:$B$9,SMALL(IF(Général!$J$2:$J$9="révision ",ROW(Général!$J$2:$J$9)-1),ROWS($1:1))),"")} -> Dupont | B2: {=IFERROR(INDEX(Général!$C$2:$C$9,SMALL(IF(Général!$J$2:$J$9="révision ",ROW(Général!$J$2:$J$9)-1),ROWS($1:1))),"")} -> Georges
A3: toito | B3: marcel
A4: {=IFERROR(INDEX(Général!$B$2:$B$9,SMALL(IF(Général!$J$2:$J$9="révision ",ROW(Général!$J$2:$J$9)-1),ROWS($1:2))),"")} -> Croche | B4: {=IFERROR(INDEX(Général!$C$2:$C$9,SMALL(IF(Général!$J$2:$J$9="révision ",ROW(Général!$J$2:$J$9)-1),ROWS($1:2))),"")} -> Sarah
A5: {=IFERROR(INDEX(Général!$B$2:$B$9,SMALL(IF(Général!$J$2:$J$9="révision ",ROW(Général!$J$2:$J$9)-1),ROWS($1:3))),"")} -> Gut | B5: {=IFERROR(INDEX(Général!$C$2:$C$9,SMALL(IF(Général!$J$2:$J$9="révision ",ROW(Général!$J$2:$J$9)-1),ROWS($1:3))),"")} -> Wigäts
A6: {=IFERROR(INDEX(Général!$B$2:$B$9,SMALL(IF(Général!$J$2:$J$9="révision ",ROW(Général!$J$2:$J$9)-1),ROWS($1:4))),"")} | B6: {=IFERROR(INDEX(Général!$C$2:$C$9,SMALL(IF(Général!$J$2:$J$9="révision ",ROW(Général!$J$2:$J$9)-1),ROWS($1:4))),"")}
A7: {=IFERROR(INDEX(Général!$B$2:$B$9,SMALL(IF(Général!$J$2:$J$9="révision ",ROW(Général!$J$2:$J$9)-1),ROWS($1:5))),"")} | B7: {=IFERROR(INDEX(Général!$C$2:$C$9,SMALL(IF(Général!$J$2:$J$9="révision ",ROW(Général!$J$2:$J$9)-1),ROWS($1:5))),"")}
A8: {=IFERROR(INDEX(Général!$B$2:$B$9,SMALL(IF(Général!$J$2:$J$9="révision ",ROW(Général!$J$2:$J$9)-1),ROWS($1:6))),"")} | B8: {=IFERROR(INDEX(Général!$C$2:$C$9,SMALL(IF(Général!$J$2:$J$9="révision ",ROW(Général!$J$2:$J$9)-1),ROWS($1:6))),"")}
A9: {=IFERROR(INDEX(Général!$B$2:$B$9,SMALL(IF(Général!$J$2:$J$9="révision ",ROW(Général!$J$2:$J$9)-1),ROWS($1:7))),"")} | B9: {=IFERROR(INDEX(Général!$C$2:$C$9,SMALL(IF(Général!$J$2:$J$9="révision ",ROW(Général!$J$2:$J$9)-1),ROWS($1:7))),"")}
A10: {=IFERROR(INDEX(Général!$B$2:$B$9,SMALL(IF(Général!$J$2:$J$9="révision ",ROW(Général!$J$2:$J$9)-1),ROWS($1:8))),"")} | B10: {=IFERROR(INDEX(Général!$C$2:$C$9,SMALL(IF(Général!$J$2:$J$9="révision ",ROW(Général!$J$2:$J$9)-1),ROWS($1:8))),"")}
A11: {=IFERROR(INDEX(Général!$B$2:$B$9,SMALL(IF(Général!$J$2:$J$9="révision ",ROW(Général!$J$2:$J$9)-1),ROWS($1:9))),"")} | B11: {=IFERROR(INDEX(Général!$C$2:$C$9,SMALL(IF(Général!$J$2:$J$9="révision ",ROW(Général!$J$2:$J$9)-1),ROWS($1:9))),"")}
A12: {=IFERROR(INDEX(Général!$B$2:$B$9,SMALL(IF(Général!$J$2:$J$9="révision ",ROW(Général!$J$2:$J$9)-1),ROWS($1:10))),"")} | B12: {=IFERROR(INDEX(Général!$C$2:$C$9,SMALL(IF(Général!$J$2:$J$9="révision ",ROW(Général!$J$2:$J$9)-1),ROWS($1:10))),"")}
A13: {=IFERROR(INDEX(Général!$B$2:$B$9,SMALL(IF(Général!$J$2:$J$9="révision ",ROW(Général!$J$2:$J$9)-1),ROWS($1:11))),"")} | B13: {=IFERROR(INDEX(Général!$C$2:$C$9,SMALL(IF(Général!$J$2:$J$9="révision ",ROW(Général!$J$2:$J$9)-1),ROWS($1:11))),"")}
A14: {=IFERROR(INDEX(Général!$B$2:$B$9,SMALL(IF(Général!$J$2:$J$9="révision ",ROW(Général!$J$2:$J$9)-1),ROWS($1:12))),"")} | B14: {=IFERROR(INDEX(Général!$C$2:$C$9,SMALL(IF(Général!$J$2:$J$9="révision ",ROW(Général!$J$2:$J$9)-1),ROWS($1:12))),"")}
A15: {=IFERROR(INDEX(Général!$B$2:$B$9,SMALL(IF(Général!$J$2:$J$9="révision ",ROW(Général!$J$2:$J$9)-1),ROWS($1:13))),"")} | B15: {=IFERROR(INDEX(Général!$C$2:$C$9,SMALL(IF(Général!$J$2:$J$9="révision ",ROW(Général!$J$2:$J$9)-1),ROWS($1:13))),"")}
A16: {=IFERROR(INDEX(Général!$B$2:$B$9,SMALL(IF(Général!$J$2:$J$9="révision ",ROW(Général!$J$2:$J$9)-1),ROWS($1:14))),"")} | B16: {=IFERROR(INDEX(Général!$C$2:$C$9,SMALL(IF(Général!$J$2:$J$9="révision ",ROW(Général!$J$2:$J$9)-1),ROWS($1:14))),"")}
A17: {=IFERROR(INDEX(Général!$B$2:$B$9,SMALL(IF(Général!$J$2:$J$9="révision ",ROW(Général!$J$2:$J$9)-1),ROWS($1:15))),"")} | B17: {=IFERROR(INDEX(Général!$C$2:$C$9,SMALL(IF(Général!$J$2:$J$9="révision ",ROW(Général!$J$2:$J$9)-1),ROWS($1:15))),"")}
A18: {=IFERROR(INDEX(Général!$B$2:$B$9,SMALL(IF(Général!$J$2:$J$9="révision ",ROW(Général!$J$2:$J$9)-1),ROWS($1:16))),"")} | B18: {=IFERROR(INDEX(Général!$C$2:$C$9,SMALL(IF(Général!$J$2:$J$9="révision ",ROW(Général!$J$2:$J$9)-1),ROWS($1:16))),"")}
A19: {=IFERROR(INDEX(Général!$B$2:$B$9,SMALL(IF(Général!$J$2:$J$9="révision ",ROW(Général!$J$2:$J$9)-1),ROWS($1:17))),"")} | B19: {=IFERROR(INDEX(Général!$C$2:$C$9,SMALL(IF(Général!$J$2:$J$9="révision ",ROW(Général!$J$2:$J$9)-1),ROWS($1:17))),"")}
A20: {=IFERROR(INDEX(Général!$B$2:$B$9,SMALL(IF(Général!$J$2:$J$9="révision ",ROW(Général!$J$2:$J$9)-1),ROWS($1:18))),"")} | B20: {=IFERROR(INDEX(Général!$C$2:$C$9,SMALL(IF(Général!$J$2:$J$9="révision ",ROW(Général!$J$2:$J$9)-1),ROWS($1:18))),"")}
A21: {=IFERROR(INDEX(Général!$B$2:$B$9,SMALL(IF(Général!$J$2:$J$9="révision ",ROW(Général!$J$2:$J$9)-1),ROWS($1:19))),"")} | B21: {=IFERROR(INDEX(Général!$C$2:$C$9,SMALL(IF(Général!$J$2:$J$9="révision ",ROW(Général!$J$2:$J$9)-1),ROWS($1:19))),"")}
A22: {=IFERROR(INDEX(Général!$B$2:$B$9,SMALL(IF(Général!$J$2:$J$9="révision ",ROW(Général!$J$2:$J$9)-1),ROWS($1:20))),"")} | B22: {=IFERROR(INDEX(Général!$C$2:$C$9,SMALL(IF(Général!$J$2:$J$9="révision ",ROW(Général!$J$2:$J$9)-1),ROWS($1:20))),"")}
A23: {=IFERROR(INDEX(Général!$B$2:$B$9,SMALL(IF(Général!$J$2:$J$9="révision ",ROW(Général!$J$2:$J$9)-1),ROWS($1:21))),"")} | B23: {=IFERROR(INDEX(Général!$C$2:$C$9,SMALL(IF(Général!$J$2:$J$9="révision ",ROW(Général!$J$2:$J$9)-1),ROWS($1:21))),"")}
A24: {=IFERROR(INDEX(Général!$B$2:$B$9,SMALL(IF(Général!$J$2:$J$9="révision ",ROW(Général!$J$2:$J$9)-1),ROWS($1:22))),"")} | B24: {=IFERROR(INDEX(Général!$C$2:$C$9,SMALL(IF(Général!$J$2:$J$9="révision ",ROW(Général!$J$2:$J$9)-1),ROWS($1:22))),"")}
A25: {=IFERROR(INDEX(Général!$B$2:$B$9,SMALL(IF(Général!$J$2:$J$9="révision ",ROW(Général!$J$2:$J$9)-1),ROWS($1:23))),"")} | B25: {=IFERROR(INDEX(Général!$C$2:$C$9,SMALL(IF(Général!$J$2:$J$9="révision ",ROW(Général!$J$2:$J$9)-1),ROWS($1:23))),"")}
A26: {=IFERROR(INDEX(Général!$B$2:$B$9,SMALL(IF(Général!$J$2:$J$9="révision ",ROW(Général!$J$2:$J$9)-1),ROWS($1:24))),"")} | B26: {=IFERROR(INDEX(Général!$C$2:$C$9,SMALL(IF(Général!$J$2:$J$9="révision ",ROW(Général!$J$2:$J$9)-1),ROWS($1:24))),"")}
A27: {=IFERROR(INDEX(Général!$B$2:$B$9,SMALL(IF(Général!$J$2:$J$9="révision ",ROW(Général!$J$2:$J$9)-1),ROWS($1:25))),"")} | B27: {=IFERROR(INDEX(Général!$C$2:$C$9,SMALL(IF(Général!$J$2:$J$9="révision ",ROW(Général!$J$2:$J$9)-1),ROWS($1:25))),"")}
A28: {=IFERROR(INDEX(Général!$B$2:$B$9,SMALL(IF(Général!$J$2:$J$9="révision ",ROW(Général!$J$2:$J$9)-1),ROWS($1:26))),"")} | B28: {=IFERROR(INDEX(Général!$C$2:$C$9,SMALL(IF(Général!$J$2:$J$9="révision ",ROW(Général!$J$2:$J$9)-1),ROWS($1:26))),"")}
A29: {=IFERROR(INDEX(Général!$B$2:$B$9,SMALL(IF(Général!$J$2:$J$9="révision ",ROW(Général!$J$2:$J$9)-1),ROWS($1:27))),"")} | B29: {=IFERROR(INDEX(Général!$C$2:$C$9,SMALL(IF(Général!$J$2:$J$9="révision ",ROW(Général!$J$2:$J$9)-1),ROWS($1:27))),"")}
A30: {=IFERROR(INDEX(Général!$B$2:$B$9,SMALL(IF(Général!$J$2:$J$9="révision ",ROW(Général!$J$2:$J$9)-1),ROWS($1:28))),"")} | B30: {=IFERROR(INDEX(Général!$C$2:$C$9,SMALL(IF(Général!$J$2:$J$9="révision ",ROW(Général!$J$2:$J$9)-1),ROWS($1:28))),"")}
A31: {=IFERROR(INDEX(Général!$B$2:$B$9,SMALL(IF(Général!$J$2:$J$9="révision ",ROW(Général!$J$2:$J$9)-1),ROWS($1:29))),"")} | B31: {=IFERROR(INDEX(Général!$C$2:$C$9,SMALL(IF(Général!$J$2:$J$9="révision ",ROW(Général!$J$2:$J$9)-1),ROWS($1:29))),"")}
A32: {=IFERROR(INDEX(Général!$B$2:$B$9,SMALL(IF(Général!$J$2:$J$9="révision ",ROW(Général!$J$2:$J$9)-1),ROWS($1:30))),"")} | B32: {=IFERROR(INDEX(Général!$C$2:$C$9,SMALL(IF(Général!$J$2:$J$9="révision ",ROW(Général!$J$2:$J$9)-1),ROWS($1:30))),"")}
A33: {=IFERROR(INDEX(Général!$B$2:$B$9,SMALL(IF(Général!$J$2:$J$9="révision ",ROW(Général!$J$2:$J$9)-1),ROWS($1:31))),"")} | B33: {=IFERROR(INDEX(Général!$C$2:$C$9,SMALL(IF(Général!$J$2:$J$9="révision ",ROW(Général!$J$2:$J$9)-1),ROWS($1:31))),"")}
A34: {=IFERROR(INDEX(Général!$B$2:$B$9,SMALL(IF(Général!$J$2:$J$9="révision ",ROW(Général!$J$2:$J$9)-1),ROWS($1:32))),"")} | B34: {=IFERROR(INDEX(Général!$C$2:$C$9,SMALL(IF(Général!$J$2:$J$9="révision ",ROW(Général!$J$2:$J$9)-1),ROWS($1:32))),"")}
A35: {=IFERROR(INDEX(Général!$B$2:$B$9,SMALL(IF(Général!$J$2:$J$9="révision ",ROW(Général!$J$2:$J$9)-1),ROWS($1:33))),"")} | B35: {=IFERROR(INDEX(Général!$C$2:$C$9,SMALL(IF(Général!$J$2:$J$9="révision ",ROW(Général!$J$2:$J$9)-1),ROWS($1:33))),"")}
A36: {=IFERROR(INDEX(Général!$B$2:$B$9,SMALL(IF(Général!$J$2:$J$9="révision ",ROW(Général!$J$2:$J$9)-1),ROWS($1:34))),"")} | B36: {=IFERROR(INDEX(Général!$C$2:$C$9,SMALL(IF(Général!$J$2:$J$9="révision ",ROW(Général!$J$2:$J$9)-1),ROWS($1:34))),"")}
A37: {=IFERROR(INDEX(Général!$B$2:$B$9,SMALL(IF(Général!$J$2:$J$9="révision ",ROW(Général!$J$2:$J$9)-1),ROWS($1:35))),"")} | B37: {=IFERROR(INDEX(Général!$C$2:$C$9,SMALL(IF(Général!$J$2:$J$9="révision ",ROW(Général!$J$2:$J$9)-1),ROWS($1:35))),"")}
A38: {=IFERROR(INDEX(Général!$B$2:$B$9,SMALL(IF(Général!$J$2:$J$9="révision ",ROW(Général!$J$2:$J$9)-1),ROWS($1:36))),"")} | B38: {=IFERROR(INDEX(Général!$C$2:$C$9,SMALL(IF(Général!$J$2:$J$9="révision ",ROW(Général!$J$2:$J$9)-1),ROWS($1:36))),"")}
A39: {=IFERROR(INDEX(Général!$B$2:$B$9,SMALL(IF(Général!$J$2:$J$9="révision ",ROW(Général!$J$2:$J$9)-1),ROWS($1:37))),"")} | B39: {=IFERROR(INDEX(Général!$C$2:$C$9,SMALL(IF(Général!$J$2:$J$9="révision ",ROW(Général!$J$2:$J$9)-1),ROWS($1:37))),"")}
A40: {=IFERROR(INDEX(Général!$B$2:$B$9,SMALL(IF(Général!$J$2:$J$9="révision ",ROW(Général!$J$2:$J$9)-1),ROWS($1:38))),"")} | B40: {=IFERROR(INDEX(Général!$C$2:$C$9,SMALL(IF(Général!$J$2:$J$9="révision ",ROW(Général!$J$2:$J$9)-1),ROWS($1:38))),"")}
...

Sheet Suivi cas de révision
A1: Nom | B1: Prénom | C1: Date validation rapport par commission | D1: Rappel client | E1: Date classement archives | F1: ASR | G1: Remarques
A2: {=IFERROR(INDEX(Général!$B$2:$B$9,SMALL(IF(Général!$J$2:$J$9="révision ",ROW(Général!$J$2:$J$9)-1),ROWS($1:1))),"")} -> Dupont | B2: {=IFERROR(INDEX(Général!$C$2:$C$9,SMALL(IF(Général!$J$2:$J$9="révision ",ROW(Général!$J$2:$J$9)-1),ROWS($1:1))),"")} -> Georges
A3: {=IFERROR(INDEX(Général!$B$2:$B$9,SMALL(IF(Général!$J$2:$J$9="révision ",ROW(Général!$J$2:$J$9)-1),ROWS($1:2))),"")} -> Croche | B3: {=IFERROR(INDEX(Général!$C$2:$C$9,SMALL(IF(Général!$J$2:$J$9="révision ",ROW(Général!$J$2:$J$9)-1),ROWS($1:2))),"")} -> Sarah
A4: jiji | B4: tyty
A5: {=IFERROR(INDEX(Général!$B$2:$B$9,SMALL(IF(Général!$J$2:$J$9="révision ",ROW(Général!$J$2:$J$9)-1),ROWS($1:3))),"")} -> Gut | B5: {=IFERROR(INDEX(Général!$C$2:$C$9,SMALL(IF(Général!$J$2:$J$9="révision ",ROW(Général!$J$2:$J$9)-1),ROWS($1:3))),"")} -> Wigäts
A6: {=IFERROR(INDEX(Général!$B$2:$B$9,SMALL(IF(Général!$J$2:$J$9="révision ",ROW(Général!$J$2:$J$9)-1),ROWS($1:5))),"")} | B6: {=IFERROR(INDEX(Général!$C$2:$C$9,SMALL(IF(Général!$J$2:$J$9="révision ",ROW(Général!$J$2:$J$9)-1),ROWS($1:5))),"")}
A7: {=IFERROR(INDEX(Général!$B$2:$B$9,SMALL(IF(Général!$J$2:$J$9="révision ",ROW(Général!$J$2:$J$9)-1),ROWS($1:6))),"")} | B7: {=IFERROR(INDEX(Général!$C$2:$C$9,SMALL(IF(Général!$J$2:$J$9="révision ",ROW(Général!$J$2:$J$9)-1),ROWS($1:6))),"")}
A8: {=IFERROR(INDEX(Général!$B$2:$B$9,SMALL(IF(Général!$J$2:$J$9="révision ",ROW(Général!$J$2:$J$9)-1),ROWS($1:7))),"")} | B8: {=IFERROR(INDEX(Général!$C$2:$C$9,SMALL(IF(Général!$J$2:$J$9="révision ",ROW(Général!$J$2:$J$9)-1),ROWS($1:7))),"")}
A9: {=IFERROR(INDEX(Général!$B$2:$B$9,SMALL(IF(Général!$J$2:$J$9="révision ",ROW(Général!$J$2:$J$9)-1),ROWS($1:8))),"")} | B9: {=IFERROR(INDEX(Général!$C$2:$C$9,SMALL(IF(Général!$J$2:$J$9="révision ",ROW(Général!$J$2:$J$9)-1),ROWS($1:8))),"")}
A10: {=IFERROR(INDEX(Général!$B$2:$B$9,SMALL(IF(Général!$J$2:$J$9="révision ",ROW(Général!$J$2:$J$9)-1),ROWS($1:9))),"")} | B10: {=IFERROR(INDEX(Général!$C$2:$C$9,SMALL(IF(Général!$J$2:$J$9="révision ",ROW(Général!$J$2:$J$9)-1),ROWS($1:9))),"")}
A11: {=IFERROR(INDEX(Général!$B$2:$B$9,SMALL(IF(Général!$J$2:$J$9="révision ",ROW(Général!$J$2:$J$9)-1),ROWS($1:10))),"")} | B11: {=IFERROR(INDEX(Général!$C$2:$C$9,SMALL(IF(Général!$J$2:$J$9="révision ",ROW(Général!$J$2:$J$9)-1),ROWS($1:10))),"")}
A12: {=IFERROR(INDEX(Général!$B$2:$B$9,SMALL(IF(Général!$J$2:$J$9="révision ",ROW(Général!$J$2:$J$9)-1),ROWS($1:11))),"")} | B12: {=IFERROR(INDEX(Général!$C$2:$C$9,SMALL(IF(Général!$J$2:$J$9="révision ",ROW(Général!$J$2:$J$9)-1),ROWS($1:11))),"")}
A13: {=IFERROR(INDEX(Général!$B$2:$B$9,SMALL(IF(Général!$J$2:$J$9="révision ",ROW(Général!$J$2:$J$9)-1),ROWS($1:12))),"")} | B13: {=IFERROR(INDEX(Général!$C$2:$C$9,SMALL(IF(Général!$J$2:$J$9="révision ",ROW(Général!$J$2:$J$9)-1),ROWS($1:12))),"")}
A14: {=IFERROR(INDEX(Général!$B$2:$B$9,SMALL(IF(Général!$J$2:$J$9="révision ",ROW(Général!$J$2:$J$9)-1),ROWS($1:13))),"")} | B14: {=IFERROR(INDEX(Général!$C$2:$C$9,SMALL(IF(Général!$J$2:$J$9="révision ",ROW(Général!$J$2:$J$9)-1),ROWS($1:13))),"")}
A15: {=IFERROR(INDEX(Général!$B$2:$B$9,SMALL(IF(Général!$J$2:$J$9="révision ",ROW(Général!$J$2:$J$9)-1),ROWS($1:14))),"")} | B15: {=IFERROR(INDEX(Général!$C$2:$C$9,SMALL(IF(Général!$J$2:$J$9="révision ",ROW(Général!$J$2:$J$9)-1),ROWS($1:14))),"")}
A16: {=IFERROR(INDEX(Général!$B$2:$B$9,SMALL(IF(Général!$J$2:$J$9="révision ",ROW(Général!$J$2:$J$9)-1),ROWS($1:15))),"")} | B16: {=IFERROR(INDEX(Général!$C$2:$C$9,SMALL(IF(Général!$J$2:$J$9="révision ",ROW(Général!$J$2:$J$9)-1),ROWS($1:15))),"")}
A17: {=IFERROR(INDEX(Général!$B$2:$B$9,SMALL(IF(Général!$J$2:$J$9="révision ",ROW(Général!$J$2:$J$9)-1),ROWS($1:16))),"")} | B17: {=IFERROR(INDEX(Général!$C$2:$C$9,SMALL(IF(Général!$J$2:$J$9="révision ",ROW(Général!$J$2:$J$9)-1),ROWS($1:16))),"")}
A18: {=IFERROR(INDEX(Général!$B$2:$B$9,SMALL(IF(Général!$J$2:$J$9="révision ",ROW(Général!$J$2:$J$9)-1),ROWS($1:17))),"")} | B18: {=IFERROR(INDEX(Général!$C$2:$C$9,SMALL(IF(Général!$J$2:$J$9="révision ",ROW(Général!$J$2:$J$9)-1),ROWS($1:17))),"")}
A19: {=IFERROR(INDEX(Général!$B$2:$B$9,SMALL(IF(Général!$J$2:$J$9="révision ",ROW(Général!$J$2:$J$9)-1),ROWS($1:18))),"")} | B19: {=IFERROR(INDEX(Général!$C$2:$C$9,SMALL(IF(Général!$J$2:$J$9="révision ",ROW(Général!$J$2:$J$9)-1),ROWS($1:18))),"")}
A20: {=IFERROR(INDEX(Général!$B$2:$B$9,SMALL(IF(Général!$J$2:$J$9="révision ",ROW(Général!$J$2:$J$9)-1),ROWS($1:19))),"")} | B20: {=IFERROR(INDEX(Général!$C$2:$C$9,SMALL(IF(Général!$J$2:$J$9="révision ",ROW(Général!$J$2:$J$9)-1),ROWS($1:19))),"")}
A21: {=IFERROR(INDEX(Général!$B$2:$B$9,SMALL(IF(Général!$J$2:$J$9="révision ",ROW(Général!$J$2:$J$9)-1),ROWS($1:20))),"")} | B21: {=IFERROR(INDEX(Général!$C$2:$C$9,SMALL(IF(Général!$J$2:$J$9="révision ",ROW(Général!$J$2:$J$9)-1),ROWS($1:20))),"")}
A22: {=IFERROR(INDEX(Général!$B$2:$B$9,SMALL(IF(Général!$J$2:$J$9="révision ",ROW(Général!$J$2:$J$9)-1),ROWS($1:21))),"")} | B22: {=IFERROR(INDEX(Général!$C$2:$C$9,SMALL(IF(Général!$J$2:$J$9="révision ",ROW(Général!$J$2:$J$9)-1),ROWS($1:21))),"")}
A23: {=IFERROR(INDEX(Général!$B$2:$B$9,SMALL(IF(Général!$J$2:$J$9="révision ",ROW(Général!$J$2:$J$9)-1),ROWS($1:22))),"")} | B23: {=IFERROR(INDEX(Général!$C$2:$C$9,SMALL(IF(Général!$J$2:$J$9="révision ",ROW(Général!$J$2:$J$9)-1),ROWS($1:22))),"")}
A24: {=IFERROR(INDEX(Général!$B$2:$B$9,SMALL(IF(Général!$J$2:$J$9="révision ",ROW(Général!$J$2:$J$9)-1),ROWS($1:23))),"")} | B24: {=IFERROR(INDEX(Général!$C$2:$C$9,SMALL(IF(Général!$J$2:$J$9="révision ",ROW(Général!$J$2:$J$9)-1),ROWS($1:23))),"")}
A25: {=IFERROR(INDEX(Général!$B$2:$B$9,SMALL(IF(Général!$J$2:$J$9="révision ",ROW(Général!$J$2:$J$9)-1),ROWS($1:24))),"")} | B25: {=IFERROR(INDEX(Général!$C$2:$C$9,SMALL(IF(Général!$J$2:$J$9="révision ",ROW(Général!$J$2:$J$9)-1),ROWS($1:24))),"")}
A26: {=IFERROR(INDEX(Général!$B$2:$B$9,SMALL(IF(Général!$J$2:$J$9="révision ",ROW(Général!$J$2:$J$9)-1),ROWS($1:25))),"")} | B26: {=IFERROR(INDEX(Général!$C$2:$C$9,SMALL(IF(Général!$J$2:$J$9="révision ",ROW(Général!$J$2:$J$9)-1),ROWS($1:25))),"")}
A27: {=IFERROR(INDEX(Général!$B$2:$B$9,SMALL(IF(Général!$J$2:$J$9="révision ",ROW(Général!$J$2:$J$9)-1),ROWS($1:26))),"")} | B27: {=IFERROR(INDEX(Général!$C$2:$C$9,SMALL(IF(Général!$J$2:$J$9="révision ",ROW(Général!$J$2:$J$9)-1),ROWS($1:26))),"")}
A28: {=IFERROR(INDEX(Général!$B$2:$B$9,SMALL(IF(Général!$J$2:$J$9="révision ",ROW(Général!$J$2:$J$9)-1),ROWS($1:27))),"")} | B28: {=IFERROR(INDEX(Général!$C$2:$C$9,SMALL(IF(Général!$J$2:$J$9="révision ",ROW(Général!$J$2:$J$9)-1),ROWS($1:27))),"")}
A29: {=IFERROR(INDEX(Général!$B$2:$B$9,SMALL(IF(Général!$J$2:$J$9="révision ",ROW(Général!$J$2:$J$9)-1),ROWS($1:28))),"")} | B29: {=IFERROR(INDEX(Général!$C$2:$C$9,SMALL(IF(Général!$J$2:$J$9="révision ",ROW(Général!$J$2:$J$9)-1),ROWS($1:28))),"")}
A30: {=IFERROR(INDEX(Général!$B$2:$B$9,SMALL(IF(Général!$J$2:$J$9="révision ",ROW(Général!$J$2:$J$9)-1),ROWS($1:29))),"")} | B30: {=IFERROR(INDEX(Général!$C$2:$C$9,SMALL(IF(Général!$J$2:$J$9="révision ",ROW(Général!$J$2:$J$9)-1),ROWS($1:29))),"")}
A31: {=IFERROR(INDEX(Général!$B$2:$B$9,SMALL(IF(Général!$J$2:$J$9="révision ",ROW(Général!$J$2:$J$9)-1),ROWS($1:30))),"")} | B31: {=IFERROR(INDEX(Général!$C$2:$C$9,SMALL(IF(Général!$J$2:$J$9="révision ",ROW(Général!$J$2:$J$9)-1),ROWS($1:30))),"")}
A32: {=IFERROR(INDEX(Général!$B$2:$B$9,SMALL(IF(Général!$J$2:$J$9="révision ",ROW(Général!$J$2:$J$9)-1),ROWS($1:31))),"")} | B32: {=IFERROR(INDEX(Général!$C$2:$C$9,SMALL(IF(Général!$J$2:$J$9="révision ",ROW(Général!$J$2:$J$9)-1),ROWS($1:31))),"")}
A33: {=IFERROR(INDEX(Général!$B$2:$B$9,SMALL(IF(Général!$J$2:$J$9="révision ",ROW(Général!$J$2:$J$9)-1),ROWS($1:32))),"")} | B33: {=IFERROR(INDEX(Général!$C$2:$C$9,SMALL(IF(Général!$J$2:$J$9="révision ",ROW(Général!$J$2:$J$9)-1),ROWS($1:32))),"")}
A34: {=IFERROR(INDEX(Général!$B$2:$B$9,SMALL(IF(Général!$J$2:$J$9="révision ",ROW(Général!$J$2:$J$9)-1),ROWS($1:33))),"")} | B34: {=IFERROR(INDEX(Général!$C$2:$C$9,SMALL(IF(Général!$J$2:$J$9="révision ",ROW(Général!$J$2:$J$9)-1),ROWS($1:33))),"")}
A35: {=IFERROR(INDEX(Général!$B$2:$B$9,SMALL(IF(Général!$J$2:$J$9="révision ",ROW(Général!$J$2:$J$9)-1),ROWS($1:34))),"")} | B35: {=IFERROR(INDEX(Général!$C$2:$C$9,SMALL(IF(Général!$J$2:$J$9="révision ",ROW(Général!$J$2:$J$9)-1),ROWS($1:34))),"")}
A36: {=IFERROR(INDEX(Général!$B$2:$B$9,SMALL(IF(Général!$J$2:$J$9="révision ",ROW(Général!$J$2:$J$9)-1),ROWS($1:35))),"")} | B36: {=IFERROR(INDEX(Général!$C$2:$C$9,SMALL(IF(Général!$J$2:$J$9="révision ",ROW(Général!$J$2:$J$9)-1),ROWS($1:35))),"")}
A37: {=IFERROR(INDEX(Général!$B$2:$B$9,SMALL(IF(Général!$J$2:$J$9="révision ",ROW(Général!$J$2:$J$9)-1),ROWS($1:36))),"")} | B37: {=IFERROR(INDEX(Général!$C$2:$C$9,SMALL(IF(Général!$J$2:$J$9="révision ",ROW(Général!$J$2:$J$9)-1),ROWS($1:36))),"")}
A38: {=IFERROR(INDEX(Général!$B$2:$B$9,SMALL(IF(Général!$J$2:$J$9="révision ",ROW(Général!$J$2:$J$9)-1),ROWS($1:37))),"")} | B38: {=IFERROR(INDEX(Général!$C$2:$C$9,SMALL(IF(Général!$J$2:$J$9="révision ",ROW(Général!$J$2:$J$9)-1),ROWS($1:37))),"")}
A39: {=IFERROR(INDEX(Général!$B$2:$B$9,SMALL(IF(Général!$J$2:$J$9="révision ",ROW(Général!$J$2:$J$9)-1),ROWS($1:38))),"")} | B39: {=IFERROR(INDEX(Général!$C$2:$C$9,SMALL(IF(Général!$J$2:$J$9="révision ",ROW(Général!$J$2:$J$9)-1),ROWS($1:38))),"")}
A40: {=IFERROR(INDEX(Général!$B$2:$B$9,SMALL(IF(Général!$J$2:$J$9="révision ",ROW(Général!$J$2:$J$9)-1),ROWS($1:39))),"")} | B40: {=IFERROR(INDEX(Général!$C$2:$C$9,SMALL(IF(Général!$J$2:$J$9="révision ",ROW(Général!$J$2:$J$9)-1),ROWS($1:39))),"")}
...

Sheet Données listes
A1: Réclamation A
A2: Réclamation B
A3: Réclamation C
A4: Révision
A5: Conseil
