Workbook

Sheet Feuil1
G3: Planning Année : | K3: 2024
AK8: Perf CR | AL8: Perf CR | AM8: DPerf CR
B9: =DATE($K$3,1,1) -> 45292 | C9: =TEXT(C10,"jjj") -> lun | D9: =TEXT(D10,"jjj") -> mar | E9: =TEXT(E10,"jjj") -> mer | F9: =TEXT(F10,"jjj") -> jeu | G9: =TEXT(G10,"jjj") -> ven | H9: =TEXT(H10,"jjj") -> sam | I9: =TEXT(I10,"jjj") -> dim | J9: =TEXT(J10,"jjj") -> lun | ... AG9: =TEXT(AG10,"jjj") -> mer | AK9: FCO | AL9: FCO | AM9: FCOC
C10: =B9 -> 45292 | D10: =C10+1 -> 45293 | E10: =D10+1 -> 45294 | F10: =E10+1 -> 45295 | G10: =F10+1 -> 45296 | H10: =G10+1 -> 45297 | I10: =H10+1 -> 45298 | J10: =I10+1 -> 45299 | K10: =J10+1 -> 45300 | ... AG10: =AF10+1 -> 45322 | AK10: Hab L1 | AL10: Hab L1 | AM10: Hab L1
B11: GB | D11: ARTI | E11: ARTI | F11: DISP | G11: VEILLE | J11: FCO | K11: FCO | L11: FCO | M11: FCO | N11: FCO | Q11: FIBUS | R11: FIBUS | S11: FIBUS | T11: FIBUS | U11: FIBUS | X11: FIBUS | Y11: FIBUS | Z11: FIBUS | AA11: FIBUS | AB11: FIBUS | AE11: FIBUS | AF11: FIBUS | AG11: FIBUS | AK11: Qual2 | AL11: Qual2
B12: FC | D12: RTW | E12: RTW | F12: RTW | G12: RTW | J12: FCO | K12: FCO | L12: FCO | M12: FCO | N12: FCO | Q12: RTW | R12: RTW | S12: DISP | T12: RTW | U12: RTW | X12: RTW | Y12: RTW | Z12: VEILLE | AA12: Perf CR | AB12: Perf CR | AE12: Qual2 | AF12: Qual2 | AG12: Qual2 | AK12: RTW | AL12: RTW | AM12: Bureau
B13: TC | D13: Qual2 | E13: Qual2 | F13: Qual2 | G13: Qual2 | J13: Qual2 | K13: Qual2 | L13: Qual2 | M13: Qual2 | N13: Qual2 | Q13: Qual2 | R13: Qual2 | S13: Qual2 | T13: Qual2 | U13: Qual2 | X13: Qual2 | Y13: DISP | Z13: VEILLE | AA13: Terrain | AB13: Terrain | AE13: FIBUS | AF13: FIBUS | AG13: FIBUS | AK13: FIBUS | AL13: FIBUS | AM13: Terrain
B14: FAC | D14: Perf CR | E14: Perf CR | F14: Perf CR | G14: Perf CR | J14: Hab L1 | K14: Hab L1 | L14: Hab L1 | M14: Hab L1 | N14: Hab L1 | Q14: Hab L1 | R14: Hab L1 | S14: Hab L1 | T14: Hab L1 | U14: Hab L1 | X14: Hab L1 | Y14: Hab L1 | Z14: Hab L1 | AA14: Hab L1 | AB14: Hab L1 | AE14: Hab L1 | AF14: Hab L1 | AG14: DISP | AK14: ARTI
B15: FR | D15: Qual2 | E15: Qual2 | F15: Qual2 | G15: Qual2 | J15: Qual2 | K15: Qual2 | L15: Qual2 | M15: Qual2 | N15: Qual2 | Q15: Qual2 | R15: Qual2 | S15: Qual2 | T15: Qual2 | U15: Qual2 | X15: Qual2 | Y15: DISP | Z15: VEILLE | AA15: ARTI | AB15: ARTI | AE15: RTW | AF15: RTW | AG15: VEILLE | AK15: VEILLE
B16: RT | D16: RTW | E16: RTW | F16: DISP | G16: DISP | J16: RTW | K16: RTW | L16: DISP | M16: RTW | N16: RTW | Q16: FCO | R16: FCO | S16: FCO | T16: FCO | U16: FCO | X16: Perf CR | Y16: Perf CR | Z16: RTW | AA16: RTW | AB16: VEILLE | AE16: FCO | AF16: FCO | AG16: FCO | AK16: DISP
B17: Renfort 1 | J17: ARTI | K17: ARTI
B18: Renfort 2 | R18: ARTI | S18: ARTI
B30: =EDATE(B9,1) -> 45323 | C30: =TEXT(C31,"jjj") -> jeu | D30: =TEXT(D31,"jjj") -> ven | E30: =TEXT(E31,"jjj") -> sam | F30: =TEXT(F31,"jjj") -> dim | G30: =TEXT(G31,"jjj") -> lun | H30: =TEXT(H31,"jjj") -> mar | I30: =TEXT(I31,"jjj") -> mer | J30: =TEXT(J31,"jjj") -> jeu | ... AE30: =TEXT(AE31,"jjj") -> jeu
C31: =B30 -> 45323 | D31: =C31+1 -> 45324 | E31: =D31+1 -> 45325 | F31: =E31+1 -> 45326 | G31: =F31+1 -> 45327 | H31: =G31+1 -> 45328 | I31: =H31+1 -> 45329 | J31: =I31+1 -> 45330 | K31: =J31+1 -> 45331 | ... AE31: =AD31+1 -> 45351
B32: GB | C32: VEILLE | D32: DISP | G32: Hab L1 | H32: Hab L1 | I32: Hab L1 | J32: Hab L1 | K32: Hab L1 | N32: Hab L1 | O32: Hab L1 | P32: Hab L1 | Q32: Hab L1 | R32: Hab L1 | U32: Hab L1 | V32: Hab L1 | W32: Hab L1 | X32: Hab L1 | Y32: Hab L1 | AB32: Hab L1 | AC32: Hab L1 | AD32: DISP | AE32: RTW
B33: FC | C33: Qual2 | D33: Qual2 | G33: Qual2 | H33: Qual2 | I33: Qual2 | J33: Qual2 | K33: Qual2 | N33: Qual2 | O33: Qual2 | P33: Qual2 | Q33: Qual2 | R33: Qual2 | U33: FCO | V33: FCO | W33: FCO | X33: FCO | Y33: FCO | AB33: VEILLE | AC33: Perf CR | AD33: Perf CR | AE33: Perf CR
B34: TC | C34: FIBUS | D34: FIBUS | G34: FIBUS | H34: FIBUS | I34: FIBUS | J34: FIBUS | K34: FIBUS | N34: FIBUS | O34: FIBUS | P34: FIBUS | Q34: VEILLE | R34: DISP | U34: RTW | V34: RTW | W34: DISP | X34: RTW | Y34: RTW | AB34: Hab L1 | AC34: Hab L1 | AD34: Hab L1 | AE34: Hab L1
B35: FAC | C35: RTW | D35: RTW | G35: FCO | H35: FCO | I35: FCO | J35: FCO | K35: FCO | N35: Perf CR | O35: Perf CR | P35: VEILLE | Q35: Perf CR | R35: Perf CR | U35: FIBUS | V35: FIBUS | W35: FIBUS | X35: FIBUS | Y35: FIBUS | AB35: FIBUS | AC35: FIBUS | AD35: FIBUS | AE35: FIBUS
B36: FR | C36: RTW | D36: RTW | G36: RTW | H36: RTW | I36: DISP | J36: RTW | K36: RTW | N36: Perf CR | O36: Perf CR | P36: VEILLE | Q36: Perf CR | R36: Perf CR | U36: FIBUS | V36: FIBUS | W36: FIBUS | X36: FIBUS | Y36: FIBUS | AB36: FIBUS | AC36: FIBUS | AD36: FIBUS | AE36: FIBUS
B37: RT | C37: FCO | D37: FCO | G37: Qual2 | H37: Qual2 | I37: Qual2 | J37: Qual2 | K37: Qual2 | N37: Qual2 | O37: Qual2 | P37: Qual2 | Q37: Qual2 | R37: Qual2 | U37: Qual2 | V37: Qual2 | W37: Qual2 | X37: Qual2 | Y37: Qual2 | AB37: VEILLE | AC37: DISP | AD37: Bureau | AE37: DPerf CR
B38: Renfort 1
B39: Renfort 2
B56: =EDATE(B30,1) -> 45352 | C56: =TEXT(C57,"jjj") -> ven | D56: =TEXT(D57,"jjj") -> sam | E56: =TEXT(E57,"jjj") -> dim | F56: =TEXT(F57,"jjj") -> lun | G56: =TEXT(G57,"jjj") -> mar | H56: =TEXT(H57,"jjj") -> mer | I56: =TEXT(I57,"jjj") -> jeu | J56: =TEXT(J57,"jjj") -> ven | ... AG56: =TEXT(AG57,"jjj") -> dim
C57: =B56 -> 45352 | D57: =C57+1 -> 45353 | E57: =D57+1 -> 45354 | F57: =E57+1 -> 45355 | G57: =F57+1 -> 45356 | H57: =G57+1 -> 45357 | I57: =H57+1 -> 45358 | J57: =I57+1 -> 45359 | K57: =J57+1 -> 45360 | ... AG57: =AF57+1 -> 45382
B58: GB | C58: RTW | F58: DISP | G58: Perf CR | H58: Perf CR | I58: VEILLE | J58: DISP | M58: RTW | N58: RTW | O58: DISP | P58: RTW | Q58: RTW | T58: FCO | U58: FCO | V58: FCO | W58: FCO | X58: FCO
B59: FC | C59: Perf CR | F59: FIBUS | G59: FIBUS | H59: FIBUS | I59: FIBUS | J59: FIBUS | M59: FIBUS | N59: FIBUS | O59: FIBUS | P59: FIBUS | Q59: FIBUS | T59: FIBUS | U59: FIBUS | V59: FIBUS | W59: DISP | X59: VEILLE
B60: TC | C60: Hab L1 | F60: Hab L1 | G60: Hab L1 | H60: Hab L1 | I60: Hab L1 | J60: Hab L1 | M60: Hab L1 | N60: Hab L1 | O60: Hab L1 | P60: Hab L1 | Q60: Hab L1 | T60: Hab L1 | U60: Hab L1 | V60: Terrain | W60: DISP | X60: VEILLE
B61: FAC | C61: FIBUS | F61: FIBUS | G61: FIBUS | H61: FIBUS | I61: VEILLE | J61: DISP | M61: FCO | N61: FCO | O61: FCO | P61: FCO | Q61: FCO | T61: RTW | U61: RTW | V61: RTW | W61: RTW | X61: VEILLE
B62: FR | C62: FIBUS | F62: FIBUS | G62: FIBUS | H62: FIBUS | I62: RTW | J62: RTW | M62: Hab L1 | N62: Hab L1 | O62: Hab L1 | P62: Hab L1 | Q62: Hab L1 | T62: Hab L1 | U62: Hab L1 | V62: Hab L1 | W62: Hab L1 | X62: Hab L1 | AA62: Hab L1 | AB62: Hab L1 | AC62: Hab L1 | AD62: Hab L1 | AE62: Hab L1
B63: RT | C63: DPerf CR | F63: FCO | G63: FCO | H63: FCO | I63: FCO | J63: FCO | M63: FCO | N63: FCO | O63: FCO | P63: FCO | Q63: FCO | T63: Qual2 | U63: Qual2 | V63: Qual2 | W63: Qual2 | X63: Qual2 | AA63: Qual2 | AB63: Qual2 | AC63: Qual2 | AD63: Qual2 | AE63: Qual2
B64: Renfort 1 | F64: ARTI | G64: ARTI
B65: Renfort 2 | T65: ARTI | U65: ARTI
B86: =EDATE(B56,1) -> 45383 | C86: =C87 -> 45383 | D86: =D87 -> 45384 | E86: =E87 -> 45385 | F86: =F87 -> 45386 | G86: =G87 -> 45387 | H86: =H87 -> 45388 | I86: =I87 -> 45389 | J86: =J87 -> 45390 | ... AF86: =AF87 -> 45412
C87: =B86 -> 45383 | D87: =DATE(2024,4,2) -> 45384 | E87: =D87+1 -> 45385 | F87: =E87+1 -> 45386 | G87: =F87+1 -> 45387 | H87: =G87+1 -> 45388 | I87: =H87+1 -> 45389 | J87: =I87+1 -> 45390 | K87: =J87+1 -> 45391 | L87: =K87+1 -> 45392 | ... AF87: =AE87+1 -> 45412
B88: GB
B89: FC | D89: Hab L1 | E89: Hab L1 | F89: Hab L1 | G89: Hab L1 | J89: Hab L1 | K89: Hab L1 | L89: Hab L1 | M89: Hab L1 | N89: Hab L2
B90: TC
B91: FAC
B92: FR | D92: Hab L1 | E92: Hab L1
B93: RT | D93: Qual2 | E93: Qual2 | F93: Qual2 | G93: Qual2 | J93: Qual2
B94: Renfort 1
B95: Renfort 2
B104: =EDATE(B86,1) -> 45413 | C104: =TEXT(C105,"jjj") -> mer | D104: =TEXT(D105,"jjj") -> jeu | E104: =TEXT(E105,"jjj") -> ven | F104: =TEXT(F105,"jjj") -> sam | G104: =TEXT(G105,"jjj") -> dim | H104: =TEXT(H105,"jjj") -> lun | I104: =TEXT(I105,"jjj") -> mar | J104: =TEXT(J105,"jjj") -> mer | ... AG104: =TEXT(AG105,"jjj") -> ven
C105: =B104 -> 45413 | D105: =C105+1 -> 45414 | E105: =D105+1 -> 45415 | F105: =E105+1 -> 45416 | G105: =F105+1 -> 45417 | H105: =G105+1 -> 45418 | I105: =H105+1 -> 45419 | J105: =I105+1 -> 45420 | K105: =J105+1 -> 45421 | ... AG105: =AF105+1 -> 45443
B106: GB
B107: FC
B108: TC
B109: FAC
B110: FR
B111: RT
B112: Renfort 1
B113: Renfort 2
B120: =EDATE(B104,1) -> 45444 | C120: =TEXT(C121,"jjj") -> sam | D120: =TEXT(D121,"jjj") -> dim | E120: =TEXT(E121,"jjj") -> lun | F120: =TEXT(F121,"jjj") -> mar | G120: =TEXT(G121,"jjj") -> mer | H120: =TEXT(H121,"jjj") -> jeu | I120: =TEXT(I121,"jjj") -> ven | J120: =TEXT(J121,"jjj") -> sam | ... AF120: =TEXT(AF121,"jjj") -> dim
C121: =B120 -> 45444 | D121: =C121+1 -> 45445 | E121: =D121+1 -> 45446 | F121: =E121+1 -> 45447 | G121: =F121+1 -> 45448 | H121: =G121+1 -> 45449 | I121: =H121+1 -> 45450 | J121: =I121+1 -> 45451 | K121: =J121+1 -> 45452 | ... AF121: =AE121+1 -> 45473
B122: GB | Z122: Qual2 | AA122: =Z122 -> Qual2 | AB122: =AA122 -> Qual2 | AC122: =AB122 -> Qual2 | AD122: =AC122 -> Qual2
B123: FC
B124: TC
B125: FAC
B126: FR
B127: RT
B128: Renfort 1
B129: Renfort 2
B140: =EDATE(B120,1) -> 45474 | C140: =TEXT(C141,"jjj") -> lun | D140: =TEXT(D141,"jjj") -> mar | E140: =TEXT(E141,"jjj") -> mer | F140: =TEXT(F141,"jjj") -> jeu | G140: =TEXT(G141,"jjj") -> ven | H140: =TEXT(H141,"jjj") -> sam | I140: =TEXT(I141,"jjj") -> dim | J140: =TEXT(J141,"jjj") -> lun | ... AG140: =TEXT(AG141,"jjj") -> mer
C141: =B140 -> 45474 | D141: =C141+1 -> 45475 | E141: =D141+1 -> 45476 | F141: =E141+1 -> 45477 | G141: =F141+1 -> 45478 | H141: =G141+1 -> 45479 | I141: =H141+1 -> 45480 | J141: =I141+1 -> 45481 | K141: =J141+1 -> 45482 | ... AG141: =AF141+1 -> 45504
B142: GB | C142: =Z122 -> Qual2 | D142: =AA122 -> Qual2 | E142: =AB122 -> Qual2 | F142: =AC122 -> Qual2 | G142: =AD122 -> Qual2 | J142: Qual2 | K142: Qual2 | L142: Qual2 | M142: Qual2 | N142: Qual2 | Q142: CA | R142: CA | S142: CA | T142: CA | U142: CA | X142: CA | Y142: CA | Z142: CA | AA142: CA | AB142: CA | AE142: CA | AF142: CA | AG142: CA
B143: FC | AE143: CA | AF143: CA | AG143: CA
B144: TC | Q144: CA | R144: CA | S144: CA | T144: CA | U144: CA
B145: FAC | C145: CA | D145: CA | E145: CA | F145: CA | G145: CA | J145: CA | K145: CA | L145: CA | M145: CA | N145: CA | Q145: CA | R145: CA | S145: CA | T145: CA | U145: CA | X145: CA | Y145: CA | Z145: CA | AA145: CA | AB145: CA
B146: FR
B147: RT | C147: CA | D147: CA | E147: CA | F147: CA | G147: CA
B148: Renfort 1
B149: Renfort 2
B158: =EDATE(B140,1) -> 45505 | C158: =TEXT(C159,"jjj") -> jeu | D158: =TEXT(D159,"jjj") -> ven | E158: =TEXT(E159,"jjj") -> sam | F158: =TEXT(F159,"jjj") -> dim | G158: =TEXT(G159,"jjj") -> lun | H158: =TEXT(H159,"jjj") -> mar | I158: =TEXT(I159,"jjj") -> mer | J158: =TEXT(J159,"jjj") -> jeu | ... AG158: =TEXT(AG159,"jjj") -> sam
C159: =B158 -> 45505 | D159: =C159+1 -> 45506 | E159: =D159+1 -> 45507 | F159: =E159+1 -> 45508 | G159: =F159+1 -> 45509 | H159: =G159+1 -> 45510 | I159: =H159+1 -> 45511 | J159: =I159+1 -> 45512 | K159: =J159+1 -> 45513 | ... AG159: =AF159+1 -> 45535
B160: GB | C160: CA | D160: CA | G160: CA | H160: CA | I160: CA | J160: CA | K160: CA
B161: FC | C161: CA | D161: CA | G161: CA | H161: CA | I161: CA | J161: CA | K161: CA | N161: CA | O161: CA | P161: CA | R161: CA | U161: CA | V161: CA | W161: CA | X161: CA | Y161: CA
B162: TC | G162: CA | H162: CA | I162: CA | J162: CA | K162: CA | N162: CA | O162: CA | P162: CA | R162: CA | U162: CA | V162: CA | W162: CA | X162: CA | Y162: CA
B163: FAC
B164: FR | U164: CA | V164: CA | W164: CA | X164: CA | Y164: CA | AB164: CA | AC164: CA | AD164: CA | AE164: CA | AF164: CA
B165: RT | G165: CA | H165: CA | I165: CA | J165: CA | K165: CA
B166: Renfort 1
B167: Renfort 2
B178: =EDATE(B158,1) -> 45536 | C178: =TEXT(C179,"jjj") -> dim | D178: =TEXT(D179,"jjj") -> lun | E178: =TEXT(E179,"jjj") -> mar | F178: =TEXT(F179,"jjj") -> mer | G178: =TEXT(G179,"jjj") -> jeu | H178: =TEXT(H179,"jjj") -> ven | I178: =TEXT(I179,"jjj") -> sam | J178: =TEXT(J179,"jjj") -> dim | ... AF178: =TEXT(AF179,"jjj") -> lun
C179: =B178 -> 45536 | D179: =C179+1 -> 45537 | E179: =D179+1 -> 45538 | F179: =E179+1 -> 45539 | G179: =F179+1 -> 45540 | H179: =G179+1 -> 45541 | I179: =H179+1 -> 45542 | J179: =I179+1 -> 45543 | K179: =J179+1 -> 45544 | ... AF179: =AE179+1 -> 45565
B180: GB
B181: FC
B182: TC
B183: FAC
B184: FR | D184: CA | E184: CA | F184: CA | G184: CA | H184: CA
B185: RT
B186: Renfort 1
B187: Renfort 2
B200: =EDATE(B178,1) -> 45566 | C200: =TEXT(C201,"jjj") -> mar | D200: =TEXT(D201,"jjj") -> mer | E200: =TEXT(E201,"jjj") -> jeu | F200: =TEXT(F201,"jjj") -> ven | G200: =TEXT(G201,"jjj") -> sam | H200: =TEXT(H201,"jjj") -> dim | I200: =TEXT(I201,"jjj") -> lun | J200: =TEXT(J201,"jjj") -> mar | ... AG200: =TEXT(AG201,"jjj") -> jeu
C201: =B200 -> 45566 | D201: =C201+1 -> 45567 | E201: =D201+1 -> 45568 | F201: =E201+1 -> 45569 | G201: =F201+1 -> 45570 | H201: =G201+1 -> 45571 | I201: =H201+1 -> 45572 | J201: =I201+1 -> 45573 | K201: =J201+1 -> 45574 | ... AG201: =AF201+1 -> 45596
B202: GB
B203: FC
B204: TC
B205: FAC
B206: FR
B207: RT
...

Sheet Feuil2
C2: Année | D2: Pâques | F2: Evenement | G2: jour fériés
C3: 2022 | D3: 44669 | F3: Jour de l'an | G3: =DATE(Feuil1!$K$3,1,1) -> 45292
C4: 2023 | D4: 45026 | F4: lundi de paques | G4: =VLOOKUP(Feuil1!$K$3,Tableau3[#All],2,FALSE) -> 45383
C5: 2024 | D5: 45383 | F5: fête du travail | G5: =DATE(Feuil1!$K$3,5,1) -> 45413
C6: 2025 | D6: 45768 | F6: victoire 45 | G6: =DATE(Feuil1!$K$3,5,8) -> 45420
C7: 2026 | D7: 46118 | F7: jeudi de l'ascension | G7: =G4+38 -> 45421
C8: 2027 | D8: 46475 | F8: lundi de pentecote | G8: =G4+49 -> 45432
C9: 2028 | D9: 46860 | F9: fête nationale | G9: =DATE(Feuil1!$K$3,7,14) -> 45487
C10: 2029 | D10: 47210 | F10: assomption | G10: =DATE(Feuil1!$K$3,8,15) -> 45519
C11: 2030 | D11: 47595 | F11: toussaint | G11: =DATE(Feuil1!$K$3,11,1) -> 45597
C12: 2031 | D12: 47952 | F12: armistice | G12: =DATE(Feuil1!$K$3,11,11) -> 45607
C13: 2032 | D13: 47936 | F13: Noël | G13: =DATE(Feuil1!$K$3,12,25) -> 45651
C18: Prévues | K18: Prévisionnel
K19: N | L19: J
C20: 45 | D20: Sessions FCO (5j) | K20: =(COUNTIF($A$2:$AD$192,"Fco"))/5 -> 45 | L20: 900
C21: 35 | D21: Sessions Rtw (2j L1L2L3) | K21: =(COUNTIF($A$2:$AD$192,#REF!))/2 -> 35 | L21: 280
C22: 0 | D22: Sessions Conduite de qualité (9j) | K22: 0 | L22: 0
C23: 20 | D23: Sessions Articulés (2j) | K23: =COUNTIF($A$2:$AD$192,#REF!)/2 -> 20 | L23: 40
C24: 13 | D24: Sessions Hab TW L1 Exploitation (17j + 3j double) | K24: =(COUNTIF($A$2:$AD$192,"hab E1"))/17 -> 11 | L24: 880
C25: 0 | D25: Sessions HabTW L1 Technique (10j) | K25: =(COUNTIF($A$2:$AD$192,#REF!)/10) -> 0 | L25: 0
C26: 13 | D26: Sessions Qual TW L2 Exploitation (15j) | K26: =(COUNTIF($A$2:$AD$192,"qual E2"))/15 -> 11 | L26: 660
C27: 20 | D27: Sessions FInitiale Bus 5 cr (13j + 5j double) | K27: 20 | L27: 1800
C28: 0 | D28: Sessions FInitiale Bus 4 cr (13j + 5j double) | K28: 0 | L28: 0
C29: 0 | D29: Sessions FInitiale Bus 3 cr (13j + 5j double) | K29: 0 | L29: 0
C30: 50 | D30: Perfectionnement CR (2j) | K30: =(COUNTIF($A$2:$AD$192,"PerfCR")/2) -> 43 | L30: 344
C31: 0 | D31: ALH (1j) | K31: 0 | L31: 0
C32: 10 | D32: AXA (1j) | K32: =COUNTIF($A$2:$AD$192,"Axa") -> 0 | L32: 0
C33: 0 | D33: GC | K33: =COUNTIF($A$2:$AD$192,#REF!)/2 -> 0 | L33: 0
C34: 10 | D34: Attention tramway (1j) | K34: =COUNTIF($A$2:$AD$192,"Met") -> 0 | L34: 0
