Workbook
Name _0: '2024'!$L$3:$L$65
Name _1: '2024'!$D$4:$AG$4
Name _2: '2024'!$M$3:$M$65
Name _4: '2024'!$N$3:$N$65
Name A: '2024'!$D$3:$D$65
Name E: '2024'!$H$3:$H$65
Name I: '2024'!$G$3:$G$65
Name J: '2024'!$C$3:$C$65
Name Janvier: '2024'!$C$2:$AG$65
Name L_: '2024'!$D$3:$AG$3
Name N: '2024'!$E$3:$E$65
Name R_: '2024'!$I$3:$I$65
Name V: '2024'!$F$3:$F$65

Sheet 2024
C1: F | CX1: F | DS1: F | DZ1: F | EJ1: F | EU1: F | GO1: F | HU1: F | KU1: F | LE1: F | MW1: F
C2: =MID(UPPER(TEXT(C4,"MMMM AAAA")),DAY(C4),1) -> J | D2: =MID(UPPER(TEXT(D4,"MMMM AAAA")),DAY(D4),1) -> A | E2: =MID(UPPER(TEXT(E4,"MMMM AAAA")),DAY(E4),1) -> N | F2: =MID(UPPER(TEXT(F4,"MMMM AAAA")),DAY(F4),1) -> V | G2: =MID(UPPER(TEXT(G4,"MMMM AAAA")),DAY(G4),1) -> I | H2: =MID(UPPER(TEXT(H4,"MMMM AAAA")),DAY(H4),1) -> E | I2: =MID(UPPER(TEXT(I4,"MMMM AAAA")),DAY(I4),1) -> R | J2: =MID(UPPER(TEXT(J4,"MMMM AAAA")),DAY(J4),1) | ... NC2: =MID(UPPER(TEXT(NC4,"MMMM AAAA")),DAY(NC4),1)
C3: =IF(C4="","",UPPER(LEFT(TEXT(C4,"jjjj"),1))) -> L | D3: =IF(D4="","",UPPER(LEFT(TEXT(D4,"jjjj"),1))) -> M | E3: =IF(E4="","",UPPER(LEFT(TEXT(E4,"jjjj"),1))) -> M | F3: =IF(F4="","",UPPER(LEFT(TEXT(F4,"jjjj"),1))) -> J | G3: =IF(G4="","",UPPER(LEFT(TEXT(G4,"jjjj"),1))) -> V | H3: =IF(H4="","",UPPER(LEFT(TEXT(H4,"jjjj"),1))) -> S | I3: =IF(I4="","",UPPER(LEFT(TEXT(I4,"jjjj"),1))) -> D | J3: =IF(J4="","",UPPER(LEFT(TEXT(J4,"jjjj"),1))) -> L | ... ND3: =IF(ND4="","",UPPER(LEFT(TEXT(ND4,"jjjj"),1))) -> M | NE3: Arrivée/départ anticipés | NF3: Arrivée/départ anticipés
A4: Agent | B4: UV | C4: 43830 | D4: =C4+1 -> 43831 | E4: =D4+1 -> 43832 | F4: =E4+1 -> 43833 | G4: =F4+1 -> 43834 | H4: =G4+1 -> 43835 | I4: =H4+1 -> 43836 | J4: =I4+1 -> 43837 | K4: =J4+1 -> 43838 | ... ND4: =NC4+1 -> 44195
A5: Évènements | B5: 0
B6: 0
A7: Immqqnn IJSBQ | B7: 1 | C7: Fé | D7: M | H7: Sam | I7: Dim | K7: S | L7: Form | M7: EnM | N7: S | Q7: CA | R7: CA | S7: CA | T7: CA | U7: CA | X7: M | Y7: S | AA7: M | AB7: S | AE7: M | AF7: M | AG7: R | AH7: Fé | AI7: M | AM7: Sam | AN7: Dim | AP7: S | AQ7: M | AR7: M | AS7: S | AV7: S | AX7: M | AY7: M | AZ7: S | BC7: M | BD7: S | BF7: M | BG7: S | BJ7: M | NF7: 0.15277778
A8: Sgjx ETDJWMJA | B8: 1
A9: Wvffiw LDCEYV | B9: 1
A10: Iafgbm RTLRGWHW | B10: 1
A11: Swmmey XCCKRF | B11: 1
B12: 1.1
A13: Ejcp BIASBN | B13: 2
A14: Zrasiugfjp MUPNAJ | B14: 2
A15: Ycqyilm TBRHM RIXQT | B15: 2
A16: Igxeg EYOSOS | B16: 2
A17: Lbuomdsp VEJLXU | B17: 2
B18: 2.2
A19: Vadbqv PBFILY | B19: 3
A20: Quhsyc PBPDXFG | B20: 3
A21: Fbzqqex LFULXSU-SOXFGZL | B21: 3
A22: Wyjrzy FYRWXS | B22: 3
A23: Kjqgrv XKAVD | B23: 3
A24: Ajfp HUFRTM | B24: 3
A25: Skdhlio SCKRANGWU | B25: 3
B26: 3.3
A27: Aqsujm FMAUBGZ | B27: 4
A28: Cmywzjc YCFBZ | B28: 4
A29: Yexu PPGZMAF | B29: 4
A30: Guko DLUBFC | B30: 4
A31: Mmpwgzll HXAAKVMXR | B31: 4
A32: Uoqbpjjw LDQRING | B32: 4
A33: Slexfohq ULJRYQ | B33: 4
B34: 4.4
A35: Cqbkipe BCTJWYGR | B35: A
A36: Jquqa KPOBHRWZ | B36: A
A37: Lphnj ZRATF | B37: A
A38: Gaaqev DYOFE | B38: A
A39: Abfwify DATXMEMAZENW | B39: A
B40: AA
...

Sheet Synthèse annuelle
A1: Synthèse récapitulative du temps de travail
A2: 43830
A4: Pour | D4: Immqqnn IJSBQ | O4: titulaire | U4: sur l'unité | Y4: =VLOOKUP($D$4,'2024'!A:C,2,FALSE) -> 1 | Z4: Rappel TOTAL 2023 : | AI4: =VLOOKUP($D$4,'2024'!$1:$1048576,370,FALSE) -> 0.15277778 | AW4: Vue | AZ4: cadre
AW5: Mois | AZ5: 43830
A6: Mois | F6: Heures effectuées | L6: Heures exigibles | R6: Solde | V6: Cumul | Z6: M | AA6: S | AB6: J | AC6: Sam | AD6: Dim | AE6: WA | AF6: Fé | AG6: P | AH6: ½P | AI6: Form | AJ6: CA | AK6: CAR | AL6: CAP | AM6: TP | AN6: ½TP | AO6: TPR | AP6: TPP | AQ6: EnM | AR6: CMO | AS6: ACC | AT6: ABS | AU6: R | AV6: HE
A7: 43830 | F7: =SUM((Tableau1[[#This Row],[M]]*data!$F$2),(Tableau1[[#This Row],[S]]*data!$F$3),(Tableau1[[#This Row],[J]]*data!$F$4),(Tableau1[[#This Row],[Sam]]*data!$F$5),(Tableau1[[#This Row],[Dim]]*data!$F$6),(Tableau1[[#This Row],[WA]]*data!$F$7),(Tableau1[[#This Row],[Fé]]*data!$F$8),(Tableau1[[#This Row],[P]]*data!$F$9),(Tableau1[[#This Row],[½P]]*data!$F$10),(Tableau1[[#This Row],[Form]]*data!$F$11),(Tableau1[[#This Row],[CAR]]*data!$F$13),(Tableau1[[#This Row],[CAP]]*data!$F$14),(Tableau1[[#This Row],[½TP]]*data!$F$16),(Tableau1[[#This Row],[TPR]]*data!$F$17),(Tableau1[[#This Row],[TPP]]*data!$F$18),(Tableau1[[#This Row],[R]]*data!$F$23)) -> 1.7708333 | G7: =IF($A7="","",SUM((#REF!*data!$F$2),(#REF!*data!$F$3),(#REF!*data!$F$4),(#REF!*data!$F$5),(#REF!*data!$F$6),(#REF!*data!$F$7),(#REF!*data!$F$8),(#REF!*data!$F$9),(#REF!*data!$F$10),(#REF!*data!$F$11),(#REF!*data!$F$13),(#REF!*data!$F$14),(#REF!*data!$F$17),(#REF!*data!$F$18),(#REF!*data!#REF!))) -> #REF! | H7: =IF($A7="","",SUM((#REF!*data!$F$2),(#REF!*data!$F$3),(#REF!*data!$F$4),(#REF!*data!$F$5),(#REF!*data!$F$6),(#REF!*data!$F$7),(#REF!*data!$F$8),(#REF!*data!$F$9),(#REF!*data!$F$10),(#REF!*data!$F$11),(#REF!*data!$F$13),(#REF!*data!$F$14),(#REF!*data!$F$17),(#REF!*data!$F$18),(#REF!*data!#REF!))) -> #REF! | I7: =IF($A7="","",SUM((#REF!*data!$F$2),(#REF!*data!$F$3),(#REF!*data!$F$4),(#REF!*data!$F$5),(#REF!*data!$F$6),(#REF!*data!$F$7),(#REF!*data!$F$8),(#REF!*data!$F$9),(#REF!*data!$F$10),(#REF!*data!$F$11),(#REF!*data!$F$13),(#REF!*data!$F$14),(#REF!*data!$F$17),(#REF!*data!$F$18),(#REF!*data!#REF!))) -> #REF! | J7: =IF($A7="","",SUM((#REF!*data!$F$2),(#REF!*data!$F$3),(#REF!*data!$F$4),(#REF!*data!$F$5),(#REF!*data!$F$6),(#REF!*data!$F$7),(#REF!*data!$F$8),(#REF!*data!$F$9),(#REF!*data!$F$10),(#REF!*data!$F$11),(#REF!*data!$F$13),(#REF!*data!$F$14),(#REF!*data!$F$17),(#REF!*data!$F$18),(#REF!*data!#REF!))) -> #REF! | K7: =IF($A7="","",SUM((#REF!*data!$F$2),(#REF!*data!$F$3),(#REF!*data!$F$4),(#REF!*data!$F$5),(#REF!*data!$F$6),(#REF!*data!$F$7),(#REF!*data!$F$8),(#REF!*data!$F$9),(#REF!*data!$F$10),(#REF!*data!$F$11),(#REF!*data!$F$13),(#REF!*data!$F$14),(#REF!*data!$F$17),(#REF!*data!$F$18),(#REF!*data!#REF!))) -> #REF! | L7: =(Tableau1[[#This Row],[HE]]*data!F9)-(Tableau1[[#This Row],[CA]]*data!$G$12)-(Tableau1[[#This Row],[CAR]]*data!$G$13)-(Tableau1[[#This Row],[CAP]]*data!$G$14)-(Tableau1[[#This Row],[TP]]*data!$G$15)-(Tableau1[[#This Row],[½TP]]*data!$G$16)-(Tableau1[[#This Row],[TPR]]*data!$G$17)-(Tableau1[[#This Row],[TPP]]*data!$G$18)-(Tableau1[[#This Row],[EnM]]*data!$G$19)-(Tableau1[[#This Row],[CMO]]*data!$G$20)-(Tableau1[[#This Row],[ACC]]*data!$G$21) -> 0 | M7: =IF($A7="","",L$67-(#REF!*data!#REF!)-(#REF!*data!#REF!)-(#REF!*data!#REF!)-(#REF!*data!#REF!)-(#REF!*data!#REF!)-(#REF!*data!#REF!)-(#REF!*data!#REF!)-(#REF!*data!#REF!)-(#REF!*data!#REF!)-(#REF!*data!#REF!)) -> #REF! | N7: =IF($A7="","",M$67-(#REF!*data!#REF!)-(#REF!*data!#REF!)-(#REF!*data!#REF!)-(#REF!*data!#REF!)-(#REF!*data!#REF!)-(#REF!*data!#REF!)-(#REF!*data!#REF!)-(#REF!*data!#REF!)-(#REF!*data!#REF!)-(#REF!*data!#REF!)) -> #REF! | O7: =IF($A7="","",N$67-(#REF!*data!#REF!)-(#REF!*data!#REF!)-(#REF!*data!#REF!)-(#REF!*data!#REF!)-(#REF!*data!#REF!)-(#REF!*data!#REF!)-(#REF!*data!#REF!)-(#REF!*data!#REF!)-(#REF!*data!#REF!)-(#REF!*data!#REF!)) -> #REF! | P7: =IF($A7="","",O$67-(#REF!*data!#REF!)-(#REF!*data!#REF!)-(#REF!*data!#REF!)-(#REF!*data!#REF!)-(#REF!*data!#REF!)-(#REF!*data!#REF!)-(#REF!*data!#REF!)-(#REF!*data!#REF!)-(#REF!*data!#REF!)-(#REF!*data!#REF!)) -> #REF! | Q7: =IF($A7="","",P$67-(#REF!*data!#REF!)-(#REF!*data!#REF!)-(#REF!*data!#REF!)-(#REF!*data!#REF!)-(#REF!*data!#REF!)-(#REF!*data!#REF!)-(#REF!*data!#REF!)-(#REF!*data!#REF!)-(#REF!*data!#REF!)-(#REF!*data!#REF!)) -> #REF! | R7: =IF($A$2>=$A7,IF($O$4="contractuelle",IF(L7=0,"",F7-L7),F7-L7),"") -> 1.7708333 | V7: =R7 -> 1.7708333 | Z7: {=SUMPRODUCT(('2024'!$A$7:$A$50='Synthèse annuelle'!$D$4)*(MONTH('2024'!$C$4:$ND$4)=MONTH('Synthèse annuelle'!$A7))*('2024'!$C$7:$ND$50=Tableau1[[#Headers],[M]]))} -> 5
A8: 43861 | F8: =SUM((Tableau1[[#This Row],[M]]*data!$F$2),(Tableau1[[#This Row],[S]]*data!$F$3),(Tableau1[[#This Row],[J]]*data!$F$4),(Tableau1[[#This Row],[Sam]]*data!$F$5),(Tableau1[[#This Row],[Dim]]*data!$F$6),(Tableau1[[#This Row],[WA]]*data!$F$7),(Tableau1[[#This Row],[Fé]]*data!$F$8),(Tableau1[[#This Row],[P]]*data!$F$9),(Tableau1[[#This Row],[½P]]*data!$F$10),(Tableau1[[#This Row],[Form]]*data!$F$11),(Tableau1[[#This Row],[CAR]]*data!$F$13),(Tableau1[[#This Row],[CAP]]*data!$F$14),(Tableau1[[#This Row],[½TP]]*data!$F$16),(Tableau1[[#This Row],[TPR]]*data!$F$17),(Tableau1[[#This Row],[TPP]]*data!$F$18),(Tableau1[[#This Row],[R]]*data!$F$23)) -> 0 | G8: =IF($A8="","",SUM((#REF!*data!$F$2),(#REF!*data!$F$3),(#REF!*data!$F$4),(#REF!*data!$F$5),(#REF!*data!$F$6),(#REF!*data!$F$7),(#REF!*data!$F$8),(#REF!*data!$F$9),(#REF!*data!$F$10),(#REF!*data!$F$11),(#REF!*data!$F$13),(#REF!*data!$F$14),(#REF!*data!$F$17),(#REF!*data!$F$18),(#REF!*data!#REF!))) -> #REF! | H8: =IF($A8="","",SUM((#REF!*data!$F$2),(#REF!*data!$F$3),(#REF!*data!$F$4),(#REF!*data!$F$5),(#REF!*data!$F$6),(#REF!*data!$F$7),(#REF!*data!$F$8),(#REF!*data!$F$9),(#REF!*data!$F$10),(#REF!*data!$F$11),(#REF!*data!$F$13),(#REF!*data!$F$14),(#REF!*data!$F$17),(#REF!*data!$F$18),(#REF!*data!#REF!))) -> #REF! | I8: =IF($A8="","",SUM((#REF!*data!$F$2),(#REF!*data!$F$3),(#REF!*data!$F$4),(#REF!*data!$F$5),(#REF!*data!$F$6),(#REF!*data!$F$7),(#REF!*data!$F$8),(#REF!*data!$F$9),(#REF!*data!$F$10),(#REF!*data!$F$11),(#REF!*data!$F$13),(#REF!*data!$F$14),(#REF!*data!$F$17),(#REF!*data!$F$18),(#REF!*data!#REF!))) -> #REF! | J8: =IF($A8="","",SUM((#REF!*data!$F$2),(#REF!*data!$F$3),(#REF!*data!$F$4),(#REF!*data!$F$5),(#REF!*data!$F$6),(#REF!*data!$F$7),(#REF!*data!$F$8),(#REF!*data!$F$9),(#REF!*data!$F$10),(#REF!*data!$F$11),(#REF!*data!$F$13),(#REF!*data!$F$14),(#REF!*data!$F$17),(#REF!*data!$F$18),(#REF!*data!#REF!))) -> #REF! | K8: =IF($A8="","",SUM((#REF!*data!$F$2),(#REF!*data!$F$3),(#REF!*data!$F$4),(#REF!*data!$F$5),(#REF!*data!$F$6),(#REF!*data!$F$7),(#REF!*data!$F$8),(#REF!*data!$F$9),(#REF!*data!$F$10),(#REF!*data!$F$11),(#REF!*data!$F$13),(#REF!*data!$F$14),(#REF!*data!$F$17),(#REF!*data!$F$18),(#REF!*data!#REF!))) -> #REF! | L8: =F8-(Tableau1[[#This Row],[CA]]*data!$G$12)-(Tableau1[[#This Row],[CAR]]*data!$G$13)-(Tableau1[[#This Row],[CAP]]*data!$G$14)-(Tableau1[[#This Row],[TP]]*data!$G$15)-(Tableau1[[#This Row],[½TP]]*data!$G$16)-(Tableau1[[#This Row],[TPR]]*data!$G$17)-(Tableau1[[#This Row],[TPP]]*data!$G$18)-(Tableau1[[#This Row],[EnM]]*data!$G$19)-(Tableau1[[#This Row],[CMO]]*data!$G$20)-(Tableau1[[#This Row],[ACC]]*data!$G$21) -> 0 | M8: =IF($A8="","",L$67-(#REF!*data!#REF!)-(#REF!*data!#REF!)-(#REF!*data!#REF!)-(#REF!*data!#REF!)-(#REF!*data!#REF!)-(#REF!*data!#REF!)-(#REF!*data!#REF!)-(#REF!*data!#REF!)-(#REF!*data!#REF!)-(#REF!*data!#REF!)) -> #REF! | N8: =IF($A8="","",M$67-(#REF!*data!#REF!)-(#REF!*data!#REF!)-(#REF!*data!#REF!)-(#REF!*data!#REF!)-(#REF!*data!#REF!)-(#REF!*data!#REF!)-(#REF!*data!#REF!)-(#REF!*data!#REF!)-(#REF!*data!#REF!)-(#REF!*data!#REF!)) -> #REF! | O8: =IF($A8="","",N$67-(#REF!*data!#REF!)-(#REF!*data!#REF!)-(#REF!*data!#REF!)-(#REF!*data!#REF!)-(#REF!*data!#REF!)-(#REF!*data!#REF!)-(#REF!*data!#REF!)-(#REF!*data!#REF!)-(#REF!*data!#REF!)-(#REF!*data!#REF!)) -> #REF! | P8: =IF($A8="","",O$67-(#REF!*data!#REF!)-(#REF!*data!#REF!)-(#REF!*data!#REF!)-(#REF!*data!#REF!)-(#REF!*data!#REF!)-(#REF!*data!#REF!)-(#REF!*data!#REF!)-(#REF!*data!#REF!)-(#REF!*data!#REF!)-(#REF!*data!#REF!)) -> #REF! | Q8: =IF($A8="","",P$67-(#REF!*data!#REF!)-(#REF!*data!#REF!)-(#REF!*data!#REF!)-(#REF!*data!#REF!)-(#REF!*data!#REF!)-(#REF!*data!#REF!)-(#REF!*data!#REF!)-(#REF!*data!#REF!)-(#REF!*data!#REF!)-(#REF!*data!#REF!)) -> #REF! | R8: =IF(L8="","",IF($O$4="contractuelle",IF(L8=0,"",F8-L8),F8-L8)) -> 0 | V8: =IF(F8="","",IF($O$4="contractuelle",IF(L8=0,0,V7+R8),V7+R8)) -> 1.7708333
A9: 43890 | F9: =SUM((Tableau1[[#This Row],[M]]*data!$F$2),(Tableau1[[#This Row],[S]]*data!$F$3),(Tableau1[[#This Row],[J]]*data!$F$4),(Tableau1[[#This Row],[Sam]]*data!$F$5),(Tableau1[[#This Row],[Dim]]*data!$F$6),(Tableau1[[#This Row],[WA]]*data!$F$7),(Tableau1[[#This Row],[Fé]]*data!$F$8),(Tableau1[[#This Row],[P]]*data!$F$9),(Tableau1[[#This Row],[½P]]*data!$F$10),(Tableau1[[#This Row],[Form]]*data!$F$11),(Tableau1[[#This Row],[CAR]]*data!$F$13),(Tableau1[[#This Row],[CAP]]*data!$F$14),(Tableau1[[#This Row],[½TP]]*data!$F$16),(Tableau1[[#This Row],[TPR]]*data!$F$17),(Tableau1[[#This Row],[TPP]]*data!$F$18),(Tableau1[[#This Row],[R]]*data!$F$23)) -> 0 | G9: =IF($A9="","",SUM((#REF!*data!$F$2),(#REF!*data!$F$3),(#REF!*data!$F$4),(#REF!*data!$F$5),(#REF!*data!$F$6),(#REF!*data!$F$7),(#REF!*data!$F$8),(#REF!*data!$F$9),(#REF!*data!$F$10),(#REF!*data!$F$11),(#REF!*data!$F$13),(#REF!*data!$F$14),(#REF!*data!$F$17),(#REF!*data!$F$18),(#REF!*data!#REF!))) -> #REF! | H9: =IF($A9="","",SUM((#REF!*data!$F$2),(#REF!*data!$F$3),(#REF!*data!$F$4),(#REF!*data!$F$5),(#REF!*data!$F$6),(#REF!*data!$F$7),(#REF!*data!$F$8),(#REF!*data!$F$9),(#REF!*data!$F$10),(#REF!*data!$F$11),(#REF!*data!$F$13),(#REF!*data!$F$14),(#REF!*data!$F$17),(#REF!*data!$F$18),(#REF!*data!#REF!))) -> #REF! | I9: =IF($A9="","",SUM((#REF!*data!$F$2),(#REF!*data!$F$3),(#REF!*data!$F$4),(#REF!*data!$F$5),(#REF!*data!$F$6),(#REF!*data!$F$7),(#REF!*data!$F$8),(#REF!*data!$F$9),(#REF!*data!$F$10),(#REF!*data!$F$11),(#REF!*data!$F$13),(#REF!*data!$F$14),(#REF!*data!$F$17),(#REF!*data!$F$18),(#REF!*data!#REF!))) -> #REF! | J9: =IF($A9="","",SUM((#REF!*data!$F$2),(#REF!*data!$F$3),(#REF!*data!$F$4),(#REF!*data!$F$5),(#REF!*data!$F$6),(#REF!*data!$F$7),(#REF!*data!$F$8),(#REF!*data!$F$9),(#REF!*data!$F$10),(#REF!*data!$F$11),(#REF!*data!$F$13),(#REF!*data!$F$14),(#REF!*data!$F$17),(#REF!*data!$F$18),(#REF!*data!#REF!))) -> #REF! | K9: =IF($A9="","",SUM((#REF!*data!$F$2),(#REF!*data!$F$3),(#REF!*data!$F$4),(#REF!*data!$F$5),(#REF!*data!$F$6),(#REF!*data!$F$7),(#REF!*data!$F$8),(#REF!*data!$F$9),(#REF!*data!$F$10),(#REF!*data!$F$11),(#REF!*data!$F$13),(#REF!*data!$F$14),(#REF!*data!$F$17),(#REF!*data!$F$18),(#REF!*data!#REF!))) -> #REF! | L9: =F9-(Tableau1[[#This Row],[CA]]*data!$G$12)-(Tableau1[[#This Row],[CAR]]*data!$G$13)-(Tableau1[[#This Row],[CAP]]*data!$G$14)-(Tableau1[[#This Row],[TP]]*data!$G$15)-(Tableau1[[#This Row],[½TP]]*data!$G$16)-(Tableau1[[#This Row],[TPR]]*data!$G$17)-(Tableau1[[#This Row],[TPP]]*data!$G$18)-(Tableau1[[#This Row],[EnM]]*data!$G$19)-(Tableau1[[#This Row],[CMO]]*data!$G$20)-(Tableau1[[#This Row],[ACC]]*data!$G$21) -> 0 | M9: =IF($A9="","",L$67-(#REF!*data!#REF!)-(#REF!*data!#REF!)-(#REF!*data!#REF!)-(#REF!*data!#REF!)-(#REF!*data!#REF!)-(#REF!*data!#REF!)-(#REF!*data!#REF!)-(#REF!*data!#REF!)-(#REF!*data!#REF!)-(#REF!*data!#REF!)) -> #REF! | N9: =IF($A9="","",M$67-(#REF!*data!#REF!)-(#REF!*data!#REF!)-(#REF!*data!#REF!)-(#REF!*data!#REF!)-(#REF!*data!#REF!)-(#REF!*data!#REF!)-(#REF!*data!#REF!)-(#REF!*data!#REF!)-(#REF!*data!#REF!)-(#REF!*data!#REF!)) -> #REF! | O9: =IF($A9="","",N$67-(#REF!*data!#REF!)-(#REF!*data!#REF!)-(#REF!*data!#REF!)-(#REF!*data!#REF!)-(#REF!*data!#REF!)-(#REF!*data!#REF!)-(#REF!*data!#REF!)-(#REF!*data!#REF!)-(#REF!*data!#REF!)-(#REF!*data!#REF!)) -> #REF! | P9: =IF($A9="","",O$67-(#REF!*data!#REF!)-(#REF!*data!#REF!)-(#REF!*data!#REF!)-(#REF!*data!#REF!)-(#REF!*data!#REF!)-(#REF!*data!#REF!)-(#REF!*data!#REF!)-(#REF!*data!#REF!)-(#REF!*data!#REF!)-(#REF!*data!#REF!)) -> #REF! | Q9: =IF($A9="","",P$67-(#REF!*data!#REF!)-(#REF!*data!#REF!)-(#REF!*data!#REF!)-(#REF!*data!#REF!)-(#REF!*data!#REF!)-(#REF!*data!#REF!)-(#REF!*data!#REF!)-(#REF!*data!#REF!)-(#REF!*data!#REF!)-(#REF!*data!#REF!)) -> #REF! | R9: =IF(L9="","",IF($O$4="contractuelle",IF(L9=0,"",F9-L9),F9-L9)) -> 0 | V9: =IF(F9="","",IF($O$4="contractuelle",IF(L9=0,0,V8+R9),V8+R9)) -> 1.7708333
A10: 43921 | F10: =SUM((Tableau1[[#This Row],[M]]*data!$F$2),(Tableau1[[#This Row],[S]]*data!$F$3),(Tableau1[[#This Row],[J]]*data!$F$4),(Tableau1[[#This Row],[Sam]]*data!$F$5),(Tableau1[[#This Row],[Dim]]*data!$F$6),(Tableau1[[#This Row],[WA]]*data!$F$7),(Tableau1[[#This Row],[Fé]]*data!$F$8),(Tableau1[[#This Row],[P]]*data!$F$9),(Tableau1[[#This Row],[½P]]*data!$F$10),(Tableau1[[#This Row],[Form]]*data!$F$11),(Tableau1[[#This Row],[CAR]]*data!$F$13),(Tableau1[[#This Row],[CAP]]*data!$F$14),(Tableau1[[#This Row],[½TP]]*data!$F$16),(Tableau1[[#This Row],[TPR]]*data!$F$17),(Tableau1[[#This Row],[TPP]]*data!$F$18),(Tableau1[[#This Row],[R]]*data!$F$23)) -> 0 | G10: =IF($A10="","",SUM((#REF!*data!$F$2),(#REF!*data!$F$3),(#REF!*data!$F$4),(#REF!*data!$F$5),(#REF!*data!$F$6),(#REF!*data!$F$7),(#REF!*data!$F$8),(#REF!*data!$F$9),(#REF!*data!$F$10),(#REF!*data!$F$11),(#REF!*data!$F$13),(#REF!*data!$F$14),(#REF!*data!$F$17),(#REF!*data!$F$18),(#REF!*data!#REF!))) -> #REF! | H10: =IF($A10="","",SUM((#REF!*data!$F$2),(#REF!*data!$F$3),(#REF!*data!$F$4),(#REF!*data!$F$5),(#REF!*data!$F$6),(#REF!*data!$F$7),(#REF!*data!$F$8),(#REF!*data!$F$9),(#REF!*data!$F$10),(#REF!*data!$F$11),(#REF!*data!$F$13),(#REF!*data!$F$14),(#REF!*data!$F$17),(#REF!*data!$F$18),(#REF!*data!#REF!))) -> #REF! | I10: =IF($A10="","",SUM((#REF!*data!$F$2),(#REF!*data!$F$3),(#REF!*data!$F$4),(#REF!*data!$F$5),(#REF!*data!$F$6),(#REF!*data!$F$7),(#REF!*data!$F$8),(#REF!*data!$F$9),(#REF!*data!$F$10),(#REF!*data!$F$11),(#REF!*data!$F$13),(#REF!*data!$F$14),(#REF!*data!$F$17),(#REF!*data!$F$18),(#REF!*data!#REF!))) -> #REF! | J10: =IF($A10="","",SUM((#REF!*data!$F$2),(#REF!*data!$F$3),(#REF!*data!$F$4),(#REF!*data!$F$5),(#REF!*data!$F$6),(#REF!*data!$F$7),(#REF!*data!$F$8),(#REF!*data!$F$9),(#REF!*data!$F$10),(#REF!*data!$F$11),(#REF!*data!$F$13),(#REF!*data!$F$14),(#REF!*data!$F$17),(#REF!*data!$F$18),(#REF!*data!#REF!))) -> #REF! | K10: =IF($A10="","",SUM((#REF!*data!$F$2),(#REF!*data!$F$3),(#REF!*data!$F$4),(#REF!*data!$F$5),(#REF!*data!$F$6),(#REF!*data!$F$7),(#REF!*data!$F$8),(#REF!*data!$F$9),(#REF!*data!$F$10),(#REF!*data!$F$11),(#REF!*data!$F$13),(#REF!*data!$F$14),(#REF!*data!$F$17),(#REF!*data!$F$18),(#REF!*data!#REF!))) -> #REF! | L10: =F10-(Tableau1[[#This Row],[CA]]*data!$G$12)-(Tableau1[[#This Row],[CAR]]*data!$G$13)-(Tableau1[[#This Row],[CAP]]*data!$G$14)-(Tableau1[[#This Row],[TP]]*data!$G$15)-(Tableau1[[#This Row],[½TP]]*data!$G$16)-(Tableau1[[#This Row],[TPR]]*data!$G$17)-(Tableau1[[#This Row],[TPP]]*data!$G$18)-(Tableau1[[#This Row],[EnM]]*data!$G$19)-(Tableau1[[#This Row],[CMO]]*data!$G$20)-(Tableau1[[#This Row],[ACC]]*data!$G$21) -> 0 | M10: =IF($A10="","",L$67-(#REF!*data!#REF!)-(#REF!*data!#REF!)-(#REF!*data!#REF!)-(#REF!*data!#REF!)-(#REF!*data!#REF!)-(#REF!*data!#REF!)-(#REF!*data!#REF!)-(#REF!*data!#REF!)-(#REF!*data!#REF!)-(#REF!*data!#REF!)) -> #REF! | N10: =IF($A10="","",M$67-(#REF!*data!#REF!)-(#REF!*data!#REF!)-(#REF!*data!#REF!)-(#REF!*data!#REF!)-(#REF!*data!#REF!)-(#REF!*data!#REF!)-(#REF!*data!#REF!)-(#REF!*data!#REF!)-(#REF!*data!#REF!)-(#REF!*data!#REF!)) -> #REF! | O10: =IF($A10="","",N$67-(#REF!*data!#REF!)-(#REF!*data!#REF!)-(#REF!*data!#REF!)-(#REF!*data!#REF!)-(#REF!*data!#REF!)-(#REF!*data!#REF!)-(#REF!*data!#REF!)-(#REF!*data!#REF!)-(#REF!*data!#REF!)-(#REF!*data!#REF!)) -> #REF! | P10: =IF($A10="","",O$67-(#REF!*data!#REF!)-(#REF!*data!#REF!)-(#REF!*data!#REF!)-(#REF!*data!#REF!)-(#REF!*data!#REF!)-(#REF!*data!#REF!)-(#REF!*data!#REF!)-(#REF!*data!#REF!)-(#REF!*data!#REF!)-(#REF!*data!#REF!)) -> #REF! | Q10: =IF($A10="","",P$67-(#REF!*data!#REF!)-(#REF!*data!#REF!)-(#REF!*data!#REF!)-(#REF!*data!#REF!)-(#REF!*data!#REF!)-(#REF!*data!#REF!)-(#REF!*data!#REF!)-(#REF!*data!#REF!)-(#REF!*data!#REF!)-(#REF!*data!#REF!)) -> #REF! | R10: =IF(L10="","",IF($O$4="contractuelle",IF(L10=0,"",F10-L10),F10-L10)) -> 0 | V10: =IF($F$10="","",IF($O$4="contractuelle",IF(L10=0,0,V9+R10),V9+R10)) -> 1.7708333
A11: 43951 | F11: =SUM((Tableau1[[#This Row],[M]]*data!$F$2),(Tableau1[[#This Row],[S]]*data!$F$3),(Tableau1[[#This Row],[J]]*data!$F$4),(Tableau1[[#This Row],[Sam]]*data!$F$5),(Tableau1[[#This Row],[Dim]]*data!$F$6),(Tableau1[[#This Row],[WA]]*data!$F$7),(Tableau1[[#This Row],[Fé]]*data!$F$8),(Tableau1[[#This Row],[P]]*data!$F$9),(Tableau1[[#This Row],[½P]]*data!$F$10),(Tableau1[[#This Row],[Form]]*data!$F$11),(Tableau1[[#This Row],[CAR]]*data!$F$13),(Tableau1[[#This Row],[CAP]]*data!$F$14),(Tableau1[[#This Row],[½TP]]*data!$F$16),(Tableau1[[#This Row],[TPR]]*data!$F$17),(Tableau1[[#This Row],[TPP]]*data!$F$18),(Tableau1[[#This Row],[R]]*data!$F$23)) -> 0 | G11: =IF($A11="","",SUM((#REF!*data!$F$2),(#REF!*data!$F$3),(#REF!*data!$F$4),(#REF!*data!$F$5),(#REF!*data!$F$6),(#REF!*data!$F$7),(#REF!*data!$F$8),(#REF!*data!$F$9),(#REF!*data!$F$10),(#REF!*data!$F$11),(#REF!*data!$F$13),(#REF!*data!$F$14),(#REF!*data!$F$17),(#REF!*data!$F$18),(#REF!*data!#REF!))) -> #REF! | H11: =IF($A11="","",SUM((#REF!*data!$F$2),(#REF!*data!$F$3),(#REF!*data!$F$4),(#REF!*data!$F$5),(#REF!*data!$F$6),(#REF!*data!$F$7),(#REF!*data!$F$8),(#REF!*data!$F$9),(#REF!*data!$F$10),(#REF!*data!$F$11),(#REF!*data!$F$13),(#REF!*data!$F$14),(#REF!*data!$F$17),(#REF!*data!$F$18),(#REF!*data!#REF!))) -> #REF! | I11: =IF($A11="","",SUM((#REF!*data!$F$2),(#REF!*data!$F$3),(#REF!*data!$F$4),(#REF!*data!$F$5),(#REF!*data!$F$6),(#REF!*data!$F$7),(#REF!*data!$F$8),(#REF!*data!$F$9),(#REF!*data!$F$10),(#REF!*data!$F$11),(#REF!*data!$F$13),(#REF!*data!$F$14),(#REF!*data!$F$17),(#REF!*data!$F$18),(#REF!*data!#REF!))) -> #REF! | J11: =IF($A11="","",SUM((#REF!*data!$F$2),(#REF!*data!$F$3),(#REF!*data!$F$4),(#REF!*data!$F$5),(#REF!*data!$F$6),(#REF!*data!$F$7),(#REF!*data!$F$8),(#REF!*data!$F$9),(#REF!*data!$F$10),(#REF!*data!$F$11),(#REF!*data!$F$13),(#REF!*data!$F$14),(#REF!*data!$F$17),(#REF!*data!$F$18),(#REF!*data!#REF!))) -> #REF! | K11: =IF($A11="","",SUM((#REF!*data!$F$2),(#REF!*data!$F$3),(#REF!*data!$F$4),(#REF!*data!$F$5),(#REF!*data!$F$6),(#REF!*data!$F$7),(#REF!*data!$F$8),(#REF!*data!$F$9),(#REF!*data!$F$10),(#REF!*data!$F$11),(#REF!*data!$F$13),(#REF!*data!$F$14),(#REF!*data!$F$17),(#REF!*data!$F$18),(#REF!*data!#REF!))) -> #REF! | L11: =F11-(Tableau1[[#This Row],[CA]]*data!$G$12)-(Tableau1[[#This Row],[CAR]]*data!$G$13)-(Tableau1[[#This Row],[CAP]]*data!$G$14)-(Tableau1[[#This Row],[TP]]*data!$G$15)-(Tableau1[[#This Row],[½TP]]*data!$G$16)-(Tableau1[[#This Row],[TPR]]*data!$G$17)-(Tableau1[[#This Row],[TPP]]*data!$G$18)-(Tableau1[[#This Row],[EnM]]*data!$G$19)-(Tableau1[[#This Row],[CMO]]*data!$G$20)-(Tableau1[[#This Row],[ACC]]*data!$G$21) -> 0 | M11: =IF($A11="","",L$67-(#REF!*data!#REF!)-(#REF!*data!#REF!)-(#REF!*data!#REF!)-(#REF!*data!#REF!)-(#REF!*data!#REF!)-(#REF!*data!#REF!)-(#REF!*data!#REF!)-(#REF!*data!#REF!)-(#REF!*data!#REF!)-(#REF!*data!#REF!)) -> #REF! | N11: =IF($A11="","",M$67-(#REF!*data!#REF!)-(#REF!*data!#REF!)-(#REF!*data!#REF!)-(#REF!*data!#REF!)-(#REF!*data!#REF!)-(#REF!*data!#REF!)-(#REF!*data!#REF!)-(#REF!*data!#REF!)-(#REF!*data!#REF!)-(#REF!*data!#REF!)) -> #REF! | O11: =IF($A11="","",N$67-(#REF!*data!#REF!)-(#REF!*data!#REF!)-(#REF!*data!#REF!)-(#REF!*data!#REF!)-(#REF!*data!#REF!)-(#REF!*data!#REF!)-(#REF!*data!#REF!)-(#REF!*data!#REF!)-(#REF!*data!#REF!)-(#REF!*data!#REF!)) -> #REF! | P11: =IF($A11="","",O$67-(#REF!*data!#REF!)-(#REF!*data!#REF!)-(#REF!*data!#REF!)-(#REF!*data!#REF!)-(#REF!*data!#REF!)-(#REF!*data!#REF!)-(#REF!*data!#REF!)-(#REF!*data!#REF!)-(#REF!*data!#REF!)-(#REF!*data!#REF!)) -> #REF! | Q11: =IF($A11="","",P$67-(#REF!*data!#REF!)-(#REF!*data!#REF!)-(#REF!*data!#REF!)-(#REF!*data!#REF!)-(#REF!*data!#REF!)-(#REF!*data!#REF!)-(#REF!*data!#REF!)-(#REF!*data!#REF!)-(#REF!*data!#REF!)-(#REF!*data!#REF!)) -> #REF! | R11: =IF(L11="","",IF($O$4="contractuelle",IF(L11=0,"",F11-L11),F11-L11)) -> 0 | V11: =IF($F$11="","",IF($O$4="contractuelle",IF(L11=0,0,V10+R11),V10+R11)) -> 1.7708333
A12: 43982 | F12: =SUM((Tableau1[[#This Row],[M]]*data!$F$2),(Tableau1[[#This Row],[S]]*data!$F$3),(Tableau1[[#This Row],[J]]*data!$F$4),(Tableau1[[#This Row],[Sam]]*data!$F$5),(Tableau1[[#This Row],[Dim]]*data!$F$6),(Tableau1[[#This Row],[WA]]*data!$F$7),(Tableau1[[#This Row],[Fé]]*data!$F$8),(Tableau1[[#This Row],[P]]*data!$F$9),(Tableau1[[#This Row],[½P]]*data!$F$10),(Tableau1[[#This Row],[Form]]*data!$F$11),(Tableau1[[#This Row],[CAR]]*data!$F$13),(Tableau1[[#This Row],[CAP]]*data!$F$14),(Tableau1[[#This Row],[½TP]]*data!$F$16),(Tableau1[[#This Row],[TPR]]*data!$F$17),(Tableau1[[#This Row],[TPP]]*data!$F$18),(Tableau1[[#This Row],[R]]*data!$F$23)) -> 0 | G12: =IF($A12="","",SUM((#REF!*data!$F$2),(#REF!*data!$F$3),(#REF!*data!$F$4),(#REF!*data!$F$5),(#REF!*data!$F$6),(#REF!*data!$F$7),(#REF!*data!$F$8),(#REF!*data!$F$9),(#REF!*data!$F$10),(#REF!*data!$F$11),(#REF!*data!$F$13),(#REF!*data!$F$14),(#REF!*data!$F$17),(#REF!*data!$F$18),(#REF!*data!#REF!))) -> #REF! | H12: =IF($A12="","",SUM((#REF!*data!$F$2),(#REF!*data!$F$3),(#REF!*data!$F$4),(#REF!*data!$F$5),(#REF!*data!$F$6),(#REF!*data!$F$7),(#REF!*data!$F$8),(#REF!*data!$F$9),(#REF!*data!$F$10),(#REF!*data!$F$11),(#REF!*data!$F$13),(#REF!*data!$F$14),(#REF!*data!$F$17),(#REF!*data!$F$18),(#REF!*data!#REF!))) -> #REF! | I12: =IF($A12="","",SUM((#REF!*data!$F$2),(#REF!*data!$F$3),(#REF!*data!$F$4),(#REF!*data!$F$5),(#REF!*data!$F$6),(#REF!*data!$F$7),(#REF!*data!$F$8),(#REF!*data!$F$9),(#REF!*data!$F$10),(#REF!*data!$F$11),(#REF!*data!$F$13),(#REF!*data!$F$14),(#REF!*data!$F$17),(#REF!*data!$F$18),(#REF!*data!#REF!))) -> #REF! | J12: =IF($A12="","",SUM((#REF!*data!$F$2),(#REF!*data!$F$3),(#REF!*data!$F$4),(#REF!*data!$F$5),(#REF!*data!$F$6),(#REF!*data!$F$7),(#REF!*data!$F$8),(#REF!*data!$F$9),(#REF!*data!$F$10),(#REF!*data!$F$11),(#REF!*data!$F$13),(#REF!*data!$F$14),(#REF!*data!$F$17),(#REF!*data!$F$18),(#REF!*data!#REF!))) -> #REF! | K12: =IF($A12="","",SUM((#REF!*data!$F$2),(#REF!*data!$F$3),(#REF!*data!$F$4),(#REF!*data!$F$5),(#REF!*data!$F$6),(#REF!*data!$F$7),(#REF!*data!$F$8),(#REF!*data!$F$9),(#REF!*data!$F$10),(#REF!*data!$F$11),(#REF!*data!$F$13),(#REF!*data!$F$14),(#REF!*data!$F$17),(#REF!*data!$F$18),(#REF!*data!#REF!))) -> #REF! | L12: =F12-(Tableau1[[#This Row],[CA]]*data!$G$12)-(Tableau1[[#This Row],[CAR]]*data!$G$13)-(Tableau1[[#This Row],[CAP]]*data!$G$14)-(Tableau1[[#This Row],[TP]]*data!$G$15)-(Tableau1[[#This Row],[½TP]]*data!$G$16)-(Tableau1[[#This Row],[TPR]]*data!$G$17)-(Tableau1[[#This Row],[TPP]]*data!$G$18)-(Tableau1[[#This Row],[EnM]]*data!$G$19)-(Tableau1[[#This Row],[CMO]]*data!$G$20)-(Tableau1[[#This Row],[ACC]]*data!$G$21) -> 0 | M12: =IF($A12="","",L$67-(#REF!*data!#REF!)-(#REF!*data!#REF!)-(#REF!*data!#REF!)-(#REF!*data!#REF!)-(#REF!*data!#REF!)-(#REF!*data!#REF!)-(#REF!*data!#REF!)-(#REF!*data!#REF!)-(#REF!*data!#REF!)-(#REF!*data!#REF!)) -> #REF! | N12: =IF($A12="","",M$67-(#REF!*data!#REF!)-(#REF!*data!#REF!)-(#REF!*data!#REF!)-(#REF!*data!#REF!)-(#REF!*data!#REF!)-(#REF!*data!#REF!)-(#REF!*data!#REF!)-(#REF!*data!#REF!)-(#REF!*data!#REF!)-(#REF!*data!#REF!)) -> #REF! | O12: =IF($A12="","",N$67-(#REF!*data!#REF!)-(#REF!*data!#REF!)-(#REF!*data!#REF!)-(#REF!*data!#REF!)-(#REF!*data!#REF!)-(#REF!*data!#REF!)-(#REF!*data!#REF!)-(#REF!*data!#REF!)-(#REF!*data!#REF!)-(#REF!*data!#REF!)) -> #REF! | P12: =IF($A12="","",O$67-(#REF!*data!#REF!)-(#REF!*data!#REF!)-(#REF!*data!#REF!)-(#REF!*data!#REF!)-(#REF!*data!#REF!)-(#REF!*data!#REF!)-(#REF!*data!#REF!)-(#REF!*data!#REF!)-(#REF!*data!#REF!)-(#REF!*data!#REF!)) -> #REF! | Q12: =IF($A12="","",P$67-(#REF!*data!#REF!)-(#REF!*data!#REF!)-(#REF!*data!#REF!)-(#REF!*data!#REF!)-(#REF!*data!#REF!)-(#REF!*data!#REF!)-(#REF!*data!#REF!)-(#REF!*data!#REF!)-(#REF!*data!#REF!)-(#REF!*data!#REF!)) -> #REF! | R12: =IF(L12="","",IF($O$4="contractuelle",IF(L12=0,"",F12-L12),F12-L12)) -> 0 | V12: =IF($F$12="","",IF($O$4="contractuelle",IF(L12=0,0,V11+R12),V11+R12)) -> 1.7708333
A13: 44012 | F13: =SUM((Tableau1[[#This Row],[M]]*data!$F$2),(Tableau1[[#This Row],[S]]*data!$F$3),(Tableau1[[#This Row],[J]]*data!$F$4),(Tableau1[[#This Row],[Sam]]*data!$F$5),(Tableau1[[#This Row],[Dim]]*data!$F$6),(Tableau1[[#This Row],[WA]]*data!$F$7),(Tableau1[[#This Row],[Fé]]*data!$F$8),(Tableau1[[#This Row],[P]]*data!$F$9),(Tableau1[[#This Row],[½P]]*data!$F$10),(Tableau1[[#This Row],[Form]]*data!$F$11),(Tableau1[[#This Row],[CAR]]*data!$F$13),(Tableau1[[#This Row],[CAP]]*data!$F$14),(Tableau1[[#This Row],[½TP]]*data!$F$16),(Tableau1[[#This Row],[TPR]]*data!$F$17),(Tableau1[[#This Row],[TPP]]*data!$F$18),(Tableau1[[#This Row],[R]]*data!$F$23)) -> 0 | G13: =IF($A13="","",SUM((#REF!*data!$F$2),(#REF!*data!$F$3),(#REF!*data!$F$4),(#REF!*data!$F$5),(#REF!*data!$F$6),(#REF!*data!$F$7),(#REF!*data!$F$8),(#REF!*data!$F$9),(#REF!*data!$F$10),(#REF!*data!$F$11),(#REF!*data!$F$13),(#REF!*data!$F$14),(#REF!*data!$F$17),(#REF!*data!$F$18),(#REF!*data!#REF!))) -> #REF! | H13: =IF($A13="","",SUM((#REF!*data!$F$2),(#REF!*data!$F$3),(#REF!*data!$F$4),(#REF!*data!$F$5),(#REF!*data!$F$6),(#REF!*data!$F$7),(#REF!*data!$F$8),(#REF!*data!$F$9),(#REF!*data!$F$10),(#REF!*data!$F$11),(#REF!*data!$F$13),(#REF!*data!$F$14),(#REF!*data!$F$17),(#REF!*data!$F$18),(#REF!*data!#REF!))) -> #REF! | I13: =IF($A13="","",SUM((#REF!*data!$F$2),(#REF!*data!$F$3),(#REF!*data!$F$4),(#REF!*data!$F$5),(#REF!*data!$F$6),(#REF!*data!$F$7),(#REF!*data!$F$8),(#REF!*data!$F$9),(#REF!*data!$F$10),(#REF!*data!$F$11),(#REF!*data!$F$13),(#REF!*data!$F$14),(#REF!*data!$F$17),(#REF!*data!$F$18),(#REF!*data!#REF!))) -> #REF! | J13: =IF($A13="","",SUM((#REF!*data!$F$2),(#REF!*data!$F$3),(#REF!*data!$F$4),(#REF!*data!$F$5),(#REF!*data!$F$6),(#REF!*data!$F$7),(#REF!*data!$F$8),(#REF!*data!$F$9),(#REF!*data!$F$10),(#REF!*data!$F$11),(#REF!*data!$F$13),(#REF!*data!$F$14),(#REF!*data!$F$17),(#REF!*data!$F$18),(#REF!*data!#REF!))) -> #REF! | K13: =IF($A13="","",SUM((#REF!*data!$F$2),(#REF!*data!$F$3),(#REF!*data!$F$4),(#REF!*data!$F$5),(#REF!*data!$F$6),(#REF!*data!$F$7),(#REF!*data!$F$8),(#REF!*data!$F$9),(#REF!*data!$F$10),(#REF!*data!$F$11),(#REF!*data!$F$13),(#REF!*data!$F$14),(#REF!*data!$F$17),(#REF!*data!$F$18),(#REF!*data!#REF!))) -> #REF! | L13: =F13-(Tableau1[[#This Row],[CA]]*data!$G$12)-(Tableau1[[#This Row],[CAR]]*data!$G$13)-(Tableau1[[#This Row],[CAP]]*data!$G$14)-(Tableau1[[#This Row],[TP]]*data!$G$15)-(Tableau1[[#This Row],[½TP]]*data!$G$16)-(Tableau1[[#This Row],[TPR]]*data!$G$17)-(Tableau1[[#This Row],[TPP]]*data!$G$18)-(Tableau1[[#This Row],[EnM]]*data!$G$19)-(Tableau1[[#This Row],[CMO]]*data!$G$20)-(Tableau1[[#This Row],[ACC]]*data!$G$21) -> 0 | M13: =IF($A13="","",L$67-(#REF!*data!#REF!)-(#REF!*data!#REF!)-(#REF!*data!#REF!)-(#REF!*data!#REF!)-(#REF!*data!#REF!)-(#REF!*data!#REF!)-(#REF!*data!#REF!)-(#REF!*data!#REF!)-(#REF!*data!#REF!)-(#REF!*data!#REF!)) -> #REF! | N13: =IF($A13="","",M$67-(#REF!*data!#REF!)-(#REF!*data!#REF!)-(#REF!*data!#REF!)-(#REF!*data!#REF!)-(#REF!*data!#REF!)-(#REF!*data!#REF!)-(#REF!*data!#REF!)-(#REF!*data!#REF!)-(#REF!*data!#REF!)-(#REF!*data!#REF!)) -> #REF! | O13: =IF($A13="","",N$67-(#REF!*data!#REF!)-(#REF!*data!#REF!)-(#REF!*data!#REF!)-(#REF!*data!#REF!)-(#REF!*data!#REF!)-(#REF!*data!#REF!)-(#REF!*data!#REF!)-(#REF!*data!#REF!)-(#REF!*data!#REF!)-(#REF!*data!#REF!)) -> #REF! | P13: =IF($A13="","",O$67-(#REF!*data!#REF!)-(#REF!*data!#REF!)-(#REF!*data!#REF!)-(#REF!*data!#REF!)-(#REF!*data!#REF!)-(#REF!*data!#REF!)-(#REF!*data!#REF!)-(#REF!*data!#REF!)-(#REF!*data!#REF!)-(#REF!*data!#REF!)) -> #REF! | Q13: =IF($A13="","",P$67-(#REF!*data!#REF!)-(#REF!*data!#REF!)-(#REF!*data!#REF!)-(#REF!*data!#REF!)-(#REF!*data!#REF!)-(#REF!*data!#REF!)-(#REF!*data!#REF!)-(#REF!*data!#REF!)-(#REF!*data!#REF!)-(#REF!*data!#REF!)) -> #REF! | R13: =IF(L13="","",IF($O$4="contractuelle",IF(L13=0,"",F13-L13),F13-L13)) -> 0 | V13: =IF($F$13="","",IF($O$4="contractuelle",IF(L13=0,0,V12+R13),V12+R13)) -> 1.7708333
A14: 44043 | F14: =SUM((Tableau1[[#This Row],[M]]*data!$F$2),(Tableau1[[#This Row],[S]]*data!$F$3),(Tableau1[[#This Row],[J]]*data!$F$4),(Tableau1[[#This Row],[Sam]]*data!$F$5),(Tableau1[[#This Row],[Dim]]*data!$F$6),(Tableau1[[#This Row],[WA]]*data!$F$7),(Tableau1[[#This Row],[Fé]]*data!$F$8),(Tableau1[[#This Row],[P]]*data!$F$9),(Tableau1[[#This Row],[½P]]*data!$F$10),(Tableau1[[#This Row],[Form]]*data!$F$11),(Tableau1[[#This Row],[CAR]]*data!$F$13),(Tableau1[[#This Row],[CAP]]*data!$F$14),(Tableau1[[#This Row],[½TP]]*data!$F$16),(Tableau1[[#This Row],[TPR]]*data!$F$17),(Tableau1[[#This Row],[TPP]]*data!$F$18),(Tableau1[[#This Row],[R]]*data!$F$23)) -> 0 | G14: =IF($A14="","",SUM((#REF!*data!$F$2),(#REF!*data!$F$3),(#REF!*data!$F$4),(#REF!*data!$F$5),(#REF!*data!$F$6),(#REF!*data!$F$7),(#REF!*data!$F$8),(#REF!*data!$F$9),(#REF!*data!$F$10),(#REF!*data!$F$11),(#REF!*data!$F$13),(#REF!*data!$F$14),(#REF!*data!$F$17),(#REF!*data!$F$18),(#REF!*data!#REF!))) -> #REF! | H14: =IF($A14="","",SUM((#REF!*data!$F$2),(#REF!*data!$F$3),(#REF!*data!$F$4),(#REF!*data!$F$5),(#REF!*data!$F$6),(#REF!*data!$F$7),(#REF!*data!$F$8),(#REF!*data!$F$9),(#REF!*data!$F$10),(#REF!*data!$F$11),(#REF!*data!$F$13),(#REF!*data!$F$14),(#REF!*data!$F$17),(#REF!*data!$F$18),(#REF!*data!#REF!))) -> #REF! | I14: =IF($A14="","",SUM((#REF!*data!$F$2),(#REF!*data!$F$3),(#REF!*data!$F$4),(#REF!*data!$F$5),(#REF!*data!$F$6),(#REF!*data!$F$7),(#REF!*data!$F$8),(#REF!*data!$F$9),(#REF!*data!$F$10),(#REF!*data!$F$11),(#REF!*data!$F$13),(#REF!*data!$F$14),(#REF!*data!$F$17),(#REF!*data!$F$18),(#REF!*data!#REF!))) -> #REF! | J14: =IF($A14="","",SUM((#REF!*data!$F$2),(#REF!*data!$F$3),(#REF!*data!$F$4),(#REF!*data!$F$5),(#REF!*data!$F$6),(#REF!*data!$F$7),(#REF!*data!$F$8),(#REF!*data!$F$9),(#REF!*data!$F$10),(#REF!*data!$F$11),(#REF!*data!$F$13),(#REF!*data!$F$14),(#REF!*data!$F$17),(#REF!*data!$F$18),(#REF!*data!#REF!))) -> #REF! | K14: =IF($A14="","",SUM((#REF!*data!$F$2),(#REF!*data!$F$3),(#REF!*data!$F$4),(#REF!*data!$F$5),(#REF!*data!$F$6),(#REF!*data!$F$7),(#REF!*data!$F$8),(#REF!*data!$F$9),(#REF!*data!$F$10),(#REF!*data!$F$11),(#REF!*data!$F$13),(#REF!*data!$F$14),(#REF!*data!$F$17),(#REF!*data!$F$18),(#REF!*data!#REF!))) -> #REF! | L14: =F14-(Tableau1[[#This Row],[CA]]*data!$G$12)-(Tableau1[[#This Row],[CAR]]*data!$G$13)-(Tableau1[[#This Row],[CAP]]*data!$G$14)-(Tableau1[[#This Row],[TP]]*data!$G$15)-(Tableau1[[#This Row],[½TP]]*data!$G$16)-(Tableau1[[#This Row],[TPR]]*data!$G$17)-(Tableau1[[#This Row],[TPP]]*data!$G$18)-(Tableau1[[#This Row],[EnM]]*data!$G$19)-(Tableau1[[#This Row],[CMO]]*data!$G$20)-(Tableau1[[#This Row],[ACC]]*data!$G$21) -> 0 | M14: =IF($A14="","",L$67-(#REF!*data!#REF!)-(#REF!*data!#REF!)-(#REF!*data!#REF!)-(#REF!*data!#REF!)-(#REF!*data!#REF!)-(#REF!*data!#REF!)-(#REF!*data!#REF!)-(#REF!*data!#REF!)-(#REF!*data!#REF!)-(#REF!*data!#REF!)) -> #REF! | N14: =IF($A14="","",M$67-(#REF!*data!#REF!)-(#REF!*data!#REF!)-(#REF!*data!#REF!)-(#REF!*data!#REF!)-(#REF!*data!#REF!)-(#REF!*data!#REF!)-(#REF!*data!#REF!)-(#REF!*data!#REF!)-(#REF!*data!#REF!)-(#REF!*data!#REF!)) -> #REF! | O14: =IF($A14="","",N$67-(#REF!*data!#REF!)-(#REF!*data!#REF!)-(#REF!*data!#REF!)-(#REF!*data!#REF!)-(#REF!*data!#REF!)-(#REF!*data!#REF!)-(#REF!*data!#REF!)-(#REF!*data!#REF!)-(#REF!*data!#REF!)-(#REF!*data!#REF!)) -> #REF! | P14: =IF($A14="","",O$67-(#REF!*data!#REF!)-(#REF!*data!#REF!)-(#REF!*data!#REF!)-(#REF!*data!#REF!)-(#REF!*data!#REF!)-(#REF!*data!#REF!)-(#REF!*data!#REF!)-(#REF!*data!#REF!)-(#REF!*data!#REF!)-(#REF!*data!#REF!)) -> #REF! | Q14: =IF($A14="","",P$67-(#REF!*data!#REF!)-(#REF!*data!#REF!)-(#REF!*data!#REF!)-(#REF!*data!#REF!)-(#REF!*data!#REF!)-(#REF!*data!#REF!)-(#REF!*data!#REF!)-(#REF!*data!#REF!)-(#REF!*data!#REF!)-(#REF!*data!#REF!)) -> #REF! | R14: =IF(L14="","",IF($O$4="contractuelle",IF(L14=0,"",F14-L14),F14-L14)) -> 0 | V14: =IF($F$14="","",IF($O$4="contractuelle",IF(L14=0,0,V13+R14),V13+R14)) -> 1.7708333
A15: 44074 | F15: =SUM((Tableau1[[#This Row],[M]]*data!$F$2),(Tableau1[[#This Row],[S]]*data!$F$3),(Tableau1[[#This Row],[J]]*data!$F$4),(Tableau1[[#This Row],[Sam]]*data!$F$5),(Tableau1[[#This Row],[Dim]]*data!$F$6),(Tableau1[[#This Row],[WA]]*data!$F$7),(Tableau1[[#This Row],[Fé]]*data!$F$8),(Tableau1[[#This Row],[P]]*data!$F$9),(Tableau1[[#This Row],[½P]]*data!$F$10),(Tableau1[[#This Row],[Form]]*data!$F$11),(Tableau1[[#This Row],[CAR]]*data!$F$13),(Tableau1[[#This Row],[CAP]]*data!$F$14),(Tableau1[[#This Row],[½TP]]*data!$F$16),(Tableau1[[#This Row],[TPR]]*data!$F$17),(Tableau1[[#This Row],[TPP]]*data!$F$18),(Tableau1[[#This Row],[R]]*data!$F$23)) -> 0 | G15: =IF($A15="","",SUM((#REF!*data!$F$2),(#REF!*data!$F$3),(#REF!*data!$F$4),(#REF!*data!$F$5),(#REF!*data!$F$6),(#REF!*data!$F$7),(#REF!*data!$F$8),(#REF!*data!$F$9),(#REF!*data!$F$10),(#REF!*data!$F$11),(#REF!*data!$F$13),(#REF!*data!$F$14),(#REF!*data!$F$17),(#REF!*data!$F$18),(#REF!*data!#REF!))) -> #REF! | H15: =IF($A15="","",SUM((#REF!*data!$F$2),(#REF!*data!$F$3),(#REF!*data!$F$4),(#REF!*data!$F$5),(#REF!*data!$F$6),(#REF!*data!$F$7),(#REF!*data!$F$8),(#REF!*data!$F$9),(#REF!*data!$F$10),(#REF!*data!$F$11),(#REF!*data!$F$13),(#REF!*data!$F$14),(#REF!*data!$F$17),(#REF!*data!$F$18),(#REF!*data!#REF!))) -> #REF! | I15: =IF($A15="","",SUM((#REF!*data!$F$2),(#REF!*data!$F$3),(#REF!*data!$F$4),(#REF!*data!$F$5),(#REF!*data!$F$6),(#REF!*data!$F$7),(#REF!*data!$F$8),(#REF!*data!$F$9),(#REF!*data!$F$10),(#REF!*data!$F$11),(#REF!*data!$F$13),(#REF!*data!$F$14),(#REF!*data!$F$17),(#REF!*data!$F$18),(#REF!*data!#REF!))) -> #REF! | J15: =IF($A15="","",SUM((#REF!*data!$F$2),(#REF!*data!$F$3),(#REF!*data!$F$4),(#REF!*data!$F$5),(#REF!*data!$F$6),(#REF!*data!$F$7),(#REF!*data!$F$8),(#REF!*data!$F$9),(#REF!*data!$F$10),(#REF!*data!$F$11),(#REF!*data!$F$13),(#REF!*data!$F$14),(#REF!*data!$F$17),(#REF!*data!$F$18),(#REF!*data!#REF!))) -> #REF! | K15: =IF($A15="","",SUM((#REF!*data!$F$2),(#REF!*data!$F$3),(#REF!*data!$F$4),(#REF!*data!$F$5),(#REF!*data!$F$6),(#REF!*data!$F$7),(#REF!*data!$F$8),(#REF!*data!$F$9),(#REF!*data!$F$10),(#REF!*data!$F$11),(#REF!*data!$F$13),(#REF!*data!$F$14),(#REF!*data!$F$17),(#REF!*data!$F$18),(#REF!*data!#REF!))) -> #REF! | L15: =F15-(Tableau1[[#This Row],[CA]]*data!$G$12)-(Tableau1[[#This Row],[CAR]]*data!$G$13)-(Tableau1[[#This Row],[CAP]]*data!$G$14)-(Tableau1[[#This Row],[TP]]*data!$G$15)-(Tableau1[[#This Row],[½TP]]*data!$G$16)-(Tableau1[[#This Row],[TPR]]*data!$G$17)-(Tableau1[[#This Row],[TPP]]*data!$G$18)-(Tableau1[[#This Row],[EnM]]*data!$G$19)-(Tableau1[[#This Row],[CMO]]*data!$G$20)-(Tableau1[[#This Row],[ACC]]*data!$G$21) -> 0 | M15: =IF($A15="","",L$67-(#REF!*data!#REF!)-(#REF!*data!#REF!)-(#REF!*data!#REF!)-(#REF!*data!#REF!)-(#REF!*data!#REF!)-(#REF!*data!#REF!)-(#REF!*data!#REF!)-(#REF!*data!#REF!)-(#REF!*data!#REF!)-(#REF!*data!#REF!)) -> #REF! | N15: =IF($A15="","",M$67-(#REF!*data!#REF!)-(#REF!*data!#REF!)-(#REF!*data!#REF!)-(#REF!*data!#REF!)-(#REF!*data!#REF!)-(#REF!*data!#REF!)-(#REF!*data!#REF!)-(#REF!*data!#REF!)-(#REF!*data!#REF!)-(#REF!*data!#REF!)) -> #REF! | O15: =IF($A15="","",N$67-(#REF!*data!#REF!)-(#REF!*data!#REF!)-(#REF!*data!#REF!)-(#REF!*data!#REF!)-(#REF!*data!#REF!)-(#REF!*data!#REF!)-(#REF!*data!#REF!)-(#REF!*data!#REF!)-(#REF!*data!#REF!)-(#REF!*data!#REF!)) -> #REF! | P15: =IF($A15="","",O$67-(#REF!*data!#REF!)-(#REF!*data!#REF!)-(#REF!*data!#REF!)-(#REF!*data!#REF!)-(#REF!*data!#REF!)-(#REF!*data!#REF!)-(#REF!*data!#REF!)-(#REF!*data!#REF!)-(#REF!*data!#REF!)-(#REF!*data!#REF!)) -> #REF! | Q15: =IF($A15="","",P$67-(#REF!*data!#REF!)-(#REF!*data!#REF!)-(#REF!*data!#REF!)-(#REF!*data!#REF!)-(#REF!*data!#REF!)-(#REF!*data!#REF!)-(#REF!*data!#REF!)-(#REF!*data!#REF!)-(#REF!*data!#REF!)-(#REF!*data!#REF!)) -> #REF! | R15: =IF(L15="","",IF($O$4="contractuelle",IF(L15=0,"",F15-L15),F15-L15)) -> 0 | V15: =IF($F$15="","",IF($O$4="contractuelle",IF(L15=0,0,V14+R15),V14+R15)) -> 1.7708333
A16: 44104 | F16: =SUM((Tableau1[[#This Row],[M]]*data!$F$2),(Tableau1[[#This Row],[S]]*data!$F$3),(Tableau1[[#This Row],[J]]*data!$F$4),(Tableau1[[#This Row],[Sam]]*data!$F$5),(Tableau1[[#This Row],[Dim]]*data!$F$6),(Tableau1[[#This Row],[WA]]*data!$F$7),(Tableau1[[#This Row],[Fé]]*data!$F$8),(Tableau1[[#This Row],[P]]*data!$F$9),(Tableau1[[#This Row],[½P]]*data!$F$10),(Tableau1[[#This Row],[Form]]*data!$F$11),(Tableau1[[#This Row],[CAR]]*data!$F$13),(Tableau1[[#This Row],[CAP]]*data!$F$14),(Tableau1[[#This Row],[½TP]]*data!$F$16),(Tableau1[[#This Row],[TPR]]*data!$F$17),(Tableau1[[#This Row],[TPP]]*data!$F$18),(Tableau1[[#This Row],[R]]*data!$F$23)) -> 0 | G16: =IF($A16="","",SUM((#REF!*data!$F$2),(#REF!*data!$F$3),(#REF!*data!$F$4),(#REF!*data!$F$5),(#REF!*data!$F$6),(#REF!*data!$F$7),(#REF!*data!$F$8),(#REF!*data!$F$9),(#REF!*data!$F$10),(#REF!*data!$F$11),(#REF!*data!$F$13),(#REF!*data!$F$14),(#REF!*data!$F$17),(#REF!*data!$F$18),(#REF!*data!#REF!))) -> #REF! | H16: =IF($A16="","",SUM((#REF!*data!$F$2),(#REF!*data!$F$3),(#REF!*data!$F$4),(#REF!*data!$F$5),(#REF!*data!$F$6),(#REF!*data!$F$7),(#REF!*data!$F$8),(#REF!*data!$F$9),(#REF!*data!$F$10),(#REF!*data!$F$11),(#REF!*data!$F$13),(#REF!*data!$F$14),(#REF!*data!$F$17),(#REF!*data!$F$18),(#REF!*data!#REF!))) -> #REF! | I16: =IF($A16="","",SUM((#REF!*data!$F$2),(#REF!*data!$F$3),(#REF!*data!$F$4),(#REF!*data!$F$5),(#REF!*data!$F$6),(#REF!*data!$F$7),(#REF!*data!$F$8),(#REF!*data!$F$9),(#REF!*data!$F$10),(#REF!*data!$F$11),(#REF!*data!$F$13),(#REF!*data!$F$14),(#REF!*data!$F$17),(#REF!*data!$F$18),(#REF!*data!#REF!))) -> #REF! | J16: =IF($A16="","",SUM((#REF!*data!$F$2),(#REF!*data!$F$3),(#REF!*data!$F$4),(#REF!*data!$F$5),(#REF!*data!$F$6),(#REF!*data!$F$7),(#REF!*data!$F$8),(#REF!*data!$F$9),(#REF!*data!$F$10),(#REF!*data!$F$11),(#REF!*data!$F$13),(#REF!*data!$F$14),(#REF!*data!$F$17),(#REF!*data!$F$18),(#REF!*data!#REF!))) -> #REF! | K16: =IF($A16="","",SUM((#REF!*data!$F$2),(#REF!*data!$F$3),(#REF!*data!$F$4),(#REF!*data!$F$5),(#REF!*data!$F$6),(#REF!*data!$F$7),(#REF!*data!$F$8),(#REF!*data!$F$9),(#REF!*data!$F$10),(#REF!*data!$F$11),(#REF!*data!$F$13),(#REF!*data!$F$14),(#REF!*data!$F$17),(#REF!*data!$F$18),(#REF!*data!#REF!))) -> #REF! | L16: =F16-(Tableau1[[#This Row],[CA]]*data!$G$12)-(Tableau1[[#This Row],[CAR]]*data!$G$13)-(Tableau1[[#This Row],[CAP]]*data!$G$14)-(Tableau1[[#This Row],[TP]]*data!$G$15)-(Tableau1[[#This Row],[½TP]]*data!$G$16)-(Tableau1[[#This Row],[TPR]]*data!$G$17)-(Tableau1[[#This Row],[TPP]]*data!$G$18)-(Tableau1[[#This Row],[EnM]]*data!$G$19)-(Tableau1[[#This Row],[CMO]]*data!$G$20)-(Tableau1[[#This Row],[ACC]]*data!$G$21) -> 0 | M16: =IF($A16="","",L$67-(#REF!*data!#REF!)-(#REF!*data!#REF!)-(#REF!*data!#REF!)-(#REF!*data!#REF!)-(#REF!*data!#REF!)-(#REF!*data!#REF!)-(#REF!*data!#REF!)-(#REF!*data!#REF!)-(#REF!*data!#REF!)-(#REF!*data!#REF!)) -> #REF! | N16: =IF($A16="","",M$67-(#REF!*data!#REF!)-(#REF!*data!#REF!)-(#REF!*data!#REF!)-(#REF!*data!#REF!)-(#REF!*data!#REF!)-(#REF!*data!#REF!)-(#REF!*data!#REF!)-(#REF!*data!#REF!)-(#REF!*data!#REF!)-(#REF!*data!#REF!)) -> #REF! | O16: =IF($A16="","",N$67-(#REF!*data!#REF!)-(#REF!*data!#REF!)-(#REF!*data!#REF!)-(#REF!*data!#REF!)-(#REF!*data!#REF!)-(#REF!*data!#REF!)-(#REF!*data!#REF!)-(#REF!*data!#REF!)-(#REF!*data!#REF!)-(#REF!*data!#REF!)) -> #REF! | P16: =IF($A16="","",O$67-(#REF!*data!#REF!)-(#REF!*data!#REF!)-(#REF!*data!#REF!)-(#REF!*data!#REF!)-(#REF!*data!#REF!)-(#REF!*data!#REF!)-(#REF!*data!#REF!)-(#REF!*data!#REF!)-(#REF!*data!#REF!)-(#REF!*data!#REF!)) -> #REF! | Q16: =IF($A16="","",P$67-(#REF!*data!#REF!)-(#REF!*data!#REF!)-(#REF!*data!#REF!)-(#REF!*data!#REF!)-(#REF!*data!#REF!)-(#REF!*data!#REF!)-(#REF!*data!#REF!)-(#REF!*data!#REF!)-(#REF!*data!#REF!)-(#REF!*data!#REF!)) -> #REF! | R16: =IF(L16="","",IF($O$4="contractuelle",IF(L16=0,"",F16-L16),F16-L16)) -> 0 | V16: =IF($F$16="","",IF($O$4="contractuelle",IF(L16=0,0,V15+R16),V15+R16)) -> 1.7708333
A17: 44135 | F17: =SUM((Tableau1[[#This Row],[M]]*data!$F$2),(Tableau1[[#This Row],[S]]*data!$F$3),(Tableau1[[#This Row],[J]]*data!$F$4),(Tableau1[[#This Row],[Sam]]*data!$F$5),(Tableau1[[#This Row],[Dim]]*data!$F$6),(Tableau1[[#This Row],[WA]]*data!$F$7),(Tableau1[[#This Row],[Fé]]*data!$F$8),(Tableau1[[#This Row],[P]]*data!$F$9),(Tableau1[[#This Row],[½P]]*data!$F$10),(Tableau1[[#This Row],[Form]]*data!$F$11),(Tableau1[[#This Row],[CAR]]*data!$F$13),(Tableau1[[#This Row],[CAP]]*data!$F$14),(Tableau1[[#This Row],[½TP]]*data!$F$16),(Tableau1[[#This Row],[TPR]]*data!$F$17),(Tableau1[[#This Row],[TPP]]*data!$F$18),(Tableau1[[#This Row],[R]]*data!$F$23)) -> 0 | G17: =IF($A17="","",SUM((#REF!*data!$F$2),(#REF!*data!$F$3),(#REF!*data!$F$4),(#REF!*data!$F$5),(#REF!*data!$F$6),(#REF!*data!$F$7),(#REF!*data!$F$8),(#REF!*data!$F$9),(#REF!*data!$F$10),(#REF!*data!$F$11),(#REF!*data!$F$13),(#REF!*data!$F$14),(#REF!*data!$F$17),(#REF!*data!$F$18),(#REF!*data!#REF!))) -> #REF! | H17: =IF($A17="","",SUM((#REF!*data!$F$2),(#REF!*data!$F$3),(#REF!*data!$F$4),(#REF!*data!$F$5),(#REF!*data!$F$6),(#REF!*data!$F$7),(#REF!*data!$F$8),(#REF!*data!$F$9),(#REF!*data!$F$10),(#REF!*data!$F$11),(#REF!*data!$F$13),(#REF!*data!$F$14),(#REF!*data!$F$17),(#REF!*data!$F$18),(#REF!*data!#REF!))) -> #REF! | I17: =IF($A17="","",SUM((#REF!*data!$F$2),(#REF!*data!$F$3),(#REF!*data!$F$4),(#REF!*data!$F$5),(#REF!*data!$F$6),(#REF!*data!$F$7),(#REF!*data!$F$8),(#REF!*data!$F$9),(#REF!*data!$F$10),(#REF!*data!$F$11),(#REF!*data!$F$13),(#REF!*data!$F$14),(#REF!*data!$F$17),(#REF!*data!$F$18),(#REF!*data!#REF!))) -> #REF! | J17: =IF($A17="","",SUM((#REF!*data!$F$2),(#REF!*data!$F$3),(#REF!*data!$F$4),(#REF!*data!$F$5),(#REF!*data!$F$6),(#REF!*data!$F$7),(#REF!*data!$F$8),(#REF!*data!$F$9),(#REF!*data!$F$10),(#REF!*data!$F$11),(#REF!*data!$F$13),(#REF!*data!$F$14),(#REF!*data!$F$17),(#REF!*data!$F$18),(#REF!*data!#REF!))) -> #REF! | K17: =IF($A17="","",SUM((#REF!*data!$F$2),(#REF!*data!$F$3),(#REF!*data!$F$4),(#REF!*data!$F$5),(#REF!*data!$F$6),(#REF!*data!$F$7),(#REF!*data!$F$8),(#REF!*data!$F$9),(#REF!*data!$F$10),(#REF!*data!$F$11),(#REF!*data!$F$13),(#REF!*data!$F$14),(#REF!*data!$F$17),(#REF!*data!$F$18),(#REF!*data!#REF!))) -> #REF! | L17: =F17-(Tableau1[[#This Row],[CA]]*data!$G$12)-(Tableau1[[#This Row],[CAR]]*data!$G$13)-(Tableau1[[#This Row],[CAP]]*data!$G$14)-(Tableau1[[#This Row],[TP]]*data!$G$15)-(Tableau1[[#This Row],[½TP]]*data!$G$16)-(Tableau1[[#This Row],[TPR]]*data!$G$17)-(Tableau1[[#This Row],[TPP]]*data!$G$18)-(Tableau1[[#This Row],[EnM]]*data!$G$19)-(Tableau1[[#This Row],[CMO]]*data!$G$20)-(Tableau1[[#This Row],[ACC]]*data!$G$21) -> 0 | M17: =IF($A17="","",L$67-(#REF!*data!#REF!)-(#REF!*data!#REF!)-(#REF!*data!#REF!)-(#REF!*data!#REF!)-(#REF!*data!#REF!)-(#REF!*data!#REF!)-(#REF!*data!#REF!)-(#REF!*data!#REF!)-(#REF!*data!#REF!)-(#REF!*data!#REF!)) -> #REF! | N17: =IF($A17="","",M$67-(#REF!*data!#REF!)-(#REF!*data!#REF!)-(#REF!*data!#REF!)-(#REF!*data!#REF!)-(#REF!*data!#REF!)-(#REF!*data!#REF!)-(#REF!*data!#REF!)-(#REF!*data!#REF!)-(#REF!*data!#REF!)-(#REF!*data!#REF!)) -> #REF! | O17: =IF($A17="","",N$67-(#REF!*data!#REF!)-(#REF!*data!#REF!)-(#REF!*data!#REF!)-(#REF!*data!#REF!)-(#REF!*data!#REF!)-(#REF!*data!#REF!)-(#REF!*data!#REF!)-(#REF!*data!#REF!)-(#REF!*data!#REF!)-(#REF!*data!#REF!)) -> #REF! | P17: =IF($A17="","",O$67-(#REF!*data!#REF!)-(#REF!*data!#REF!)-(#REF!*data!#REF!)-(#REF!*data!#REF!)-(#REF!*data!#REF!)-(#REF!*data!#REF!)-(#REF!*data!#REF!)-(#REF!*data!#REF!)-(#REF!*data!#REF!)-(#REF!*data!#REF!)) -> #REF! | Q17: =IF($A17="","",P$67-(#REF!*data!#REF!)-(#REF!*data!#REF!)-(#REF!*data!#REF!)-(#REF!*data!#REF!)-(#REF!*data!#REF!)-(#REF!*data!#REF!)-(#REF!*data!#REF!)-(#REF!*data!#REF!)-(#REF!*data!#REF!)-(#REF!*data!#REF!)) -> #REF! | R17: =IF(L17="","",IF($O$4="contractuelle",IF(L17=0,"",F17-L17),F17-L17)) -> 0 | V17: =IF($F$17="","",IF($O$4="contractuelle",IF(L17=0,0,V16+R17),V16+R17)) -> 1.7708333
A18: 44165 | F18: =SUM((Tableau1[[#This Row],[M]]*data!$F$2),(Tableau1[[#This Row],[S]]*data!$F$3),(Tableau1[[#This Row],[J]]*data!$F$4),(Tableau1[[#This Row],[Sam]]*data!$F$5),(Tableau1[[#This Row],[Dim]]*data!$F$6),(Tableau1[[#This Row],[WA]]*data!$F$7),(Tableau1[[#This Row],[Fé]]*data!$F$8),(Tableau1[[#This Row],[P]]*data!$F$9),(Tableau1[[#This Row],[½P]]*data!$F$10),(Tableau1[[#This Row],[Form]]*data!$F$11),(Tableau1[[#This Row],[CAR]]*data!$F$13),(Tableau1[[#This Row],[CAP]]*data!$F$14),(Tableau1[[#This Row],[½TP]]*data!$F$16),(Tableau1[[#This Row],[TPR]]*data!$F$17),(Tableau1[[#This Row],[TPP]]*data!$F$18),(Tableau1[[#This Row],[R]]*data!$F$23)) -> 0 | G18: =IF($A18="","",SUM((#REF!*data!$F$2),(#REF!*data!$F$3),(#REF!*data!$F$4),(#REF!*data!$F$5),(#REF!*data!$F$6),(#REF!*data!$F$7),(#REF!*data!$F$8),(#REF!*data!$F$9),(#REF!*data!$F$10),(#REF!*data!$F$11),(#REF!*data!$F$13),(#REF!*data!$F$14),(#REF!*data!$F$17),(#REF!*data!$F$18),(#REF!*data!#REF!))) -> #REF! | H18: =IF($A18="","",SUM((#REF!*data!$F$2),(#REF!*data!$F$3),(#REF!*data!$F$4),(#REF!*data!$F$5),(#REF!*data!$F$6),(#REF!*data!$F$7),(#REF!*data!$F$8),(#REF!*data!$F$9),(#REF!*data!$F$10),(#REF!*data!$F$11),(#REF!*data!$F$13),(#REF!*data!$F$14),(#REF!*data!$F$17),(#REF!*data!$F$18),(#REF!*data!#REF!))) -> #REF! | I18: =IF($A18="","",SUM((#REF!*data!$F$2),(#REF!*data!$F$3),(#REF!*data!$F$4),(#REF!*data!$F$5),(#REF!*data!$F$6),(#REF!*data!$F$7),(#REF!*data!$F$8),(#REF!*data!$F$9),(#REF!*data!$F$10),(#REF!*data!$F$11),(#REF!*data!$F$13),(#REF!*data!$F$14),(#REF!*data!$F$17),(#REF!*data!$F$18),(#REF!*data!#REF!))) -> #REF! | J18: =IF($A18="","",SUM((#REF!*data!$F$2),(#REF!*data!$F$3),(#REF!*data!$F$4),(#REF!*data!$F$5),(#REF!*data!$F$6),(#REF!*data!$F$7),(#REF!*data!$F$8),(#REF!*data!$F$9),(#REF!*data!$F$10),(#REF!*data!$F$11),(#REF!*data!$F$13),(#REF!*data!$F$14),(#REF!*data!$F$17),(#REF!*data!$F$18),(#REF!*data!#REF!))) -> #REF! | K18: =IF($A18="","",SUM((#REF!*data!$F$2),(#REF!*data!$F$3),(#REF!*data!$F$4),(#REF!*data!$F$5),(#REF!*data!$F$6),(#REF!*data!$F$7),(#REF!*data!$F$8),(#REF!*data!$F$9),(#REF!*data!$F$10),(#REF!*data!$F$11),(#REF!*data!$F$13),(#REF!*data!$F$14),(#REF!*data!$F$17),(#REF!*data!$F$18),(#REF!*data!#REF!))) -> #REF! | L18: =F18-(Tableau1[[#This Row],[CA]]*data!$G$12)-(Tableau1[[#This Row],[CAR]]*data!$G$13)-(Tableau1[[#This Row],[CAP]]*data!$G$14)-(Tableau1[[#This Row],[TP]]*data!$G$15)-(Tableau1[[#This Row],[½TP]]*data!$G$16)-(Tableau1[[#This Row],[TPR]]*data!$G$17)-(Tableau1[[#This Row],[TPP]]*data!$G$18)-(Tableau1[[#This Row],[EnM]]*data!$G$19)-(Tableau1[[#This Row],[CMO]]*data!$G$20)-(Tableau1[[#This Row],[ACC]]*data!$G$21) -> 0 | M18: =IF($A18="","",L$67-(#REF!*data!#REF!)-(#REF!*data!#REF!)-(#REF!*data!#REF!)-(#REF!*data!#REF!)-(#REF!*data!#REF!)-(#REF!*data!#REF!)-(#REF!*data!#REF!)-(#REF!*data!#REF!)-(#REF!*data!#REF!)-(#REF!*data!#REF!)) -> #REF! | N18: =IF($A18="","",M$67-(#REF!*data!#REF!)-(#REF!*data!#REF!)-(#REF!*data!#REF!)-(#REF!*data!#REF!)-(#REF!*data!#REF!)-(#REF!*data!#REF!)-(#REF!*data!#REF!)-(#REF!*data!#REF!)-(#REF!*data!#REF!)-(#REF!*data!#REF!)) -> #REF! | O18: =IF($A18="","",N$67-(#REF!*data!#REF!)-(#REF!*data!#REF!)-(#REF!*data!#REF!)-(#REF!*data!#REF!)-(#REF!*data!#REF!)-(#REF!*data!#REF!)-(#REF!*data!#REF!)-(#REF!*data!#REF!)-(#REF!*data!#REF!)-(#REF!*data!#REF!)) -> #REF! | P18: =IF($A18="","",O$67-(#REF!*data!#REF!)-(#REF!*data!#REF!)-(#REF!*data!#REF!)-(#REF!*data!#REF!)-(#REF!*data!#REF!)-(#REF!*data!#REF!)-(#REF!*data!#REF!)-(#REF!*data!#REF!)-(#REF!*data!#REF!)-(#REF!*data!#REF!)) -> #REF! | Q18: =IF($A18="","",P$67-(#REF!*data!#REF!)-(#REF!*data!#REF!)-(#REF!*data!#REF!)-(#REF!*data!#REF!)-(#REF!*data!#REF!)-(#REF!*data!#REF!)-(#REF!*data!#REF!)-(#REF!*data!#REF!)-(#REF!*data!#REF!)-(#REF!*data!#REF!)) -> #REF! | R18: =IF(L18="","",IF($O$4="contractuelle",IF(L18=0,"",F18-L18),F18-L18)) -> 0 | V18: =IF($F$18="","",IF($O$4="contractuelle",IF(L18=0,0,V17+R18),V17+R18)) -> 1.7708333
A19: arr / dep anticip* | L19: =VLOOKUP($D$4,'2024'!$1:$1048576,369,FALSE) -> 0
A20: TOTAL | F20: =SUM(F7:K18) -> #REF! | L20: =SUM(L7:Q18) -> #REF! | R20: =F20-L20 -> #REF! | Z20: =SUM(Z7:Z18) -> 5 | AA20: =SUM(AA7:AA18) -> 0 | AB20: =SUM(AB7:AB18) -> 0 | AC20: =SUM(AC7:AC18) -> 0 | AD20: =SUM(AD7:AD18) -> 0 | AE20: =SUM(AE7:AE18) -> 0 | AF20: =SUM(AF7:AF18) -> 0 | AG20: =SUM(AG7:AG18) -> 0 | ... AV20: =SUM(AV7:AV18) -> 0
A21: * Arrivées et départs anticipés validés | U21: Avec rappel : | V21: =R20+AI4 -> #REF!

Sheet Feuil1
A1: 0.30277778 | C1: =A1*B1 -> 0
A2: 0.47916667 | B2: 4 | C2: =A2*B2 -> 1.9166667
A3: 0.375 | B3: 10 | C3: =A3*B3 -> 3.75
C4: =C1+C2+C3 -> 5.6666667
C5: 6.9638889
C6: =C4-C5 -> -1.2972222

Sheet data
A1: Janvier | B1: cadre | F1: Effectués | G1: Exigibles
A2: Février | B2: agent | D2: Matin | E2: M | F2: 0.35416667
A3: Mars | D3: Soir | E3: S | F3: 0.39583333
A4: Avril | B4: titulaire | D4: Journée | E4: J | F4: 0.47916667
A5: Mai | B5: contractuelle | D5: Samedi | E5: Sam | F5: 0.47916667
A6: Juin | D6: Dimanche | E6: Dim | F6: 0.29166667
A7: Juillet | D7: Week-end A | E7: WA | F7: 0.47916667
A8: Août | D8: Férié | E8: Fé | F8: 0.47916667
A9: Septembre | D9: Posté | E9: P | F9: 0.30277778
A10: Octobre | D10: Demi posté | E10: ½P | F10: 0.15138889
A11: Novembre | D11: Formation | E11: Form | F11: 0.30277778
A12: Décembre | D12: Congé annuel | E12: CA | G12: 0.30277778
D13: Demi congé + réunion | E13: CAR | F13: 0.083333333 | G13: 0.15138889
D14: Demi congé + posté | E14: CAP | F14: 0.15138889 | G14: 0.15138889
D15: Temps partiel | E15: TP | G15: 0.30277778
D16: Demi temps partiel | E16: ½TP | G16: 0.15138889
D17: Demi temps partiel + réunion | E17: TPR | F17: 0.083333333 | G17: 0.15138889
D18: Demi temps partiel + posté | E18: TPP | F18: 0.15138889 | G18: 0.15138889
D19: Enfant malade | E19: EnM | G19: 0.30277778
D20: Congé maladie | E20: CMO | G20: 0.30277778
D21: Accident de service/travail | E21: ACC | G21: 0.30277778
D22: Absence injustifée | E22: ABS
D23: Réunion | E23: R | F23: 0.083333333
