Workbook
Name epcepi: [1]listes!$G$2:$G$6
Name etiquetage: [1]listes!$E$2:$E$5
Name incorga: [1]listes!$H$2:$H$4
Name module: [1]listes!$D$1:$D$13
Name modules: [1]listes!$D$1:$D$13
Name physico: [1]listes!$F$2:$F$6

Sheet Feuil1
A1: THEME x : Tirage de 5 questions sur les 16) QCU QCM) | B1: THEME x : Sourt out 5 questions out of 16) QUC QMC) | C1: Score
A3: Question 1 FR | B3: Question 1 GB
A4: Réponse 1.1 | B4: Answer 1.1 | C4: q1
A5: Réponse 1.2 | B5: Answer 1.2 | C5: q1
A6: Réponse 1.3 | B6: Answer 1.3 | C6: q1-100
A7: Réponse 1.4 | B7: Answer 1.4 | C7: q1
A8: Réponse 1.5 | B8: Answer 1.5 | C8: q1
A9: Réponse 1.6 | B9: Answer 1.6 | C9: q1
A10: Réponse 1.7 | B10: Answer 1.7 | C10: q1
A11: Réponse 1.8 | B11: Answer 1.8 | C11: q1-rien
A12: Question 2 FR | B12: Question 2 GB
A13: Réponse 2.1 | B13: Answer 2.1 | C13: q2
A14: Réponse 2.2 | B14: Answer 2.2 | C14: q2
A15: Réponse 2.3 | B15: Answer 2.3 | C15: q2-100
A16: Réponse 2.4 | B16: Answer 2.4 | C16: q2
A17: Réponse 2.5 | B17: Answer 2.5 | C17: q2
A18: Réponse 2.6 | B18: Answer 2.6 | C18: q2
A19: Réponse 2.7 | B19: Answer 2.7 | C19: q2
A20: Réponse 2.8 | B20: Answer 2.8 | C20: q2-rien
A21: Question 3 | B21: Question 3
A22: Réponse 3.1 | B22: Answer 3.1 | C22: 0
A23: Réponse 3.2 | B23: Answer 3.2 | C23: 0
A24: Réponse 3.3 | B24: Answer 3.3 | C24: 100
A25: Réponse 3.4 | B25: Answer 3.4 | C25: 0
A26: Réponse 3.5 | B26: Answer 3.5 | C26: 0
A27: Réponse 3.6 | B27: Answer 3.6 | C27: 0
A28: Réponse 3.7 | B28: Answer 3.7 | C28: 0
A29: Réponse 3.8 | B29: Answer 3.8
A30: Question 4 | B30: Question 4
A31: Réponse 4.1 | B31: Answer 4.1 | C31: 0
A32: Réponse 2 | B32: Answer 4.2 | C32: 0
A33: Réponse 3 | B33: Answer 4.3 | C33: 100
A34: Réponse 4 | B34: Answer 4.4 | C34: 0
A35: Réponse 5 | B35: Answer 4.5 | C35: 0
A36: Réponse 6 | B36: Answer 4.6 | C36: 0
A37: Réponse 7 | B37: Answer 4.7 | C37: 0
A38: Réponse 8 | B38: Answer 4.8
A39: Question 5 | B39: Question 5
A40: Réponse 5.1 | B40: Answer 5.1 | C40: 0
A41: Réponse 5.2 | B41: Answer 5.2 | C41: 0
...

Sheet Feuil2
A1: Numéro | B1: question FR | C1: question EN | D1: response1 | E1: response1 | F1: score1 | G1: response2 | H1: response2 | I1: score2 | J1: response3 | K1: response3 | L1: score3 | M1: response4 | N1: response4 | O1: score4 | P1: response5 | Q1: response5 | R1: score5 | S1: response6 | T1: response6 | U1: score6 | V1: response7 | W1: response7 | X1: score7 | Y1: response8 | Z1: response8
B2: =OFFSET(Feuil1!$A$1,2,0) -> Question 1 FR | C2: =OFFSET(Feuil1!$A$1,2,1) -> Question 1 GB | D2: =OFFSET(Feuil1!$A$1,(MATCH($B2,Feuil1!$A:$A,0)-3)+3+INT((COLUMN()-4)/3),MOD(COLUMN()-1,3)) -> Réponse 1.1 | E2: =OFFSET(Feuil1!$A$1,3+INT((COLUMN()-4)/3),MOD(COLUMN()-1,3)) -> Answer 1.1 | F2: =OFFSET(Feuil1!$A$1,3+INT((COLUMN()-4)/3),MOD(COLUMN()-1,3)) -> q1 | G2: =OFFSET(Feuil1!$A$1,3+INT((COLUMN()-4)/3),MOD(COLUMN()-1,3)) -> Réponse 1.2 | H2: =OFFSET(Feuil1!$A$1,3+INT((COLUMN()-4)/3),MOD(COLUMN()-1,3)) -> Answer 1.2 | I2: =OFFSET(Feuil1!$A$1,3+INT((COLUMN()-4)/3),MOD(COLUMN()-1,3)) -> q1 | J2: =OFFSET(Feuil1!$A$1,3+INT((COLUMN()-4)/3),MOD(COLUMN()-1,3)) -> Réponse 1.3 | K2: =OFFSET(Feuil1!$A$1,3+INT((COLUMN()-4)/3),MOD(COLUMN()-1,3)) -> Answer 1.3 | L2: =OFFSET(Feuil1!$A$1,3+INT((COLUMN()-4)/3),MOD(COLUMN()-1,3)) -> q1-100 | ... AA2: =OFFSET(Feuil1!$A$1,3+INT((COLUMN()-4)/3),MOD(COLUMN()-1,3)) -> q1-rien
B3: =OFFSET(Feuil1!$A$1,(MATCH($B2,Feuil1!$A:$A,0)-1)+9,COLUMN()-2) -> Question 2 FR | C3: =OFFSET(Feuil1!$A$1,(MATCH($B2,Feuil1!$A:$A,0)-1)+9,COLUMN()-2) -> Question 2 GB | D3: =OFFSET(Feuil1!$A$1,(MATCH($B3,Feuil1!$A:$A,0)-3)+3+INT((COLUMN()-4)/3),MOD(COLUMN()-1,3)) -> Réponse 2.1 | E3: =OFFSET(Feuil1!$A$1,(MATCH($B3,Feuil1!$A:$A,0)-3)+3+INT((COLUMN()-4)/3),MOD(COLUMN()-1,3)) -> Answer 2.1 | F3: =OFFSET(Feuil1!$A$1,(MATCH($B3,Feuil1!$A:$A,0)-3)+3+INT((COLUMN()-4)/3),MOD(COLUMN()-1,3)) -> q2 | G3: =OFFSET(Feuil1!$A$1,(MATCH($B3,Feuil1!$A:$A,0)-3)+3+INT((COLUMN()-4)/3),MOD(COLUMN()-1,3)) -> Réponse 2.2 | H3: =OFFSET(Feuil1!$A$1,(MATCH($B3,Feuil1!$A:$A,0)-3)+3+INT((COLUMN()-4)/3),MOD(COLUMN()-1,3)) -> Answer 2.2 | I3: =OFFSET(Feuil1!$A$1,(MATCH($B3,Feuil1!$A:$A,0)-3)+3+INT((COLUMN()-4)/3),MOD(COLUMN()-1,3)) -> q2 | J3: =OFFSET(Feuil1!$A$1,(MATCH($B3,Feuil1!$A:$A,0)-3)+3+INT((COLUMN()-4)/3),MOD(COLUMN()-1,3)) -> Réponse 2.3 | K3: =OFFSET(Feuil1!$A$1,(MATCH($B3,Feuil1!$A:$A,0)-3)+3+INT((COLUMN()-4)/3),MOD(COLUMN()-1,3)) -> Answer 2.3 | ... AA3: =OFFSET(Feuil1!$A$1,(MATCH($B3,Feuil1!$A:$A,0)-3)+3+INT((COLUMN()-4)/3),MOD(COLUMN()-1,3)) -> q2-rien
B4: A suivre !

Sheet Resultats
A1: Numéro | B1: question FR | C1: question EN | D1: response1 | E1: response1 | F1: score1 | G1: response2 | H1: response2 | I1: score2 | J1: response3 | K1: response3 | L1: score3 | M1: response4 | N1: response4 | O1: score4 | P1: response5 | Q1: response5 | R1: score5 | S1: response6 | T1: response6 | U1: score6 | V1: response7 | W1: response7 | X1: score7 | Y1: response8 | Z1: response8
B2: Feuille 1 A3 (Question 1) | C2: Feuille 1 B3 (Question 1) | D2: Feuille 1 A4 (Réponse 1) | E2: Feuille 1 B4 (Answer 1) | F2: Feuille 1 C4 (Answer 1)
B3: Feuille 1 A12 (Question 2) | C3: Feuille 1 B12 (Question 2) | D3: Feuille 1 A13 (Réponse 2) | E3: Feuille 1 B13 (Answer 2) | F3: Feuille 1 C13 (Answer 2)
B4: Feuille 1 A21 (Question 3) | C4: Feuille 1 B21 (Question 3) | D4: Feuille 1 A22 Réponse 3) | E4: Feuille 1 B22 (Answer 3) | F4: Feuille 1 C22 (Answer 3)
B5: Feuille 1 A30 (Question 4) | C5: Feuille 1 B30 (Question 4) | D5: Feuille 1 A31 (Réponse 4) | E5: Feuille 1 B31 (Answer 4) | F5: Feuille 1 C31 (Answer 4)
B6: Feuille 1 A39 (Question 5) | C6: Feuille 1 B39 (Question 5) | D6: Feuille 1 A40 (Réponse 5) | E6: Feuille 1 B40 (Answer 5) | F6: Feuille 1 C40 (Answer 5)
