Workbook

Sheet Liste
A1: Titres | B1: Réalisateur
B2: Vincent de Brus
B3: Valérie Bruni Tedeschi
B4: Pierre Paul Jacques Henri
A6: La Fugue de Monsieur Perle (1952) | B6: Pierre Gaspard-Huit
A7: La Marche glorieuse (1953) | B7: Pierre Gaspard-Huit
A8: Le Coeur frivole ou La galante comédie (1953) | B8: Pierre Gaspard-Huit
A9: Sophie et le crime (1955) | B9: Pierre Gaspard-Huit
A10: La Mariée est trop belle (1956) | B10: Pierre Gaspard-Huit
A11: Paris canaille (1956) | B11: Pierre Gaspard-Huit
A12: Las Lavanderas de Portugal (1957) | B12: Pierre Gaspard-Huit
A13: Christine (1958) | B13: Pierre Gaspard-Huit
A14: Le Capitaine Fracasse (1961) | B14: Pierre Gaspard-Huit
A15: Shéhérazade (1963) | B15: Pierre Gaspard-Huit
A16: Gibraltar (1964) | B16: Pierre Gaspard-Huit
A17: ¿ belles dents (1966) | B17: Pierre Gaspard-Huit
... A60: Un flic 1972 | B60: Jean-Pierre Melville
B61: Jean-Pierre Melville
A63: Life of Pi (2009) (pre-production) | B63: Jean-Pierre Jeunet
B64: Jean-Pierre Jeunet
A65: Un long dimanche de fiançailles (2004) | B65: Jean-Pierre Jeunet
B66: Jean-Pierre Jeunet
A67: Le fabuleux destin d'Amélie Poulain, Le (2001) | B67: Jean-Pierre Jeunet
B68: Jean-Pierre Jeunet
A69: Alien: La résurrection (1997) | B69: Jean-Pierre Jeunet
B70: Jean-Pierre Jeunet
A71: Cité des enfants perdus, La (1995) | B71: Jean-Pierre Jeunet
B72: Jean-Pierre Jeunet
A73: Delicatessen (1991) | B73: Jean-Pierre Jeunet
B74: Jean-Pierre Jeunet
A75: Foutaises (1989) | B75: Jean-Pierre Jeunet
B76: Jean-Pierre Jeunet
A77: Pas de repos pour Billy Brakko (1984) | B77: Jean-Pierre Jeunet
B78: Jean-Pierre Jeunet
A79: Le bunker de la derniere rafale, Le (1981) | B79: Jean-Pierre Jeunet
B80: Jean-Pierre Jeunet
A81: Manege, Le (1980) | B81: Jean-Pierre Jeunet
B82: Jean-Pierre Jeunet
A83: …vasion, L' (1978) | B83: Jean-Pierre Jeunet
B84: Jean-Philippe Toussaint
...

Sheet Films français.tab
A1: Titres | B1: Colonne1 | C1: Réalisateur | D1: Nom de 3 mots avec et sans tiret | E1: Noms de 3 mots sans tirets | F1: Noms avec tirets | G1: Noms avec diverses occurences | H1: Colonne5 | I1: Colonne6 | J1: Colonne7 | K1: Colonne4 | L1: Colonne2 | M1: Colonne3 | N1: Trés bon | O1: Colonne5 | P1: Colonne6 | Q1: Années | R1: Colonne7
C2: Vincent de Brus | D2: {=_xlfn.LET(_xlpm.X,TRIM(SUBSTITUTE(C2,"-"," ")), _xlpm.nbr, LEN(_xlpm.X)+1-LEN(SUBSTITUTE(_xlpm.X," ","")),IF(_xlpm.nbr=3,TRIM(C2),""))} -> Vincent de Brus | E2: {=_xlfn.LET(_xlpm.X,TRIM(SUBSTITUTE(C2,"-"," ")), _xlpm.nbr, LEN(_xlpm.X)+1-LEN(SUBSTITUTE(_xlpm.X," ","")),IF(_xlpm.nbr=3,TRIM(C2),""))} -> Vincent de Brus | F2: =LEN(C2)-LEN(SUBSTITUTE(C2,"-","")) -> 0 | G2: =LEN(C2)-LEN(SUBSTITUTE(C2," ","")) -> 2 | H2: ='Films français.tab'!$C$1 -> Réalisateur | I2: {=_xlfn.TEXTBEFORE(_xlfn.TEXTSPLIT(A2,CHAR(10),,TRUE),"1")} -> #VALUE! | J2: {=_xlfn.TEXTJOIN(CHAR(10),,_xlfn.TEXTBEFORE(_xlfn.TEXTSPLIT(A2,CHAR(10),,TRUE),"1"))} -> #VALUE! | K2: =RIGHT(C2,LEN(C2)-FIND(" ",C2))&" "&LEFT(C2,FIND(" ",C2)-1) -> de Brus Vincent | O2: Brus Vincent | Q2: 90/00
C3: Valérie Bruni Tedeschi | D3: {=_xlfn.LET(_xlpm.X,TRIM(SUBSTITUTE(C3,"-"," ")), _xlpm.nbr, LEN(_xlpm.X)+1-LEN(SUBSTITUTE(_xlpm.X," ","")),IF(_xlpm.nbr=3,TRIM(C3),""))} -> Valérie Bruni Tedeschi | E3: {=_xlfn.LET(_xlpm.X,TRIM(SUBSTITUTE(C3,"-"," ")), _xlpm.nbr, LEN(_xlpm.X)+1-LEN(SUBSTITUTE(_xlpm.X," ","")),IF(_xlpm.nbr=3,TRIM(C3),""))} -> Valérie Bruni Tedeschi | F3: =LEN(C3)-LEN(SUBSTITUTE(C3,"-","")) -> 0 | G3: =LEN(C3)-LEN(SUBSTITUTE(C3," ","")) -> 2 | H3: ='Films français.tab'!$C$1 -> Réalisateur | I3: {=_xlfn.TEXTBEFORE(_xlfn.TEXTSPLIT(A3,CHAR(10),,TRUE),"1")} -> #VALUE! | K3: =RIGHT(C3,LEN(C3)-FIND(" ",C3))&" "&LEFT(C3,FIND(" ",C3)-1) -> Bruni Tedeschi Valérie | O3: Tedeschi Valérie | Q3: 90/00
A4: La métamorphose des cloportes 1965_x000B_La horse 1970_x000B_Le chat 1971_x000B_La veuve Couderc 1971_x000B_Le fils 1973_x000B_Le train1973_x000B_La race des seigneurs 1974_x000B_Adieu poulet ! 1975_x000B_Le toubib 1979_x000B_Une étrange affaire 1981_x000B_LéEtoile du Nord 1982_x000B_Léami de Vincent 1983_x000B_Léhomme aux yeux déargent 1985_x000B_Cours privé 1986_x000B_Noyade interdite 1987 | B4: {=TRANSPOSE(_xlfn.TEXTSPLIT(A4,CHAR(11)))} -> #VALUE! | C4: Pierre Granier-Deferre | D4: {=_xlfn.LET(_xlpm.X,TRIM(SUBSTITUTE(C4,"-"," ")), _xlpm.nbr, LEN(_xlpm.X)+1-LEN(SUBSTITUTE(_xlpm.X," ","")),IF(_xlpm.nbr=3,TRIM(C4),""))} -> Pierre Granier-Deferre | E4: {=_xlfn.LET(_xlpm.X,TRIM(SUBSTITUTE(C4,"-"," ")), _xlpm.nbr, LEN(_xlpm.X)+1-LEN(SUBSTITUTE(_xlpm.X," ","")),IF(_xlpm.nbr=3,TRIM(C4),""))} -> Pierre Granier-Deferre | F4: =LEN(C4)-LEN(SUBSTITUTE(C4,"-","")) -> 1 | G4: =LEN(C4)-LEN(SUBSTITUTE(C4," ","")) -> 1 | H4: ='Films français.tab'!$C$1 -> Réalisateur | I4: {=_xlfn.TEXTBEFORE(_xlfn.TEXTSPLIT(A4,CHAR(10),,TRUE),"1")} -> La métamorphose des cloportes | K4: =RIGHT(C4,LEN(C4)-FIND(" ",C4))&" "&LEFT(C4,FIND(" ",C4)-1) -> Granier-Deferre Pierre | L4: ** | N4: ** | O4: Deferre Pierre | Q4: 60/70
C5: Pierre Paul Jacques Henri | D5: Pierre Paul Jacques Henri | E5: {=_xlfn.LET(_xlpm.X,TRIM(SUBSTITUTE(C5,"-"," ")), _xlpm.nbr, LEN(_xlpm.X)+1-LEN(SUBSTITUTE(_xlpm.X," ","")),IF(_xlpm.nbr=3,TRIM(C5),""))} | F5: =LEN(C5)-LEN(SUBSTITUTE(C5,"-","")) -> 0 | G5: =LEN(C5)-LEN(SUBSTITUTE(C5," ","")) -> 3 | H5: ='Films français.tab'!$C$1 -> Réalisateur | I5: {=_xlfn.TEXTBEFORE(_xlfn.TEXTSPLIT(A5,CHAR(10),,TRUE),"1")} -> #VALUE! | K5: =RIGHT(C5,LEN(C5)-FIND(" ",C5))&" "&LEFT(C5,FIND(" ",C5)-1) -> Paul Jacques Henri Pierre
E6: {=_xlfn.LET(_xlpm.X,TRIM(SUBSTITUTE(C6,"-"," ")), _xlpm.nbr, LEN(_xlpm.X)+1-LEN(SUBSTITUTE(_xlpm.X," ","")),IF(_xlpm.nbr=3,TRIM(C6),""))} | F6: =LEN(C6)-LEN(SUBSTITUTE(C6,"-","")) -> 0 | G6: =LEN(C6)-LEN(SUBSTITUTE(C6," ","")) -> 0 | H6: ='Films français.tab'!$C$1 -> Réalisateur | I6: {=_xlfn.TEXTBEFORE(_xlfn.TEXTSPLIT(A6,CHAR(10),,TRUE),"1")} -> #VALUE!
A7: La Fugue de Monsieur Perle (1952)_x000B_La Marche glorieuse (1953)_x000B_Le Coeur frivole ou La galante comédie (1953)_x000B_Sophie et le crime (1955)_x000B_La Mariée est trop belle (1956)_x000B_Paris canaille (1956)_x000B_Las Lavanderas de Portugal (1957)_x000B_Christine (1958)_x000B_Le Capitaine Fracasse (1961)_x000B_Shéhérazade (1963)_x000B_Gibraltar (1964)_x000B_¿ belles dents (1966)_x000B_Ultimul Mohican (1968)_x000B_Vinatorul de cerbi (1969) | C7: Pierre Gaspard-Huit | D7: {=_xlfn.LET(_xlpm.X,TRIM(SUBSTITUTE(C7,"-"," ")), _xlpm.nbr, LEN(_xlpm.X)+1-LEN(SUBSTITUTE(_xlpm.X," ","")),IF(_xlpm.nbr=3,TRIM(C7),""))} -> Pierre Gaspard-Huit | E7: {=_xlfn.LET(_xlpm.X,TRIM(SUBSTITUTE(C7,"-"," ")), _xlpm.nbr, LEN(_xlpm.X)+1-LEN(SUBSTITUTE(_xlpm.X," ","")),IF(_xlpm.nbr=3,TRIM(C7),""))} -> Pierre Gaspard-Huit | F7: =LEN(C7)-LEN(SUBSTITUTE(C7,"-","")) -> 1 | G7: =LEN(C7)-LEN(SUBSTITUTE(C7," ","")) -> 1 | H7: ='Films français.tab'!$C$1 -> Réalisateur | I7: {=_xlfn.TEXTBEFORE(_xlfn.TEXTSPLIT(A7,CHAR(10),,TRUE),"1")} -> La Fugue de Monsieur Perle ( | K7: =RIGHT(C7,LEN(C7)-FIND(" ",C7))&" "&LEFT(C7,FIND(" ",C7)-1) -> Gaspard-Huit Pierre | N7: Colonne1 | O7: Huit Pierre
A8: Les jeux de léamour 1960_x000B_Le farceur 1960_x000B_Léamant de cinq jours 1961_x000B_Sept péchés capitaux (la gourmandise) 1962_x000B_Cartouche 1962_x000B_Les veinards (la vedette) 1962_x000B_Léhomme de Rio 1964_x000B_Les tribulations déunn chinois en Chine 1965_x000B_Un monsieur de compagnie 1965_x000B_Le roi de coeur 1966_x000B_Le plus vieux métier du monde (Mlle Mimi) 1967_x000B_Le diable par la queue 1969_x000B_Les caprices de Marie 1970_x000B_La poudre déescampette 1971_x000B_Chere Louise 1962_x000B_Le magnifique 1973_x000B_Léincorrigible 1975_x000B_Julie Pot de Colle 1977_x000B_Tendre Poulet 1978_x000B_Le cavaleur 1979_x000B_On a volé la cuisse de Jupiter 1980_x000B_Psy 1981_x000B_LéAfricain 1983_x000B_La gitane 1986_x000B_Chuans 1988_x000B_Le mille et une nuits 1990_x000B_Clés du paradis 1991_x000B_Le Bossu 1997_x000B_Amazone 2000_x000B_Vipere au poing 2004 | C8: Philippe de Broca | D8: {=_xlfn.LET(_xlpm.X,TRIM(SUBSTITUTE(C8,"-"," ")), _xlpm.nbr, LEN(_xlpm.X)+1-LEN(SUBSTITUTE(_xlpm.X," ","")),IF(_xlpm.nbr=3,TRIM(C8),""))} -> Philippe de Broca | E8: {=_xlfn.LET(_xlpm.X,TRIM(SUBSTITUTE(C8,"-"," ")), _xlpm.nbr, LEN(_xlpm.X)+1-LEN(SUBSTITUTE(_xlpm.X," ","")),IF(_xlpm.nbr=3,TRIM(C8),""))} -> Philippe de Broca | F8: =LEN(C8)-LEN(SUBSTITUTE(C8,"-","")) -> 0 | G8: =LEN(C8)-LEN(SUBSTITUTE(C8," ","")) -> 2 | H8: ='Films français.tab'!$C$1 -> Réalisateur | I8: {=_xlfn.TEXTBEFORE(_xlfn.TEXTSPLIT(A8,CHAR(10),,TRUE),"1")} -> Les jeux de léamour | K8: =RIGHT(C8,LEN(C8)-FIND(" ",C8))&" "&LEFT(C8,FIND(" ",C8)-1) -> de Broca Philippe | L8: * | N8: * | O8: Broca Philippe | Q8: 60/70
A9: Le silence de la mer 1947_x000B_Les enfants terribles 1950_x000B_Deux hommes dans Manhattan 1959_x000B_Léon Morin prétre 1961_x000B_Le doulos 1963_x000B_Léainé des Ferchaux 1963_x000B_Le deuxieme souffle 1966_x000B_Le samouraÔ 1967_x000B_Léarmée des ombres 1969_x000B_Le cercle rouge 1970_x000B_Un flic 1972_x000B_ | C9: Jean-Pierre Melville | D9: {=_xlfn.LET(_xlpm.X,TRIM(SUBSTITUTE(C9,"-"," ")), _xlpm.nbr, LEN(_xlpm.X)+1-LEN(SUBSTITUTE(_xlpm.X," ","")),IF(_xlpm.nbr=3,TRIM(C9),""))} -> Jean-Pierre Melville | E9: {=_xlfn.LET(_xlpm.X,TRIM(SUBSTITUTE(C9,"-"," ")), _xlpm.nbr, LEN(_xlpm.X)+1-LEN(SUBSTITUTE(_xlpm.X," ","")),IF(_xlpm.nbr=3,TRIM(C9),""))} -> Jean-Pierre Melville | F9: =LEN(C9)-LEN(SUBSTITUTE(C9,"-","")) -> 1 | G9: =LEN(C9)-LEN(SUBSTITUTE(C9," ","")) -> 1 | H9: ='Films français.tab'!$C$1 -> Réalisateur | I9: {=_xlfn.TEXTBEFORE(_xlfn.TEXTSPLIT(A9,CHAR(10),,TRUE),"1")} -> Le silence de la mer | K9: =RIGHT(C9,LEN(C9)-FIND(" ",C9))&" "&LEFT(C9,FIND(" ",C9)-1) -> Melville Jean-Pierre | L9: * | N9: * | O9: Melville Jean | Q9: 50/60
E10: {=_xlfn.LET(_xlpm.X,TRIM(SUBSTITUTE(C10,"-"," ")), _xlpm.nbr, LEN(_xlpm.X)+1-LEN(SUBSTITUTE(_xlpm.X," ","")),IF(_xlpm.nbr=3,TRIM(C10),""))} | F10: =LEN(C10)-LEN(SUBSTITUTE(C10,"-","")) -> 0 | G10: =LEN(C10)-LEN(SUBSTITUTE(C10," ","")) -> 0 | H10: ='Films français.tab'!$C$1 -> Réalisateur | I10: {=_xlfn.TEXTBEFORE(_xlfn.TEXTSPLIT(A10,CHAR(10),,TRUE),"1")} -> #VALUE!
A11: Life of Pi (2009) (pre-production)_x000B__x000B_Un long dimanche de fiançailles (2004)_x000B__x000B_Le fabuleux destin d'Amélie Poulain, Le (2001)_x000B__x000B_Alien: La résurrection (1997)_x000B__x000B_Cité des enfants perdus, La (1995)_x000B__x000B_Delicatessen (1991)_x000B__x000B_Foutaises (1989)_x000B__x000B_Pas de repos pour Billy Brakko (1984)_x000B__x000B_Le bunker de la derniere rafale, Le (1981)_x000B__x000B_Manege, Le (1980)_x000B__x000B_…vasion, L' (1978) | C11: Jean-Pierre Jeunet | D11: {=_xlfn.LET(_xlpm.X,TRIM(SUBSTITUTE(C11,"-"," ")), _xlpm.nbr, LEN(_xlpm.X)+1-LEN(SUBSTITUTE(_xlpm.X," ","")),IF(_xlpm.nbr=3,TRIM(C11),""))} -> Jean-Pierre Jeunet | E11: {=_xlfn.LET(_xlpm.X,TRIM(SUBSTITUTE(C11,"-"," ")), _xlpm.nbr, LEN(_xlpm.X)+1-LEN(SUBSTITUTE(_xlpm.X," ","")),IF(_xlpm.nbr=3,TRIM(C11),""))} -> Jean-Pierre Jeunet | F11: =LEN(C11)-LEN(SUBSTITUTE(C11,"-","")) -> 1 | G11: =LEN(C11)-LEN(SUBSTITUTE(C11," ","")) -> 1 | H11: ='Films français.tab'!$C$1 -> Réalisateur | I11: {=_xlfn.TEXTBEFORE(_xlfn.TEXTSPLIT(A11,CHAR(10),,TRUE),"1")} -> Life of Pi (2009) (pre-production)_x000B__x000B_Un long dimanche de fiançailles (2004)_x000B__x000B_Le fabuleux destin d'Amélie Poulain, Le (200 | K11: =RIGHT(C11,LEN(C11)-FIND(" ",C11))&" "&LEFT(C11,FIND(" ",C11)-1) -> Jeunet Jean-Pierre | N11: ** | O11: Jeunet Jean
C12: Jean-Philippe Toussaint | D12: {=_xlfn.LET(_xlpm.X,TRIM(SUBSTITUTE(C12,"-"," ")), _xlpm.nbr, LEN(_xlpm.X)+1-LEN(SUBSTITUTE(_xlpm.X," ","")),IF(_xlpm.nbr=3,TRIM(C12),""))} -> Jean-Philippe Toussaint | E12: {=_xlfn.LET(_xlpm.X,TRIM(SUBSTITUTE(C12,"-"," ")), _xlpm.nbr, LEN(_xlpm.X)+1-LEN(SUBSTITUTE(_xlpm.X," ","")),IF(_xlpm.nbr=3,TRIM(C12),""))} -> Jean-Philippe Toussaint | F12: =LEN(C12)-LEN(SUBSTITUTE(C12,"-","")) -> 1 | G12: =LEN(C12)-LEN(SUBSTITUTE(C12," ","")) -> 1 | H12: ='Films français.tab'!$C$1 -> Réalisateur | I12: {=_xlfn.TEXTBEFORE(_xlfn.TEXTSPLIT(A12,CHAR(10),,TRUE),"1")} -> #VALUE! | K12: =RIGHT(C12,LEN(C12)-FIND(" ",C12))&" "&LEFT(C12,FIND(" ",C12)-1) -> Toussaint Jean-Philippe | O12: Toussaint Jean
A13: La Vie de ch‚teau (1965) _x000B_Les Mariés de l'an II (1971)_x000B_Le Sauvage (1975)_x000B_Tout feu, tout flamme (1981) _x000B_Cyrano de Bergerac (1990)_x000B_Le Hussard sur le toit (1995)_x000B_Bon voyage (2003) _x000B_ | C13: Jean-Paul Rappeneau | D13: {=_xlfn.LET(_xlpm.X,TRIM(SUBSTITUTE(C13,"-"," ")), _xlpm.nbr, LEN(_xlpm.X)+1-LEN(SUBSTITUTE(_xlpm.X," ","")),IF(_xlpm.nbr=3,TRIM(C13),""))} -> Jean-Paul Rappeneau | E13: {=_xlfn.LET(_xlpm.X,TRIM(SUBSTITUTE(C13,"-"," ")), _xlpm.nbr, LEN(_xlpm.X)+1-LEN(SUBSTITUTE(_xlpm.X," ","")),IF(_xlpm.nbr=3,TRIM(C13),""))} -> Jean-Paul Rappeneau | F13: =LEN(C13)-LEN(SUBSTITUTE(C13,"-","")) -> 1 | G13: =LEN(C13)-LEN(SUBSTITUTE(C13," ","")) -> 1 | H13: ='Films français.tab'!$C$1 -> Réalisateur | I13: {=_xlfn.TEXTBEFORE(_xlfn.TEXTSPLIT(A13,CHAR(10),,TRUE),"1")} -> La Vie de ch‚teau ( | K13: =RIGHT(C13,LEN(C13)-FIND(" ",C13))&" "&LEFT(C13,FIND(" ",C13)-1) -> Rappeneau Jean-Paul | L13: * | N13: ** | O13: Rappeneau Jean | Q13: 70/80
C14: Jean-Michel Ribes | D14: {=_xlfn.LET(_xlpm.X,TRIM(SUBSTITUTE(C14,"-"," ")), _xlpm.nbr, LEN(_xlpm.X)+1-LEN(SUBSTITUTE(_xlpm.X," ","")),IF(_xlpm.nbr=3,TRIM(C14),""))} -> Jean-Michel Ribes | E14: {=_xlfn.LET(_xlpm.X,TRIM(SUBSTITUTE(C14,"-"," ")), _xlpm.nbr, LEN(_xlpm.X)+1-LEN(SUBSTITUTE(_xlpm.X," ","")),IF(_xlpm.nbr=3,TRIM(C14),""))} -> Jean-Michel Ribes | F14: =LEN(C14)-LEN(SUBSTITUTE(C14,"-","")) -> 1 | G14: =LEN(C14)-LEN(SUBSTITUTE(C14," ","")) -> 1 | H14: ='Films français.tab'!$C$1 -> Réalisateur | I14: {=_xlfn.TEXTBEFORE(_xlfn.TEXTSPLIT(A14,CHAR(10),,TRUE),"1")} -> #VALUE! | J14: {=_xlfn.TEXTAFTER(_xlfn.TEXTSPLIT($A$2,CHAR(10),,TRUE)," ",-1)} -> #VALUE! | K14: =RIGHT(C14,LEN(C14)-FIND(" ",C14))&" "&LEFT(C14,FIND(" ",C14)-1) -> Ribes Jean-Michel | O14: Ribes Jean
C15: Jean-Marie Poiré | D15: {=_xlfn.LET(_xlpm.X,TRIM(SUBSTITUTE(C15,"-"," ")), _xlpm.nbr, LEN(_xlpm.X)+1-LEN(SUBSTITUTE(_xlpm.X," ","")),IF(_xlpm.nbr=3,TRIM(C15),""))} -> Jean-Marie Poiré | E15: {=_xlfn.LET(_xlpm.X,TRIM(SUBSTITUTE(C15,"-"," ")), _xlpm.nbr, LEN(_xlpm.X)+1-LEN(SUBSTITUTE(_xlpm.X," ","")),IF(_xlpm.nbr=3,TRIM(C15),""))} -> Jean-Marie Poiré | F15: =LEN(C15)-LEN(SUBSTITUTE(C15,"-","")) -> 1 | G15: =LEN(C15)-LEN(SUBSTITUTE(C15," ","")) -> 1 | H15: ='Films français.tab'!$C$1 -> Réalisateur | I15: {=_xlfn.TEXTBEFORE(_xlfn.TEXTSPLIT(A15,CHAR(10),,TRUE),"1")} -> #VALUE! | J15: {=_xlfn.TEXTAFTER(_xlfn.TEXTSPLIT($A$2,CHAR(10),,TRUE)," ",-1)} -> #VALUE! | K15: =RIGHT(C15,LEN(C15)-FIND(" ",C15))&" "&LEFT(C15,FIND(" ",C15)-1) -> Poiré Jean-Marie | O15: Poiré Jean
A16: Opération béton (1954) _x000B_Une femme coquette (1955) _x000B_Tous les garçons s'appellent Patrick (1957)_x000B_Charlotte et son Jules (1960)_x000B_¿ bout de souffle (1960)_x000B_Une histoire d'eau (1961)_x000B_Une femme est une femme (1961)_x000B_Laviamoci il cervello (1962) _x000B_Les Sept péchés capitaux (1962) _x000B_Vivre sa vie (1962) _x000B_Le Petit soldat (1963)_x000B_Les Carabiniers (1963)_x000B_Le Mépris (1963)_x000B_Reportage sur Orly (1964) _x000B_Bande ‡ part (1964)_x000B_Les Plus belles escroqueries du monde (1964) _x000B_Une femme mariée (1964) _x000B_Alphaville (1965)_x000B_Paris vu par... (1965) _x000B_Pierrot le fou (1965)_x000B_Masculin, féminin (1966)_x000B_Made in U.S.A. (1966)_x000B_Deux ou trois choses que je sais d'elle (1967)_x000B_Le Plus vieux métier du monde (1967) _x000B_La Chinoise (1967)_x000B_Loin du Vietnam (1967) _x000B_Week End (1967) _x000B_Un film comme les autres (1968)_x000B_Le Gai savoir (1968)_x000B_Cinétracts (1968) _x000B_Sympathy for the Devil (1968) _x000B_Vent d'est (1969) _x000B_Amore e rabbia (1969) _x000B_Vladimir et Rosa (1970) _x000B_Pravda (1970) _x000B_Lotte in Italia (1970) _x000B_British Sounds (1970) _x000B_One P.M. (1972) _x000B_Tout va bien (1972)_x000B_Letter to Jane (1972) _x000B_Numéro deux (1975) _x000B_Comment ça va? (1976) _x000B_Ici et ailleurs (1976) _x000B_Sauve qui peut (1979) _x000B_Lettre ‡ Freddy Buache (1981) _x000B_Scénario du film 'Passion' (1982) _x000B_Passion (1982)_x000B_Prénom Carmen (1984)_x000B_Je vous salue, Marie (1985)_x000B_Détective (1985)_x000B_Soft and Hard (1986) _x000B_Meeting Woody Allen (1986) _x000B_Soigne ta droite (1987) _x000B_King Lear (1987)_x000B_Aria (1987)_x000B_Puissance de la parole (1988) _x000B_On s'est tous défilé (1988) _x000B_Le dernier mot (1988) _x000B_Le rapport Darty (1989) _x000B_Histoire(s) du cinéma: Une histoire seule (1989) _x000B_Histoire(s) du cinéma: Toutes les histoires(1989) _x000B_Comment vont les enfants (1990) _x000B_Nouvelle vague (1990) _x000B_Contre l'oubli (1991) _x000B_Allemagne année 90 neuf zéro (1991) _x000B_Les enfants jouent ‡ la Russie (1993) _x000B_Hélas pour moi (1993)_x000B_Deux fois cinquante ans de cinéma français (1995) _x000B_JLG/JLG - autoportrait de décembre (1995) _x000B_For Ever Mozart (1996) _x000B_The Old Place (1998) _x000B_Histoire(s) du cinéma: Une vague nouvelle (1998) _x000B_Histoire(s) du cinéma: Seul le cinéma (1998) _x000B_Histoire(s) du cinéma: Les signes parmi nous (1998) _x000B_Histoire(s) du cinéma: Le contrÙle de l'univers (1998) _x000B_Histoire(s) du cinéma: La monnaie de l'absolu (1998) _x000B_Histoire(s) du cinéma: Fatale beauté (1998) _x000B_LéOrigine du XXIeme siecle (2000)_x000B_…loge de l'amour (2001)_x000B_Ten Minutes Older: The Cello (2002)_x000B_Moments choisis des histoire(s) du cinéma (2004)_x000B_Notre musique (2004) | C16: Jean-Luc Godard | D16: {=_xlfn.LET(_xlpm.X,TRIM(SUBSTITUTE(C16,"-"," ")), _xlpm.nbr, LEN(_xlpm.X)+1-LEN(SUBSTITUTE(_xlpm.X," ","")),IF(_xlpm.nbr=3,TRIM(C16),""))} -> Jean-Luc Godard | E16: {=_xlfn.LET(_xlpm.X,TRIM(SUBSTITUTE(C16,"-"," ")), _xlpm.nbr, LEN(_xlpm.X)+1-LEN(SUBSTITUTE(_xlpm.X," ","")),IF(_xlpm.nbr=3,TRIM(C16),""))} -> Jean-Luc Godard | F16: =LEN(C16)-LEN(SUBSTITUTE(C16,"-","")) -> 1 | G16: =LEN(C16)-LEN(SUBSTITUTE(C16," ","")) -> 1 | H16: ='Films français.tab'!$C$1 -> Réalisateur | I16: {=_xlfn.TEXTBEFORE(_xlfn.TEXTSPLIT(A16,CHAR(10),,TRUE),"1")} -> Opération béton ( | J16: {=_xlfn.TEXTAFTER(_xlfn.TEXTSPLIT($A$2,CHAR(10),,TRUE)," ",-1)} -> #VALUE! | K16: =RIGHT(C16,LEN(C16)-FIND(" ",C16))&" "&LEFT(C16,FIND(" ",C16)-1) -> Godard Jean-Luc | N16: ** | O16: Godard Jean | Q16: 50/60
C17: Jean-Louis Bertucelli | D17: {=_xlfn.LET(_xlpm.X,TRIM(SUBSTITUTE(C17,"-"," ")), _xlpm.nbr, LEN(_xlpm.X)+1-LEN(SUBSTITUTE(_xlpm.X," ","")),IF(_xlpm.nbr=3,TRIM(C17),""))} -> Jean-Louis Bertucelli | E17: {=_xlfn.LET(_xlpm.X,TRIM(SUBSTITUTE(C17,"-"," ")), _xlpm.nbr, LEN(_xlpm.X)+1-LEN(SUBSTITUTE(_xlpm.X," ","")),IF(_xlpm.nbr=3,TRIM(C17),""))} -> Jean-Louis Bertucelli | F17: =LEN(C17)-LEN(SUBSTITUTE(C17,"-","")) -> 1 | G17: =LEN(C17)-LEN(SUBSTITUTE(C17," ","")) -> 1 | H17: ='Films français.tab'!$C$1 -> Réalisateur | I17: {=_xlfn.TEXTBEFORE(_xlfn.TEXTSPLIT(A17,CHAR(10),,TRUE),"1")} -> #VALUE! | J17: {=_xlfn.TEXTAFTER(_xlfn.TEXTSPLIT($A$2,CHAR(10),,TRUE)," ",-1)} -> #VALUE! | K17: =RIGHT(C17,LEN(C17)-FIND(" ",C17))&" "&LEFT(C17,FIND(" ",C17)-1) -> Bertucelli Jean-Louis | O17: Bertucelli Jean
A18: Diva (1981)_x000B_La Lune dans le caniveau (1983) _x000B_37∞2 le matin (1986)_x000B_Roselyne et les lions (1989) _x000B_IP5: L'ile aux pachydermes (1992) _x000B_Otaku (1994) _x000B_Mortel transfert (2001) | C18: Jean-Jacques Beinex | D18: {=_xlfn.LET(_xlpm.X,TRIM(SUBSTITUTE(C18,"-"," ")), _xlpm.nbr, LEN(_xlpm.X)+1-LEN(SUBSTITUTE(_xlpm.X," ","")),IF(_xlpm.nbr=3,TRIM(C18),""))} -> Jean-Jacques Beinex | E18: {=_xlfn.LET(_xlpm.X,TRIM(SUBSTITUTE(C18,"-"," ")), _xlpm.nbr, LEN(_xlpm.X)+1-LEN(SUBSTITUTE(_xlpm.X," ","")),IF(_xlpm.nbr=3,TRIM(C18),""))} -> Jean-Jacques Beinex | F18: =LEN(C18)-LEN(SUBSTITUTE(C18,"-","")) -> 1 | G18: =LEN(C18)-LEN(SUBSTITUTE(C18," ","")) -> 1 | H18: ='Films français.tab'!$C$1 -> Réalisateur | I18: {=_xlfn.TEXTBEFORE(_xlfn.TEXTSPLIT(A18,CHAR(10),,TRUE),"1")} -> Diva ( | J18: {=_xlfn.TEXTAFTER(_xlfn.TEXTSPLIT($A$2,CHAR(10),,TRUE)," ",-1)} -> #VALUE! | K18: =RIGHT(C18,LEN(C18)-FIND(" ",C18))&" "&LEFT(C18,FIND(" ",C18)-1) -> Beinex Jean-Jacques | L18: * | N18: ** | O18: Beinex Jean | Q18: 80/90
A19: Noirs et blancs en couleur (1976)_x000B_Coup de téte (1979)_x000B_La Guerre du feu (1981)_x000B_Der Name der Rose (1986)_x000B_L'Ours (1988)_x000B_L'Amant (1991)_x000B_Wings of Courage (1995)_x000B_Seven Years in Tibet (1997)_x000B_Enemy at the Gates (2001)_x000B_Deux freres (2004)_x000B_Sa majesté Minor (2007) | C19: Jean-Jacques Annaud | D19: {=_xlfn.LET(_xlpm.X,TRIM(SUBSTITUTE(C19,"-"," ")), _xlpm.nbr, LEN(_xlpm.X)+1-LEN(SUBSTITUTE(_xlpm.X," ","")),IF(_xlpm.nbr=3,TRIM(C19),""))} -> Jean-Jacques Annaud | E19: {=_xlfn.LET(_xlpm.X,TRIM(SUBSTITUTE(C19,"-"," ")), _xlpm.nbr, LEN(_xlpm.X)+1-LEN(SUBSTITUTE(_xlpm.X," ","")),IF(_xlpm.nbr=3,TRIM(C19),""))} -> Jean-Jacques Annaud | F19: =LEN(C19)-LEN(SUBSTITUTE(C19,"-","")) -> 1 | G19: =LEN(C19)-LEN(SUBSTITUTE(C19," ","")) -> 1 | H19: ='Films français.tab'!$C$1 -> Réalisateur | I19: {=_xlfn.TEXTBEFORE(_xlfn.TEXTSPLIT(A19,CHAR(10),,TRUE),"1")} -> Noirs et blancs en couleur ( | J19: {=_xlfn.TEXTAFTER(_xlfn.TEXTSPLIT($A$2,CHAR(10),,TRUE)," ",-1)} -> #VALUE! | K19: =RIGHT(C19,LEN(C19)-FIND(" ",C19))&" "&LEFT(C19,FIND(" ",C19)-1) -> Annaud Jean-Jacques | L19: * | N19: ** | O19: Annaud Jean
C20: Jean-Charles Tacchella | D20: {=_xlfn.LET(_xlpm.X,TRIM(SUBSTITUTE(C20,"-"," ")), _xlpm.nbr, LEN(_xlpm.X)+1-LEN(SUBSTITUTE(_xlpm.X," ","")),IF(_xlpm.nbr=3,TRIM(C20),""))} -> Jean-Charles Tacchella | E20: {=_xlfn.LET(_xlpm.X,TRIM(SUBSTITUTE(C20,"-"," ")), _xlpm.nbr, LEN(_xlpm.X)+1-LEN(SUBSTITUTE(_xlpm.X," ","")),IF(_xlpm.nbr=3,TRIM(C20),""))} -> Jean-Charles Tacchella | F20: =LEN(C20)-LEN(SUBSTITUTE(C20,"-","")) -> 1 | G20: =LEN(C20)-LEN(SUBSTITUTE(C20," ","")) -> 1 | H20: ='Films français.tab'!$C$1 -> Réalisateur | I20: {=_xlfn.TEXTBEFORE(_xlfn.TEXTSPLIT(A20,CHAR(10),,TRUE),"1")} -> #VALUE! | J20: {=_xlfn.TEXTAFTER(_xlfn.TEXTSPLIT($A$2,CHAR(10),,TRUE)," ",-1)} -> #VALUE! | K20: =RIGHT(C20,LEN(C20)-FIND(" ",C20))&" "&LEFT(C20,FIND(" ",C20)-1) -> Tacchella Jean-Charles | N20: * | O20: Tacchella Jean
A21: Les Dragueurs (1959)_x000B_Un couple (1960)_x000B_Snobs! (1962)_x000B_Les Vierges (1963)_x000B_Un drÙle de paroissien (1963)_x000B_La Grande frousse (1964)_x000B_La Bourse et la vie (1966)_x000B_Les Compagnons de la marguerite (1966)_x000B_La Grande lessive (1968)_x000B_L'…talon (1970)_x000B_Solo (1970)_x000B_L'Albatros (1971)_x000B_Chut! (1972)_x000B_L'Ombre d'une chance (1974)_x000B_Un linceul n'a pas de poches (1974)_x000B_L'Ibis rouge (1975)_x000B_Le Roi des bricoleurs (1977)_x000B_Le Témoin (1978)_x000B_Le Piege ‡ cons (1979)_x000B_Litan (1982)_x000B_Y a-t-il un Français dans la salle? (1982)_x000B_¿ mort l'arbitre (1984)_x000B_Le Pactole (1985)_x000B_La Machine ‡ découdre (1986)_x000B_Le Miraculé (1986)_x000B_Agent trouble (1987)_x000B_Nice is Nice (1987)_x000B_Les Saisons du plaisir (1988)_x000B_Une nuit ‡ l'assemblée nationale (1988)_x000B_Divine enfant (1989)_x000B_Il gele en enfer (1990)_x000B_La Vérité qui tue (1991)_x000B_La Méthode Barnol (1991)_x000B_Mocky story (1991)_x000B_Dis-moi qui tu hais (1991)_x000B_Ville ‡ vendre (1992)_x000B_Le Mari de Léon (1993)_x000B_Bonsoir (1994)_x000B_Noir comme le souvenir (1995)_x000B_Alliance cherche doigt (1997)_x000B_Robin des mers (1998)_x000B_Vidange (1998)_x000B_La Candide madame Duff (1999)_x000B_Tout est calme (2000)_x000B_Le Glandeur (2000)_x000B_La Béte de miséricorde (2001)_x000B_Les Araignées de la nuit (2002)_x000B_Le Furet (2003)_x000B_Touristes, oh yes! (2004)_x000B_Grabuge! (2005)_x000B_Le Deal (2006)_x000B_Le Bénévole (2006) | C21: Jean Pierre Mocky | D21: {=_xlfn.LET(_xlpm.X,TRIM(SUBSTITUTE(C21,"-"," ")), _xlpm.nbr, LEN(_xlpm.X)+1-LEN(SUBSTITUTE(_xlpm.X," ","")),IF(_xlpm.nbr=3,TRIM(C21),""))} -> Jean Pierre Mocky | E21: {=_xlfn.LET(_xlpm.X,TRIM(SUBSTITUTE(C21,"-"," ")), _xlpm.nbr, LEN(_xlpm.X)+1-LEN(SUBSTITUTE(_xlpm.X," ","")),IF(_xlpm.nbr=3,TRIM(C21),""))} -> Jean Pierre Mocky | F21: =LEN(C21)-LEN(SUBSTITUTE(C21,"-","")) -> 0 | G21: =LEN(C21)-LEN(SUBSTITUTE(C21," ","")) -> 2 | H21: ='Films français.tab'!$C$1 -> Réalisateur | I21: {=_xlfn.TEXTBEFORE(_xlfn.TEXTSPLIT(A21,CHAR(10),,TRUE),"1")} -> Les Dragueurs ( | J21: {=_xlfn.TEXTAFTER(_xlfn.TEXTSPLIT($A$2,CHAR(10),,TRUE)," ",-1)} -> #VALUE! | K21: =RIGHT(C21,LEN(C21)-FIND(" ",C21))&" "&LEFT(C21,FIND(" ",C21)-1) -> Pierre Mocky Jean | N21: ** | O21: Mocky Jean
C22: Jean Loup Hubert | D22: {=_xlfn.LET(_xlpm.X,TRIM(SUBSTITUTE(C22,"-"," ")), _xlpm.nbr, LEN(_xlpm.X)+1-LEN(SUBSTITUTE(_xlpm.X," ","")),IF(_xlpm.nbr=3,TRIM(C22),""))} -> Jean Loup Hubert | E22: {=_xlfn.LET(_xlpm.X,TRIM(SUBSTITUTE(C22,"-"," ")), _xlpm.nbr, LEN(_xlpm.X)+1-LEN(SUBSTITUTE(_xlpm.X," ","")),IF(_xlpm.nbr=3,TRIM(C22),""))} -> Jean Loup Hubert | F22: =LEN(C22)-LEN(SUBSTITUTE(C22,"-","")) -> 0 | G22: =LEN(C22)-LEN(SUBSTITUTE(C22," ","")) -> 2 | H22: ='Films français.tab'!$C$1 -> Réalisateur | I22: {=_xlfn.TEXTBEFORE(_xlfn.TEXTSPLIT(A22,CHAR(10),,TRUE),"1")} -> #VALUE! | J22: {=_xlfn.TEXTAFTER(_xlfn.TEXTSPLIT($A$2,CHAR(10),,TRUE)," ",-1)} -> #VALUE! | K22: =RIGHT(C22,LEN(C22)-FIND(" ",C22))&" "&LEFT(C22,FIND(" ",C22)-1) -> Loup Hubert Jean | N22: ** | O22: Hubert Jean
C23: Jean Claude Brisseau | D23: {=_xlfn.LET(_xlpm.X,TRIM(SUBSTITUTE(C23,"-"," ")), _xlpm.nbr, LEN(_xlpm.X)+1-LEN(SUBSTITUTE(_xlpm.X," ","")),IF(_xlpm.nbr=3,TRIM(C23),""))} -> Jean Claude Brisseau | E23: {=_xlfn.LET(_xlpm.X,TRIM(SUBSTITUTE(C23,"-"," ")), _xlpm.nbr, LEN(_xlpm.X)+1-LEN(SUBSTITUTE(_xlpm.X," ","")),IF(_xlpm.nbr=3,TRIM(C23),""))} -> Jean Claude Brisseau | F23: =LEN(C23)-LEN(SUBSTITUTE(C23,"-","")) -> 0 | G23: =LEN(C23)-LEN(SUBSTITUTE(C23," ","")) -> 2 | H23: ='Films français.tab'!$C$1 -> Réalisateur | I23: {=_xlfn.TEXTBEFORE(_xlfn.TEXTSPLIT(A23,CHAR(10),,TRUE),"1")} -> #VALUE! | J23: {=_xlfn.TEXTAFTER(_xlfn.TEXTSPLIT($A$2,CHAR(10),,TRUE)," ",-1)} -> #VALUE! | K23: =RIGHT(C23,LEN(C23)-FIND(" ",C23))&" "&LEFT(C23,FIND(" ",C23)-1) -> Claude Brisseau Jean
C24: Jacques Doniol-Valcroze | D24: {=_xlfn.LET(_xlpm.X,TRIM(SUBSTITUTE(C24,"-"," ")), _xlpm.nbr, LEN(_xlpm.X)+1-LEN(SUBSTITUTE(_xlpm.X," ","")),IF(_xlpm.nbr=3,TRIM(C24),""))} -> Jacques Doniol-Valcroze | E24: {=_xlfn.LET(_xlpm.X,TRIM(SUBSTITUTE(C24,"-"," ")), _xlpm.nbr, LEN(_xlpm.X)+1-LEN(SUBSTITUTE(_xlpm.X," ","")),IF(_xlpm.nbr=3,TRIM(C24),""))} -> Jacques Doniol-Valcroze | F24: =LEN(C24)-LEN(SUBSTITUTE(C24,"-","")) -> 1 | G24: =LEN(C24)-LEN(SUBSTITUTE(C24," ","")) -> 1 | H24: ='Films français.tab'!$C$1 -> Réalisateur | I24: {=_xlfn.TEXTBEFORE(_xlfn.TEXTSPLIT(A24,CHAR(10),,TRUE),"1")} -> #VALUE! | J24: {=_xlfn.TEXTAFTER(_xlfn.TEXTSPLIT($A$2,CHAR(10),,TRUE)," ",-1)} -> #VALUE! | K24: =RIGHT(C24,LEN(C24)-FIND(" ",C24))&" "&LEFT(C24,FIND(" ",C24)-1) -> Doniol-Valcroze Jacques | L24: * | O24: Valcroze Jacques
A25: Lé assassin habite au 21 1942_x000B_Le corbeau 1943_x000B_Quai des orfévres 1947_x000B_Le salaire de la peur 1953_x000B_Les diaboliques 1955_x000B_Le mystere Picasso 1956_x000B_Les espions 1957_x000B_La vérité 1960_x000B_Léenfer 1964_x000B_La prisonniere 1968 | C25: Henri-Georges Clouzot | D25: {=_xlfn.LET(_xlpm.X,TRIM(SUBSTITUTE(C25,"-"," ")), _xlpm.nbr, LEN(_xlpm.X)+1-LEN(SUBSTITUTE(_xlpm.X," ","")),IF(_xlpm.nbr=3,TRIM(C25),""))} -> Henri-Georges Clouzot | E25: {=_xlfn.LET(_xlpm.X,TRIM(SUBSTITUTE(C25,"-"," ")), _xlpm.nbr, LEN(_xlpm.X)+1-LEN(SUBSTITUTE(_xlpm.X," ","")),IF(_xlpm.nbr=3,TRIM(C25),""))} -> Henri-Georges Clouzot | F25: =LEN(C25)-LEN(SUBSTITUTE(C25,"-","")) -> 1 | G25: =LEN(C25)-LEN(SUBSTITUTE(C25," ","")) -> 1 | H25: ='Films français.tab'!$C$1 -> Réalisateur | I25: {=_xlfn.TEXTBEFORE(_xlfn.TEXTSPLIT(A25,CHAR(10),,TRUE),"1")} -> Lé assassin habite au 2 | J25: {=_xlfn.TEXTAFTER(_xlfn.TEXTSPLIT($A$2,CHAR(10),,TRUE)," ",-1)} -> #VALUE! | K25: =RIGHT(C25,LEN(C25)-FIND(" ",C25))&" "&LEFT(C25,FIND(" ",C25)-1) -> Clouzot Henri-Georges | L25: * | N25: * | O25: Clouzot Henri | Q25: 50/60
A26: Le soleil au-dessus des nuages | C26: Eric Le Roch | D26: {=_xlfn.LET(_xlpm.X,TRIM(SUBSTITUTE(C26,"-"," ")), _xlpm.nbr, LEN(_xlpm.X)+1-LEN(SUBSTITUTE(_xlpm.X," ","")),IF(_xlpm.nbr=3,TRIM(C26),""))} -> Eric Le Roch | E26: {=_xlfn.LET(_xlpm.X,TRIM(SUBSTITUTE(C26,"-"," ")), _xlpm.nbr, LEN(_xlpm.X)+1-LEN(SUBSTITUTE(_xlpm.X," ","")),IF(_xlpm.nbr=3,TRIM(C26),""))} -> Eric Le Roch | F26: =LEN(C26)-LEN(SUBSTITUTE(C26,"-","")) -> 0 | G26: =LEN(C26)-LEN(SUBSTITUTE(C26," ","")) -> 2 | H26: ='Films français.tab'!$C$1 -> Réalisateur | I26: {=_xlfn.TEXTBEFORE(_xlfn.TEXTSPLIT(A26,CHAR(10),,TRUE),"1")} -> #N/A | J26: {=_xlfn.TEXTAFTER(_xlfn.TEXTSPLIT($A$2,CHAR(10),,TRUE)," ",-1)} -> #VALUE! | K26: =RIGHT(C26,LEN(C26)-FIND(" ",C26))&" "&LEFT(C26,FIND(" ",C26)-1) -> Le Roch Eric | N26: * | O26: Roch Eric | Q26: 90/00 | R26: *
C27: Didier le Pécheur | D27: {=_xlfn.LET(_xlpm.X,TRIM(SUBSTITUTE(C27,"-"," ")), _xlpm.nbr, LEN(_xlpm.X)+1-LEN(SUBSTITUTE(_xlpm.X," ","")),IF(_xlpm.nbr=3,TRIM(C27),""))} -> Didier le Pécheur | E27: {=_xlfn.LET(_xlpm.X,TRIM(SUBSTITUTE(C27,"-"," ")), _xlpm.nbr, LEN(_xlpm.X)+1-LEN(SUBSTITUTE(_xlpm.X," ","")),IF(_xlpm.nbr=3,TRIM(C27),""))} -> Didier le Pécheur | F27: =LEN(C27)-LEN(SUBSTITUTE(C27,"-","")) -> 0 | G27: =LEN(C27)-LEN(SUBSTITUTE(C27," ","")) -> 2 | H27: ='Films français.tab'!$C$1 -> Réalisateur | I27: {=_xlfn.TEXTBEFORE(_xlfn.TEXTSPLIT(A27,CHAR(10),,TRUE),"1")} -> #VALUE! | J27: {=_xlfn.TEXTAFTER(_xlfn.TEXTSPLIT($A$2,CHAR(10),,TRUE)," ",-1)} -> #VALUE! | K27: =RIGHT(C27,LEN(C27)-FIND(" ",C27))&" "&LEFT(C27,FIND(" ",C27)-1) -> le Pécheur Didier | O27: Pécheur Didier | Q27: 90/00
C28: Pierre Granier-Deferre | D28: {=_xlfn.LET(_xlpm.X,TRIM(SUBSTITUTE(C28,"-"," ")), _xlpm.nbr, LEN(_xlpm.X)+1-LEN(SUBSTITUTE(_xlpm.X," ","")),IF(_xlpm.nbr=3,TRIM(C28),""))} -> Pierre Granier-Deferre | E28: {=_xlfn.LET(_xlpm.X,TRIM(SUBSTITUTE(C28,"-"," ")), _xlpm.nbr, LEN(_xlpm.X)+1-LEN(SUBSTITUTE(_xlpm.X," ","")),IF(_xlpm.nbr=3,TRIM(C28),""))} -> Pierre Granier-Deferre | F28: =LEN(C28)-LEN(SUBSTITUTE(C28,"-","")) -> 1 | G28: =LEN(C28)-LEN(SUBSTITUTE(C28," ","")) -> 1 | H28: ='Films français.tab'!$C$1 -> Réalisateur | I28: {=_xlfn.TEXTBEFORE(_xlfn.TEXTSPLIT(A28,CHAR(10),,TRUE),"1")} -> #VALUE! | J28: {=_xlfn.TEXTAFTER(_xlfn.TEXTSPLIT($A$2,CHAR(10),,TRUE)," ",-1)} -> #VALUE! | K28: =RIGHT(C28,LEN(C28)-FIND(" ",C28))&" "&LEFT(C28,FIND(" ",C28)-1) -> Granier-Deferre Pierre | L28: * | O28: Deferre Denys
A29: Le diable au corps 1946_x000B_Léauberge rouge 1951_x000B_Le rouge et le noir 1954_x000B_La traversée de Paris 1956_x000B_En cas de malheur 1958_x000B_La jument verte 1959_x000B_Le Comte de Monte Christo 1961 | C29: Claude Autant-Lara | D29: {=_xlfn.LET(_xlpm.X,TRIM(SUBSTITUTE(C29,"-"," ")), _xlpm.nbr, LEN(_xlpm.X)+1-LEN(SUBSTITUTE(_xlpm.X," ","")),IF(_xlpm.nbr=3,TRIM(C29),""))} -> Claude Autant-Lara | E29: {=_xlfn.LET(_xlpm.X,TRIM(SUBSTITUTE(C29,"-"," ")), _xlpm.nbr, LEN(_xlpm.X)+1-LEN(SUBSTITUTE(_xlpm.X," ","")),IF(_xlpm.nbr=3,TRIM(C29),""))} -> Claude Autant-Lara | F29: =LEN(C29)-LEN(SUBSTITUTE(C29,"-","")) -> 1 | G29: =LEN(C29)-LEN(SUBSTITUTE(C29," ","")) -> 1 | H29: ='Films français.tab'!$C$1 -> Réalisateur | I29: {=_xlfn.TEXTBEFORE(_xlfn.TEXTSPLIT(A29,CHAR(10),,TRUE),"1")} -> Le diable au corps | J29: {=_xlfn.TEXTAFTER(_xlfn.TEXTSPLIT($A$2,CHAR(10),,TRUE)," ",-1)} -> #VALUE! | K29: =RIGHT(C29,LEN(C29)-FIND(" ",C29))&" "&LEFT(C29,FIND(" ",C29)-1) -> Autant-Lara Claude | L29: * | N29: * | O29: Lara Claude | Q29: 50/60
A30: (1990) Dr Petiot | C30: Christian de Chalonge | D30: {=_xlfn.LET(_xlpm.X,TRIM(SUBSTITUTE(C30,"-"," ")), _xlpm.nbr, LEN(_xlpm.X)+1-LEN(SUBSTITUTE(_xlpm.X," ","")),IF(_xlpm.nbr=3,TRIM(C30),""))} -> Christian de Chalonge | E30: {=_xlfn.LET(_xlpm.X,TRIM(SUBSTITUTE(C30,"-"," ")), _xlpm.nbr, LEN(_xlpm.X)+1-LEN(SUBSTITUTE(_xlpm.X," ","")),IF(_xlpm.nbr=3,TRIM(C30),""))} -> Christian de Chalonge | F30: =LEN(C30)-LEN(SUBSTITUTE(C30,"-","")) -> 0 | G30: =LEN(C30)-LEN(SUBSTITUTE(C30," ","")) -> 2 | H30: ='Films français.tab'!$C$1 -> Réalisateur | I30: {=_xlfn.TEXTBEFORE(_xlfn.TEXTSPLIT(A30,CHAR(10),,TRUE),"1")} -> ( | J30: {=_xlfn.TEXTAFTER(_xlfn.TEXTSPLIT($A$2,CHAR(10),,TRUE)," ",-1)} -> #VALUE! | K30: =RIGHT(C30,LEN(C30)-FIND(" ",C30))&" "&LEFT(C30,FIND(" ",C30)-1) -> de Chalonge Christian
C31: Alain Robbe-Grillet | D31: {=_xlfn.LET(_xlpm.X,TRIM(SUBSTITUTE(C31,"-"," ")), _xlpm.nbr, LEN(_xlpm.X)+1-LEN(SUBSTITUTE(_xlpm.X," ","")),IF(_xlpm.nbr=3,TRIM(C31),""))} -> Alain Robbe-Grillet | E31: {=_xlfn.LET(_xlpm.X,TRIM(SUBSTITUTE(C31,"-"," ")), _xlpm.nbr, LEN(_xlpm.X)+1-LEN(SUBSTITUTE(_xlpm.X," ","")),IF(_xlpm.nbr=3,TRIM(C31),""))} -> Alain Robbe-Grillet | F31: =LEN(C31)-LEN(SUBSTITUTE(C31,"-","")) -> 1 | G31: =LEN(C31)-LEN(SUBSTITUTE(C31," ","")) -> 1 | H31: ='Films français.tab'!$C$1 -> Réalisateur | I31: {=_xlfn.TEXTBEFORE(_xlfn.TEXTSPLIT(A31,CHAR(10),,TRUE),"1")} -> #VALUE! | J31: {=_xlfn.TEXTAFTER(_xlfn.TEXTSPLIT($A$2,CHAR(10),,TRUE)," ",-1)} -> #VALUE! | K31: =RIGHT(C31,LEN(C31)-FIND(" ",C31))&" "&LEFT(C31,FIND(" ",C31)-1) -> Robbe-Grillet Alain | L31: + | O31: Grillet Alain | P31: @
A32: Napoléon (1927)_x000B_Marines et cristeaux (1928) _x000B_La Fin du monde (1931) _x000B_Mater dolorosa (1932) _x000B_Le Maitre de forges (1933) _x000B_Poliche (1934) _x000B_Napoléon Bonaparte (1934) _x000B_End of the World (1934) _x000B_La Dame aux camélias (1934) _x000B_Le Roman d'un jeune homme pauvre (1935) _x000B_Lucrece Borgia (1935) _x000B_JérÙme Perreau héros des barricades (1935) _x000B_Le Voleur de femmes (1936) _x000B_Un grand amour de Beethoven (1936) _x000B_J'accuse! (1938)_x000B_Louise (1939) _x000B_Paradis perdu (1940) _x000B_La Vénus aveugle (1941) _x000B_Le Capitaine Fracasse (1943) _x000B_Quatorze juillet (1953) _x000B_La Tour de Nesle (1954) _x000B_Magirama (1956) _x000B_Austerlitz (1960)_x000B_Cyrano et d'Artagnan (1963) _x000B_Bonaparte et la révolution (1971) | C32: Abel Gance | D32: {=_xlfn.LET(_xlpm.X,TRIM(SUBSTITUTE(C32,"-"," ")), _xlpm.nbr, LEN(_xlpm.X)+1-LEN(SUBSTITUTE(_xlpm.X," ","")),IF(_xlpm.nbr=3,TRIM(C32),""))} | E32: {=_xlfn.LET(_xlpm.X,TRIM(SUBSTITUTE(C32,"-"," ")), _xlpm.nbr, LEN(_xlpm.X)+1-LEN(SUBSTITUTE(_xlpm.X," ","")),IF(_xlpm.nbr=3,TRIM(C32),""))} | F32: =LEN(C32)-LEN(SUBSTITUTE(C32,"-","")) -> 0 | G32: =LEN(C32)-LEN(SUBSTITUTE(C32," ","")) -> 1 | H32: ='Films français.tab'!$C$1 -> Réalisateur | I32: {=_xlfn.TEXTBEFORE(_xlfn.TEXTSPLIT(A32,CHAR(10),,TRUE),"1")} -> Napoléon ( | J32: {=_xlfn.TEXTAFTER(_xlfn.TEXTSPLIT($A$2,CHAR(10),,TRUE)," ",-1)} -> #VALUE! | K32: =RIGHT(C32,LEN(C32)-FIND(" ",C32))&" "&LEFT(C32,FIND(" ",C32)-1) -> Gance Abel | N32: * | O32: Gance Abel
A33: Le Go˚t des autres (2000) | C33: Agnes Jaoui | D33: {=_xlfn.LET(_xlpm.X,TRIM(SUBSTITUTE(C33,"-"," ")), _xlpm.nbr, LEN(_xlpm.X)+1-LEN(SUBSTITUTE(_xlpm.X," ","")),IF(_xlpm.nbr=3,TRIM(C33),""))} | E33: {=_xlfn.LET(_xlpm.X,TRIM(SUBSTITUTE(C33,"-"," ")), _xlpm.nbr, LEN(_xlpm.X)+1-LEN(SUBSTITUTE(_xlpm.X," ","")),IF(_xlpm.nbr=3,TRIM(C33),""))} | F33: =LEN(C33)-LEN(SUBSTITUTE(C33,"-","")) -> 0 | G33: =LEN(C33)-LEN(SUBSTITUTE(C33," ","")) -> 1 | H33: ='Films français.tab'!$C$1 -> Réalisateur | I33: {=_xlfn.TEXTBEFORE(_xlfn.TEXTSPLIT(A33,CHAR(10),,TRUE),"1")} -> #N/A | J33: {=_xlfn.TEXTAFTER(_xlfn.TEXTSPLIT($A$2,CHAR(10),,TRUE)," ",-1)} -> #VALUE! | K33: =RIGHT(C33,LEN(C33)-FIND(" ",C33))&" "&LEFT(C33,FIND(" ",C33)-1) -> Jaoui Agnes | L33: + | N33: ** | O33: Jaoui Agnes
C34: Barbet Schroeder | D34: {=_xlfn.LET(_xlpm.X,TRIM(SUBSTITUTE(C34,"-"," ")), _xlpm.nbr, LEN(_xlpm.X)+1-LEN(SUBSTITUTE(_xlpm.X," ","")),IF(_xlpm.nbr=3,TRIM(C34),""))} | E34: {=_xlfn.LET(_xlpm.X,TRIM(SUBSTITUTE(C34,"-"," ")), _xlpm.nbr, LEN(_xlpm.X)+1-LEN(SUBSTITUTE(_xlpm.X," ","")),IF(_xlpm.nbr=3,TRIM(C34),""))} | F34: =LEN(C34)-LEN(SUBSTITUTE(C34,"-","")) -> 0 | G34: =LEN(C34)-LEN(SUBSTITUTE(C34," ","")) -> 1 | H34: ='Films français.tab'!$C$1 -> Réalisateur | I34: {=_xlfn.TEXTBEFORE(_xlfn.TEXTSPLIT(A34,CHAR(10),,TRUE),"1")} -> #VALUE! | J34: {=_xlfn.TEXTAFTER(_xlfn.TEXTSPLIT($A$2,CHAR(10),,TRUE)," ",-1)} -> #VALUE! | K34: =RIGHT(C34,LEN(C34)-FIND(" ",C34))&" "&LEFT(C34,FIND(" ",C34)-1) -> Schroeder Barbet | L34: + | N34: * | O34: Schroeder Barbet | P34: @
C35: Cedric Clapisch | D35: {=_xlfn.LET(_xlpm.X,TRIM(SUBSTITUTE(C35,"-"," ")), _xlpm.nbr, LEN(_xlpm.X)+1-LEN(SUBSTITUTE(_xlpm.X," ","")),IF(_xlpm.nbr=3,TRIM(C35),""))} | E35: {=_xlfn.LET(_xlpm.X,TRIM(SUBSTITUTE(C35,"-"," ")), _xlpm.nbr, LEN(_xlpm.X)+1-LEN(SUBSTITUTE(_xlpm.X," ","")),IF(_xlpm.nbr=3,TRIM(C35),""))} | F35: =LEN(C35)-LEN(SUBSTITUTE(C35,"-","")) -> 0 | G35: =LEN(C35)-LEN(SUBSTITUTE(C35," ","")) -> 1 | H35: ='Films français.tab'!$C$1 -> Réalisateur | I35: {=_xlfn.TEXTBEFORE(_xlfn.TEXTSPLIT(A35,CHAR(10),,TRUE),"1")} -> #VALUE! | J35: {=_xlfn.TEXTAFTER(_xlfn.TEXTSPLIT($A$2,CHAR(10),,TRUE)," ",-1)} -> #VALUE! | K35: =RIGHT(C35,LEN(C35)-FIND(" ",C35))&" "&LEFT(C35,FIND(" ",C35)-1) -> Clapisch Cedric | L35: + | N35: ** | O35: Clapisch Cedric | P35: @
C36: Chantal Akerman | D36: {=_xlfn.LET(_xlpm.X,TRIM(SUBSTITUTE(C36,"-"," ")), _xlpm.nbr, LEN(_xlpm.X)+1-LEN(SUBSTITUTE(_xlpm.X," ","")),IF(_xlpm.nbr=3,TRIM(C36),""))} | E36: {=_xlfn.LET(_xlpm.X,TRIM(SUBSTITUTE(C36,"-"," ")), _xlpm.nbr, LEN(_xlpm.X)+1-LEN(SUBSTITUTE(_xlpm.X," ","")),IF(_xlpm.nbr=3,TRIM(C36),""))} | F36: =LEN(C36)-LEN(SUBSTITUTE(C36,"-","")) -> 0 | G36: =LEN(C36)-LEN(SUBSTITUTE(C36," ","")) -> 1 | H36: ='Films français.tab'!$C$1 -> Réalisateur | I36: {=_xlfn.TEXTBEFORE(_xlfn.TEXTSPLIT(A36,CHAR(10),,TRUE),"1")} -> #VALUE! | J36: {=_xlfn.TEXTAFTER(_xlfn.TEXTSPLIT($A$2,CHAR(10),,TRUE)," ",-1)} -> #VALUE! | K36: =RIGHT(C36,LEN(C36)-FIND(" ",C36))&" "&LEFT(C36,FIND(" ",C36)-1) -> Akerman Chantal | L36: + | N36: ** | O36: Akerman Chantal
A37: France société anonyme (1974)_x000B_Police Python 357 (1976)_x000B_La Menace (1977)_x000B_Série noire (1979)_x000B_Le Choix des armes (1981)_x000B_Fort Saganne (1984)_x000B_Le MÙme (1986)_x000B_Nocturne indien (1989)_x000B_Tous les matins du monde (1991)_x000B_Contre l'oubli (1991)_x000B_Le Nouveau monde (1995)_x000B_Lumiere et compagnie (1995)_x000B_Les Enfants de Lumiere (1995)_x000B_Le Cousin (1997)_x000B_Le Prince du Pacifique (2000)_x000B_Stupeur et tremblements (2003)_x000B_Les Mots bleus (2005) | C37: Alain Corneau | D37: {=_xlfn.LET(_xlpm.X,TRIM(SUBSTITUTE(C37,"-"," ")), _xlpm.nbr, LEN(_xlpm.X)+1-LEN(SUBSTITUTE(_xlpm.X," ","")),IF(_xlpm.nbr=3,TRIM(C37),""))} | E37: {=_xlfn.LET(_xlpm.X,TRIM(SUBSTITUTE(C37,"-"," ")), _xlpm.nbr, LEN(_xlpm.X)+1-LEN(SUBSTITUTE(_xlpm.X," ","")),IF(_xlpm.nbr=3,TRIM(C37),""))} | F37: =LEN(C37)-LEN(SUBSTITUTE(C37,"-","")) -> 0 | G37: =LEN(C37)-LEN(SUBSTITUTE(C37," ","")) -> 1 | H37: ='Films français.tab'!$C$1 -> Réalisateur | I37: {=_xlfn.TEXTBEFORE(_xlfn.TEXTSPLIT(A37,CHAR(10),,TRUE),"1")} -> France société anonyme ( | J37: {=_xlfn.TEXTAFTER(_xlfn.TEXTSPLIT($A$2,CHAR(10),,TRUE)," ",-1)} -> #VALUE! | K37: =RIGHT(C37,LEN(C37)-FIND(" ",C37))&" "&LEFT(C37,FIND(" ",C37)-1) -> Corneau Alain | L37: * | N37: ** | O37: Corneau Alain | Q37: 70/80
C38: Claire Devers | D38: {=_xlfn.LET(_xlpm.X,TRIM(SUBSTITUTE(C38,"-"," ")), _xlpm.nbr, LEN(_xlpm.X)+1-LEN(SUBSTITUTE(_xlpm.X," ","")),IF(_xlpm.nbr=3,TRIM(C38),""))} | E38: {=_xlfn.LET(_xlpm.X,TRIM(SUBSTITUTE(C38,"-"," ")), _xlpm.nbr, LEN(_xlpm.X)+1-LEN(SUBSTITUTE(_xlpm.X," ","")),IF(_xlpm.nbr=3,TRIM(C38),""))} | F38: =LEN(C38)-LEN(SUBSTITUTE(C38,"-","")) -> 0 | G38: =LEN(C38)-LEN(SUBSTITUTE(C38," ","")) -> 1 | H38: ='Films français.tab'!$C$1 -> Réalisateur | I38: {=_xlfn.TEXTBEFORE(_xlfn.TEXTSPLIT(A38,CHAR(10),,TRUE),"1")} -> #VALUE! | J38: {=_xlfn.TEXTAFTER(_xlfn.TEXTSPLIT($A$2,CHAR(10),,TRUE)," ",-1)} -> #VALUE! | K38: =RIGHT(C38,LEN(C38)-FIND(" ",C38))&" "&LEFT(C38,FIND(" ",C38)-1) -> Devers Claire | N38: * | Q38: 90/00
A39: Léaventure de Guy (1936) _x000B_Schéma d'une identification (1946) _x000B_Ouvert pour cause d'inventaire (1946) _x000B_Visite ‡ Oscar Dominguez (1947) _x000B_Visite ‡ Lucien Coutaud (1947) _x000B_Visite ‡ Hans Hartnung (1947) _x000B_Visite ‡ Félix Labisse (1947) _x000B_Visite ‡ César Doméla (1947) _x000B_Van Gogh (1947) _x000B_Portrait d'Henri Goetz (1947) _x000B_Le Lait Nestlé (1947) _x000B_Journée naturelle (1947) _x000B_La bague (1947) _x000B_Léalcool tue (1947) _x000B_Van Gogh (1948) _x000B_Malfray (1948) _x000B_Les jardins de Paris (1948) _x000B_Ch‚teaux de France (1948) _x000B_Guernica (1950) _x000B_Gauguin (1950) _x000B_Pictura (1952) _x000B_Les statues meurent aussi (1953) _x000B_Nuit et brouillard (1955)_x000B_Toute la mémoire du monde (1956) _x000B_Le mystere de l'atelier quinze (1957) _x000B_Le chant du Styrene (1958) _x000B_Hiroshima mon amour (1959)_x000B_LéAnnée derniere ‡ Marienbad (1961)_x000B_Muriel (1963)_x000B_La Guerre est finie (1966)_x000B_Loin du Vietnam (1967)_x000B_Je t'aime, je t'aime (1968) _x000B_Stavisky... (1974)_x000B_Providence (1977) _x000B_Mon oncle d'Amérique (1980)_x000B_La Vie est un roman (1983)_x000B_LéAmour ‡ mort (1984)_x000B_Mélo (1986)_x000B_I Want to Go Home (1989)_x000B_Contre l'oubli (1991) _x000B_Gershwin (1992)_x000B_Smoking/No Smoking (1993) _x000B_On connait la chanson (1997)_x000B_Pas sur la bouche (2003) | C39: Alain Resnais | D39: {=_xlfn.LET(_xlpm.X,TRIM(SUBSTITUTE(C39,"-"," ")), _xlpm.nbr, LEN(_xlpm.X)+1-LEN(SUBSTITUTE(_xlpm.X," ","")),IF(_xlpm.nbr=3,TRIM(C39),""))} | E39: {=_xlfn.LET(_xlpm.X,TRIM(SUBSTITUTE(C39,"-"," ")), _xlpm.nbr, LEN(_xlpm.X)+1-LEN(SUBSTITUTE(_xlpm.X," ","")),IF(_xlpm.nbr=3,TRIM(C39),""))} | F39: =LEN(C39)-LEN(SUBSTITUTE(C39,"-","")) -> 0 | G39: =LEN(C39)-LEN(SUBSTITUTE(C39," ","")) -> 1 | H39: ='Films français.tab'!$C$1 -> Réalisateur | I39: {=_xlfn.TEXTBEFORE(_xlfn.TEXTSPLIT(A39,CHAR(10),,TRUE),"1")} -> Léaventure de Guy ( | J39: {=_xlfn.TEXTAFTER(_xlfn.TEXTSPLIT($A$2,CHAR(10),,TRUE)," ",-1)} -> #VALUE! | K39: =RIGHT(C39,LEN(C39)-FIND(" ",C39))&" "&LEFT(C39,FIND(" ",C39)-1) -> Resnais Alain | N39: ** | O39: Resnais Alain | Q39: 60/70
C40: Eric Rochant | D40: {=_xlfn.LET(_xlpm.X,TRIM(SUBSTITUTE(C40,"-"," ")), _xlpm.nbr, LEN(_xlpm.X)+1-LEN(SUBSTITUTE(_xlpm.X," ","")),IF(_xlpm.nbr=3,TRIM(C40),""))} | E40: {=_xlfn.LET(_xlpm.X,TRIM(SUBSTITUTE(C40,"-"," ")), _xlpm.nbr, LEN(_xlpm.X)+1-LEN(SUBSTITUTE(_xlpm.X," ","")),IF(_xlpm.nbr=3,TRIM(C40),""))} | F40: =LEN(C40)-LEN(SUBSTITUTE(C40,"-","")) -> 0 | G40: =LEN(C40)-LEN(SUBSTITUTE(C40," ","")) -> 1 | H40: ='Films français.tab'!$C$1 -> Réalisateur | I40: {=_xlfn.TEXTBEFORE(_xlfn.TEXTSPLIT(A40,CHAR(10),,TRUE),"1")} -> #VALUE! | J40: {=_xlfn.TEXTAFTER(_xlfn.TEXTSPLIT($A$2,CHAR(10),,TRUE)," ",-1)} -> #VALUE! | K40: =RIGHT(C40,LEN(C40)-FIND(" ",C40))&" "&LEFT(C40,FIND(" ",C40)-1) -> Rochant Eric | L40: + | O40: Rochant Eric | P40: @
...

Sheet Feuil1
A1: Coplan sauve sa peau (1967) _x000B_Cran d'arrét (1970) _x000B_Un condé (1970) _x000B_Saut d'ange (1971) _x000B_L'Attentat (1972) _x000B_R.A.S. (1973)_x000B_Folle ‡ tuer (1975)_x000B_Dupont Lajoie (1975)_x000B_Le Juge Fayard dit le shérif (1977)_x000B_Un taxi mauve (1977) _x000B_La Clé sur la porte (1978) _x000B_La Femme flic (1980)_x000B_Espion, leve-toi (1981)_x000B_Allonsu z'enfants (1981)_x000B_Le Prix du danger (1983) _x000B_Canicule (1984) _x000B_Bleu comme l'enfer (1986) _x000B_La Travestie (1988) _x000B_Radio Corbeau (1989) _x000B_La Tribu (1990) | C1: Yves Boisset | D1: =RIGHT(C1,LEN(C1)-FIND(" ",C1))&" "&LEFT(C1,FIND(" ",C1)-1) -> Boisset Yves | E1: * | G1: ** | H1: Boisset Yves | J1: 60/70
C2: Cedric Clapisch | D2: =RIGHT(C2,LEN(C2)-FIND(" ",C2))&" "&LEFT(C2,FIND(" ",C2)-1) -> Clapisch Cedric | E2: + | G2: ** | H2: Clapisch Cedric | I2: @
A3: La mÙme vert-de-gris 1953_x000B_Les femmes séen balancent 1953_x000B_Le gorille vous salue bien 1958_x000B_La valse du gorille 1959_x000B_Le caÔd 1960_x000B_Lemmy pour les dames 1961_x000B_Les trois mousquetaires : les ferrets de la Reine 1961_x000B_Les trois mousquetaires : la vengeance de Milady 1961_x000B_Rocambole 1962_x000B_Le chevalier de Pardaillan 1962_x000B_Angélique marquise des anges 1964_x000B_Hardi Pardaillan ! 1964_x000B_Merveilleuse Angélique 1965_x000B_Angélique et le Roy 1966_x000B_Indomptable Angélique 1967_x000B_Angélique et le sultan 1968_x000B_ | C3: Bernard Borderie | D3: =RIGHT(C3,LEN(C3)-FIND(" ",C3))&" "&LEFT(C3,FIND(" ",C3)-1) -> Borderie Bernard | E3: * | G3: * | H3: Borderie Bernard
