Workbook

Sheet Feuil1
A1: Matrice des compétences | E1: 0 sans formations
E3: 1 débutant
E5: 2 supervisé
E7: 3 autonome | G7: Attente d'informations
E9: 4 Expert / formateur | G9: besoin de formation de formateur
B11: 1 tech | C11: 1 tech | D11: 1 tech | E11: 1 tech | F11: 1 tech | G11: 1 tech | H11: 1 tech | I11: 1/2 tech | J11: 1 tech | K11: 1 tech | L11: 1 tech | M11: 1 tech | N11: 1/2 tech
A12: Technicien(ne) | B12: NTK | C12: PT | D12: Flux | E12: Metrohm | F12: DBO | G12: DCO | H12: MES filtration | I12: Obs microscopique | J12: MS | K12: MES/MV | L12: Poches | M12: Ampoules | N12: AGV | P12: {=ROW($1:$13)} -> 1 | Q12: 2 | R12: =ADDRESS(52,VLOOKUP(ROWS($1:1),$P$12:$Q$24,2,0)-1) -> $A$52
A13: David | B13: =IF(ISNUMBER(SEARCH("*"&[1]paramètre!$A$19&"*",[1]Planif!$E$6)),"congé",'[1]matrice compétence'!B13) -> 3 | C13: =IF(ISNUMBER(SEARCH("*"&[1]paramètre!$A$19&"*",[1]Planif!$E$6)),"congé",'[1]matrice compétence'!C13) -> 3 | D13: =IF(ISNUMBER(SEARCH("*"&[1]paramètre!$A$19&"*",[1]Planif!$E$6)),"congé",'[1]matrice compétence'!D13) -> 3 | E13: =IF(ISNUMBER(SEARCH("*"&[1]paramètre!$A$19&"*",[1]Planif!$E$6)),"congé",'[1]matrice compétence'!E13) -> 0 | F13: =IF(ISNUMBER(SEARCH("*"&[1]paramètre!$A$19&"*",[1]Planif!$E$6)),"congé",'[1]matrice compétence'!F13) -> 0 | G13: =IF(ISNUMBER(SEARCH("*"&[1]paramètre!$A$19&"*",[1]Planif!$E$6)),"congé",'[1]matrice compétence'!G13) -> 0 | H13: =IF(ISNUMBER(SEARCH("*"&[1]paramètre!$A$19&"*",[1]Planif!$E$6)),"congé",'[1]matrice compétence'!H13) -> 0 | I13: =IF(ISNUMBER(SEARCH("*"&[1]paramètre!$A$19&"*",[1]Planif!$E$6)),"congé",'[1]matrice compétence'!I13) -> 0 | ... N13: =IF(ISNUMBER(SEARCH("*"&[1]paramètre!$A$19&"*",[1]Planif!$E$6)),"congé",'[1]matrice compétence'!N13) -> 0 | P13: 2 | Q13: 2 | R13: =ADDRESS(52,VLOOKUP(ROWS($1:2),$P$12:$Q$24,2,0)-1) -> $A$52
A14: Maxime | B14: =IF(ISNUMBER(SEARCH("*"&[1]paramètre!$A$19&"*",[1]Planif!$E$7)),"congé",'[1]matrice compétence'!B14) -> 3 | C14: =IF(ISNUMBER(SEARCH("*"&[1]paramètre!$A$19&"*",[1]Planif!$E$7)),"congé",'[1]matrice compétence'!C14) -> 3 | D14: =IF(ISNUMBER(SEARCH("*"&[1]paramètre!$A$19&"*",[1]Planif!$E$7)),"congé",'[1]matrice compétence'!D14) -> 3 | E14: =IF(ISNUMBER(SEARCH("*"&[1]paramètre!$A$19&"*",[1]Planif!$E$7)),"congé",'[1]matrice compétence'!E14) -> 0 | F14: =IF(ISNUMBER(SEARCH("*"&[1]paramètre!$A$19&"*",[1]Planif!$E$7)),"congé",'[1]matrice compétence'!F14) -> 0 | G14: =IF(ISNUMBER(SEARCH("*"&[1]paramètre!$A$19&"*",[1]Planif!$E$7)),"congé",'[1]matrice compétence'!G14) -> 0 | H14: =IF(ISNUMBER(SEARCH("*"&[1]paramètre!$A$19&"*",[1]Planif!$E$7)),"congé",'[1]matrice compétence'!H14) -> 0 | I14: =IF(ISNUMBER(SEARCH("*"&[1]paramètre!$A$19&"*",[1]Planif!$E$7)),"congé",'[1]matrice compétence'!I14) -> 0 | ... N14: =IF(ISNUMBER(SEARCH("*"&[1]paramètre!$A$19&"*",[1]Planif!$E$7)),"congé",'[1]matrice compétence'!N14) -> 0 | P14: 3 | Q14: 2 | R14: =ADDRESS(52,VLOOKUP(ROWS($1:3),$P$12:$Q$24,2,0)-1) -> $A$52
A15: Irène | B15: =IF(ISNUMBER(SEARCH("*"&[1]paramètre!$A$19&"*",[1]Planif!$E$8)),"congé",'[1]matrice compétence'!B15) -> 3 | C15: =IF(ISNUMBER(SEARCH("*"&[1]paramètre!$A$19&"*",[1]Planif!$E$8)),"congé",'[1]matrice compétence'!C15) -> 3 | D15: =IF(ISNUMBER(SEARCH("*"&[1]paramètre!$A$19&"*",[1]Planif!$E$8)),"congé",'[1]matrice compétence'!D15) -> 3 | E15: =IF(ISNUMBER(SEARCH("*"&[1]paramètre!$A$19&"*",[1]Planif!$E$8)),"congé",'[1]matrice compétence'!E15) -> 3 | F15: =IF(ISNUMBER(SEARCH("*"&[1]paramètre!$A$19&"*",[1]Planif!$E$8)),"congé",'[1]matrice compétence'!F15) -> 0 | G15: =IF(ISNUMBER(SEARCH("*"&[1]paramètre!$A$19&"*",[1]Planif!$E$8)),"congé",'[1]matrice compétence'!G15) -> 0 | H15: =IF(ISNUMBER(SEARCH("*"&[1]paramètre!$A$19&"*",[1]Planif!$E$8)),"congé",'[1]matrice compétence'!H15) -> 0 | I15: =IF(ISNUMBER(SEARCH("*"&[1]paramètre!$A$19&"*",[1]Planif!$E$8)),"congé",'[1]matrice compétence'!I15) -> 0 | ... N15: =IF(ISNUMBER(SEARCH("*"&[1]paramètre!$A$19&"*",[1]Planif!$E$8)),"congé",'[1]matrice compétence'!N15) -> 0 | P15: 4 | Q15: 6 | R15: =ADDRESS(52,VLOOKUP(ROWS($1:4),$P$12:$Q$24,2,0)-1) -> $E$52
A16: Julie | B16: =IF(ISNUMBER(SEARCH("*"&[1]paramètre!$A$19&"*",[1]Planif!$E$9)),"congé",'[1]matrice compétence'!B16) -> 3 | C16: =IF(ISNUMBER(SEARCH("*"&[1]paramètre!$A$19&"*",[1]Planif!$E$9)),"congé",'[1]matrice compétence'!C16) -> 3 | D16: =IF(ISNUMBER(SEARCH("*"&[1]paramètre!$A$19&"*",[1]Planif!$E$9)),"congé",'[1]matrice compétence'!D16) -> 0 | E16: =IF(ISNUMBER(SEARCH("*"&[1]paramètre!$A$19&"*",[1]Planif!$E$9)),"congé",'[1]matrice compétence'!E16) -> 3 | F16: =IF(ISNUMBER(SEARCH("*"&[1]paramètre!$A$19&"*",[1]Planif!$E$9)),"congé",'[1]matrice compétence'!F16) -> 0 | G16: =IF(ISNUMBER(SEARCH("*"&[1]paramètre!$A$19&"*",[1]Planif!$E$9)),"congé",'[1]matrice compétence'!G16) -> 0 | H16: =IF(ISNUMBER(SEARCH("*"&[1]paramètre!$A$19&"*",[1]Planif!$E$9)),"congé",'[1]matrice compétence'!H16) -> 3 | I16: =IF(ISNUMBER(SEARCH("*"&[1]paramètre!$A$19&"*",[1]Planif!$E$9)),"congé",'[1]matrice compétence'!I16) -> 3 | ... N16: =IF(ISNUMBER(SEARCH("*"&[1]paramètre!$A$19&"*",[1]Planif!$E$9)),"congé",'[1]matrice compétence'!N16) -> 0 | P16: 5 | Q16: 6 | R16: =ADDRESS(52,VLOOKUP(ROWS($1:5),$P$12:$Q$24,2,0)-1) -> $E$52
A17: Samy | B17: =IF(ISNUMBER(SEARCH("*"&[1]paramètre!$A$19&"*",[1]Planif!$E$10)),"congé",'[1]matrice compétence'!B17) -> 3 | C17: =IF(ISNUMBER(SEARCH("*"&[1]paramètre!$A$19&"*",[1]Planif!$E$10)),"congé",'[1]matrice compétence'!C17) -> 0 | D17: =IF(ISNUMBER(SEARCH("*"&[1]paramètre!$A$19&"*",[1]Planif!$E$10)),"congé",'[1]matrice compétence'!D17) -> 0 | E17: =IF(ISNUMBER(SEARCH("*"&[1]paramètre!$A$19&"*",[1]Planif!$E$10)),"congé",'[1]matrice compétence'!E17) -> 3 | F17: =IF(ISNUMBER(SEARCH("*"&[1]paramètre!$A$19&"*",[1]Planif!$E$10)),"congé",'[1]matrice compétence'!F17) -> 3 | G17: =IF(ISNUMBER(SEARCH("*"&[1]paramètre!$A$19&"*",[1]Planif!$E$10)),"congé",'[1]matrice compétence'!G17) -> 3 | H17: =IF(ISNUMBER(SEARCH("*"&[1]paramètre!$A$19&"*",[1]Planif!$E$10)),"congé",'[1]matrice compétence'!H17) -> 3 | I17: =IF(ISNUMBER(SEARCH("*"&[1]paramètre!$A$19&"*",[1]Planif!$E$10)),"congé",'[1]matrice compétence'!I17) -> 3 | ... N17: =IF(ISNUMBER(SEARCH("*"&[1]paramètre!$A$19&"*",[1]Planif!$E$10)),"congé",'[1]matrice compétence'!N17) -> 0 | P17: 6 | Q17: 6 | R17: =ADDRESS(52,VLOOKUP(ROWS($1:6),$P$12:$Q$24,2,0)-1) -> $E$52
A18: Hawa | B18: =IF(ISNUMBER(SEARCH("*"&[1]paramètre!$A$19&"*",[1]Planif!$E$11)),"congé",'[1]matrice compétence'!B18) -> 0 | C18: =IF(ISNUMBER(SEARCH("*"&[1]paramètre!$A$19&"*",[1]Planif!$E$11)),"congé",'[1]matrice compétence'!C18) -> 0 | D18: =IF(ISNUMBER(SEARCH("*"&[1]paramètre!$A$19&"*",[1]Planif!$E$11)),"congé",'[1]matrice compétence'!D18) -> 0 | E18: =IF(ISNUMBER(SEARCH("*"&[1]paramètre!$A$19&"*",[1]Planif!$E$11)),"congé",'[1]matrice compétence'!E18) -> 3 | F18: =IF(ISNUMBER(SEARCH("*"&[1]paramètre!$A$19&"*",[1]Planif!$E$11)),"congé",'[1]matrice compétence'!F18) -> 3 | G18: =IF(ISNUMBER(SEARCH("*"&[1]paramètre!$A$19&"*",[1]Planif!$E$11)),"congé",'[1]matrice compétence'!G18) -> 3 | H18: =IF(ISNUMBER(SEARCH("*"&[1]paramètre!$A$19&"*",[1]Planif!$E$11)),"congé",'[1]matrice compétence'!H18) -> 3 | I18: =IF(ISNUMBER(SEARCH("*"&[1]paramètre!$A$19&"*",[1]Planif!$E$11)),"congé",'[1]matrice compétence'!I18) -> 3 | ... N18: =IF(ISNUMBER(SEARCH("*"&[1]paramètre!$A$19&"*",[1]Planif!$E$11)),"congé",'[1]matrice compétence'!N18) -> 0 | P18: 7 | Q18: 6 | R18: =ADDRESS(52,VLOOKUP(ROWS($1:7),$P$12:$Q$24,2,0)-1) -> $E$52
A19: Kanni | B19: =IF(ISNUMBER(SEARCH("*"&[1]paramètre!$A$19&"*",[1]Planif!$E$12)),"congé",'[1]matrice compétence'!B19) -> 0 | C19: =IF(ISNUMBER(SEARCH("*"&[1]paramètre!$A$19&"*",[1]Planif!$E$12)),"congé",'[1]matrice compétence'!C19) -> 0 | D19: =IF(ISNUMBER(SEARCH("*"&[1]paramètre!$A$19&"*",[1]Planif!$E$12)),"congé",'[1]matrice compétence'!D19) -> 0 | E19: =IF(ISNUMBER(SEARCH("*"&[1]paramètre!$A$19&"*",[1]Planif!$E$12)),"congé",'[1]matrice compétence'!E19) -> 0 | F19: =IF(ISNUMBER(SEARCH("*"&[1]paramètre!$A$19&"*",[1]Planif!$E$12)),"congé",'[1]matrice compétence'!F19) -> 0 | G19: =IF(ISNUMBER(SEARCH("*"&[1]paramètre!$A$19&"*",[1]Planif!$E$12)),"congé",'[1]matrice compétence'!G19) -> 0 | H19: =IF(ISNUMBER(SEARCH("*"&[1]paramètre!$A$19&"*",[1]Planif!$E$12)),"congé",'[1]matrice compétence'!H19) -> 0 | I19: =IF(ISNUMBER(SEARCH("*"&[1]paramètre!$A$19&"*",[1]Planif!$E$12)),"congé",'[1]matrice compétence'!I19) -> 0 | ... N19: =IF(ISNUMBER(SEARCH("*"&[1]paramètre!$A$19&"*",[1]Planif!$E$12)),"congé",'[1]matrice compétence'!N19) -> 3 | P19: 8 | Q19: 6 | R19: =ADDRESS(52,VLOOKUP(ROWS($1:8),$P$12:$Q$24,2,0)-1) -> $E$52
A20: Marie-Laurence | B20: =IF(ISNUMBER(SEARCH("*"&[1]paramètre!$A$19&"*",[1]Planif!$E$13)),"congé",'[1]matrice compétence'!B20) -> 0 | C20: =IF(ISNUMBER(SEARCH("*"&[1]paramètre!$A$19&"*",[1]Planif!$E$13)),"congé",'[1]matrice compétence'!C20) -> 0 | D20: =IF(ISNUMBER(SEARCH("*"&[1]paramètre!$A$19&"*",[1]Planif!$E$13)),"congé",'[1]matrice compétence'!D20) -> 0 | E20: =IF(ISNUMBER(SEARCH("*"&[1]paramètre!$A$19&"*",[1]Planif!$E$13)),"congé",'[1]matrice compétence'!E20) -> 0 | F20: =IF(ISNUMBER(SEARCH("*"&[1]paramètre!$A$19&"*",[1]Planif!$E$13)),"congé",'[1]matrice compétence'!F20) -> 0 | G20: =IF(ISNUMBER(SEARCH("*"&[1]paramètre!$A$19&"*",[1]Planif!$E$13)),"congé",'[1]matrice compétence'!G20) -> 0 | H20: =IF(ISNUMBER(SEARCH("*"&[1]paramètre!$A$19&"*",[1]Planif!$E$13)),"congé",'[1]matrice compétence'!H20) -> 0 | I20: =IF(ISNUMBER(SEARCH("*"&[1]paramètre!$A$19&"*",[1]Planif!$E$13)),"congé",'[1]matrice compétence'!I20) -> 0 | ... N20: =IF(ISNUMBER(SEARCH("*"&[1]paramètre!$A$19&"*",[1]Planif!$E$13)),"congé",'[1]matrice compétence'!N20) -> 3 | P20: 9 | Q20: 9 | R20: =ADDRESS(52,VLOOKUP(ROWS($1:9),$P$12:$Q$24,2,0)-1) -> $H$52
A21: Myris | B21: =IF(ISNUMBER(SEARCH("*"&[1]paramètre!$A$19&"*",[1]Planif!$E$14)),"congé",'[1]matrice compétence'!B21) -> 0 | C21: =IF(ISNUMBER(SEARCH("*"&[1]paramètre!$A$19&"*",[1]Planif!$E$14)),"congé",'[1]matrice compétence'!C21) -> 0 | D21: =IF(ISNUMBER(SEARCH("*"&[1]paramètre!$A$19&"*",[1]Planif!$E$14)),"congé",'[1]matrice compétence'!D21) -> 0 | E21: =IF(ISNUMBER(SEARCH("*"&[1]paramètre!$A$19&"*",[1]Planif!$E$14)),"congé",'[1]matrice compétence'!E21) -> 0 | F21: =IF(ISNUMBER(SEARCH("*"&[1]paramètre!$A$19&"*",[1]Planif!$E$14)),"congé",'[1]matrice compétence'!F21) -> 0 | G21: =IF(ISNUMBER(SEARCH("*"&[1]paramètre!$A$19&"*",[1]Planif!$E$14)),"congé",'[1]matrice compétence'!G21) -> 0 | H21: =IF(ISNUMBER(SEARCH("*"&[1]paramètre!$A$19&"*",[1]Planif!$E$14)),"congé",'[1]matrice compétence'!H21) -> 0 | I21: =IF(ISNUMBER(SEARCH("*"&[1]paramètre!$A$19&"*",[1]Planif!$E$14)),"congé",'[1]matrice compétence'!I21) -> 0 | ... N21: =IF(ISNUMBER(SEARCH("*"&[1]paramètre!$A$19&"*",[1]Planif!$E$14)),"congé",'[1]matrice compétence'!N21) -> 3 | P21: 10 | Q21: 9 | R21: =ADDRESS(52,VLOOKUP(ROWS($1:10),$P$12:$Q$24,2,0)-1) -> $H$52
A22: Florian | B22: 0 | C22: =IF(ISNUMBER(SEARCH("*"&[1]paramètre!$A$19&"*",[1]Planif!$E$15)),"congé",'[1]matrice compétence'!C22) -> 0 | D22: =IF(ISNUMBER(SEARCH("*"&[1]paramètre!$A$19&"*",[1]Planif!$E$15)),"congé",'[1]matrice compétence'!D22) -> 0 | E22: =IF(ISNUMBER(SEARCH("*"&[1]paramètre!$A$19&"*",[1]Planif!$E$15)),"congé",'[1]matrice compétence'!E22) -> 0 | F22: =IF(ISNUMBER(SEARCH("*"&[1]paramètre!$A$19&"*",[1]Planif!$E$15)),"congé",'[1]matrice compétence'!F22) -> 0 | G22: =IF(ISNUMBER(SEARCH("*"&[1]paramètre!$A$19&"*",[1]Planif!$E$15)),"congé",'[1]matrice compétence'!G22) -> 0 | H22: =IF(ISNUMBER(SEARCH("*"&[1]paramètre!$A$19&"*",[1]Planif!$E$15)),"congé",'[1]matrice compétence'!H22) -> 0 | I22: =IF(ISNUMBER(SEARCH("*"&[1]paramètre!$A$19&"*",[1]Planif!$E$15)),"congé",'[1]matrice compétence'!I22) -> 0 | J22: =IF(ISNUMBER(SEARCH("*"&[1]paramètre!$A$19&"*",[1]Planif!$E$15)),"congé",'[1]matrice compétence'!J22) -> 0 | ... N22: =IF(ISNUMBER(SEARCH("*"&[1]paramètre!$A$19&"*",[1]Planif!$E$15)),"congé",'[1]matrice compétence'!N22) -> 3 | P22: 11 | Q22: 12 | R22: =ADDRESS(52,VLOOKUP(ROWS($1:11),$P$12:$Q$24,2,0)-1) -> $K$52
A23: Laëtitia | B23: =IF(ISNUMBER(SEARCH("*"&[1]paramètre!$A$19&"*",[1]Planif!$E$16)),"congé",'[1]matrice compétence'!B23) -> 0 | C23: =IF(ISNUMBER(SEARCH("*"&[1]paramètre!$A$19&"*",[1]Planif!$E$16)),"congé",'[1]matrice compétence'!C23) -> 0 | D23: =IF(ISNUMBER(SEARCH("*"&[1]paramètre!$A$19&"*",[1]Planif!$E$16)),"congé",'[1]matrice compétence'!D23) -> 0 | E23: =IF(ISNUMBER(SEARCH("*"&[1]paramètre!$A$19&"*",[1]Planif!$E$16)),"congé",'[1]matrice compétence'!E23) -> 0 | F23: =IF(ISNUMBER(SEARCH("*"&[1]paramètre!$A$19&"*",[1]Planif!$E$16)),"congé",'[1]matrice compétence'!F23) -> 0 | G23: =IF(ISNUMBER(SEARCH("*"&[1]paramètre!$A$19&"*",[1]Planif!$E$16)),"congé",'[1]matrice compétence'!G23) -> 0 | H23: =IF(ISNUMBER(SEARCH("*"&[1]paramètre!$A$19&"*",[1]Planif!$E$16)),"congé",'[1]matrice compétence'!H23) -> 0 | I23: =IF(ISNUMBER(SEARCH("*"&[1]paramètre!$A$19&"*",[1]Planif!$E$16)),"congé",'[1]matrice compétence'!I23) -> 0 | ... N23: =IF(ISNUMBER(SEARCH("*"&[1]paramètre!$A$19&"*",[1]Planif!$E$16)),"congé",'[1]matrice compétence'!N23) -> 0 | P23: 12 | Q23: 12 | R23: =ADDRESS(52,VLOOKUP(ROWS($1:12),$P$12:$Q$24,2,0)-1) -> $K$52
A24: Isabelle | B24: =IF(ISNUMBER(SEARCH("*"&[1]paramètre!$A$19&"*",[1]Planif!$E$17)),"congé",'[1]matrice compétence'!B24) -> 0 | C24: =IF(ISNUMBER(SEARCH("*"&[1]paramètre!$A$19&"*",[1]Planif!$E$17)),"congé",'[1]matrice compétence'!C24) -> 0 | D24: =IF(ISNUMBER(SEARCH("*"&[1]paramètre!$A$19&"*",[1]Planif!$E$17)),"congé",'[1]matrice compétence'!D24) -> 0 | E24: =IF(ISNUMBER(SEARCH("*"&[1]paramètre!$A$19&"*",[1]Planif!$E$17)),"congé",'[1]matrice compétence'!E24) -> 0 | F24: =IF(ISNUMBER(SEARCH("*"&[1]paramètre!$A$19&"*",[1]Planif!$E$17)),"congé",'[1]matrice compétence'!F24) -> 0 | G24: =IF(ISNUMBER(SEARCH("*"&[1]paramètre!$A$19&"*",[1]Planif!$E$17)),"congé",'[1]matrice compétence'!G24) -> 0 | H24: =IF(ISNUMBER(SEARCH("*"&[1]paramètre!$A$19&"*",[1]Planif!$E$17)),"congé",'[1]matrice compétence'!H24) -> 0 | I24: =IF(ISNUMBER(SEARCH("*"&[1]paramètre!$A$19&"*",[1]Planif!$E$17)),"congé",'[1]matrice compétence'!I24) -> 0 | ... N24: =IF(ISNUMBER(SEARCH("*"&[1]paramètre!$A$19&"*",[1]Planif!$E$17)),"congé",'[1]matrice compétence'!N24) -> 0 | P24: 13 | Q24: 12 | R24: =ADDRESS(52,VLOOKUP(ROWS($1:13),$P$12:$Q$24,2,0)-1) -> $K$52
A25: Loïc | B25: =IF(ISNUMBER(SEARCH("*"&[1]paramètre!$A$19&"*",[1]Planif!$E$18)),"congé",'[1]matrice compétence'!B25) -> 0 | C25: =IF(ISNUMBER(SEARCH("*"&[1]paramètre!$A$19&"*",[1]Planif!$E$18)),"congé",'[1]matrice compétence'!C25) -> 0 | D25: =IF(ISNUMBER(SEARCH("*"&[1]paramètre!$A$19&"*",[1]Planif!$E$18)),"congé",'[1]matrice compétence'!D25) -> 0 | E25: =IF(ISNUMBER(SEARCH("*"&[1]paramètre!$A$19&"*",[1]Planif!$E$18)),"congé",'[1]matrice compétence'!E25) -> 0 | F25: =IF(ISNUMBER(SEARCH("*"&[1]paramètre!$A$19&"*",[1]Planif!$E$18)),"congé",'[1]matrice compétence'!F25) -> 3 | G25: =IF(ISNUMBER(SEARCH("*"&[1]paramètre!$A$19&"*",[1]Planif!$E$18)),"congé",'[1]matrice compétence'!G25) -> 0 | H25: =IF(ISNUMBER(SEARCH("*"&[1]paramètre!$A$19&"*",[1]Planif!$E$18)),"congé",'[1]matrice compétence'!H25) -> 3 | I25: =IF(ISNUMBER(SEARCH("*"&[1]paramètre!$A$19&"*",[1]Planif!$E$18)),"congé",'[1]matrice compétence'!I25) -> 0 | ... N25: =IF(ISNUMBER(SEARCH("*"&[1]paramètre!$A$19&"*",[1]Planif!$E$18)),"congé",'[1]matrice compétence'!N25) -> 0
A26: Gaelle | B26: =IF(ISNUMBER(SEARCH("*"&[1]paramètre!$A$19&"*",[1]Planif!$E$19)),"congé",'[1]matrice compétence'!B26) -> 0 | C26: =IF(ISNUMBER(SEARCH("*"&[1]paramètre!$A$19&"*",[1]Planif!$E$19)),"congé",'[1]matrice compétence'!C26) -> 0 | D26: =IF(ISNUMBER(SEARCH("*"&[1]paramètre!$A$19&"*",[1]Planif!$E$19)),"congé",'[1]matrice compétence'!D26) -> 0 | E26: =IF(ISNUMBER(SEARCH("*"&[1]paramètre!$A$19&"*",[1]Planif!$E$19)),"congé",'[1]matrice compétence'!E26) -> 0 | F26: =IF(ISNUMBER(SEARCH("*"&[1]paramètre!$A$19&"*",[1]Planif!$E$19)),"congé",'[1]matrice compétence'!F26) -> 0 | G26: =IF(ISNUMBER(SEARCH("*"&[1]paramètre!$A$19&"*",[1]Planif!$E$19)),"congé",'[1]matrice compétence'!G26) -> 3 | H26: =IF(ISNUMBER(SEARCH("*"&[1]paramètre!$A$19&"*",[1]Planif!$E$19)),"congé",'[1]matrice compétence'!H26) -> 0 | I26: =IF(ISNUMBER(SEARCH("*"&[1]paramètre!$A$19&"*",[1]Planif!$E$19)),"congé",'[1]matrice compétence'!I26) -> 0 | ... N26: =IF(ISNUMBER(SEARCH("*"&[1]paramètre!$A$19&"*",[1]Planif!$E$19)),"congé",'[1]matrice compétence'!N26) -> 0
A27: Abdel | B27: =IF(ISNUMBER(SEARCH("*"&[1]paramètre!$A$19&"*",[1]Planif!$E$20)),"congé",'[1]matrice compétence'!B27) -> 0 | C27: =IF(ISNUMBER(SEARCH("*"&[1]paramètre!$A$19&"*",[1]Planif!$E$20)),"congé",'[1]matrice compétence'!C27) -> 0 | D27: =IF(ISNUMBER(SEARCH("*"&[1]paramètre!$A$19&"*",[1]Planif!$E$20)),"congé",'[1]matrice compétence'!D27) -> 0 | E27: =IF(ISNUMBER(SEARCH("*"&[1]paramètre!$A$19&"*",[1]Planif!$E$20)),"congé",'[1]matrice compétence'!E27) -> 0 | F27: =IF(ISNUMBER(SEARCH("*"&[1]paramètre!$A$19&"*",[1]Planif!$E$20)),"congé",'[1]matrice compétence'!F27) -> 3 | G27: =IF(ISNUMBER(SEARCH("*"&[1]paramètre!$A$19&"*",[1]Planif!$E$20)),"congé",'[1]matrice compétence'!G27) -> 3 | H27: =IF(ISNUMBER(SEARCH("*"&[1]paramètre!$A$19&"*",[1]Planif!$E$20)),"congé",'[1]matrice compétence'!H27) -> 3 | I27: =IF(ISNUMBER(SEARCH("*"&[1]paramètre!$A$19&"*",[1]Planif!$E$20)),"congé",'[1]matrice compétence'!I27) -> 0 | ... N27: =IF(ISNUMBER(SEARCH("*"&[1]paramètre!$A$19&"*",[1]Planif!$E$20)),"congé",'[1]matrice compétence'!N27) -> 0
A28: Marie. | B28: =IF(ISNUMBER(SEARCH("*"&[1]paramètre!$A$19&"*",[1]Planif!$E$21)),"congé",'[1]matrice compétence'!B28) -> 0 | C28: =IF(ISNUMBER(SEARCH("*"&[1]paramètre!$A$19&"*",[1]Planif!$E$21)),"congé",'[1]matrice compétence'!C28) -> 0 | D28: =IF(ISNUMBER(SEARCH("*"&[1]paramètre!$A$19&"*",[1]Planif!$E$21)),"congé",'[1]matrice compétence'!D28) -> 0 | E28: =IF(ISNUMBER(SEARCH("*"&[1]paramètre!$A$19&"*",[1]Planif!$E$21)),"congé",'[1]matrice compétence'!E28) -> 3 | F28: =IF(ISNUMBER(SEARCH("*"&[1]paramètre!$A$19&"*",[1]Planif!$E$21)),"congé",'[1]matrice compétence'!F28) -> 0 | G28: =IF(ISNUMBER(SEARCH("*"&[1]paramètre!$A$19&"*",[1]Planif!$E$21)),"congé",'[1]matrice compétence'!G28) -> 0 | H28: =IF(ISNUMBER(SEARCH("*"&[1]paramètre!$A$19&"*",[1]Planif!$E$21)),"congé",'[1]matrice compétence'!H28) -> 0 | I28: =IF(ISNUMBER(SEARCH("*"&[1]paramètre!$A$19&"*",[1]Planif!$E$21)),"congé",'[1]matrice compétence'!I28) -> 3 | ... N28: =IF(ISNUMBER(SEARCH("*"&[1]paramètre!$A$19&"*",[1]Planif!$E$21)),"congé",'[1]matrice compétence'!N28) -> 0
A29: Célia | B29: =IF(ISNUMBER(SEARCH("*"&[1]paramètre!$A$19&"*",[1]Planif!$E$22)),"congé",'[1]matrice compétence'!B29) -> 0 | C29: =IF(ISNUMBER(SEARCH("*"&[1]paramètre!$A$19&"*",[1]Planif!$E$22)),"congé",'[1]matrice compétence'!C29) -> 0 | D29: =IF(ISNUMBER(SEARCH("*"&[1]paramètre!$A$19&"*",[1]Planif!$E$22)),"congé",'[1]matrice compétence'!D29) -> 0 | E29: =IF(ISNUMBER(SEARCH("*"&[1]paramètre!$A$19&"*",[1]Planif!$E$22)),"congé",'[1]matrice compétence'!E29) -> 0 | F29: =IF(ISNUMBER(SEARCH("*"&[1]paramètre!$A$19&"*",[1]Planif!$E$22)),"congé",'[1]matrice compétence'!F29) -> 0 | G29: =IF(ISNUMBER(SEARCH("*"&[1]paramètre!$A$19&"*",[1]Planif!$E$22)),"congé",'[1]matrice compétence'!G29) -> 0 | H29: =IF(ISNUMBER(SEARCH("*"&[1]paramètre!$A$19&"*",[1]Planif!$E$22)),"congé",'[1]matrice compétence'!H29) -> 0 | I29: =IF(ISNUMBER(SEARCH("*"&[1]paramètre!$A$19&"*",[1]Planif!$E$22)),"congé",'[1]matrice compétence'!I29) -> 0 | ... N29: =IF(ISNUMBER(SEARCH("*"&[1]paramètre!$A$19&"*",[1]Planif!$E$22)),"congé",'[1]matrice compétence'!N29) -> 0
A30: Léna | B30: =IF(ISNUMBER(SEARCH("*"&[1]paramètre!$A$19&"*",[1]Planif!$E$23)),"congé",'[1]matrice compétence'!B30) -> 0 | C30: =IF(ISNUMBER(SEARCH("*"&[1]paramètre!$A$19&"*",[1]Planif!$E$23)),"congé",'[1]matrice compétence'!C30) -> 0 | D30: =IF(ISNUMBER(SEARCH("*"&[1]paramètre!$A$19&"*",[1]Planif!$E$23)),"congé",'[1]matrice compétence'!D30) -> 0 | E30: =IF(ISNUMBER(SEARCH("*"&[1]paramètre!$A$19&"*",[1]Planif!$E$23)),"congé",'[1]matrice compétence'!E30) -> 0 | F30: =IF(ISNUMBER(SEARCH("*"&[1]paramètre!$A$19&"*",[1]Planif!$E$23)),"congé",'[1]matrice compétence'!F30) -> 0 | G30: =IF(ISNUMBER(SEARCH("*"&[1]paramètre!$A$19&"*",[1]Planif!$E$23)),"congé",'[1]matrice compétence'!G30) -> 0 | H30: =IF(ISNUMBER(SEARCH("*"&[1]paramètre!$A$19&"*",[1]Planif!$E$23)),"congé",'[1]matrice compétence'!H30) -> 0 | I30: =IF(ISNUMBER(SEARCH("*"&[1]paramètre!$A$19&"*",[1]Planif!$E$23)),"congé",'[1]matrice compétence'!I30) -> 0 | ... N30: =IF(ISNUMBER(SEARCH("*"&[1]paramètre!$A$19&"*",[1]Planif!$E$23)),"congé",'[1]matrice compétence'!N30) -> 0
A31: Mathilde | B31: =IF(ISNUMBER(SEARCH("*"&[1]paramètre!$A$19&"*",[1]Planif!$E$24)),"congé",'[1]matrice compétence'!B31) -> 0 | C31: =IF(ISNUMBER(SEARCH("*"&[1]paramètre!$A$19&"*",[1]Planif!$E$24)),"congé",'[1]matrice compétence'!C31) -> 0 | D31: =IF(ISNUMBER(SEARCH("*"&[1]paramètre!$A$19&"*",[1]Planif!$E$24)),"congé",'[1]matrice compétence'!D31) -> 0 | E31: =IF(ISNUMBER(SEARCH("*"&[1]paramètre!$A$19&"*",[1]Planif!$E$24)),"congé",'[1]matrice compétence'!E31) -> 0 | F31: =IF(ISNUMBER(SEARCH("*"&[1]paramètre!$A$19&"*",[1]Planif!$E$24)),"congé",'[1]matrice compétence'!F31) -> 1 | G31: =IF(ISNUMBER(SEARCH("*"&[1]paramètre!$A$19&"*",[1]Planif!$E$24)),"congé",'[1]matrice compétence'!G31) -> 3 | H31: =IF(ISNUMBER(SEARCH("*"&[1]paramètre!$A$19&"*",[1]Planif!$E$24)),"congé",'[1]matrice compétence'!H31) -> 0 | I31: =IF(ISNUMBER(SEARCH("*"&[1]paramètre!$A$19&"*",[1]Planif!$E$24)),"congé",'[1]matrice compétence'!I31) -> 0 | ... N31: =IF(ISNUMBER(SEARCH("*"&[1]paramètre!$A$19&"*",[1]Planif!$E$24)),"congé",'[1]matrice compétence'!N31) -> 0
A32: Amélia | B32: =IF(ISNUMBER(SEARCH("*"&[1]paramètre!$A$19&"*",[1]Planif!$E$25)),"congé",'[1]matrice compétence'!B32) -> 0 | C32: =IF(ISNUMBER(SEARCH("*"&[1]paramètre!$A$19&"*",[1]Planif!$E$25)),"congé",'[1]matrice compétence'!C32) -> 0 | D32: =IF(ISNUMBER(SEARCH("*"&[1]paramètre!$A$19&"*",[1]Planif!$E$25)),"congé",'[1]matrice compétence'!D32) -> 0 | E32: =IF(ISNUMBER(SEARCH("*"&[1]paramètre!$A$19&"*",[1]Planif!$E$25)),"congé",'[1]matrice compétence'!E32) -> 3 | F32: =IF(ISNUMBER(SEARCH("*"&[1]paramètre!$A$19&"*",[1]Planif!$E$25)),"congé",'[1]matrice compétence'!F32) -> 0 | G32: =IF(ISNUMBER(SEARCH("*"&[1]paramètre!$A$19&"*",[1]Planif!$E$25)),"congé",'[1]matrice compétence'!G32) -> 0 | H32: =IF(ISNUMBER(SEARCH("*"&[1]paramètre!$A$19&"*",[1]Planif!$E$25)),"congé",'[1]matrice compétence'!H32) -> 0 | I32: =IF(ISNUMBER(SEARCH("*"&[1]paramètre!$A$19&"*",[1]Planif!$E$25)),"congé",'[1]matrice compétence'!I32) -> 0 | ... N32: =IF(ISNUMBER(SEARCH("*"&[1]paramètre!$A$19&"*",[1]Planif!$E$25)),"congé",'[1]matrice compétence'!N32) -> 0
A33: Céline | B33: =IF(ISNUMBER(SEARCH("*"&[1]paramètre!$A$19&"*",[1]Planif!$E$26)),"congé",'[1]matrice compétence'!B33) -> 0 | C33: =IF(ISNUMBER(SEARCH("*"&[1]paramètre!$A$19&"*",[1]Planif!$E$26)),"congé",'[1]matrice compétence'!C33) -> 0 | D33: =IF(ISNUMBER(SEARCH("*"&[1]paramètre!$A$19&"*",[1]Planif!$E$26)),"congé",'[1]matrice compétence'!D33) -> 0 | E33: =IF(ISNUMBER(SEARCH("*"&[1]paramètre!$A$19&"*",[1]Planif!$E$26)),"congé",'[1]matrice compétence'!E33) -> 0 | F33: =IF(ISNUMBER(SEARCH("*"&[1]paramètre!$A$19&"*",[1]Planif!$E$26)),"congé",'[1]matrice compétence'!F33) -> 0 | G33: =IF(ISNUMBER(SEARCH("*"&[1]paramètre!$A$19&"*",[1]Planif!$E$26)),"congé",'[1]matrice compétence'!G33) -> 0 | H33: =IF(ISNUMBER(SEARCH("*"&[1]paramètre!$A$19&"*",[1]Planif!$E$26)),"congé",'[1]matrice compétence'!H33) -> 0 | I33: =IF(ISNUMBER(SEARCH("*"&[1]paramètre!$A$19&"*",[1]Planif!$E$26)),"congé",'[1]matrice compétence'!I33) -> 0 | ... N33: =IF(ISNUMBER(SEARCH("*"&[1]paramètre!$A$19&"*",[1]Planif!$E$26)),"congé",'[1]matrice compétence'!N33) -> 0 | T33: david ntk
A34: Morgane | B34: =IF(ISNUMBER(SEARCH("*"&[1]paramètre!$A$19&"*",[1]Planif!$E$27)),"congé",'[1]matrice compétence'!B34) -> 0 | C34: =IF(ISNUMBER(SEARCH("*"&[1]paramètre!$A$19&"*",[1]Planif!$E$27)),"congé",'[1]matrice compétence'!C34) -> 0 | D34: =IF(ISNUMBER(SEARCH("*"&[1]paramètre!$A$19&"*",[1]Planif!$E$27)),"congé",'[1]matrice compétence'!D34) -> 0 | E34: =IF(ISNUMBER(SEARCH("*"&[1]paramètre!$A$19&"*",[1]Planif!$E$27)),"congé",'[1]matrice compétence'!E34) -> 0 | F34: =IF(ISNUMBER(SEARCH("*"&[1]paramètre!$A$19&"*",[1]Planif!$E$27)),"congé",'[1]matrice compétence'!F34) -> 0 | G34: =IF(ISNUMBER(SEARCH("*"&[1]paramètre!$A$19&"*",[1]Planif!$E$27)),"congé",'[1]matrice compétence'!G34) -> 0 | H34: =IF(ISNUMBER(SEARCH("*"&[1]paramètre!$A$19&"*",[1]Planif!$E$27)),"congé",'[1]matrice compétence'!H34) -> 0 | I34: =IF(ISNUMBER(SEARCH("*"&[1]paramètre!$A$19&"*",[1]Planif!$E$27)),"congé",'[1]matrice compétence'!I34) -> 0 | ... N34: =IF(ISNUMBER(SEARCH("*"&[1]paramètre!$A$19&"*",[1]Planif!$E$27)),"congé",'[1]matrice compétence'!N34) -> 0 | T34: FALSE | U34: marche pas
A35: limite terch | B35: 3 | E35: 4 | J35: 2 | L35: 3
A37: personne formée par anaylse | B37: =COUNTIF(B13:B34,3) -> 5 | C37: =COUNTIF(C13:C34,3) -> 4 | D37: =COUNTIF(D13:D34,3) -> 3 | E37: =COUNTIF(E13:E34,3) -> 6 | F37: =COUNTIF(F13:F34,3) -> 4 | G37: =COUNTIF(G13:G34,3) -> 5 | H37: =COUNTIF(H13:H34,3) -> 5 | I37: =COUNTIF(I13:I34,3) -> 4 | ... N37: =COUNTIF(N13:N34,3) -> 4
A38: personnes formées poste | B38: =MAX(B37:D37) -> 5 | E38: =MAX(E37:I37) -> 6 | J38: =MAX(J37:K37) -> 4 | L38: =MAX(L37:N37) -> 5
A39: nb de congé par colonnes | B39: =COUNTIF(B13:B34,"Congé") -> 0 | C39: =COUNTIF(C13:C34,"Congé") -> 0 | D39: =COUNTIF(D13:D34,"Congé") -> 0 | E39: =COUNTIF(E13:E34,"Congé") -> 0 | F39: =COUNTIF(F13:F34,"Congé") -> 0 | G39: =COUNTIF(G13:G34,"Congé") -> 0 | H39: =COUNTIF(H13:H34,"Congé") -> 0 | I39: =COUNTIF(I13:I34,"Congé") -> 0 | ... N39: =COUNTIF(N13:N34,"Congé") -> 0
G41: Tronc commun
F45: 52
P47: OK
A49: Nombre de Tech par Secteur | B49: =COUNTIF(T55:T76,"VRAI") -> 5 | F49: =COUNTIF(U55:U76,"VRAI") -> 10 | I49: =COUNTIF(V55:V76,"VRAI") -> 5 | L49: =COUNTIF(W55:W76,"VRAI") -> 7
A50: Ajout Saisonniers | B50: 0 | E50: Ajout Saisonniers | F50: 0 | H50: Ajout Saisonniers | I50: 0 | K50: Ajout Saisonniers | L50: 0
A52: Limite atteinte | B52: =IF(B49-C55+B50<=3,A52,A53) -> Limite non atteinte | E52: Limite atteinte | F52: =IF(F49-G55+F50<=5,E52,E53) -> Limite non atteinte | H52: Limite atteinte | I52: =IF(I49-J55+I50<=2,H52,H53) -> Limite non atteinte | K52: Limite atteinte | L52: =IF(L49-M55+L50<=3,K52,K53) -> Limite non atteinte
A53: Limite non atteinte | E53: Limite non atteinte | H53: Limite non atteinte | K53: Limite non atteinte | T53: Nombre de tech par secteur | X53: Nombre de congé par secteur
...
