Workbook

Sheet Feuil1
A1: Matrice des compétences | E1: 0 sans formations
E3: 1 débutant
E5: 2 supervisé
E7: 3 autonome | G7: Attente d'informations
E9: 4 Expert / formateur | G9: besoin de formation de formateur
B11: 1 tech | C11: 1 tech | D11: 1 tech | E11: 1 tech | F11: 1 tech | G11: 1 tech | H11: 1 tech | I11: 1/2 tech | J11: 1 tech | K11: 1 tech | L11: 1 tech | M11: 1 tech | N11: 1/2 tech
A12: Technicien(ne) | B12: NTK | C12: PT | D12: Flux | E12: Metrohm | F12: DBO | G12: DCO | H12: MES filtration | I12: Obs microscopique | J12: MS | K12: MES/MV | L12: Poches | M12: Ampoules | N12: AGV | P12: {=ROW($1:$13)} -> 1 | Q12: 2 | R12: =ADDRESS(52,VLOOKUP(ROWS($1:1),$P$12:$Q$24,2,0)-1) -> $A$52
A13: David | B13: =IF(ISNUMBER(SEARCH("*"&[1]paramètre!$A$19&"*",[1]Planif!$E$6)),"congé",'[1]matrice compétence'!B13) -> 3 | C13: =IF(ISNUMBER(SEARCH("*"&[1]paramètre!$A$19&"*",[1]Planif!$E$6)),"congé",'[1]matrice compétence'!C13) -> 3 | D13: =IF(ISNUMBER(SEARCH("*"&[1]paramètre!$A$19&"*",[1]Planif!$E$6)),"congé",'[1]matrice compétence'!D13) -> 3 | E13: =IF(ISNUMBER(SEARCH("*"&[1]paramètre!$A$19&"*",[1]Planif!$E$6)),"congé",'[1]matrice compétence'!E13) -> 0 | F13: =IF(ISNUMBER(SEARCH("*"&[1]paramètre!$A$19&"*",[1]Planif!$E$6)),"congé",'[1]matrice compétence'!F13) -> 0 | G13: =IF(ISNUMBER(SEARCH("*"&[1]paramètre!$A$19&"*",[1]Planif!$E$6)),"congé",'[1]matrice compétence'!G13) -> 0 | H13: =IF(ISNUMBER(SEARCH("*"&[1]paramètre!$A$19&"*",[1]Planif!$E$6)),"congé",'[1]matrice compétence'!H13) -> 0 | I13: =IF(ISNUMBER(SEARCH("*"&[1]paramètre!$A$19&"*",[1]Planif!$E$6)),"congé",'[1]matrice compétence'!I13) -> 0 | ... N13: =IF(ISNUMBER(SEARCH("*"&[1]paramètre!$A$19&"*",[1]Planif!$E$6)),"congé",'[1]matrice compétence'!N13) -> 0 | P13: 2 | Q13: 2 | R13: =ADDRESS(52,VLOOKUP(ROWS($1:2),$P$12:$Q$24,2,0)-1) -> $A$52
A14: Maxime | B14: =IF(ISNUMBER(SEARCH("*"&[1]paramètre!$A$19&"*",[1]Planif!$E$7)),"congé",'[1]matrice compétence'!B14) -> 3 | C14: =IF(ISNUMBER(SEARCH("*"&[1]paramètre!$A$19&"*",[1]Planif!$E$7)),"congé",'[1]matrice compétence'!C14) -> 3 | D14: =IF(ISNUMBER(SEARCH("*"&[1]paramètre!$A$19&"*",[1]Planif!$E$7)),"congé",'[1]matrice compétence'!D14) -> 3 | E14: =IF(ISNUMBER(SEARCH("*"&[1]paramètre!$A$19&"*",[1]Planif!$E$7)),"congé",'[1]matrice compétence'!E14) -> 0 | F14: =IF(ISNUMBER(SEARCH("*"&[1]paramètre!$A$19&"*",[1]Planif!$E$7)),"congé",'[1]matrice compétence'!F14) -> 0 | G14: =IF(ISNUMBER(SEARCH("*"&[1]paramètre!$A$19&"*",[1]Planif!$E$7)),"congé",'[1]matrice compétence'!G14) -> 0 | H14: =IF(ISNUMBER(SEARCH("*"&[1]paramètre!$A$19&"*",[1]Planif!$E$7)),"congé",'[1]matrice compétence'!H14) -> 0 | I14: =IF(ISNUMBER(SEARCH("*"&[1]paramètre!$A$19&"*",[1]Planif!$E$7)),"congé",'[1]matrice compétence'!I14) -> 0 | ... N14: =IF(ISNUMBER(SEARCH("*"&[1]paramètre!$A$19&"*",[1]Planif!$E$7)),"congé",'[1]matrice compétence'!N14) -> 0 | P14: 3 | Q14: 2 | R14: =ADDRESS(52,VLOOKUP(ROWS($1:3),$P$12:$Q$24,2,0)-1) -> $A$52
A15: Irène | B15: =IF(ISNUMBER(SEARCH("*"&[1]paramètre!$A$19&"*",[1]Planif!$E$8)),"congé",'[1]matrice compétence'!B15) -> 3 | C15: =IF(ISNUMBER(SEARCH("*"&[1]paramètre!$A$19&"*",[1]Planif!$E$8)),"congé",'[1]matrice compétence'!C15) -> 3 | D15: =IF(ISNUMBER(SEARCH("*"&[1]paramètre!$A$19&"*",[1]Planif!$E$8)),"congé",'[1]matrice compétence'!D15) -> 3 | E15: =IF(ISNUMBER(SEARCH("*"&[1]paramètre!$A$19&"*",[1]Planif!$E$8)),"congé",'[1]matrice compétence'!E15) -> 3 | F15: =IF(ISNUMBER(SEARCH("*"&[1]paramètre!$A$19&"*",[1]Planif!$E$8)),"congé",'[1]matrice compétence'!F15) -> 0 | G15: =IF(ISNUMBER(SEARCH("*"&[1]paramètre!$A$19&"*",[1]Planif!$E$8)),"congé",'[1]matrice compétence'!G15) -> 0 | H15: =IF(ISNUMBER(SEARCH("*"&[1]paramètre!$A$19&"*",[1]Planif!$E$8)),"congé",'[1]matrice compétence'!H15) -> 0 | I15: =IF(ISNUMBER(SEARCH("*"&[1]paramètre!$A$19&"*",[1]Planif!$E$8)),"congé",'[1]matrice compétence'!I15) -> 0 | ... N15: =IF(ISNUMBER(SEARCH("*"&[1]paramètre!$A$19&"*",[1]Planif!$E$8)),"congé",'[1]matrice compétence'!N15) -> 0 | P15: 4 | Q15: 6 | R15: =ADDRESS(52,VLOOKUP(ROWS($1:4),$P$12:$Q$24,2,0)-1) -> $E$52
A16: Julie | B16: =IF(ISNUMBER(SEARCH("*"&[1]paramètre!$A$19&"*",[1]Planif!$E$9)),"congé",'[1]matrice compétence'!B16) -> 3 | C16: =IF(ISNUMBER(SEARCH("*"&[1]paramètre!$A$19&"*",[1]Planif!$E$9)),"congé",'[1]matrice compétence'!C16) -> 3 | D16: =IF(ISNUMBER(SEARCH("*"&[1]paramètre!$A$19&"*",[1]Planif!$E$9)),"congé",'[1]matrice compétence'!D16) -> 0 | E16: =IF(ISNUMBER(SEARCH("*"&[1]paramètre!$A$19&"*",[1]Planif!$E$9)),"congé",'[1]matrice compétence'!E16) -> 3 | F16: =IF(ISNUMBER(SEARCH("*"&[1]paramètre!$A$19&"*",[1]Planif!$E$9)),"congé",'[1]matrice compétence'!F16) -> 0 | G16: =IF(ISNUMBER(SEARCH("*"&[1]paramètre!$A$19&"*",[1]Planif!$E$9)),"congé",'[1]matrice compétence'!G16) -> 0 | H16: =IF(ISNUMBER(SEARCH("*"&[1]paramètre!$A$19&"*",[1]Planif!$E$9)),"congé",'[1]matrice compétence'!H16) -> 3 | I16: =IF(ISNUMBER(SEARCH("*"&[1]paramètre!$A$19&"*",[1]Planif!$E$9)),"congé",'[1]matrice compétence'!I16) -> 3 | ... N16: =IF(ISNUMBER(SEARCH("*"&[1]paramètre!$A$19&"*",[1]Planif!$E$9)),"congé",'[1]matrice compétence'!N16) -> 0 | P16: 5 | Q16: 6 | R16: =ADDRESS(52,VLOOKUP(ROWS($1:5),$P$12:$Q$24,2,0)-1) -> $E$52
A17: Samy | B17: =IF(ISNUMBER(SEARCH("*"&[1]paramètre!$A$19&"*",[1]Planif!$E$10)),"congé",'[1]matrice compétence'!B17) -> 3 | C17: =IF(ISNUMBER(SEARCH("*"&[1]paramètre!$A$19&"*",[1]Planif!$E$10)),"congé",'[1]matrice compétence'!C17) -> 0 | D17: =IF(ISNUMBER(SEARCH("*"&[1]paramètre!$A$19&"*",[1]Planif!$E$10)),"congé",'[1]matrice compétence'!D17) -> 0 | E17: =IF(ISNUMBER(SEARCH("*"&[1]paramètre!$A$19&"*",[1]Planif!$E$10)),"congé",'[1]matrice compétence'!E17) -> 3 | F17: =IF(ISNUMBER(SEARCH("*"&[1]paramètre!$A$19&"*",[1]Planif!$E$10)),"congé",'[1]matrice compétence'!F17) -> 3 | G17: =IF(ISNUMBER(SEARCH("*"&[1]paramètre!$A$19&"*",[1]Planif!$E$10)),"congé",'[1]matrice compétence'!G17) -> 3 | H17: =IF(ISNUMBER(SEARCH("*"&[1]paramètre!$A$19&"*",[1]Planif!$E$10)),"congé",'[1]matrice compétence'!H17) -> 3 | I17: =IF(ISNUMBER(SEARCH("*"&[1]paramètre!$A$19&"*",[1]Planif!$E$10)),"congé",'[1]matrice compétence'!I17) -> 3 | ... N17: =IF(ISNUMBER(SEARCH("*"&[1]paramètre!$A$19&"*",[1]Planif!$E$10)),"congé",'[1]matrice compétence'!N17) -> 0 | P17: 6 | Q17: 6 | R17: =ADDRESS(52,VLOOKUP(ROWS($1:6),$P$12:$Q$24,2,0)-1) -> $E$52
A18: Hawa | B18: =IF(ISNUMBER(SEARCH("*"&[1]paramètre!$A$19&"*",[1]Planif!$E$11)),"congé",'[1]matrice compétence'!B18) -> 0 | C18: =IF(ISNUMBER(SEARCH("*"&[1]paramètre!$A$19&"*",[1]Planif!$E$11)),"congé",'[1]matrice compétence'!C18) -> 0 | D18: =IF(ISNUMBER(SEARCH("*"&[1]paramètre!$A$19&"*",[1]Planif!$E$11)),"congé",'[1]matrice compétence'!D18) -> 0 | E18: =IF(ISNUMBER(SEARCH("*"&[1]paramètre!$A$19&"*",[1]Planif!$E$11)),"congé",'[1]matrice compétence'!E18) -> 3 | F18: =IF(ISNUMBER(SEARCH("*"&[1]paramètre!$A$19&"*",[1]Planif!$E$11)),"congé",'[1]matrice compétence'!F18) -> 3 | G18: =IF(ISNUMBER(SEARCH("*"&[1]paramètre!$A$19&"*",[1]Planif!$E$11)),"congé",'[1]matrice compétence'!G18) -> 3 | H18: =IF(ISNUMBER(SEARCH("*"&[1]paramètre!$A$19&"*",[1]Planif!$E$11)),"congé",'[1]matrice compétence'!H18) -> 3 | I18: =IF(ISNUMBER(SEARCH("*"&[1]paramètre!$A$19&"*",[1]Planif!$E$11)),"congé",'[1]matrice compétence'!I18) -> 3 | ... N18: =IF(ISNUMBER(SEARCH("*"&[1]paramètre!$A$19&"*",[1]Planif!$E$11)),"congé",'[1]matrice compétence'!N18) -> 0 | P18: 7 | Q18: 6 | R18: =ADDRESS(52,VLOOKUP(ROWS($1:7),$P$12:$Q$24,2,0)-1) -> $E$52
A19: Kanni | B19: =IF(ISNUMBER(SEARCH("*"&[1]paramètre!$A$19&"*",[1]Planif!$E$12)),"congé",'[1]matrice compétence'!B19) -> 0 | C19: =IF(ISNUMBER(SEARCH("*"&[1]paramètre!$A$19&"*",[1]Planif!$E$12)),"congé",'[1]matrice compétence'!C19) -> 0 | D19: =IF(ISNUMBER(SEARCH("*"&[1]paramètre!$A$19&"*",[1]Planif!$E$12)),"congé",'[1]matrice compétence'!D19) -> 0 | E19: =IF(ISNUMBER(SEARCH("*"&[1]paramètre!$A$19&"*",[1]Planif!$E$12)),"congé",'[1]matrice compétence'!E19) -> 0 | F19: =IF(ISNUMBER(SEARCH("*"&[1]paramètre!$A$19&"*",[1]Planif!$E$12)),"congé",'[1]matrice compétence'!F19) -> 0 | G19: =IF(ISNUMBER(SEARCH("*"&[1]paramètre!$A$19&"*",[1]Planif!$E$12)),"congé",'[1]matrice compétence'!G19) -> 0 | H19: =IF(ISNUMBER(SEARCH("*"&[1]paramètre!$A$19&"*",[1]Planif!$E$12)),"congé",'[1]matrice compétence'!H19) -> 0 | I19: =IF(ISNUMBER(SEARCH("*"&[1]paramètre!$A$19&"*",[1]Planif!$E$12)),"congé",'[1]matrice compétence'!I19) -> 0 | ... N19: =IF(ISNUMBER(SEARCH("*"&[1]paramètre!$A$19&"*",[1]Planif!$E$12)),"congé",'[1]matrice compétence'!N19) -> 3 | P19: 8 | Q19: 6 | R19: =ADDRESS(52,VLOOKUP(ROWS($1:8),$P$12:$Q$24,2,0)-1) -> $E$52
A20: Marie-Laurence | B20: =IF(ISNUMBER(SEARCH("*"&[1]paramètre!$A$19&"*",[1]Planif!$E$13)),"congé",'[1]matrice compétence'!B20) -> 0 | C20: =IF(ISNUMBER(SEARCH("*"&[1]paramètre!$A$19&"*",[1]Planif!$E$13)),"congé",'[1]matrice compétence'!C20) -> 0 | D20: =IF(ISNUMBER(SEARCH("*"&[1]paramètre!$A$19&"*",[1]Planif!$E$13)),"congé",'[1]matrice compétence'!D20) -> 0 | E20: =IF(ISNUMBER(SEARCH("*"&[1]paramètre!$A$19&"*",[1]Planif!$E$13)),"congé",'[1]matrice compétence'!E20) -> 0 | F20: =IF(ISNUMBER(SEARCH("*"&[1]paramètre!$A$19&"*",[1]Planif!$E$13)),"congé",'[1]matrice compétence'!F20) -> 0 | G20: =IF(ISNUMBER(SEARCH("*"&[1]paramètre!$A$19&"*",[1]Planif!$E$13)),"congé",'[1]matrice compétence'!G20) -> 0 | H20: =IF(ISNUMBER(SEARCH("*"&[1]paramètre!$A$19&"*",[1]Planif!$E$13)),"congé",'[1]matrice compétence'!H20) -> 0 | I20: =IF(ISNUMBER(SEARCH("*"&[1]paramètre!$A$19&"*",[1]Planif!$E$13)),"congé",'[1]matrice compétence'!I20) -> 0 | ... N20: =IF(ISNUMBER(SEARCH("*"&[1]paramètre!$A$19&"*",[1]Planif!$E$13)),"congé",'[1]matrice compétence'!N20) -> 3 | P20: 9 | Q20: 9 | R20: =ADDRESS(52,VLOOKUP(ROWS($1:9),$P$12:$Q$24,2,0)-1) -> $H$52
A21: Myris | B21: =IF(ISNUMBER(SEARCH("*"&[1]paramètre!$A$19&"*",[1]Planif!$E$14)),"congé",'[1]matrice compétence'!B21) -> 0 | C21: =IF(ISNUMBER(SEARCH("*"&[1]paramètre!$A$19&"*",[1]Planif!$E$14)),"congé",'[1]matrice compétence'!C21) -> 0 | D21: =IF(ISNUMBER(SEARCH("*"&[1]paramètre!$A$19&"*",[1]Planif!$E$14)),"congé",'[1]matrice compétence'!D21) -> 0 | E21: =IF(ISNUMBER(SEARCH("*"&[1]paramètre!$A$19&"*",[1]Planif!$E$14)),"congé",'[1]matrice compétence'!E21) -> 0 | F21: =IF(ISNUMBER(SEARCH("*"&[1]paramètre!$A$19&"*",[1]Planif!$E$14)),"congé",'[1]matrice compétence'!F21) -> 0 | G21: =IF(ISNUMBER(SEARCH("*"&[1]paramètre!$A$19&"*",[1]Planif!$E$14)),"congé",'[1]matrice compétence'!G21) -> 0 | H21: =IF(ISNUMBER(SEARCH("*"&[1]paramètre!$A$19&"*",[1]Planif!$E$14)),"congé",'[1]matrice compétence'!H21) -> 0 | I21: =IF(ISNUMBER(SEARCH("*"&[1]paramètre!$A$19&"*",[1]Planif!$E$14)),"congé",'[1]matrice compétence'!I21) -> 0 | ... N21: =IF(ISNUMBER(SEARCH("*"&[1]paramètre!$A$19&"*",[1]Planif!$E$14)),"congé",'[1]matrice compétence'!N21) -> 3 | P21: 10 | Q21: 9 | R21: =ADDRESS(52,VLOOKUP(ROWS($1:10),$P$12:$Q$24,2,0)-1) -> $H$52
A22: Florian | B22: 0 | C22: =IF(ISNUMBER(SEARCH("*"&[1]paramètre!$A$19&"*",[1]Planif!$E$15)),"congé",'[1]matrice compétence'!C22) -> 0 | D22: =IF(ISNUMBER(SEARCH("*"&[1]paramètre!$A$19&"*",[1]Planif!$E$15)),"congé",'[1]matrice compétence'!D22) -> 0 | E22: =IF(ISNUMBER(SEARCH("*"&[1]paramètre!$A$19&"*",[1]Planif!$E$15)),"congé",'[1]matrice compétence'!E22) -> 0 | F22: =IF(ISNUMBER(SEARCH("*"&[1]paramètre!$A$19&"*",[1]Planif!$E$15)),"congé",'[1]matrice compétence'!F22) -> 0 | G22: =IF(ISNUMBER(SEARCH("*"&[1]paramètre!$A$19&"*",[1]Planif!$E$15)),"congé",'[1]matrice compétence'!G22) -> 0 | H22: =IF(ISNUMBER(SEARCH("*"&[1]paramètre!$A$19&"*",[1]Planif!$E$15)),"congé",'[1]matrice compétence'!H22) -> 0 | I22: =IF(ISNUMBER(SEARCH("*"&[1]paramètre!$A$19&"*",[1]Planif!$E$15)),"congé",'[1]matrice compétence'!I22) -> 0 | J22: =IF(ISNUMBER(SEARCH("*"&[1]paramètre!$A$19&"*",[1]Planif!$E$15)),"congé",'[1]matrice compétence'!J22) -> 0 | ... N22: =IF(ISNUMBER(SEARCH("*"&[1]paramètre!$A$19&"*",[1]Planif!$E$15)),"congé",'[1]matrice compétence'!N22) -> 3 | P22: 11 | Q22: 12 | R22: =ADDRESS(52,VLOOKUP(ROWS($1:11),$P$12:$Q$24,2,0)-1) -> $K$52
A23: Laëtitia | B23: =IF(ISNUMBER(SEARCH("*"&[1]paramètre!$A$19&"*",[1]Planif!$E$16)),"congé",'[1]matrice compétence'!B23) -> 0 | C23: =IF(ISNUMBER(SEARCH("*"&[1]paramètre!$A$19&"*",[1]Planif!$E$16)),"congé",'[1]matrice compétence'!C23) -> 0 | D23: =IF(ISNUMBER(SEARCH("*"&[1]paramètre!$A$19&"*",[1]Planif!$E$16)),"congé",'[1]matrice compétence'!D23) -> 0 | E23: =IF(ISNUMBER(SEARCH("*"&[1]paramètre!$A$19&"*",[1]Planif!$E$16)),"congé",'[1]matrice compétence'!E23) -> 0 | F23: =IF(ISNUMBER(SEARCH("*"&[1]paramètre!$A$19&"*",[1]Planif!$E$16)),"congé",'[1]matrice compétence'!F23) -> 0 | G23: =IF(ISNUMBER(SEARCH("*"&[1]paramètre!$A$19&"*",[1]Planif!$E$16)),"congé",'[1]matrice compétence'!G23) -> 0 | H23: =IF(ISNUMBER(SEARCH("*"&[1]paramètre!$A$19&"*",[1]Planif!$E$16)),"congé",'[1]matrice compétence'!H23) -> 0 | I23: =IF(ISNUMBER(SEARCH("*"&[1]paramètre!$A$19&"*",[1]Planif!$E$16)),"congé",'[1]matrice compétence'!I23) -> 0 | ... N23: =IF(ISNUMBER(SEARCH("*"&[1]paramètre!$A$19&"*",[1]Planif!$E$16)),"congé",'[1]matrice compétence'!N23) -> 0 | P23: 12 | Q23: 12 | R23: =ADDRESS(52,VLOOKUP(ROWS($1:12),$P$12:$Q$24,2,0)-1) -> $K$52
A24: Isabelle | B24: =IF(ISNUMBER(SEARCH("*"&[1]paramètre!$A$19&"*",[1]Planif!$E$17)),"congé",'[1]matrice compétence'!B24) -> 0 | C24: =IF(ISNUMBER(SEARCH("*"&[1]paramètre!$A$19&"*",[1]Planif!$E$17)),"congé",'[1]matrice compétence'!C24) -> 0 | D24: =IF(ISNUMBER(SEARCH("*"&[1]paramètre!$A$19&"*",[1]Planif!$E$17)),"congé",'[1]matrice compétence'!D24) -> 0 | E24: =IF(ISNUMBER(SEARCH("*"&[1]paramètre!$A$19&"*",[1]Planif!$E$17)),"congé",'[1]matrice compétence'!E24) -> 0 | F24: =IF(ISNUMBER(SEARCH("*"&[1]paramètre!$A$19&"*",[1]Planif!$E$17)),"congé",'[1]matrice compétence'!F24) -> 0 | G24: =IF(ISNUMBER(SEARCH("*"&[1]paramètre!$A$19&"*",[1]Planif!$E$17)),"congé",'[1]matrice compétence'!G24) -> 0 | H24: =IF(ISNUMBER(SEARCH("*"&[1]paramètre!$A$19&"*",[1]Planif!$E$17)),"congé",'[1]matrice compétence'!H24) -> 0 | I24: =IF(ISNUMBER(SEARCH("*"&[1]paramètre!$A$19&"*",[1]Planif!$E$17)),"congé",'[1]matrice compétence'!I24) -> 0 | ... N24: =IF(ISNUMBER(SEARCH("*"&[1]paramètre!$A$19&"*",[1]Planif!$E$17)),"congé",'[1]matrice compétence'!N24) -> 0 | P24: 13 | Q24: 12 | R24: =ADDRESS(52,VLOOKUP(ROWS($1:13),$P$12:$Q$24,2,0)-1) -> $K$52
A25: Loïc | B25: =IF(ISNUMBER(SEARCH("*"&[1]paramètre!$A$19&"*",[1]Planif!$E$18)),"congé",'[1]matrice compétence'!B25) -> 0 | C25: =IF(ISNUMBER(SEARCH("*"&[1]paramètre!$A$19&"*",[1]Planif!$E$18)),"congé",'[1]matrice compétence'!C25) -> 0 | D25: =IF(ISNUMBER(SEARCH("*"&[1]paramètre!$A$19&"*",[1]Planif!$E$18)),"congé",'[1]matrice compétence'!D25) -> 0 | E25: =IF(ISNUMBER(SEARCH("*"&[1]paramètre!$A$19&"*",[1]Planif!$E$18)),"congé",'[1]matrice compétence'!E25) -> 0 | F25: =IF(ISNUMBER(SEARCH("*"&[1]paramètre!$A$19&"*",[1]Planif!$E$18)),"congé",'[1]matrice compétence'!F25) -> 3 | G25: =IF(ISNUMBER(SEARCH("*"&[1]paramètre!$A$19&"*",[1]Planif!$E$18)),"congé",'[1]matrice compétence'!G25) -> 0 | H25: =IF(ISNUMBER(SEARCH("*"&[1]paramètre!$A$19&"*",[1]Planif!$E$18)),"congé",'[1]matrice compétence'!H25) -> 3 | I25: =IF(ISNUMBER(SEARCH("*"&[1]paramètre!$A$19&"*",[1]Planif!$E$18)),"congé",'[1]matrice compétence'!I25) -> 0 | ... N25: =IF(ISNUMBER(SEARCH("*"&[1]paramètre!$A$19&"*",[1]Planif!$E$18)),"congé",'[1]matrice compétence'!N25) -> 0
A26: Gaelle | B26: =IF(ISNUMBER(SEARCH("*"&[1]paramètre!$A$19&"*",[1]Planif!$E$19)),"congé",'[1]matrice compétence'!B26) -> 0 | C26: =IF(ISNUMBER(SEARCH("*"&[1]paramètre!$A$19&"*",[1]Planif!$E$19)),"congé",'[1]matrice compétence'!C26) -> 0 | D26: =IF(ISNUMBER(SEARCH("*"&[1]paramètre!$A$19&"*",[1]Planif!$E$19)),"congé",'[1]matrice compétence'!D26) -> 0 | E26: =IF(ISNUMBER(SEARCH("*"&[1]paramètre!$A$19&"*",[1]Planif!$E$19)),"congé",'[1]matrice compétence'!E26) -> 0 | F26: =IF(ISNUMBER(SEARCH("*"&[1]paramètre!$A$19&"*",[1]Planif!$E$19)),"congé",'[1]matrice compétence'!F26) -> 0 | G26: =IF(ISNUMBER(SEARCH("*"&[1]paramètre!$A$19&"*",[1]Planif!$E$19)),"congé",'[1]matrice compétence'!G26) -> 3 | H26: =IF(ISNUMBER(SEARCH("*"&[1]paramètre!$A$19&"*",[1]Planif!$E$19)),"congé",'[1]matrice compétence'!H26) -> 0 | I26: =IF(ISNUMBER(SEARCH("*"&[1]paramètre!$A$19&"*",[1]Planif!$E$19)),"congé",'[1]matrice compétence'!I26) -> 0 | ... N26: =IF(ISNUMBER(SEARCH("*"&[1]paramètre!$A$19&"*",[1]Planif!$E$19)),"congé",'[1]matrice compétence'!N26) -> 0
A27: Abdel | B27: =IF(ISNUMBER(SEARCH("*"&[1]paramètre!$A$19&"*",[1]Planif!$E$20)),"congé",'[1]matrice compétence'!B27) -> 0 | C27: =IF(ISNUMBER(SEARCH("*"&[1]paramètre!$A$19&"*",[1]Planif!$E$20)),"congé",'[1]matrice compétence'!C27) -> 0 | D27: =IF(ISNUMBER(SEARCH("*"&[1]paramètre!$A$19&"*",[1]Planif!$E$20)),"congé",'[1]matrice compétence'!D27) -> 0 | E27: =IF(ISNUMBER(SEARCH("*"&[1]paramètre!$A$19&"*",[1]Planif!$E$20)),"congé",'[1]matrice compétence'!E27) -> 0 | F27: =IF(ISNUMBER(SEARCH("*"&[1]paramètre!$A$19&"*",[1]Planif!$E$20)),"congé",'[1]matrice compétence'!F27) -> 3 | G27: =IF(ISNUMBER(SEARCH("*"&[1]paramètre!$A$19&"*",[1]Planif!$E$20)),"congé",'[1]matrice compétence'!G27) -> 3 | H27: =IF(ISNUMBER(SEARCH("*"&[1]paramètre!$A$19&"*",[1]Planif!$E$20)),"congé",'[1]matrice compétence'!H27) -> 3 | I27: =IF(ISNUMBER(SEARCH("*"&[1]paramètre!$A$19&"*",[1]Planif!$E$20)),"congé",'[1]matrice compétence'!I27) -> 0 | ... N27: =IF(ISNUMBER(SEARCH("*"&[1]paramètre!$A$19&"*",[1]Planif!$E$20)),"congé",'[1]matrice compétence'!N27) -> 0
A28: Marie. | B28: =IF(ISNUMBER(SEARCH("*"&[1]paramètre!$A$19&"*",[1]Planif!$E$21)),"congé",'[1]matrice compétence'!B28) -> 0 | C28: =IF(ISNUMBER(SEARCH("*"&[1]paramètre!$A$19&"*",[1]Planif!$E$21)),"congé",'[1]matrice compétence'!C28) -> 0 | D28: =IF(ISNUMBER(SEARCH("*"&[1]paramètre!$A$19&"*",[1]Planif!$E$21)),"congé",'[1]matrice compétence'!D28) -> 0 | E28: =IF(ISNUMBER(SEARCH("*"&[1]paramètre!$A$19&"*",[1]Planif!$E$21)),"congé",'[1]matrice compétence'!E28) -> 3 | F28: =IF(ISNUMBER(SEARCH("*"&[1]paramètre!$A$19&"*",[1]Planif!$E$21)),"congé",'[1]matrice compétence'!F28) -> 0 | G28: =IF(ISNUMBER(SEARCH("*"&[1]paramètre!$A$19&"*",[1]Planif!$E$21)),"congé",'[1]matrice compétence'!G28) -> 0 | H28: =IF(ISNUMBER(SEARCH("*"&[1]paramètre!$A$19&"*",[1]Planif!$E$21)),"congé",'[1]matrice compétence'!H28) -> 0 | I28: =IF(ISNUMBER(SEARCH("*"&[1]paramètre!$A$19&"*",[1]Planif!$E$21)),"congé",'[1]matrice compétence'!I28) -> 3 | ... N28: =IF(ISNUMBER(SEARCH("*"&[1]paramètre!$A$19&"*",[1]Planif!$E$21)),"congé",'[1]matrice compétence'!N28) -> 0
A29: Célia | B29: =IF(ISNUMBER(SEARCH("*"&[1]paramètre!$A$19&"*",[1]Planif!$E$22)),"congé",'[1]matrice compétence'!B29) -> 0 | C29: =IF(ISNUMBER(SEARCH("*"&[1]paramètre!$A$19&"*",[1]Planif!$E$22)),"congé",'[1]matrice compétence'!C29) -> 0 | D29: =IF(ISNUMBER(SEARCH("*"&[1]paramètre!$A$19&"*",[1]Planif!$E$22)),"congé",'[1]matrice compétence'!D29) -> 0 | E29: =IF(ISNUMBER(SEARCH("*"&[1]paramètre!$A$19&"*",[1]Planif!$E$22)),"congé",'[1]matrice compétence'!E29) -> 0 | F29: =IF(ISNUMBER(SEARCH("*"&[1]paramètre!$A$19&"*",[1]Planif!$E$22)),"congé",'[1]matrice compétence'!F29) -> 0 | G29: =IF(ISNUMBER(SEARCH("*"&[1]paramètre!$A$19&"*",[1]Planif!$E$22)),"congé",'[1]matrice compétence'!G29) -> 0 | H29: =IF(ISNUMBER(SEARCH("*"&[1]paramètre!$A$19&"*",[1]Planif!$E$22)),"congé",'[1]matrice compétence'!H29) -> 0 | I29: =IF(ISNUMBER(SEARCH("*"&[1]paramètre!$A$19&"*",[1]Planif!$E$22)),"congé",'[1]matrice compétence'!I29) -> 0 | ... N29: =IF(ISNUMBER(SEARCH("*"&[1]paramètre!$A$19&"*",[1]Planif!$E$22)),"congé",'[1]matrice compétence'!N29) -> 0
A30: Léna | B30: =IF(ISNUMBER(SEARCH("*"&[1]paramètre!$A$19&"*",[1]Planif!$E$23)),"congé",'[1]matrice compétence'!B30) -> 0 | C30: =IF(ISNUMBER(SEARCH("*"&[1]paramètre!$A$19&"*",[1]Planif!$E$23)),"congé",'[1]matrice compétence'!C30) -> 0 | D30: =IF(ISNUMBER(SEARCH("*"&[1]paramètre!$A$19&"*",[1]Planif!$E$23)),"congé",'[1]matrice compétence'!D30) -> 0 | E30: =IF(ISNUMBER(SEARCH("*"&[1]paramètre!$A$19&"*",[1]Planif!$E$23)),"congé",'[1]matrice compétence'!E30) -> 0 | F30: =IF(ISNUMBER(SEARCH("*"&[1]paramètre!$A$19&"*",[1]Planif!$E$23)),"congé",'[1]matrice compétence'!F30) -> 0 | G30: =IF(ISNUMBER(SEARCH("*"&[1]paramètre!$A$19&"*",[1]Planif!$E$23)),"congé",'[1]matrice compétence'!G30) -> 0 | H30: =IF(ISNUMBER(SEARCH("*"&[1]paramètre!$A$19&"*",[1]Planif!$E$23)),"congé",'[1]matrice compétence'!H30) -> 0 | I30: =IF(ISNUMBER(SEARCH("*"&[1]paramètre!$A$19&"*",[1]Planif!$E$23)),"congé",'[1]matrice compétence'!I30) -> 0 | ... N30: =IF(ISNUMBER(SEARCH("*"&[1]paramètre!$A$19&"*",[1]Planif!$E$23)),"congé",'[1]matrice compétence'!N30) -> 0
A31: Mathilde | B31: =IF(ISNUMBER(SEARCH("*"&[1]paramètre!$A$19&"*",[1]Planif!$E$24)),"congé",'[1]matrice compétence'!B31) -> 0 | C31: =IF(ISNUMBER(SEARCH("*"&[1]paramètre!$A$19&"*",[1]Planif!$E$24)),"congé",'[1]matrice compétence'!C31) -> 0 | D31: =IF(ISNUMBER(SEARCH("*"&[1]paramètre!$A$19&"*",[1]Planif!$E$24)),"congé",'[1]matrice compétence'!D31) -> 0 | E31: =IF(ISNUMBER(SEARCH("*"&[1]paramètre!$A$19&"*",[1]Planif!$E$24)),"congé",'[1]matrice compétence'!E31) -> 0 | F31: =IF(ISNUMBER(SEARCH("*"&[1]paramètre!$A$19&"*",[1]Planif!$E$24)),"congé",'[1]matrice compétence'!F31) -> 1 | G31: =IF(ISNUMBER(SEARCH("*"&[1]paramètre!$A$19&"*",[1]Planif!$E$24)),"congé",'[1]matrice compétence'!G31) -> 3 | H31: =IF(ISNUMBER(SEARCH("*"&[1]paramètre!$A$19&"*",[1]Planif!$E$24)),"congé",'[1]matrice compétence'!H31) -> 0 | I31: =IF(ISNUMBER(SEARCH("*"&[1]paramètre!$A$19&"*",[1]Planif!$E$24)),"congé",'[1]matrice compétence'!I31) -> 0 | ... N31: =IF(ISNUMBER(SEARCH("*"&[1]paramètre!$A$19&"*",[1]Planif!$E$24)),"congé",'[1]matrice compétence'!N31) -> 0
A32: Amélia | B32: =IF(ISNUMBER(SEARCH("*"&[1]paramètre!$A$19&"*",[1]Planif!$E$25)),"congé",'[1]matrice compétence'!B32) -> 0 | C32: =IF(ISNUMBER(SEARCH("*"&[1]paramètre!$A$19&"*",[1]Planif!$E$25)),"congé",'[1]matrice compétence'!C32) -> 0 | D32: =IF(ISNUMBER(SEARCH("*"&[1]paramètre!$A$19&"*",[1]Planif!$E$25)),"congé",'[1]matrice compétence'!D32) -> 0 | E32: =IF(ISNUMBER(SEARCH("*"&[1]paramètre!$A$19&"*",[1]Planif!$E$25)),"congé",'[1]matrice compétence'!E32) -> 3 | F32: =IF(ISNUMBER(SEARCH("*"&[1]paramètre!$A$19&"*",[1]Planif!$E$25)),"congé",'[1]matrice compétence'!F32) -> 0 | G32: =IF(ISNUMBER(SEARCH("*"&[1]paramètre!$A$19&"*",[1]Planif!$E$25)),"congé",'[1]matrice compétence'!G32) -> 0 | H32: =IF(ISNUMBER(SEARCH("*"&[1]paramètre!$A$19&"*",[1]Planif!$E$25)),"congé",'[1]matrice compétence'!H32) -> 0 | I32: =IF(ISNUMBER(SEARCH("*"&[1]paramètre!$A$19&"*",[1]Planif!$E$25)),"congé",'[1]matrice compétence'!I32) -> 0 | ... N32: =IF(ISNUMBER(SEARCH("*"&[1]paramètre!$A$19&"*",[1]Planif!$E$25)),"congé",'[1]matrice compétence'!N32) -> 0
A33: Céline | B33: =IF(ISNUMBER(SEARCH("*"&[1]paramètre!$A$19&"*",[1]Planif!$E$26)),"congé",'[1]matrice compétence'!B33) -> 0 | C33: =IF(ISNUMBER(SEARCH("*"&[1]paramètre!$A$19&"*",[1]Planif!$E$26)),"congé",'[1]matrice compétence'!C33) -> 0 | D33: =IF(ISNUMBER(SEARCH("*"&[1]paramètre!$A$19&"*",[1]Planif!$E$26)),"congé",'[1]matrice compétence'!D33) -> 0 | E33: =IF(ISNUMBER(SEARCH("*"&[1]paramètre!$A$19&"*",[1]Planif!$E$26)),"congé",'[1]matrice compétence'!E33) -> 0 | F33: =IF(ISNUMBER(SEARCH("*"&[1]paramètre!$A$19&"*",[1]Planif!$E$26)),"congé",'[1]matrice compétence'!F33) -> 0 | G33: =IF(ISNUMBER(SEARCH("*"&[1]paramètre!$A$19&"*",[1]Planif!$E$26)),"congé",'[1]matrice compétence'!G33) -> 0 | H33: =IF(ISNUMBER(SEARCH("*"&[1]paramètre!$A$19&"*",[1]Planif!$E$26)),"congé",'[1]matrice compétence'!H33) -> 0 | I33: =IF(ISNUMBER(SEARCH("*"&[1]paramètre!$A$19&"*",[1]Planif!$E$26)),"congé",'[1]matrice compétence'!I33) -> 0 | ... N33: =IF(ISNUMBER(SEARCH("*"&[1]paramètre!$A$19&"*",[1]Planif!$E$26)),"congé",'[1]matrice compétence'!N33) -> 0 | T33: david ntk
A34: Morgane | B34: =IF(ISNUMBER(SEARCH("*"&[1]paramètre!$A$19&"*",[1]Planif!$E$27)),"congé",'[1]matrice compétence'!B34) -> 0 | C34: =IF(ISNUMBER(SEARCH("*"&[1]paramètre!$A$19&"*",[1]Planif!$E$27)),"congé",'[1]matrice compétence'!C34) -> 0 | D34: =IF(ISNUMBER(SEARCH("*"&[1]paramètre!$A$19&"*",[1]Planif!$E$27)),"congé",'[1]matrice compétence'!D34) -> 0 | E34: =IF(ISNUMBER(SEARCH("*"&[1]paramètre!$A$19&"*",[1]Planif!$E$27)),"congé",'[1]matrice compétence'!E34) -> 0 | F34: =IF(ISNUMBER(SEARCH("*"&[1]paramètre!$A$19&"*",[1]Planif!$E$27)),"congé",'[1]matrice compétence'!F34) -> 0 | G34: =IF(ISNUMBER(SEARCH("*"&[1]paramètre!$A$19&"*",[1]Planif!$E$27)),"congé",'[1]matrice compétence'!G34) -> 0 | H34: =IF(ISNUMBER(SEARCH("*"&[1]paramètre!$A$19&"*",[1]Planif!$E$27)),"congé",'[1]matrice compétence'!H34) -> 0 | I34: =IF(ISNUMBER(SEARCH("*"&[1]paramètre!$A$19&"*",[1]Planif!$E$27)),"congé",'[1]matrice compétence'!I34) -> 0 | ... N34: =IF(ISNUMBER(SEARCH("*"&[1]paramètre!$A$19&"*",[1]Planif!$E$27)),"congé",'[1]matrice compétence'!N34) -> 0 | T34: FALSE | U34: marche pas
A35: limite terch | B35: 3 | E35: 4 | J35: 2 | L35: 3
A37: personne formée par anaylse | B37: =COUNTIF(B13:B34,3) -> 5 | C37: =COUNTIF(C13:C34,3) -> 4 | D37: =COUNTIF(D13:D34,3) -> 3 | E37: =COUNTIF(E13:E34,3) -> 6 | F37: =COUNTIF(F13:F34,3) -> 4 | G37: =COUNTIF(G13:G34,3) -> 5 | H37: =COUNTIF(H13:H34,3) -> 5 | I37: =COUNTIF(I13:I34,3) -> 4 | ... N37: =COUNTIF(N13:N34,3) -> 4
A38: personnes formées poste | B38: =MAX(B37:D37) -> 5 | E38: =MAX(E37:I37) -> 6 | J38: =MAX(J37:K37) -> 4 | L38: =MAX(L37:N37) -> 5
A39: nb de congé par colonnes | B39: =COUNTIF(B13:B34,"Congé") -> 0 | C39: =COUNTIF(C13:C34,"Congé") -> 0 | D39: =COUNTIF(D13:D34,"Congé") -> 0 | E39: =COUNTIF(E13:E34,"Congé") -> 0 | F39: =COUNTIF(F13:F34,"Congé") -> 0 | G39: =COUNTIF(G13:G34,"Congé") -> 0 | H39: =COUNTIF(H13:H34,"Congé") -> 0 | I39: =COUNTIF(I13:I34,"Congé") -> 0 | ... N39: =COUNTIF(N13:N34,"Congé") -> 0
G41: Tronc commun
F45: 52
P47: OK
A49: Nombre de Tech par Secteur | B49: =COUNTIF(T55:T76,"VRAI") -> 5 | F49: =COUNTIF(U55:U76,"VRAI") -> 10 | I49: =COUNTIF(V55:V76,"VRAI") -> 5 | L49: =COUNTIF(W55:W76,"VRAI") -> 7
A50: Ajout Saisonniers | B50: 0 | E50: Ajout Saisonniers | F50: 0 | H50: Ajout Saisonniers | I50: 0 | K50: Ajout Saisonniers | L50: 0
A52: Limite atteinte | B52: =IF(B49-C55+B50<=3,A52,A53) -> Limite non atteinte | E52: Limite atteinte | F52: =IF(F49-G55+F50<=5,E52,E53) -> Limite non atteinte | H52: Limite atteinte | I52: =IF(I49-J55+I50<=2,H52,H53) -> Limite non atteinte | K52: Limite atteinte | L52: =IF(L49-M55+L50<=3,K52,K53) -> Limite non atteinte
A53: Limite non atteinte | E53: Limite non atteinte | H53: Limite non atteinte | K53: Limite non atteinte | T53: Nombre de tech par secteur | X53: Nombre de congé par secteur
A54: NP | C54: Congé NP | E54: ORGA | G54: Congé Orga | H54: Boue | J54: Congé Boue | K54: NSD | M54: Congé NSD | P54: Technicien | Q54: Formule de présence | T54: NP | U54: ORGA | V54: BOUE | W54: NSD | X54: NP | Y54: ORGA | Z54: BOUE | AA54: NSD
A55: David | B55: =IF(OR(B13="congé",C13="congé",D13="congé"),"Congé","") | C55: =COUNTIF(X55:X76,"VRAI") -> 0 | F55: =IF(OR(E13="congé",F13="congé",G13="congé",H13="Congé",I13="Congé"),"Congé","") | G55: =COUNTIF(Y55:Y76,"VRAI") -> 0 | I55: =IF(OR(J13="congé",K13="congé"),"congé","") | J55: =COUNTIF(Z55:Z76,"VRAI") -> 0 | L55: =IF(OR(L13="congé",M13="congé",N13="congé"),"congé","") | M55: =COUNTIF(AA55:AA76,"VRAI") -> 0 | P55: David | Q55: OK | R55: pour modif | T55: =A55=A13 -> TRUE | U55: =E55=A13 -> FALSE | V55: =H55=A13 -> FALSE | W55: =K55=A13 -> FALSE | X55: =AND((A55=A13),(B55="Congé")) -> FALSE | Y55: =AND((E55=A13),(F55="Congé")) -> FALSE | Z55: =AND((H55=A13),(I55="Congé")) -> FALSE | AA55: =AND((K55=A13),(L55="Congé")) -> FALSE
A56: Maxime | B56: =IF(OR(B14="congé",C14="congé",D14="congé"),"Congé","") | F56: =IF(OR(E14="congé",F14="congé",G14="congé",H14="Congé",I14="Congé"),"Congé","") | I56: =IF(OR(J14="congé",K14="congé"),"congé","") | K56: Maxime | L56: =IF(OR(L14="congé",M14="congé",N14="congé"),"congé","") | P56: Célia | Q56: =IF(OR(B52=A52,D37<=1),B83,B84) -> OK | T56: =A56=A14 -> TRUE | U56: =E56=A14 -> FALSE | V56: =H56=A14 -> FALSE | W56: =K56=A14 -> TRUE | X56: =AND((A56=A14),(B56="Congé")) -> FALSE | Y56: =AND((E56=A14),(F56="Congé")) -> FALSE | Z56: =AND((H56=A14),(I56="Congé")) -> FALSE | AA56: =AND((K56=A14),(L56="Congé")) -> FALSE
A57: Irène | B57: =IF(OR(B15="congé",C15="congé",D15="congé"),"Congé","") | E57: Irène | F57: =IF(OR(E15="congé",F15="congé",G15="congé",H15="Congé",I15="Congé"),"Congé","") | I57: =IF(OR(J15="congé",K15="congé"),"congé","") | L57: =IF(OR(L15="congé",M15="congé",N15="congé"),"congé","") | P57: Irène | Q57: =IF(OR(B52=A52,F52=E52,E37<=1),B83,B84) -> OK | T57: =A57=A15 -> TRUE | U57: =E57=A15 -> TRUE | V57: =H57=A15 -> FALSE | W57: =K57=A15 -> FALSE | X57: =AND((A57=A15),(B57="Congé")) -> FALSE | Y57: =AND((E57=A15),(F57="Congé")) -> FALSE | Z57: =AND((H57=A15),(I57="Congé")) -> FALSE | AA57: =AND((K57=A15),(L57="Congé")) -> FALSE
A58: Julie | B58: =IF(OR(B16="congé",C16="congé",D16="congé"),"Congé","") | E58: Julie | F58: =IF(OR(E16="congé",F16="congé",G16="congé",H16="Congé",I16="Congé"),"Congé","") | I58: =IF(OR(J16="congé",K16="congé"),"congé","") | L58: =IF(OR(L16="congé",M16="congé",N16="congé"),"congé","") | P58: Marie | Q58: OK | T58: =A58=A16 -> TRUE | U58: =E58=A16 -> TRUE | V58: =H58=A16 -> FALSE | W58: =K58=A16 -> FALSE | X58: =AND((A58=A16),(B58="Congé")) -> FALSE | Y58: =AND((E58=A16),(F58="Congé")) -> FALSE | Z58: =AND((H58=A16),(I58="Congé")) -> FALSE | AA58: =AND((K58=A16),(L58="Congé")) -> FALSE
A59: Samy | B59: =IF(OR(B17="congé",C17="congé",D17="congé"),"Congé","") | E59: Samy | F59: =IF(OR(E17="congé",F17="congé",G17="congé",H17="Congé",I17="Congé"),"Congé","") | I59: =IF(OR(J17="congé",K17="congé"),"congé","") | L59: =IF(OR(L17="congé",M17="congé",N17="congé"),"congé","") | P59: Maxime | Q59: =IF(OR(B52=A52,L52=K52,L37<=1),B83,B84) -> OK | T59: =A59=A17 -> TRUE | U59: =E59=A17 -> TRUE | V59: =H59=A17 -> FALSE | W59: =K59=A17 -> FALSE | X59: =AND((A59=A17),(B59="Congé")) -> FALSE | Y59: =AND((E59=A17),(F59="Congé")) -> FALSE | Z59: =AND((H59=A17),(I59="Congé")) -> FALSE | AA59: =AND((K59=A17),(L59="Congé")) -> FALSE
B60: =IF(OR(B18="congé",C18="congé",D18="congé"),"Congé","") | E60: Hawa | F60: =IF(OR(E18="congé",F18="congé",G18="congé",H18="Congé",I18="Congé"),"Congé","") | I60: =IF(OR(J18="congé",K18="congé"),"congé","") | L60: =IF(OR(L18="congé",M18="congé",N18="congé"),"congé","") | P60: Julie | Q60: =IF(OR(F52=E52,E37<=1,H37<=1,I37<=1),B83,B84) -> OK | T60: =A60=A18 -> FALSE | U60: =E60=A18 -> TRUE | V60: =H60=A18 -> FALSE | W60: =K60=A18 -> FALSE | X60: =AND((A60=A18),(B60="Congé")) -> FALSE | Y60: =AND((E60=A18),(F60="Congé")) -> FALSE | Z60: =AND((H60=A18),(I60="Congé")) -> FALSE | AA60: =AND((K60=A18),(L60="Congé")) -> FALSE
B61: =IF(OR(B19="congé",C19="congé",D19="congé"),"Congé","") | F61: =IF(OR(E19="congé",F19="congé",G19="congé",H19="Congé",I19="Congé"),"Congé","") | I61: =IF(OR(J19="congé",K19="congé"),"congé","") | K61: Kanni | L61: =IF(OR(L19="congé",M19="congé",N19="congé"),"congé","") | P61: Samy | Q61: =IF($F$52=$E$52,$B$83,$B$84) -> OK | T61: =A61=A19 -> FALSE | U61: =E61=A19 -> FALSE | V61: =H61=A19 -> FALSE | W61: =K61=A19 -> TRUE | X61: =AND((A61=A19),(B61="Congé")) -> FALSE | Y61: =AND((E61=A19),(F61="Congé")) -> FALSE | Z61: =AND((H61=A19),(I61="Congé")) -> FALSE | AA61: =AND((K61=A19),(L61="Congé")) -> FALSE
B62: =IF(OR(B20="congé",C20="congé",D20="congé"),"Congé","") | F62: =IF(OR(E20="congé",F20="congé",G20="congé",H20="Congé",I20="Congé"),"Congé","") | I62: =IF(OR(J20="congé",K20="congé"),"congé","") | K62: Marie-Laurence | L62: =IF(OR(L20="congé",M20="congé",N20="congé"),"congé","") | P62: Hawa | Q62: =IF($F$52=$E$52,$B$83,$B$84) -> OK | T62: =A62=A20 -> FALSE | U62: =E62=A20 -> FALSE | V62: =H62=A20 -> FALSE | W62: =K62=A20 -> TRUE | X62: =AND((A62=A20),(B62="Congé")) -> FALSE | Y62: =AND((E62=A20),(F62="Congé")) -> FALSE | Z62: =AND((H62=A20),(I62="Congé")) -> FALSE | AA62: =AND((K62=A20),(L62="Congé")) -> FALSE
B63: =IF(OR(B21="congé",C21="congé",D21="congé"),"Congé","") | F63: =IF(OR(E21="congé",F21="congé",G21="congé",H21="Congé",I21="Congé"),"Congé","") | H63: Myris | I63: =IF(OR(J21="congé",K21="congé"),"congé","") | K63: Myris | L63: =IF(OR(L21="congé",M21="congé",N21="congé"),"congé","") | P63: Loïc | Q63: =IF(OR(F52=E52,I52=H52,F37<=1,H37<=1,K37<=1),B83,B84) -> OK | T63: =A63=A21 -> FALSE | U63: =E63=A21 -> FALSE | V63: =H63=A21 -> TRUE | W63: =K63=A21 -> TRUE | X63: =AND((A63=A21),(B63="Congé")) -> FALSE | Y63: =AND((E63=A21),(F63="Congé")) -> FALSE | Z63: =AND((H63=A21),(I63="Congé")) -> FALSE | AA63: =AND((K63=A21),(L63="Congé")) -> FALSE
B64: =IF(OR(B22="congé",C22="congé",D22="congé"),"Congé","") | F64: =IF(OR(E22="congé",F22="congé",G22="congé",H22="Congé",I22="Congé"),"Congé","") | I64: =IF(OR(J22="congé",K22="congé"),"congé","") | K64: Florian | L64: =IF(OR(L22="congé",M22="congé",N22="congé"),"congé","") | P64: Kanni | Q64: =IF(L52=K52,B83,B84) -> OK | T64: =A64=A22 -> FALSE | U64: =E64=A22 -> FALSE | V64: =H64=A22 -> FALSE | W64: =K64=A22 -> TRUE | X64: =AND((A64=A22),(B64="Congé")) -> FALSE | Y64: =AND((E64=A22),(F64="Congé")) -> FALSE | Z64: =AND((H64=A22),(I64="Congé")) -> FALSE | AA64: =AND((K64=A22),(L64="Congé")) -> FALSE
B65: =IF(OR(B23="congé",C23="congé",D23="congé"),"Congé","") | F65: =IF(OR(E23="congé",F23="congé",G23="congé",H23="Congé",I23="Congé"),"Congé","") | H65: Laëtitia | I65: =IF(OR(J23="congé",K23="congé"),"congé","") | L65: =IF(OR(L23="congé",M23="congé",N23="congé"),"congé","") | P65: Marie-Laurence | Q65: =IF(L52=K52,B83,B84) -> OK | T65: =A65=A23 -> FALSE | U65: =E65=A23 -> FALSE | V65: =H65=A23 -> TRUE | W65: =K65=A23 -> FALSE | X65: =AND((A65=A23),(B65="Congé")) -> FALSE | Y65: =AND((E65=A23),(F65="Congé")) -> FALSE | Z65: =AND((H65=A23),(I65="Congé")) -> FALSE | AA65: =AND((K65=A23),(L65="Congé")) -> FALSE
B66: =IF(OR(B24="congé",C24="congé",D24="congé"),"Congé","") | F66: =IF(OR(E24="congé",F24="congé",G24="congé",H24="Congé",I24="Congé"),"Congé","") | H66: Isabelle | I66: =IF(OR(J24="congé",K24="congé"),"congé","") | K66: Isabelle | L66: =IF(OR(L24="congé",M24="congé",N24="congé"),"congé","") | P66: Florian | Q66: =IF(L52=K52,B83,B84) -> OK | T66: =A66=A24 -> FALSE | U66: =E66=A24 -> FALSE | V66: =H66=A24 -> TRUE | W66: =K66=A24 -> TRUE | X66: =AND((A66=A24),(B66="Congé")) -> FALSE | Y66: =AND((E66=A24),(F66="Congé")) -> FALSE | Z66: =AND((H66=A24),(I66="Congé")) -> FALSE | AA66: =AND((K66=A24),(L66="Congé")) -> FALSE
B67: =IF(OR(B25="congé",C25="congé",D25="congé"),"Congé","") | E67: Loïc | F67: =IF(OR(E25="congé",F25="congé",G25="congé",H25="Congé",I25="Congé"),"Congé","") | H67: Loïc | I67: =IF(OR(J25="congé",K25="congé"),"congé","") | L67: =IF(OR(L25="congé",M25="congé",N25="congé"),"congé","") | P67: Myris | Q67: =IF(OR(L52=K52,I52=H52,J37<=1),B83,B84) -> OK | T67: =A67=A25 -> FALSE | U67: =E67=A25 -> TRUE | V67: =H67=A25 -> TRUE | W67: =K67=A25 -> FALSE | X67: =AND((A67=A25),(B67="Congé")) -> FALSE | Y67: =AND((E67=A25),(F67="Congé")) -> FALSE | Z67: =AND((H67=A25),(I67="Congé")) -> FALSE | AA67: =AND((K67=A25),(L67="Congé")) -> FALSE
B68: =IF(OR(B26="congé",C26="congé",D26="congé"),"Congé","") | E68: Gaelle | F68: =IF(OR(E26="congé",F26="congé",G26="congé",H26="Congé",I26="Congé"),"Congé","") | I68: =IF(OR(J26="congé",K26="congé"),"congé","") | L68: =IF(OR(L26="congé",M26="congé",N26="congé"),"congé","") | P68: Laëtitia | Q68: =IF(I52=H52,B83,B84) -> OK | T68: =A68=A26 -> FALSE | U68: =E68=A26 -> TRUE | V68: =H68=A26 -> FALSE | W68: =K68=A26 -> FALSE | X68: =AND((A68=A26),(B68="Congé")) -> FALSE | Y68: =AND((E68=A26),(F68="Congé")) -> FALSE | Z68: =AND((H68=A26),(I68="Congé")) -> FALSE | AA68: =AND((K68=A26),(L68="Congé")) -> FALSE
B69: =IF(OR(B27="congé",C27="congé",D27="congé"),"Congé","") | E69: Abdel | F69: =IF(OR(E27="congé",F27="congé",G27="congé",H27="Congé",I27="Congé"),"Congé","") | I69: =IF(OR(J27="congé",K27="congé"),"congé","") | L69: =IF(OR(L27="congé",M27="congé",N27="congé"),"congé","") | P69: Isabelle | Q69: =IF(OR(I52=H52,L52=K52,L37=1),B83,B84) -> OK | T69: =A69=A27 -> FALSE | U69: =E69=A27 -> TRUE | V69: =H69=A27 -> FALSE | W69: =K69=A27 -> FALSE | X69: =AND((A69=A27),(B69="Congé")) -> FALSE | Y69: =AND((E69=A27),(F69="Congé")) -> FALSE | Z69: =AND((H69=A27),(I69="Congé")) -> FALSE | AA69: =AND((K69=A27),(L69="Congé")) -> FALSE
B70: =IF(OR(B28="congé",C28="congé",D28="congé"),"Congé","") | E70: Marie. | F70: =IF(OR(E28="congé",F28="congé",G28="congé",H28="Congé",I28="Congé"),"Congé","") | I70: =IF(OR(J28="congé",K28="congé"),"congé","") | L70: =IF(OR(L28="congé",M28="congé",N28="congé"),"congé","") | P70: Gaelle | Q70: =IF(OR(F52=E52,G37<=1),B83,B84) -> OK | T70: =A70=A28 -> FALSE | U70: =E70=A28 -> TRUE | V70: =H70=A28 -> FALSE | W70: =K70=A28 -> FALSE | X70: =AND((A70=A28),(B70="Congé")) -> FALSE | Y70: =AND((E70=A28),(F70="Congé")) -> FALSE | Z70: =AND((H70=A28),(I70="Congé")) -> FALSE | AA70: =AND((K70=A28),(L70="Congé")) -> FALSE
B71: =IF(OR(B29="congé",C29="congé",D29="congé"),"Congé","") | F71: =IF(OR(E29="congé",F29="congé",G29="congé",H29="Congé",I29="Congé"),"Congé","") | I71: =IF(OR(J29="congé",K29="congé"),"congé","") | L71: =IF(OR(L29="congé",M29="congé",N29="congé"),"congé","") | P71: Abdel | Q71: =IF(OR(F52=E52,F37<=1,G37<=1,H37<=1),B83,B84) -> OK | T71: =A71=A29 -> FALSE | U71: =E71=A29 -> FALSE | V71: =H71=A29 -> FALSE | W71: =K71=A29 -> FALSE | X71: =AND((A71=A29),(B71="Congé")) -> FALSE | Y71: =AND((E71=A29),(F71="Congé")) -> FALSE | Z71: =AND((H71=A29),(I71="Congé")) -> FALSE | AA71: =AND((K71=A29),(L71="Congé")) -> FALSE
B72: =IF(OR(B30="congé",C30="congé",D30="congé"),"Congé","") | F72: =IF(OR(E30="congé",F30="congé",G30="congé",H30="Congé",I30="Congé"),"Congé","") | I72: =IF(OR(J30="congé",K30="congé"),"congé","") | K72: Léna | L72: =IF(OR(L30="congé",M30="congé",N30="congé"),"congé","") | P72: Léna | Q72: =IF(OR(L52=K52,L37<=1),B83,B84) -> OK | T72: =A72=A30 -> FALSE | U72: =E72=A30 -> FALSE | V72: =H72=A30 -> FALSE | W72: =K72=A30 -> TRUE | X72: =AND((A72=A30),(B72="Congé")) -> FALSE | Y72: =AND((E72=A30),(F72="Congé")) -> FALSE | Z72: =AND((H72=A30),(I72="Congé")) -> FALSE | AA72: =AND((K72=A30),(L72="Congé")) -> FALSE
B73: =IF(OR(B31="congé",C31="congé",D31="congé"),"Congé","") | E73: Mathilde | F73: =IF(OR(E31="congé",F31="congé",G31="congé",H31="Congé",I31="Congé"),"Congé","") | H73: Mathilde | I73: =IF(OR(J31="congé",K31="congé"),"congé","") | L73: =IF(OR(L31="congé",M31="congé",N31="congé"),"congé","") | P73: Mathilde | Q73: =IF(OR(I52=H52,F52=E52,G37<=1,J37<=1,K37<=1),B83,B84) -> OK | T73: =A73=A31 -> FALSE | U73: =E73=A31 -> TRUE | V73: =H73=A31 -> TRUE | W73: =K73=A31 -> FALSE | X73: =AND((A73=A31),(B73="Congé")) -> FALSE | Y73: =AND((E73=A31),(F73="Congé")) -> FALSE | Z73: =AND((H73=A31),(I73="Congé")) -> FALSE | AA73: =AND((K73=A31),(L73="Congé")) -> FALSE
B74: =IF(OR(B32="congé",C32="congé",D32="congé"),"Congé","") | E74: Amélia | F74: =IF(OR(E32="congé",F32="congé",G32="congé",H32="Congé",I32="Congé"),"Congé","") | I74: =IF(OR(J32="congé",K32="congé"),"congé","") | L74: =IF(OR(L32="congé",M32="congé",N32="congé"),"congé","") | P74: Amélia | Q74: =IF(OR(F52=E52,E37<=1),B83,B84) -> OK | T74: =A74=A32 -> FALSE | U74: =E74=A32 -> TRUE | V74: =H74=A32 -> FALSE | W74: =K74=A32 -> FALSE | X74: =AND((A74=A32),(B74="Congé")) -> FALSE | Y74: =AND((E74=A32),(F74="Congé")) -> FALSE | Z74: =AND((H74=A32),(I74="Congé")) -> FALSE | AA74: =AND((K74=A32),(L74="Congé")) -> FALSE
B75: =IF(OR(B33="congé",C33="congé",D33="congé"),"Congé","") | F75: =IF(OR(E33="congé",F33="congé",G33="congé",H33="Congé",I33="Congé"),"Congé","") | I75: =IF(OR(J33="congé",K33="congé"),"congé","") | L75: =IF(OR(L33="congé",M33="congé",N33="congé"),"congé","") | P75: Morgane | Q75: =IF(I52=H52,B83,B84) -> OK | T75: =A75=A33 -> FALSE | U75: =E75=A33 -> FALSE | V75: =H75=A33 -> FALSE | W75: =K75=A33 -> FALSE | X75: =AND((A75=A33),(B75="Congé")) -> FALSE | Y75: =AND((E75=A33),(F75="Congé")) -> FALSE | Z75: =AND((H75=A33),(I75="Congé")) -> FALSE | AA75: =AND((K75=A33),(L75="Congé")) -> FALSE
B76: =IF(OR(B34="congé",C34="congé",D34="congé"),"Congé","") | F76: =IF(OR(E34="congé",F34="congé",G34="congé",H34="Congé",I34="Congé"),"Congé","") | I76: =IF(OR(J34="congé",K34="congé"),"congé","") | L76: =IF(OR(L34="congé",M34="congé",N34="congé"),"congé","") | T76: =A76=A34 -> FALSE | U76: =E76=A34 -> FALSE | V76: =H76=A34 -> FALSE | W76: =K76=A34 -> FALSE | X76: =AND((A76=A34),(B76="Congé")) -> FALSE | Y76: =AND((E76=A34),(F76="Congé")) -> FALSE | Z76: =AND((H76=A34),(I76="Congé")) -> FALSE | AA76: =AND((K76=A34),(L76="Congé")) -> FALSE
B79: =ADDRESS(52,VLOOKUP(MATCH(B$85,$B$12:$N$12,0),$P$12:$Q$24,2,0)) -> $B$52 | C79: =ADDRESS(52,VLOOKUP(MATCH(C$85,$B$12:$N$12,0),$P$12:$Q$24,2,0)) -> $B$52 | D79: =ADDRESS(52,VLOOKUP(MATCH(D$85,$B$12:$N$12,0),$P$12:$Q$24,2,0)) -> $B$52 | E79: =ADDRESS(52,VLOOKUP(MATCH(E$85,$B$12:$N$12,0),$P$12:$Q$24,2,0)) -> $F$52 | F79: =ADDRESS(52,VLOOKUP(MATCH(F$85,$B$12:$N$12,0),$P$12:$Q$24,2,0)) -> $F$52 | G79: =ADDRESS(52,VLOOKUP(MATCH(G$85,$B$12:$N$12,0),$P$12:$Q$24,2,0)) -> $F$52 | H79: =ADDRESS(52,VLOOKUP(MATCH(H$85,$B$12:$N$12,0),$P$12:$Q$24,2,0)) -> $F$52 | I79: =ADDRESS(52,VLOOKUP(MATCH(I$85,$B$12:$N$12,0),$P$12:$Q$24,2,0)) -> $F$52 | ... M79: =ADDRESS(52,VLOOKUP(MATCH(M$85,$B$12:$N$12,0),$P$12:$Q$24,2,0)) -> $L$52
A80: NTK | B80: PT | C80: Flux | D80: Metrohm | E80: DBO | F80: DCO | G80: MES filtration | H80: Obs microscopique | I80: MS | J80: MES/MV | K80: Poches | L80: Ampoules | M80: AGV
A81: =IF(OR(B37<=1,B52=A52),B83,B84) -> OK | B81: =IF(OR(C37<=1,B52=A52),B83,B84) -> OK | C81: =IF(OR(D37<=1,B52=A52),B83,B84) -> OK | D81: =IF(OR(E37<=1,$F$52=$E$52),B83,B84) -> OK | E81: =IF(OR(F37<=1,$F$52=$E$52),B83,B84) -> OK | F81: =IF(OR(G37<=1,$F$52=$E$52),B83,B84) -> OK | G81: =IF(OR(H37<=1,$F$52=$E$52),B83,B84) -> OK | H81: =IF(OR(I37<=1,$F$52=$E$52),B83,B84) -> OK | I81: =IF(OR(J37<=1,I52=H52),B83,B84) -> OK | J81: =IF(OR(K37<=1,I52=H52),B83,B84) -> OK | K81: =IF(OR(L37<=1,$L$52=$K$52),B83,B84) -> OK | L81: =IF(OR(M37<=1,$L$52=$K$52),B83,B84) -> OK | M81: =IF(OR(N37<=1,$L$52=$K$52),B83,B84) -> OK
B83: Journée non dispo, voir un responsable | F83: Pas formé | I83: =SI(OU(B37<=1;B52=A52);B83;B84)
B84: OK | F84: Formé | N84: {=IF(AND(A81="ok",SUMPRODUCT(($A$13:$A$34=$A86)*($B$12:$N$12=A80)*($B$13:$N$34))>0),"tout baigne","demander a papa")} -> tout baigne
B85: NTK | C85: PT | D85: Flux | E85: Metrohm | F85: DBO | G85: DCO | H85: MES filtration | I85: Obs microscopique | J85: MS | K85: MES/MV | L85: Poches | M85: Ampoules | N85: AGV
A86: David | B86: {=IF(AND(A$81="ok",SUMPRODUCT(($A$13:$A$34=$A86)*($B$12:$N$12=A$80)*($B$13:$N$34))>0,OR(B$37<=1,INDIRECT(ADDRESS(52,VLOOKUP(MATCH(B$85,$B$12:$N$12,0),$P$12:$Q$24,2,0)-1))=INDIRECT(ADDRESS(52,VLOOKUP(MATCH(B$85,$B$12:$N$12,0),$P$12:$Q$24,2,0))))=FALSE),"OK","")} -> OK | C86: {=IF(AND(B$81="ok",SUMPRODUCT(($A$13:$A$34=$A86)*($B$12:$N$12=B$80)*($B$13:$N$34))>0,OR(C$37<=1,INDIRECT(ADDRESS(52,VLOOKUP(MATCH(C$85,$B$12:$N$12,0),$P$12:$Q$24,2,0)-1))=INDIRECT(ADDRESS(52,VLOOKUP(MATCH(C$85,$B$12:$N$12,0),$P$12:$Q$24,2,0))))=FALSE),"OK","")} -> OK | D86: {=IF(AND(C$81="ok",SUMPRODUCT(($A$13:$A$34=$A86)*($B$12:$N$12=C$80)*($B$13:$N$34))>0,OR(D$37<=1,INDIRECT(ADDRESS(52,VLOOKUP(MATCH(D$85,$B$12:$N$12,0),$P$12:$Q$24,2,0)-1))=INDIRECT(ADDRESS(52,VLOOKUP(MATCH(D$85,$B$12:$N$12,0),$P$12:$Q$24,2,0))))=FALSE),"OK","")} -> OK | E86: {=IF(AND(D$81="ok",SUMPRODUCT(($A$13:$A$34=$A86)*($B$12:$N$12=D$80)*($B$13:$N$34))>0,OR(E$37<=1,INDIRECT(ADDRESS(52,VLOOKUP(MATCH(E$85,$B$12:$N$12,0),$P$12:$Q$24,2,0)-1))=INDIRECT(ADDRESS(52,VLOOKUP(MATCH(E$85,$B$12:$N$12,0),$P$12:$Q$24,2,0))))=FALSE),"OK","")} | F86: {=IF(AND(E$81="ok",SUMPRODUCT(($A$13:$A$34=$A86)*($B$12:$N$12=E$80)*($B$13:$N$34))>0,OR(F$37<=1,INDIRECT(ADDRESS(52,VLOOKUP(MATCH(F$85,$B$12:$N$12,0),$P$12:$Q$24,2,0)-1))=INDIRECT(ADDRESS(52,VLOOKUP(MATCH(F$85,$B$12:$N$12,0),$P$12:$Q$24,2,0))))=FALSE),"OK","")} | G86: {=IF(AND(F$81="ok",SUMPRODUCT(($A$13:$A$34=$A86)*($B$12:$N$12=F$80)*($B$13:$N$34))>0,OR(G$37<=1,INDIRECT(ADDRESS(52,VLOOKUP(MATCH(G$85,$B$12:$N$12,0),$P$12:$Q$24,2,0)-1))=INDIRECT(ADDRESS(52,VLOOKUP(MATCH(G$85,$B$12:$N$12,0),$P$12:$Q$24,2,0))))=FALSE),"OK","")} | H86: {=IF(AND(G$81="ok",SUMPRODUCT(($A$13:$A$34=$A86)*($B$12:$N$12=G$80)*($B$13:$N$34))>0,OR(H$37<=1,INDIRECT(ADDRESS(52,VLOOKUP(MATCH(H$85,$B$12:$N$12,0),$P$12:$Q$24,2,0)-1))=INDIRECT(ADDRESS(52,VLOOKUP(MATCH(H$85,$B$12:$N$12,0),$P$12:$Q$24,2,0))))=FALSE),"OK","")} | I86: {=IF(AND(H$81="ok",SUMPRODUCT(($A$13:$A$34=$A86)*($B$12:$N$12=H$80)*($B$13:$N$34))>0,OR(I$37<=1,INDIRECT(ADDRESS(52,VLOOKUP(MATCH(I$85,$B$12:$N$12,0),$P$12:$Q$24,2,0)-1))=INDIRECT(ADDRESS(52,VLOOKUP(MATCH(I$85,$B$12:$N$12,0),$P$12:$Q$24,2,0))))=FALSE),"OK","")} | ... N86: {=IF(AND(M$81="ok",SUMPRODUCT(($A$13:$A$34=$A86)*($B$12:$N$12=M$80)*($B$13:$N$34))>0,OR(N$37<=1,INDIRECT(ADDRESS(52,VLOOKUP(MATCH(N$85,$B$12:$N$12,0),$P$12:$Q$24,2,0)-1))=INDIRECT(ADDRESS(52,VLOOKUP(MATCH(N$85,$B$12:$N$12,0),$P$12:$Q$24,2,0))))=FALSE),"OK","")}
A87: Maxime | B87: {=IF(AND(A$81="ok",SUMPRODUCT(($A$13:$A$34=$A87)*($B$12:$N$12=A$80)*($B$13:$N$34))>0,OR(B$37<=1,INDIRECT(ADDRESS(52,VLOOKUP(MATCH(B$85,$B$12:$N$12,0),$P$12:$Q$24,2,0)-1))=INDIRECT(ADDRESS(52,VLOOKUP(MATCH(B$85,$B$12:$N$12,0),$P$12:$Q$24,2,0))))=FALSE),"OK","")} -> OK | C87: {=IF(AND(B$81="ok",SUMPRODUCT(($A$13:$A$34=$A87)*($B$12:$N$12=B$80)*($B$13:$N$34))>0,OR(C$37<=1,INDIRECT(ADDRESS(52,VLOOKUP(MATCH(C$85,$B$12:$N$12,0),$P$12:$Q$24,2,0)-1))=INDIRECT(ADDRESS(52,VLOOKUP(MATCH(C$85,$B$12:$N$12,0),$P$12:$Q$24,2,0))))=FALSE),"OK","")} -> OK | D87: {=IF(AND(C$81="ok",SUMPRODUCT(($A$13:$A$34=$A87)*($B$12:$N$12=C$80)*($B$13:$N$34))>0,OR(D$37<=1,INDIRECT(ADDRESS(52,VLOOKUP(MATCH(D$85,$B$12:$N$12,0),$P$12:$Q$24,2,0)-1))=INDIRECT(ADDRESS(52,VLOOKUP(MATCH(D$85,$B$12:$N$12,0),$P$12:$Q$24,2,0))))=FALSE),"OK","")} -> OK | E87: {=IF(AND(D$81="ok",SUMPRODUCT(($A$13:$A$34=$A87)*($B$12:$N$12=D$80)*($B$13:$N$34))>0,OR(E$37<=1,INDIRECT(ADDRESS(52,VLOOKUP(MATCH(E$85,$B$12:$N$12,0),$P$12:$Q$24,2,0)-1))=INDIRECT(ADDRESS(52,VLOOKUP(MATCH(E$85,$B$12:$N$12,0),$P$12:$Q$24,2,0))))=FALSE),"OK","")} | F87: {=IF(AND(E$81="ok",SUMPRODUCT(($A$13:$A$34=$A87)*($B$12:$N$12=E$80)*($B$13:$N$34))>0,OR(F$37<=1,INDIRECT(ADDRESS(52,VLOOKUP(MATCH(F$85,$B$12:$N$12,0),$P$12:$Q$24,2,0)-1))=INDIRECT(ADDRESS(52,VLOOKUP(MATCH(F$85,$B$12:$N$12,0),$P$12:$Q$24,2,0))))=FALSE),"OK","")} | G87: {=IF(AND(F$81="ok",SUMPRODUCT(($A$13:$A$34=$A87)*($B$12:$N$12=F$80)*($B$13:$N$34))>0,OR(G$37<=1,INDIRECT(ADDRESS(52,VLOOKUP(MATCH(G$85,$B$12:$N$12,0),$P$12:$Q$24,2,0)-1))=INDIRECT(ADDRESS(52,VLOOKUP(MATCH(G$85,$B$12:$N$12,0),$P$12:$Q$24,2,0))))=FALSE),"OK","")} | H87: {=IF(AND(G$81="ok",SUMPRODUCT(($A$13:$A$34=$A87)*($B$12:$N$12=G$80)*($B$13:$N$34))>0,OR(H$37<=1,INDIRECT(ADDRESS(52,VLOOKUP(MATCH(H$85,$B$12:$N$12,0),$P$12:$Q$24,2,0)-1))=INDIRECT(ADDRESS(52,VLOOKUP(MATCH(H$85,$B$12:$N$12,0),$P$12:$Q$24,2,0))))=FALSE),"OK","")} | I87: {=IF(AND(H$81="ok",SUMPRODUCT(($A$13:$A$34=$A87)*($B$12:$N$12=H$80)*($B$13:$N$34))>0,OR(I$37<=1,INDIRECT(ADDRESS(52,VLOOKUP(MATCH(I$85,$B$12:$N$12,0),$P$12:$Q$24,2,0)-1))=INDIRECT(ADDRESS(52,VLOOKUP(MATCH(I$85,$B$12:$N$12,0),$P$12:$Q$24,2,0))))=FALSE),"OK","")} | ... N87: {=IF(AND(M$81="ok",SUMPRODUCT(($A$13:$A$34=$A87)*($B$12:$N$12=M$80)*($B$13:$N$34))>0,OR(N$37<=1,INDIRECT(ADDRESS(52,VLOOKUP(MATCH(N$85,$B$12:$N$12,0),$P$12:$Q$24,2,0)-1))=INDIRECT(ADDRESS(52,VLOOKUP(MATCH(N$85,$B$12:$N$12,0),$P$12:$Q$24,2,0))))=FALSE),"OK","")}
A88: Irène | B88: {=IF(AND(A$81="ok",SUMPRODUCT(($A$13:$A$34=$A88)*($B$12:$N$12=A$80)*($B$13:$N$34))>0,OR(B$37<=1,INDIRECT(ADDRESS(52,VLOOKUP(MATCH(B$85,$B$12:$N$12,0),$P$12:$Q$24,2,0)-1))=INDIRECT(ADDRESS(52,VLOOKUP(MATCH(B$85,$B$12:$N$12,0),$P$12:$Q$24,2,0))))=FALSE),"OK","")} -> OK | C88: {=IF(AND(B$81="ok",SUMPRODUCT(($A$13:$A$34=$A88)*($B$12:$N$12=B$80)*($B$13:$N$34))>0,OR(C$37<=1,INDIRECT(ADDRESS(52,VLOOKUP(MATCH(C$85,$B$12:$N$12,0),$P$12:$Q$24,2,0)-1))=INDIRECT(ADDRESS(52,VLOOKUP(MATCH(C$85,$B$12:$N$12,0),$P$12:$Q$24,2,0))))=FALSE),"OK","")} -> OK | D88: {=IF(AND(C$81="ok",SUMPRODUCT(($A$13:$A$34=$A88)*($B$12:$N$12=C$80)*($B$13:$N$34))>0,OR(D$37<=1,INDIRECT(ADDRESS(52,VLOOKUP(MATCH(D$85,$B$12:$N$12,0),$P$12:$Q$24,2,0)-1))=INDIRECT(ADDRESS(52,VLOOKUP(MATCH(D$85,$B$12:$N$12,0),$P$12:$Q$24,2,0))))=FALSE),"OK","")} -> OK | E88: {=IF(AND(D$81="ok",SUMPRODUCT(($A$13:$A$34=$A88)*($B$12:$N$12=D$80)*($B$13:$N$34))>0,OR(E$37<=1,INDIRECT(ADDRESS(52,VLOOKUP(MATCH(E$85,$B$12:$N$12,0),$P$12:$Q$24,2,0)-1))=INDIRECT(ADDRESS(52,VLOOKUP(MATCH(E$85,$B$12:$N$12,0),$P$12:$Q$24,2,0))))=FALSE),"OK","")} -> OK | F88: {=IF(AND(E$81="ok",SUMPRODUCT(($A$13:$A$34=$A88)*($B$12:$N$12=E$80)*($B$13:$N$34))>0,OR(F$37<=1,INDIRECT(ADDRESS(52,VLOOKUP(MATCH(F$85,$B$12:$N$12,0),$P$12:$Q$24,2,0)-1))=INDIRECT(ADDRESS(52,VLOOKUP(MATCH(F$85,$B$12:$N$12,0),$P$12:$Q$24,2,0))))=FALSE),"OK","")} | G88: {=IF(AND(F$81="ok",SUMPRODUCT(($A$13:$A$34=$A88)*($B$12:$N$12=F$80)*($B$13:$N$34))>0,OR(G$37<=1,INDIRECT(ADDRESS(52,VLOOKUP(MATCH(G$85,$B$12:$N$12,0),$P$12:$Q$24,2,0)-1))=INDIRECT(ADDRESS(52,VLOOKUP(MATCH(G$85,$B$12:$N$12,0),$P$12:$Q$24,2,0))))=FALSE),"OK","")} | H88: {=IF(AND(G$81="ok",SUMPRODUCT(($A$13:$A$34=$A88)*($B$12:$N$12=G$80)*($B$13:$N$34))>0,OR(H$37<=1,INDIRECT(ADDRESS(52,VLOOKUP(MATCH(H$85,$B$12:$N$12,0),$P$12:$Q$24,2,0)-1))=INDIRECT(ADDRESS(52,VLOOKUP(MATCH(H$85,$B$12:$N$12,0),$P$12:$Q$24,2,0))))=FALSE),"OK","")} | I88: {=IF(AND(H$81="ok",SUMPRODUCT(($A$13:$A$34=$A88)*($B$12:$N$12=H$80)*($B$13:$N$34))>0,OR(I$37<=1,INDIRECT(ADDRESS(52,VLOOKUP(MATCH(I$85,$B$12:$N$12,0),$P$12:$Q$24,2,0)-1))=INDIRECT(ADDRESS(52,VLOOKUP(MATCH(I$85,$B$12:$N$12,0),$P$12:$Q$24,2,0))))=FALSE),"OK","")} | ... N88: {=IF(AND(M$81="ok",SUMPRODUCT(($A$13:$A$34=$A88)*($B$12:$N$12=M$80)*($B$13:$N$34))>0,OR(N$37<=1,INDIRECT(ADDRESS(52,VLOOKUP(MATCH(N$85,$B$12:$N$12,0),$P$12:$Q$24,2,0)-1))=INDIRECT(ADDRESS(52,VLOOKUP(MATCH(N$85,$B$12:$N$12,0),$P$12:$Q$24,2,0))))=FALSE),"OK","")}
A89: Julie | B89: {=IF(AND(A$81="ok",SUMPRODUCT(($A$13:$A$34=$A89)*($B$12:$N$12=A$80)*($B$13:$N$34))>0,OR(B$37<=1,INDIRECT(ADDRESS(52,VLOOKUP(MATCH(B$85,$B$12:$N$12,0),$P$12:$Q$24,2,0)-1))=INDIRECT(ADDRESS(52,VLOOKUP(MATCH(B$85,$B$12:$N$12,0),$P$12:$Q$24,2,0))))=FALSE),"OK","")} -> OK | C89: {=IF(AND(B$81="ok",SUMPRODUCT(($A$13:$A$34=$A89)*($B$12:$N$12=B$80)*($B$13:$N$34))>0,OR(C$37<=1,INDIRECT(ADDRESS(52,VLOOKUP(MATCH(C$85,$B$12:$N$12,0),$P$12:$Q$24,2,0)-1))=INDIRECT(ADDRESS(52,VLOOKUP(MATCH(C$85,$B$12:$N$12,0),$P$12:$Q$24,2,0))))=FALSE),"OK","")} -> OK | D89: {=IF(AND(C$81="ok",SUMPRODUCT(($A$13:$A$34=$A89)*($B$12:$N$12=C$80)*($B$13:$N$34))>0,OR(D$37<=1,INDIRECT(ADDRESS(52,VLOOKUP(MATCH(D$85,$B$12:$N$12,0),$P$12:$Q$24,2,0)-1))=INDIRECT(ADDRESS(52,VLOOKUP(MATCH(D$85,$B$12:$N$12,0),$P$12:$Q$24,2,0))))=FALSE),"OK","")} | E89: {=IF(AND(D$81="ok",SUMPRODUCT(($A$13:$A$34=$A89)*($B$12:$N$12=D$80)*($B$13:$N$34))>0,OR(E$37<=1,INDIRECT(ADDRESS(52,VLOOKUP(MATCH(E$85,$B$12:$N$12,0),$P$12:$Q$24,2,0)-1))=INDIRECT(ADDRESS(52,VLOOKUP(MATCH(E$85,$B$12:$N$12,0),$P$12:$Q$24,2,0))))=FALSE),"OK","")} -> OK | F89: {=IF(AND(E$81="ok",SUMPRODUCT(($A$13:$A$34=$A89)*($B$12:$N$12=E$80)*($B$13:$N$34))>0,OR(F$37<=1,INDIRECT(ADDRESS(52,VLOOKUP(MATCH(F$85,$B$12:$N$12,0),$P$12:$Q$24,2,0)-1))=INDIRECT(ADDRESS(52,VLOOKUP(MATCH(F$85,$B$12:$N$12,0),$P$12:$Q$24,2,0))))=FALSE),"OK","")} | G89: {=IF(AND(F$81="ok",SUMPRODUCT(($A$13:$A$34=$A89)*($B$12:$N$12=F$80)*($B$13:$N$34))>0,OR(G$37<=1,INDIRECT(ADDRESS(52,VLOOKUP(MATCH(G$85,$B$12:$N$12,0),$P$12:$Q$24,2,0)-1))=INDIRECT(ADDRESS(52,VLOOKUP(MATCH(G$85,$B$12:$N$12,0),$P$12:$Q$24,2,0))))=FALSE),"OK","")} | H89: {=IF(AND(G$81="ok",SUMPRODUCT(($A$13:$A$34=$A89)*($B$12:$N$12=G$80)*($B$13:$N$34))>0,OR(H$37<=1,INDIRECT(ADDRESS(52,VLOOKUP(MATCH(H$85,$B$12:$N$12,0),$P$12:$Q$24,2,0)-1))=INDIRECT(ADDRESS(52,VLOOKUP(MATCH(H$85,$B$12:$N$12,0),$P$12:$Q$24,2,0))))=FALSE),"OK","")} -> OK | I89: {=IF(AND(H$81="ok",SUMPRODUCT(($A$13:$A$34=$A89)*($B$12:$N$12=H$80)*($B$13:$N$34))>0,OR(I$37<=1,INDIRECT(ADDRESS(52,VLOOKUP(MATCH(I$85,$B$12:$N$12,0),$P$12:$Q$24,2,0)-1))=INDIRECT(ADDRESS(52,VLOOKUP(MATCH(I$85,$B$12:$N$12,0),$P$12:$Q$24,2,0))))=FALSE),"OK","")} -> OK | ... N89: {=IF(AND(M$81="ok",SUMPRODUCT(($A$13:$A$34=$A89)*($B$12:$N$12=M$80)*($B$13:$N$34))>0,OR(N$37<=1,INDIRECT(ADDRESS(52,VLOOKUP(MATCH(N$85,$B$12:$N$12,0),$P$12:$Q$24,2,0)-1))=INDIRECT(ADDRESS(52,VLOOKUP(MATCH(N$85,$B$12:$N$12,0),$P$12:$Q$24,2,0))))=FALSE),"OK","")}
A90: Samy | B90: {=IF(AND(A$81="ok",SUMPRODUCT(($A$13:$A$34=$A90)*($B$12:$N$12=A$80)*($B$13:$N$34))>0,OR(B$37<=1,INDIRECT(ADDRESS(52,VLOOKUP(MATCH(B$85,$B$12:$N$12,0),$P$12:$Q$24,2,0)-1))=INDIRECT(ADDRESS(52,VLOOKUP(MATCH(B$85,$B$12:$N$12,0),$P$12:$Q$24,2,0))))=FALSE),"OK","")} -> OK | C90: {=IF(AND(B$81="ok",SUMPRODUCT(($A$13:$A$34=$A90)*($B$12:$N$12=B$80)*($B$13:$N$34))>0,OR(C$37<=1,INDIRECT(ADDRESS(52,VLOOKUP(MATCH(C$85,$B$12:$N$12,0),$P$12:$Q$24,2,0)-1))=INDIRECT(ADDRESS(52,VLOOKUP(MATCH(C$85,$B$12:$N$12,0),$P$12:$Q$24,2,0))))=FALSE),"OK","")} | D90: {=IF(AND(C$81="ok",SUMPRODUCT(($A$13:$A$34=$A90)*($B$12:$N$12=C$80)*($B$13:$N$34))>0,OR(D$37<=1,INDIRECT(ADDRESS(52,VLOOKUP(MATCH(D$85,$B$12:$N$12,0),$P$12:$Q$24,2,0)-1))=INDIRECT(ADDRESS(52,VLOOKUP(MATCH(D$85,$B$12:$N$12,0),$P$12:$Q$24,2,0))))=FALSE),"OK","")} | E90: {=IF(AND(D$81="ok",SUMPRODUCT(($A$13:$A$34=$A90)*($B$12:$N$12=D$80)*($B$13:$N$34))>0,OR(E$37<=1,INDIRECT(ADDRESS(52,VLOOKUP(MATCH(E$85,$B$12:$N$12,0),$P$12:$Q$24,2,0)-1))=INDIRECT(ADDRESS(52,VLOOKUP(MATCH(E$85,$B$12:$N$12,0),$P$12:$Q$24,2,0))))=FALSE),"OK","")} -> OK | F90: {=IF(AND(E$81="ok",SUMPRODUCT(($A$13:$A$34=$A90)*($B$12:$N$12=E$80)*($B$13:$N$34))>0,OR(F$37<=1,INDIRECT(ADDRESS(52,VLOOKUP(MATCH(F$85,$B$12:$N$12,0),$P$12:$Q$24,2,0)-1))=INDIRECT(ADDRESS(52,VLOOKUP(MATCH(F$85,$B$12:$N$12,0),$P$12:$Q$24,2,0))))=FALSE),"OK","")} -> OK | G90: {=IF(AND(F$81="ok",SUMPRODUCT(($A$13:$A$34=$A90)*($B$12:$N$12=F$80)*($B$13:$N$34))>0,OR(G$37<=1,INDIRECT(ADDRESS(52,VLOOKUP(MATCH(G$85,$B$12:$N$12,0),$P$12:$Q$24,2,0)-1))=INDIRECT(ADDRESS(52,VLOOKUP(MATCH(G$85,$B$12:$N$12,0),$P$12:$Q$24,2,0))))=FALSE),"OK","")} -> OK | H90: {=IF(AND(G$81="ok",SUMPRODUCT(($A$13:$A$34=$A90)*($B$12:$N$12=G$80)*($B$13:$N$34))>0,OR(H$37<=1,INDIRECT(ADDRESS(52,VLOOKUP(MATCH(H$85,$B$12:$N$12,0),$P$12:$Q$24,2,0)-1))=INDIRECT(ADDRESS(52,VLOOKUP(MATCH(H$85,$B$12:$N$12,0),$P$12:$Q$24,2,0))))=FALSE),"OK","")} -> OK | I90: {=IF(AND(H$81="ok",SUMPRODUCT(($A$13:$A$34=$A90)*($B$12:$N$12=H$80)*($B$13:$N$34))>0,OR(I$37<=1,INDIRECT(ADDRESS(52,VLOOKUP(MATCH(I$85,$B$12:$N$12,0),$P$12:$Q$24,2,0)-1))=INDIRECT(ADDRESS(52,VLOOKUP(MATCH(I$85,$B$12:$N$12,0),$P$12:$Q$24,2,0))))=FALSE),"OK","")} -> OK | ... N90: {=IF(AND(M$81="ok",SUMPRODUCT(($A$13:$A$34=$A90)*($B$12:$N$12=M$80)*($B$13:$N$34))>0,OR(N$37<=1,INDIRECT(ADDRESS(52,VLOOKUP(MATCH(N$85,$B$12:$N$12,0),$P$12:$Q$24,2,0)-1))=INDIRECT(ADDRESS(52,VLOOKUP(MATCH(N$85,$B$12:$N$12,0),$P$12:$Q$24,2,0))))=FALSE),"OK","")}
A91: Hawa | B91: {=IF(AND(A$81="ok",SUMPRODUCT(($A$13:$A$34=$A91)*($B$12:$N$12=A$80)*($B$13:$N$34))>0,OR(B$37<=1,INDIRECT(ADDRESS(52,VLOOKUP(MATCH(B$85,$B$12:$N$12,0),$P$12:$Q$24,2,0)-1))=INDIRECT(ADDRESS(52,VLOOKUP(MATCH(B$85,$B$12:$N$12,0),$P$12:$Q$24,2,0))))=FALSE),"OK","")} | C91: {=IF(AND(B$81="ok",SUMPRODUCT(($A$13:$A$34=$A91)*($B$12:$N$12=B$80)*($B$13:$N$34))>0,OR(C$37<=1,INDIRECT(ADDRESS(52,VLOOKUP(MATCH(C$85,$B$12:$N$12,0),$P$12:$Q$24,2,0)-1))=INDIRECT(ADDRESS(52,VLOOKUP(MATCH(C$85,$B$12:$N$12,0),$P$12:$Q$24,2,0))))=FALSE),"OK","")} | D91: {=IF(AND(C$81="ok",SUMPRODUCT(($A$13:$A$34=$A91)*($B$12:$N$12=C$80)*($B$13:$N$34))>0,OR(D$37<=1,INDIRECT(ADDRESS(52,VLOOKUP(MATCH(D$85,$B$12:$N$12,0),$P$12:$Q$24,2,0)-1))=INDIRECT(ADDRESS(52,VLOOKUP(MATCH(D$85,$B$12:$N$12,0),$P$12:$Q$24,2,0))))=FALSE),"OK","")} | E91: {=IF(AND(D$81="ok",SUMPRODUCT(($A$13:$A$34=$A91)*($B$12:$N$12=D$80)*($B$13:$N$34))>0,OR(E$37<=1,INDIRECT(ADDRESS(52,VLOOKUP(MATCH(E$85,$B$12:$N$12,0),$P$12:$Q$24,2,0)-1))=INDIRECT(ADDRESS(52,VLOOKUP(MATCH(E$85,$B$12:$N$12,0),$P$12:$Q$24,2,0))))=FALSE),"OK","")} -> OK | F91: {=IF(AND(E$81="ok",SUMPRODUCT(($A$13:$A$34=$A91)*($B$12:$N$12=E$80)*($B$13:$N$34))>0,OR(F$37<=1,INDIRECT(ADDRESS(52,VLOOKUP(MATCH(F$85,$B$12:$N$12,0),$P$12:$Q$24,2,0)-1))=INDIRECT(ADDRESS(52,VLOOKUP(MATCH(F$85,$B$12:$N$12,0),$P$12:$Q$24,2,0))))=FALSE),"OK","")} -> OK | G91: {=IF(AND(F$81="ok",SUMPRODUCT(($A$13:$A$34=$A91)*($B$12:$N$12=F$80)*($B$13:$N$34))>0,OR(G$37<=1,INDIRECT(ADDRESS(52,VLOOKUP(MATCH(G$85,$B$12:$N$12,0),$P$12:$Q$24,2,0)-1))=INDIRECT(ADDRESS(52,VLOOKUP(MATCH(G$85,$B$12:$N$12,0),$P$12:$Q$24,2,0))))=FALSE),"OK","")} -> OK | H91: {=IF(AND(G$81="ok",SUMPRODUCT(($A$13:$A$34=$A91)*($B$12:$N$12=G$80)*($B$13:$N$34))>0,OR(H$37<=1,INDIRECT(ADDRESS(52,VLOOKUP(MATCH(H$85,$B$12:$N$12,0),$P$12:$Q$24,2,0)-1))=INDIRECT(ADDRESS(52,VLOOKUP(MATCH(H$85,$B$12:$N$12,0),$P$12:$Q$24,2,0))))=FALSE),"OK","")} -> OK | I91: {=IF(AND(H$81="ok",SUMPRODUCT(($A$13:$A$34=$A91)*($B$12:$N$12=H$80)*($B$13:$N$34))>0,OR(I$37<=1,INDIRECT(ADDRESS(52,VLOOKUP(MATCH(I$85,$B$12:$N$12,0),$P$12:$Q$24,2,0)-1))=INDIRECT(ADDRESS(52,VLOOKUP(MATCH(I$85,$B$12:$N$12,0),$P$12:$Q$24,2,0))))=FALSE),"OK","")} -> OK | ... N91: {=IF(AND(M$81="ok",SUMPRODUCT(($A$13:$A$34=$A91)*($B$12:$N$12=M$80)*($B$13:$N$34))>0,OR(N$37<=1,INDIRECT(ADDRESS(52,VLOOKUP(MATCH(N$85,$B$12:$N$12,0),$P$12:$Q$24,2,0)-1))=INDIRECT(ADDRESS(52,VLOOKUP(MATCH(N$85,$B$12:$N$12,0),$P$12:$Q$24,2,0))))=FALSE),"OK","")}
A92: Kanni | B92: {=IF(AND(A$81="ok",SUMPRODUCT(($A$13:$A$34=$A92)*($B$12:$N$12=A$80)*($B$13:$N$34))>0,OR(B$37<=1,INDIRECT(ADDRESS(52,VLOOKUP(MATCH(B$85,$B$12:$N$12,0),$P$12:$Q$24,2,0)-1))=INDIRECT(ADDRESS(52,VLOOKUP(MATCH(B$85,$B$12:$N$12,0),$P$12:$Q$24,2,0))))=FALSE),"OK","")} | C92: {=IF(AND(B$81="ok",SUMPRODUCT(($A$13:$A$34=$A92)*($B$12:$N$12=B$80)*($B$13:$N$34))>0,OR(C$37<=1,INDIRECT(ADDRESS(52,VLOOKUP(MATCH(C$85,$B$12:$N$12,0),$P$12:$Q$24,2,0)-1))=INDIRECT(ADDRESS(52,VLOOKUP(MATCH(C$85,$B$12:$N$12,0),$P$12:$Q$24,2,0))))=FALSE),"OK","")} | D92: {=IF(AND(C$81="ok",SUMPRODUCT(($A$13:$A$34=$A92)*($B$12:$N$12=C$80)*($B$13:$N$34))>0,OR(D$37<=1,INDIRECT(ADDRESS(52,VLOOKUP(MATCH(D$85,$B$12:$N$12,0),$P$12:$Q$24,2,0)-1))=INDIRECT(ADDRESS(52,VLOOKUP(MATCH(D$85,$B$12:$N$12,0),$P$12:$Q$24,2,0))))=FALSE),"OK","")} | E92: {=IF(AND(D$81="ok",SUMPRODUCT(($A$13:$A$34=$A92)*($B$12:$N$12=D$80)*($B$13:$N$34))>0,OR(E$37<=1,INDIRECT(ADDRESS(52,VLOOKUP(MATCH(E$85,$B$12:$N$12,0),$P$12:$Q$24,2,0)-1))=INDIRECT(ADDRESS(52,VLOOKUP(MATCH(E$85,$B$12:$N$12,0),$P$12:$Q$24,2,0))))=FALSE),"OK","")} | F92: {=IF(AND(E$81="ok",SUMPRODUCT(($A$13:$A$34=$A92)*($B$12:$N$12=E$80)*($B$13:$N$34))>0,OR(F$37<=1,INDIRECT(ADDRESS(52,VLOOKUP(MATCH(F$85,$B$12:$N$12,0),$P$12:$Q$24,2,0)-1))=INDIRECT(ADDRESS(52,VLOOKUP(MATCH(F$85,$B$12:$N$12,0),$P$12:$Q$24,2,0))))=FALSE),"OK","")} | G92: {=IF(AND(F$81="ok",SUMPRODUCT(($A$13:$A$34=$A92)*($B$12:$N$12=F$80)*($B$13:$N$34))>0,OR(G$37<=1,INDIRECT(ADDRESS(52,VLOOKUP(MATCH(G$85,$B$12:$N$12,0),$P$12:$Q$24,2,0)-1))=INDIRECT(ADDRESS(52,VLOOKUP(MATCH(G$85,$B$12:$N$12,0),$P$12:$Q$24,2,0))))=FALSE),"OK","")} | H92: {=IF(AND(G$81="ok",SUMPRODUCT(($A$13:$A$34=$A92)*($B$12:$N$12=G$80)*($B$13:$N$34))>0,OR(H$37<=1,INDIRECT(ADDRESS(52,VLOOKUP(MATCH(H$85,$B$12:$N$12,0),$P$12:$Q$24,2,0)-1))=INDIRECT(ADDRESS(52,VLOOKUP(MATCH(H$85,$B$12:$N$12,0),$P$12:$Q$24,2,0))))=FALSE),"OK","")} | I92: {=IF(AND(H$81="ok",SUMPRODUCT(($A$13:$A$34=$A92)*($B$12:$N$12=H$80)*($B$13:$N$34))>0,OR(I$37<=1,INDIRECT(ADDRESS(52,VLOOKUP(MATCH(I$85,$B$12:$N$12,0),$P$12:$Q$24,2,0)-1))=INDIRECT(ADDRESS(52,VLOOKUP(MATCH(I$85,$B$12:$N$12,0),$P$12:$Q$24,2,0))))=FALSE),"OK","")} | ... N92: {=IF(AND(M$81="ok",SUMPRODUCT(($A$13:$A$34=$A92)*($B$12:$N$12=M$80)*($B$13:$N$34))>0,OR(N$37<=1,INDIRECT(ADDRESS(52,VLOOKUP(MATCH(N$85,$B$12:$N$12,0),$P$12:$Q$24,2,0)-1))=INDIRECT(ADDRESS(52,VLOOKUP(MATCH(N$85,$B$12:$N$12,0),$P$12:$Q$24,2,0))))=FALSE),"OK","")} -> OK
A93: Marie-Laurence | B93: {=IF(AND(A$81="ok",SUMPRODUCT(($A$13:$A$34=$A93)*($B$12:$N$12=A$80)*($B$13:$N$34))>0,OR(B$37<=1,INDIRECT(ADDRESS(52,VLOOKUP(MATCH(B$85,$B$12:$N$12,0),$P$12:$Q$24,2,0)-1))=INDIRECT(ADDRESS(52,VLOOKUP(MATCH(B$85,$B$12:$N$12,0),$P$12:$Q$24,2,0))))=FALSE),"OK","")} | C93: {=IF(AND(B$81="ok",SUMPRODUCT(($A$13:$A$34=$A93)*($B$12:$N$12=B$80)*($B$13:$N$34))>0,OR(C$37<=1,INDIRECT(ADDRESS(52,VLOOKUP(MATCH(C$85,$B$12:$N$12,0),$P$12:$Q$24,2,0)-1))=INDIRECT(ADDRESS(52,VLOOKUP(MATCH(C$85,$B$12:$N$12,0),$P$12:$Q$24,2,0))))=FALSE),"OK","")} | D93: {=IF(AND(C$81="ok",SUMPRODUCT(($A$13:$A$34=$A93)*($B$12:$N$12=C$80)*($B$13:$N$34))>0,OR(D$37<=1,INDIRECT(ADDRESS(52,VLOOKUP(MATCH(D$85,$B$12:$N$12,0),$P$12:$Q$24,2,0)-1))=INDIRECT(ADDRESS(52,VLOOKUP(MATCH(D$85,$B$12:$N$12,0),$P$12:$Q$24,2,0))))=FALSE),"OK","")} | E93: {=IF(AND(D$81="ok",SUMPRODUCT(($A$13:$A$34=$A93)*($B$12:$N$12=D$80)*($B$13:$N$34))>0,OR(E$37<=1,INDIRECT(ADDRESS(52,VLOOKUP(MATCH(E$85,$B$12:$N$12,0),$P$12:$Q$24,2,0)-1))=INDIRECT(ADDRESS(52,VLOOKUP(MATCH(E$85,$B$12:$N$12,0),$P$12:$Q$24,2,0))))=FALSE),"OK","")} | F93: {=IF(AND(E$81="ok",SUMPRODUCT(($A$13:$A$34=$A93)*($B$12:$N$12=E$80)*($B$13:$N$34))>0,OR(F$37<=1,INDIRECT(ADDRESS(52,VLOOKUP(MATCH(F$85,$B$12:$N$12,0),$P$12:$Q$24,2,0)-1))=INDIRECT(ADDRESS(52,VLOOKUP(MATCH(F$85,$B$12:$N$12,0),$P$12:$Q$24,2,0))))=FALSE),"OK","")} | G93: {=IF(AND(F$81="ok",SUMPRODUCT(($A$13:$A$34=$A93)*($B$12:$N$12=F$80)*($B$13:$N$34))>0,OR(G$37<=1,INDIRECT(ADDRESS(52,VLOOKUP(MATCH(G$85,$B$12:$N$12,0),$P$12:$Q$24,2,0)-1))=INDIRECT(ADDRESS(52,VLOOKUP(MATCH(G$85,$B$12:$N$12,0),$P$12:$Q$24,2,0))))=FALSE),"OK","")} | H93: {=IF(AND(G$81="ok",SUMPRODUCT(($A$13:$A$34=$A93)*($B$12:$N$12=G$80)*($B$13:$N$34))>0,OR(H$37<=1,INDIRECT(ADDRESS(52,VLOOKUP(MATCH(H$85,$B$12:$N$12,0),$P$12:$Q$24,2,0)-1))=INDIRECT(ADDRESS(52,VLOOKUP(MATCH(H$85,$B$12:$N$12,0),$P$12:$Q$24,2,0))))=FALSE),"OK","")} | I93: {=IF(AND(H$81="ok",SUMPRODUCT(($A$13:$A$34=$A93)*($B$12:$N$12=H$80)*($B$13:$N$34))>0,OR(I$37<=1,INDIRECT(ADDRESS(52,VLOOKUP(MATCH(I$85,$B$12:$N$12,0),$P$12:$Q$24,2,0)-1))=INDIRECT(ADDRESS(52,VLOOKUP(MATCH(I$85,$B$12:$N$12,0),$P$12:$Q$24,2,0))))=FALSE),"OK","")} | ... N93: {=IF(AND(M$81="ok",SUMPRODUCT(($A$13:$A$34=$A93)*($B$12:$N$12=M$80)*($B$13:$N$34))>0,OR(N$37<=1,INDIRECT(ADDRESS(52,VLOOKUP(MATCH(N$85,$B$12:$N$12,0),$P$12:$Q$24,2,0)-1))=INDIRECT(ADDRESS(52,VLOOKUP(MATCH(N$85,$B$12:$N$12,0),$P$12:$Q$24,2,0))))=FALSE),"OK","")} -> OK
A94: Myris | B94: {=IF(AND(A$81="ok",SUMPRODUCT(($A$13:$A$34=$A94)*($B$12:$N$12=A$80)*($B$13:$N$34))>0,OR(B$37<=1,INDIRECT(ADDRESS(52,VLOOKUP(MATCH(B$85,$B$12:$N$12,0),$P$12:$Q$24,2,0)-1))=INDIRECT(ADDRESS(52,VLOOKUP(MATCH(B$85,$B$12:$N$12,0),$P$12:$Q$24,2,0))))=FALSE),"OK","")} | C94: {=IF(AND(B$81="ok",SUMPRODUCT(($A$13:$A$34=$A94)*($B$12:$N$12=B$80)*($B$13:$N$34))>0,OR(C$37<=1,INDIRECT(ADDRESS(52,VLOOKUP(MATCH(C$85,$B$12:$N$12,0),$P$12:$Q$24,2,0)-1))=INDIRECT(ADDRESS(52,VLOOKUP(MATCH(C$85,$B$12:$N$12,0),$P$12:$Q$24,2,0))))=FALSE),"OK","")} | D94: {=IF(AND(C$81="ok",SUMPRODUCT(($A$13:$A$34=$A94)*($B$12:$N$12=C$80)*($B$13:$N$34))>0,OR(D$37<=1,INDIRECT(ADDRESS(52,VLOOKUP(MATCH(D$85,$B$12:$N$12,0),$P$12:$Q$24,2,0)-1))=INDIRECT(ADDRESS(52,VLOOKUP(MATCH(D$85,$B$12:$N$12,0),$P$12:$Q$24,2,0))))=FALSE),"OK","")} | E94: {=IF(AND(D$81="ok",SUMPRODUCT(($A$13:$A$34=$A94)*($B$12:$N$12=D$80)*($B$13:$N$34))>0,OR(E$37<=1,INDIRECT(ADDRESS(52,VLOOKUP(MATCH(E$85,$B$12:$N$12,0),$P$12:$Q$24,2,0)-1))=INDIRECT(ADDRESS(52,VLOOKUP(MATCH(E$85,$B$12:$N$12,0),$P$12:$Q$24,2,0))))=FALSE),"OK","")} | F94: {=IF(AND(E$81="ok",SUMPRODUCT(($A$13:$A$34=$A94)*($B$12:$N$12=E$80)*($B$13:$N$34))>0,OR(F$37<=1,INDIRECT(ADDRESS(52,VLOOKUP(MATCH(F$85,$B$12:$N$12,0),$P$12:$Q$24,2,0)-1))=INDIRECT(ADDRESS(52,VLOOKUP(MATCH(F$85,$B$12:$N$12,0),$P$12:$Q$24,2,0))))=FALSE),"OK","")} | G94: {=IF(AND(F$81="ok",SUMPRODUCT(($A$13:$A$34=$A94)*($B$12:$N$12=F$80)*($B$13:$N$34))>0,OR(G$37<=1,INDIRECT(ADDRESS(52,VLOOKUP(MATCH(G$85,$B$12:$N$12,0),$P$12:$Q$24,2,0)-1))=INDIRECT(ADDRESS(52,VLOOKUP(MATCH(G$85,$B$12:$N$12,0),$P$12:$Q$24,2,0))))=FALSE),"OK","")} | H94: {=IF(AND(G$81="ok",SUMPRODUCT(($A$13:$A$34=$A94)*($B$12:$N$12=G$80)*($B$13:$N$34))>0,OR(H$37<=1,INDIRECT(ADDRESS(52,VLOOKUP(MATCH(H$85,$B$12:$N$12,0),$P$12:$Q$24,2,0)-1))=INDIRECT(ADDRESS(52,VLOOKUP(MATCH(H$85,$B$12:$N$12,0),$P$12:$Q$24,2,0))))=FALSE),"OK","")} | I94: {=IF(AND(H$81="ok",SUMPRODUCT(($A$13:$A$34=$A94)*($B$12:$N$12=H$80)*($B$13:$N$34))>0,OR(I$37<=1,INDIRECT(ADDRESS(52,VLOOKUP(MATCH(I$85,$B$12:$N$12,0),$P$12:$Q$24,2,0)-1))=INDIRECT(ADDRESS(52,VLOOKUP(MATCH(I$85,$B$12:$N$12,0),$P$12:$Q$24,2,0))))=FALSE),"OK","")} | ... N94: {=IF(AND(M$81="ok",SUMPRODUCT(($A$13:$A$34=$A94)*($B$12:$N$12=M$80)*($B$13:$N$34))>0,OR(N$37<=1,INDIRECT(ADDRESS(52,VLOOKUP(MATCH(N$85,$B$12:$N$12,0),$P$12:$Q$24,2,0)-1))=INDIRECT(ADDRESS(52,VLOOKUP(MATCH(N$85,$B$12:$N$12,0),$P$12:$Q$24,2,0))))=FALSE),"OK","")} -> OK
A95: Florian | B95: {=IF(AND(A$81="ok",SUMPRODUCT(($A$13:$A$34=$A95)*($B$12:$N$12=A$80)*($B$13:$N$34))>0,OR(B$37<=1,INDIRECT(ADDRESS(52,VLOOKUP(MATCH(B$85,$B$12:$N$12,0),$P$12:$Q$24,2,0)-1))=INDIRECT(ADDRESS(52,VLOOKUP(MATCH(B$85,$B$12:$N$12,0),$P$12:$Q$24,2,0))))=FALSE),"OK","")} | C95: {=IF(AND(B$81="ok",SUMPRODUCT(($A$13:$A$34=$A95)*($B$12:$N$12=B$80)*($B$13:$N$34))>0,OR(C$37<=1,INDIRECT(ADDRESS(52,VLOOKUP(MATCH(C$85,$B$12:$N$12,0),$P$12:$Q$24,2,0)-1))=INDIRECT(ADDRESS(52,VLOOKUP(MATCH(C$85,$B$12:$N$12,0),$P$12:$Q$24,2,0))))=FALSE),"OK","")} | D95: {=IF(AND(C$81="ok",SUMPRODUCT(($A$13:$A$34=$A95)*($B$12:$N$12=C$80)*($B$13:$N$34))>0,OR(D$37<=1,INDIRECT(ADDRESS(52,VLOOKUP(MATCH(D$85,$B$12:$N$12,0),$P$12:$Q$24,2,0)-1))=INDIRECT(ADDRESS(52,VLOOKUP(MATCH(D$85,$B$12:$N$12,0),$P$12:$Q$24,2,0))))=FALSE),"OK","")} | E95: {=IF(AND(D$81="ok",SUMPRODUCT(($A$13:$A$34=$A95)*($B$12:$N$12=D$80)*($B$13:$N$34))>0,OR(E$37<=1,INDIRECT(ADDRESS(52,VLOOKUP(MATCH(E$85,$B$12:$N$12,0),$P$12:$Q$24,2,0)-1))=INDIRECT(ADDRESS(52,VLOOKUP(MATCH(E$85,$B$12:$N$12,0),$P$12:$Q$24,2,0))))=FALSE),"OK","")} | F95: {=IF(AND(E$81="ok",SUMPRODUCT(($A$13:$A$34=$A95)*($B$12:$N$12=E$80)*($B$13:$N$34))>0,OR(F$37<=1,INDIRECT(ADDRESS(52,VLOOKUP(MATCH(F$85,$B$12:$N$12,0),$P$12:$Q$24,2,0)-1))=INDIRECT(ADDRESS(52,VLOOKUP(MATCH(F$85,$B$12:$N$12,0),$P$12:$Q$24,2,0))))=FALSE),"OK","")} | G95: {=IF(AND(F$81="ok",SUMPRODUCT(($A$13:$A$34=$A95)*($B$12:$N$12=F$80)*($B$13:$N$34))>0,OR(G$37<=1,INDIRECT(ADDRESS(52,VLOOKUP(MATCH(G$85,$B$12:$N$12,0),$P$12:$Q$24,2,0)-1))=INDIRECT(ADDRESS(52,VLOOKUP(MATCH(G$85,$B$12:$N$12,0),$P$12:$Q$24,2,0))))=FALSE),"OK","")} | H95: {=IF(AND(G$81="ok",SUMPRODUCT(($A$13:$A$34=$A95)*($B$12:$N$12=G$80)*($B$13:$N$34))>0,OR(H$37<=1,INDIRECT(ADDRESS(52,VLOOKUP(MATCH(H$85,$B$12:$N$12,0),$P$12:$Q$24,2,0)-1))=INDIRECT(ADDRESS(52,VLOOKUP(MATCH(H$85,$B$12:$N$12,0),$P$12:$Q$24,2,0))))=FALSE),"OK","")} | I95: {=IF(AND(H$81="ok",SUMPRODUCT(($A$13:$A$34=$A95)*($B$12:$N$12=H$80)*($B$13:$N$34))>0,OR(I$37<=1,INDIRECT(ADDRESS(52,VLOOKUP(MATCH(I$85,$B$12:$N$12,0),$P$12:$Q$24,2,0)-1))=INDIRECT(ADDRESS(52,VLOOKUP(MATCH(I$85,$B$12:$N$12,0),$P$12:$Q$24,2,0))))=FALSE),"OK","")} | ... N95: {=IF(AND(M$81="ok",SUMPRODUCT(($A$13:$A$34=$A95)*($B$12:$N$12=M$80)*($B$13:$N$34))>0,OR(N$37<=1,INDIRECT(ADDRESS(52,VLOOKUP(MATCH(N$85,$B$12:$N$12,0),$P$12:$Q$24,2,0)-1))=INDIRECT(ADDRESS(52,VLOOKUP(MATCH(N$85,$B$12:$N$12,0),$P$12:$Q$24,2,0))))=FALSE),"OK","")} -> OK
A96: Laëtitia | B96: {=IF(AND(A$81="ok",SUMPRODUCT(($A$13:$A$34=$A96)*($B$12:$N$12=A$80)*($B$13:$N$34))>0,OR(B$37<=1,INDIRECT(ADDRESS(52,VLOOKUP(MATCH(B$85,$B$12:$N$12,0),$P$12:$Q$24,2,0)-1))=INDIRECT(ADDRESS(52,VLOOKUP(MATCH(B$85,$B$12:$N$12,0),$P$12:$Q$24,2,0))))=FALSE),"OK","")} | C96: {=IF(AND(B$81="ok",SUMPRODUCT(($A$13:$A$34=$A96)*($B$12:$N$12=B$80)*($B$13:$N$34))>0,OR(C$37<=1,INDIRECT(ADDRESS(52,VLOOKUP(MATCH(C$85,$B$12:$N$12,0),$P$12:$Q$24,2,0)-1))=INDIRECT(ADDRESS(52,VLOOKUP(MATCH(C$85,$B$12:$N$12,0),$P$12:$Q$24,2,0))))=FALSE),"OK","")} | D96: {=IF(AND(C$81="ok",SUMPRODUCT(($A$13:$A$34=$A96)*($B$12:$N$12=C$80)*($B$13:$N$34))>0,OR(D$37<=1,INDIRECT(ADDRESS(52,VLOOKUP(MATCH(D$85,$B$12:$N$12,0),$P$12:$Q$24,2,0)-1))=INDIRECT(ADDRESS(52,VLOOKUP(MATCH(D$85,$B$12:$N$12,0),$P$12:$Q$24,2,0))))=FALSE),"OK","")} | E96: {=IF(AND(D$81="ok",SUMPRODUCT(($A$13:$A$34=$A96)*($B$12:$N$12=D$80)*($B$13:$N$34))>0,OR(E$37<=1,INDIRECT(ADDRESS(52,VLOOKUP(MATCH(E$85,$B$12:$N$12,0),$P$12:$Q$24,2,0)-1))=INDIRECT(ADDRESS(52,VLOOKUP(MATCH(E$85,$B$12:$N$12,0),$P$12:$Q$24,2,0))))=FALSE),"OK","")} | F96: {=IF(AND(E$81="ok",SUMPRODUCT(($A$13:$A$34=$A96)*($B$12:$N$12=E$80)*($B$13:$N$34))>0,OR(F$37<=1,INDIRECT(ADDRESS(52,VLOOKUP(MATCH(F$85,$B$12:$N$12,0),$P$12:$Q$24,2,0)-1))=INDIRECT(ADDRESS(52,VLOOKUP(MATCH(F$85,$B$12:$N$12,0),$P$12:$Q$24,2,0))))=FALSE),"OK","")} | G96: {=IF(AND(F$81="ok",SUMPRODUCT(($A$13:$A$34=$A96)*($B$12:$N$12=F$80)*($B$13:$N$34))>0,OR(G$37<=1,INDIRECT(ADDRESS(52,VLOOKUP(MATCH(G$85,$B$12:$N$12,0),$P$12:$Q$24,2,0)-1))=INDIRECT(ADDRESS(52,VLOOKUP(MATCH(G$85,$B$12:$N$12,0),$P$12:$Q$24,2,0))))=FALSE),"OK","")} | H96: {=IF(AND(G$81="ok",SUMPRODUCT(($A$13:$A$34=$A96)*($B$12:$N$12=G$80)*($B$13:$N$34))>0,OR(H$37<=1,INDIRECT(ADDRESS(52,VLOOKUP(MATCH(H$85,$B$12:$N$12,0),$P$12:$Q$24,2,0)-1))=INDIRECT(ADDRESS(52,VLOOKUP(MATCH(H$85,$B$12:$N$12,0),$P$12:$Q$24,2,0))))=FALSE),"OK","")} | I96: {=IF(AND(H$81="ok",SUMPRODUCT(($A$13:$A$34=$A96)*($B$12:$N$12=H$80)*($B$13:$N$34))>0,OR(I$37<=1,INDIRECT(ADDRESS(52,VLOOKUP(MATCH(I$85,$B$12:$N$12,0),$P$12:$Q$24,2,0)-1))=INDIRECT(ADDRESS(52,VLOOKUP(MATCH(I$85,$B$12:$N$12,0),$P$12:$Q$24,2,0))))=FALSE),"OK","")} | ... N96: {=IF(AND(M$81="ok",SUMPRODUCT(($A$13:$A$34=$A96)*($B$12:$N$12=M$80)*($B$13:$N$34))>0,OR(N$37<=1,INDIRECT(ADDRESS(52,VLOOKUP(MATCH(N$85,$B$12:$N$12,0),$P$12:$Q$24,2,0)-1))=INDIRECT(ADDRESS(52,VLOOKUP(MATCH(N$85,$B$12:$N$12,0),$P$12:$Q$24,2,0))))=FALSE),"OK","")}
A97: Isabelle | B97: {=IF(AND(A$81="ok",SUMPRODUCT(($A$13:$A$34=$A97)*($B$12:$N$12=A$80)*($B$13:$N$34))>0,OR(B$37<=1,INDIRECT(ADDRESS(52,VLOOKUP(MATCH(B$85,$B$12:$N$12,0),$P$12:$Q$24,2,0)-1))=INDIRECT(ADDRESS(52,VLOOKUP(MATCH(B$85,$B$12:$N$12,0),$P$12:$Q$24,2,0))))=FALSE),"OK","")} | C97: {=IF(AND(B$81="ok",SUMPRODUCT(($A$13:$A$34=$A97)*($B$12:$N$12=B$80)*($B$13:$N$34))>0,OR(C$37<=1,INDIRECT(ADDRESS(52,VLOOKUP(MATCH(C$85,$B$12:$N$12,0),$P$12:$Q$24,2,0)-1))=INDIRECT(ADDRESS(52,VLOOKUP(MATCH(C$85,$B$12:$N$12,0),$P$12:$Q$24,2,0))))=FALSE),"OK","")} | D97: {=IF(AND(C$81="ok",SUMPRODUCT(($A$13:$A$34=$A97)*($B$12:$N$12=C$80)*($B$13:$N$34))>0,OR(D$37<=1,INDIRECT(ADDRESS(52,VLOOKUP(MATCH(D$85,$B$12:$N$12,0),$P$12:$Q$24,2,0)-1))=INDIRECT(ADDRESS(52,VLOOKUP(MATCH(D$85,$B$12:$N$12,0),$P$12:$Q$24,2,0))))=FALSE),"OK","")} | E97: {=IF(AND(D$81="ok",SUMPRODUCT(($A$13:$A$34=$A97)*($B$12:$N$12=D$80)*($B$13:$N$34))>0,OR(E$37<=1,INDIRECT(ADDRESS(52,VLOOKUP(MATCH(E$85,$B$12:$N$12,0),$P$12:$Q$24,2,0)-1))=INDIRECT(ADDRESS(52,VLOOKUP(MATCH(E$85,$B$12:$N$12,0),$P$12:$Q$24,2,0))))=FALSE),"OK","")} | F97: {=IF(AND(E$81="ok",SUMPRODUCT(($A$13:$A$34=$A97)*($B$12:$N$12=E$80)*($B$13:$N$34))>0,OR(F$37<=1,INDIRECT(ADDRESS(52,VLOOKUP(MATCH(F$85,$B$12:$N$12,0),$P$12:$Q$24,2,0)-1))=INDIRECT(ADDRESS(52,VLOOKUP(MATCH(F$85,$B$12:$N$12,0),$P$12:$Q$24,2,0))))=FALSE),"OK","")} | G97: {=IF(AND(F$81="ok",SUMPRODUCT(($A$13:$A$34=$A97)*($B$12:$N$12=F$80)*($B$13:$N$34))>0,OR(G$37<=1,INDIRECT(ADDRESS(52,VLOOKUP(MATCH(G$85,$B$12:$N$12,0),$P$12:$Q$24,2,0)-1))=INDIRECT(ADDRESS(52,VLOOKUP(MATCH(G$85,$B$12:$N$12,0),$P$12:$Q$24,2,0))))=FALSE),"OK","")} | H97: {=IF(AND(G$81="ok",SUMPRODUCT(($A$13:$A$34=$A97)*($B$12:$N$12=G$80)*($B$13:$N$34))>0,OR(H$37<=1,INDIRECT(ADDRESS(52,VLOOKUP(MATCH(H$85,$B$12:$N$12,0),$P$12:$Q$24,2,0)-1))=INDIRECT(ADDRESS(52,VLOOKUP(MATCH(H$85,$B$12:$N$12,0),$P$12:$Q$24,2,0))))=FALSE),"OK","")} | I97: {=IF(AND(H$81="ok",SUMPRODUCT(($A$13:$A$34=$A97)*($B$12:$N$12=H$80)*($B$13:$N$34))>0,OR(I$37<=1,INDIRECT(ADDRESS(52,VLOOKUP(MATCH(I$85,$B$12:$N$12,0),$P$12:$Q$24,2,0)-1))=INDIRECT(ADDRESS(52,VLOOKUP(MATCH(I$85,$B$12:$N$12,0),$P$12:$Q$24,2,0))))=FALSE),"OK","")} | ... N97: {=IF(AND(M$81="ok",SUMPRODUCT(($A$13:$A$34=$A97)*($B$12:$N$12=M$80)*($B$13:$N$34))>0,OR(N$37<=1,INDIRECT(ADDRESS(52,VLOOKUP(MATCH(N$85,$B$12:$N$12,0),$P$12:$Q$24,2,0)-1))=INDIRECT(ADDRESS(52,VLOOKUP(MATCH(N$85,$B$12:$N$12,0),$P$12:$Q$24,2,0))))=FALSE),"OK","")}
... A107: Morgane | B107: {=IF(AND(A$81="ok",SUMPRODUCT(($A$13:$A$34=$A107)*($B$12:$N$12=A$80)*($B$13:$N$34))>0,OR(B$37<=1,INDIRECT(ADDRESS(52,VLOOKUP(MATCH(B$85,$B$12:$N$12,0),$P$12:$Q$24,2,0)-1))=INDIRECT(ADDRESS(52,VLOOKUP(MATCH(B$85,$B$12:$N$12,0),$P$12:$Q$24,2,0))))=FALSE),"OK","")} | C107: {=IF(AND(B$81="ok",SUMPRODUCT(($A$13:$A$34=$A107)*($B$12:$N$12=B$80)*($B$13:$N$34))>0,OR(C$37<=1,INDIRECT(ADDRESS(52,VLOOKUP(MATCH(C$85,$B$12:$N$12,0),$P$12:$Q$24,2,0)-1))=INDIRECT(ADDRESS(52,VLOOKUP(MATCH(C$85,$B$12:$N$12,0),$P$12:$Q$24,2,0))))=FALSE),"OK","")} | D107: {=IF(AND(C$81="ok",SUMPRODUCT(($A$13:$A$34=$A107)*($B$12:$N$12=C$80)*($B$13:$N$34))>0,OR(D$37<=1,INDIRECT(ADDRESS(52,VLOOKUP(MATCH(D$85,$B$12:$N$12,0),$P$12:$Q$24,2,0)-1))=INDIRECT(ADDRESS(52,VLOOKUP(MATCH(D$85,$B$12:$N$12,0),$P$12:$Q$24,2,0))))=FALSE),"OK","")} | E107: {=IF(AND(D$81="ok",SUMPRODUCT(($A$13:$A$34=$A107)*($B$12:$N$12=D$80)*($B$13:$N$34))>0,OR(E$37<=1,INDIRECT(ADDRESS(52,VLOOKUP(MATCH(E$85,$B$12:$N$12,0),$P$12:$Q$24,2,0)-1))=INDIRECT(ADDRESS(52,VLOOKUP(MATCH(E$85,$B$12:$N$12,0),$P$12:$Q$24,2,0))))=FALSE),"OK","")} | F107: {=IF(AND(E$81="ok",SUMPRODUCT(($A$13:$A$34=$A107)*($B$12:$N$12=E$80)*($B$13:$N$34))>0,OR(F$37<=1,INDIRECT(ADDRESS(52,VLOOKUP(MATCH(F$85,$B$12:$N$12,0),$P$12:$Q$24,2,0)-1))=INDIRECT(ADDRESS(52,VLOOKUP(MATCH(F$85,$B$12:$N$12,0),$P$12:$Q$24,2,0))))=FALSE),"OK","")} | G107: {=IF(AND(F$81="ok",SUMPRODUCT(($A$13:$A$34=$A107)*($B$12:$N$12=F$80)*($B$13:$N$34))>0,OR(G$37<=1,INDIRECT(ADDRESS(52,VLOOKUP(MATCH(G$85,$B$12:$N$12,0),$P$12:$Q$24,2,0)-1))=INDIRECT(ADDRESS(52,VLOOKUP(MATCH(G$85,$B$12:$N$12,0),$P$12:$Q$24,2,0))))=FALSE),"OK","")} | H107: {=IF(AND(G$81="ok",SUMPRODUCT(($A$13:$A$34=$A107)*($B$12:$N$12=G$80)*($B$13:$N$34))>0,OR(H$37<=1,INDIRECT(ADDRESS(52,VLOOKUP(MATCH(H$85,$B$12:$N$12,0),$P$12:$Q$24,2,0)-1))=INDIRECT(ADDRESS(52,VLOOKUP(MATCH(H$85,$B$12:$N$12,0),$P$12:$Q$24,2,0))))=FALSE),"OK","")} | I107: {=IF(AND(H$81="ok",SUMPRODUCT(($A$13:$A$34=$A107)*($B$12:$N$12=H$80)*($B$13:$N$34))>0,OR(I$37<=1,INDIRECT(ADDRESS(52,VLOOKUP(MATCH(I$85,$B$12:$N$12,0),$P$12:$Q$24,2,0)-1))=INDIRECT(ADDRESS(52,VLOOKUP(MATCH(I$85,$B$12:$N$12,0),$P$12:$Q$24,2,0))))=FALSE),"OK","")} | ... N107: {=IF(AND(M$81="ok",SUMPRODUCT(($A$13:$A$34=$A107)*($B$12:$N$12=M$80)*($B$13:$N$34))>0,OR(N$37<=1,INDIRECT(ADDRESS(52,VLOOKUP(MATCH(N$85,$B$12:$N$12,0),$P$12:$Q$24,2,0)-1))=INDIRECT(ADDRESS(52,VLOOKUP(MATCH(N$85,$B$12:$N$12,0),$P$12:$Q$24,2,0))))=FALSE),"OK","")}
