Workbook

Sheet Horaire
A1: SEMAINE 1
B2: Lundi | C2: Mardi | D2: Mercredi | E2: Jeudi | F2: Vendredi
A3: Tache 1 | B3: Personne 1 | D3: Personne 2
B4: {=IFERROR(INDEX('Liste noms'!$B$2:$B$30,MOD(MATCH(Horaire!B3,'Liste noms'!$B$2:$B$30,0)+4,29)+1),"")} -> Personne 6 | C4: {=IFERROR(INDEX('Liste noms'!$B$2:$B$30,MOD(MATCH(Horaire!C3,'Liste noms'!$B$2:$B$30,0)+4,29)+1),"")} | D4: {=IFERROR(INDEX('Liste noms'!$B$2:$B$30,MOD(MATCH(Horaire!D3,'Liste noms'!$B$2:$B$30,0)+4,29)+1),"")} -> Personne 7 | E4: {=IFERROR(INDEX('Liste noms'!$B$2:$B$30,MOD(MATCH(Horaire!E3,'Liste noms'!$B$2:$B$30,0)+4,29)+1),"")} | F4: {=IFERROR(INDEX('Liste noms'!$B$2:$B$30,MOD(MATCH(Horaire!F3,'Liste noms'!$B$2:$B$30,0)+4,29)+1),"")}
A5: Tache 2
B6: {=IFERROR(INDEX('Liste noms'!$B$2:$B$30,MOD(MATCH(Horaire!B5,'Liste noms'!$B$2:$B$30,0)+4,29)+1),"")} | C6: {=IFERROR(INDEX('Liste noms'!$B$2:$B$30,MOD(MATCH(Horaire!C5,'Liste noms'!$B$2:$B$30,0)+4,29)+1),"")} | D6: {=IFERROR(INDEX('Liste noms'!$B$2:$B$30,MOD(MATCH(Horaire!D5,'Liste noms'!$B$2:$B$30,0)+4,29)+1),"")} | E6: {=IFERROR(INDEX('Liste noms'!$B$2:$B$30,MOD(MATCH(Horaire!E5,'Liste noms'!$B$2:$B$30,0)+4,29)+1),"")} | F6: {=IFERROR(INDEX('Liste noms'!$B$2:$B$30,MOD(MATCH(Horaire!F5,'Liste noms'!$B$2:$B$30,0)+4,29)+1),"")}
A7: Tache 3 | B7: Personne 27
B8: {=IFERROR(INDEX('Liste noms'!$B$2:$B$30,MOD(MATCH(Horaire!B7,'Liste noms'!$B$2:$B$30,0)+4,29)+1),"")} -> Personne 3 | C8: {=IFERROR(INDEX('Liste noms'!$B$2:$B$30,MOD(MATCH(Horaire!C7,'Liste noms'!$B$2:$B$30,0)+4,29)+1),"")} | D8: {=IFERROR(INDEX('Liste noms'!$B$2:$B$30,MOD(MATCH(Horaire!D7,'Liste noms'!$B$2:$B$30,0)+4,29)+1),"")} | E8: {=IFERROR(INDEX('Liste noms'!$B$2:$B$30,MOD(MATCH(Horaire!E7,'Liste noms'!$B$2:$B$30,0)+4,29)+1),"")} | F8: {=IFERROR(INDEX('Liste noms'!$B$2:$B$30,MOD(MATCH(Horaire!F7,'Liste noms'!$B$2:$B$30,0)+4,29)+1),"")}

Sheet Liste noms
G1: Liste
A2: Equipe 4 | B2: Personne 1 | C2: {=MOD(ROW(1:1)+4,29)+1} -> 6 | G2: {=_xlfn.LET(_xlpm.nb,COUNTIF(Horaire!$B$3:$F$8,'Liste noms'!$B$2:$B$30),_xlfn._xlws.FILTER('Liste noms'!$B$2:$B$30,_xlpm.nb<>1))} -> Personne 4
B3: Personne 2 | C3: {=MOD(ROW(2:2)+4,29)+1} -> 7 | G3: Personne 5
B4: Personne 3 | C4: {=MOD(ROW(3:3)+4,29)+1} -> 8 | G4: Personne 8
B5: Personne 4 | C5: {=MOD(ROW(4:4)+4,29)+1} -> 9 | G5: Personne 9
B6: Personne 5 | C6: {=MOD(ROW(5:5)+4,29)+1} -> 10 | G6: Personne 10
A7: Equipe 5 | B7: Personne 6 | C7: {=MOD(ROW(6:6)+4,29)+1} -> 11 | G7: Personne 11
B8: Personne 7 | C8: {=MOD(ROW(7:7)+4,29)+1} -> 12 | G8: Personne 12
B9: Personne 8 | C9: {=MOD(ROW(8:8)+4,29)+1} -> 13 | G9: Personne 13
B10: Personne 9 | C10: {=MOD(ROW(9:9)+4,29)+1} -> 14 | G10: Personne 14
B11: Personne 10 | C11: {=MOD(ROW(10:10)+4,29)+1} -> 15 | G11: Personne 15
A12: equipe 6 | B12: Personne 11 | C12: {=MOD(ROW(11:11)+4,29)+1} -> 16 | G12: Personne 16
B13: Personne 12 | C13: {=MOD(ROW(12:12)+4,29)+1} -> 17 | G13: Personne 17
B14: Personne 13 | C14: {=MOD(ROW(13:13)+4,29)+1} -> 18 | G14: Personne 18
B15: Personne 14 | C15: {=MOD(ROW(14:14)+4,29)+1} -> 19 | G15: Personne 19
B16: Personne 15 | C16: {=MOD(ROW(15:15)+4,29)+1} -> 20 | G16: Personne 20
A17: Equipe 7 | B17: Personne 16 | C17: {=MOD(ROW(16:16)+4,29)+1} -> 21 | G17: Personne 21
B18: Personne 17 | C18: {=MOD(ROW(17:17)+4,29)+1} -> 22 | G18: Personne 22
B19: Personne 18 | C19: {=MOD(ROW(18:18)+4,29)+1} -> 23 | G19: Personne 23
B20: Personne 19 | C20: {=MOD(ROW(19:19)+4,29)+1} -> 24 | G20: Personne 24
A21: equipe 8 | B21: Personne 20 | C21: {=MOD(ROW(20:20)+4,29)+1} -> 25 | G21: Personne 25
B22: Personne 21 | C22: {=MOD(ROW(21:21)+4,29)+1} -> 26 | G22: Personne 26
B23: Personne 22 | C23: {=MOD(ROW(22:22)+4,29)+1} -> 27 | G23: Personne 28
B24: Personne 23 | C24: {=MOD(ROW(23:23)+4,29)+1} -> 28 | G24: Personne 29
A25: CHAMBRE 9 | B25: Personne 24 | C25: {=MOD(ROW(24:24)+4,29)+1} -> 29
B26: Personne 25 | C26: {=MOD(ROW(25:25)+4,29)+1} -> 1
B27: Personne 26 | C27: {=MOD(ROW(26:26)+4,29)+1} -> 2
B28: Personne 27 | C28: {=MOD(ROW(27:27)+4,29)+1} -> 3
A29: CHAMBRE 10 | B29: Personne 28 | C29: {=MOD(ROW(28:28)+4,29)+1} -> 4
B30: Personne 29 | C30: {=MOD(ROW(29:29)+4,29)+1} -> 5
