Workbook

Sheet Feuil1
C2: =IF(Feuil2!B2>0,Feuil2!A2,0) -> 1 | F2: =IF(Feuil2!E2>0,Feuil2!D2,0) -> 0 | I2: =IF(Feuil2!H2>0,Feuil2!G2,0) -> 1
C3: =IF(Feuil2!B3>0,Feuil2!A3,0) -> 2 | F3: =IF(Feuil2!E3>0,Feuil2!D3,0) -> 2 | I3: =IF(Feuil2!H3>0,Feuil2!G3,0) -> 2
C4: =IF(Feuil2!B4>0,Feuil2!A4,0) -> 3 | F4: =IF(Feuil2!E4>0,Feuil2!D4,0) -> 3 | I4: =IF(Feuil2!H4>0,Feuil2!G4,0) -> 3
C5: =IF(Feuil2!B5>0,Feuil2!A5,0) -> 0 | F5: =IF(Feuil2!E5>0,Feuil2!D5,0) -> 4 | I5: =IF(Feuil2!H5>0,Feuil2!G5,0) -> 4
C6: =IF(Feuil2!B6>0,Feuil2!A6,0) -> 0 | F6: =IF(Feuil2!E6>0,Feuil2!D6,0) -> 0 | I6: =IF(Feuil2!H6>0,Feuil2!G6,0) -> 5
C7: =IF(Feuil2!B7>0,Feuil2!A7,0) -> 6 | F7: =IF(Feuil2!E7>0,Feuil2!D7,0) -> 0 | I7: =IF(Feuil2!H7>0,Feuil2!G7,0) -> 6
C8: =IF(Feuil2!B8>0,Feuil2!A8,0) -> 0 | F8: =IF(Feuil2!E8>0,Feuil2!D8,0) -> 7 | I8: =IF(Feuil2!H8>0,Feuil2!G8,0) -> 0
C9: =IF(Feuil2!B9>0,Feuil2!A9,0) -> 8 | F9: =IF(Feuil2!E9>0,Feuil2!D9,0) -> 0 | I9: =IF(Feuil2!H9>0,Feuil2!G9,0) -> 0
C10: =IF(Feuil2!B10>0,Feuil2!A10,0) -> 0 | F10: =IF(Feuil2!E10>0,Feuil2!D10,0) -> 0 | I10: =IF(Feuil2!H10>0,Feuil2!G10,0) -> 9

Sheet Feuil2
A2: 1 | B2: 2 | D2: 1 | E2: 0 | G2: 1 | H2: 2
A3: 2 | B3: 3 | D3: 2 | E3: 2 | G3: 2 | H3: 2
A4: 3 | B4: 5 | D4: 3 | E4: 3 | G4: 3 | H4: 5
A5: 4 | B5: 0 | D5: 4 | E5: 5 | G5: 4 | H5: 6
A6: 5 | B6: 0 | D6: 5 | E6: 0 | G6: 5 | H6: 7
A7: 6 | B7: 9 | D7: 6 | E7: 0 | G7: 6 | H7: 9
A8: 7 | B8: 0 | D8: 7 | E8: 6 | G8: 7 | H8: 0
A9: 8 | B9: 1 | D9: 8 | E9: 0 | G9: 8 | H9: 0
A10: 9 | B10: 0 | D10: 9 | E10: 0 | G10: 9 | H10: 1
