Workbook

Sheet Mouvements de stocks
A2: 1- État de stock par produit LLDPE
A4: Article | B4: Quantité en stock physique début Février (Kg) | C4: Quantité en stock physique en KG Actuel
A6: Aramco F2122 | C6: =B6-'État de sorties'!B5+SUMIFS(Arrivages!$C$5:$C$15,Arrivages!$B$5:$B$15,"Aramco F2122") -> -1800
A7: Dowlex 2645G | C7: =B7-'État de sorties'!B6+SUMIFS(Arrivages!$C$5:$C$15,Arrivages!$B$5:$B$15,"Dowlex 2645G") -> -2600
A8: Dowlex 5056 01G | C8: =B8-'État de sorties'!B7+SUMIFS(Arrivages!$C$5:$C$15,Arrivages!$B$5:$B$15,"Dowlex 5056 01G") -> 0
A9: Dowlex XZ 89499 | C9: =B9-'État de sorties'!B8+SUMIFS(Arrivages!$C$5:$C$15,Arrivages!$B$5:$B$15,"Dowlex XZ 89499") -> 0
A10: Dowlex XZ 89507 | C10: =B10-'État de sorties'!B9+SUMIFS(Arrivages!$C$5:$C$15,Arrivages!$B$5:$B$15,"Dowlex XZ 89507") -> 0
A11: Elite 5401G | C11: =B11-'État de sorties'!B10+SUMIFS(Arrivages!$C$5:$C$15,Arrivages!$B$5:$B$15,"Elite 5401G") -> -6500
A12: Equate 7087 | C12: =B12-'État de sorties'!B11+SUMIFS(Arrivages!$C$5:$C$15,Arrivages!$B$5:$B$15,"Equate 7087") -> 0
A13: Equate EFDC-7080 Luban | C13: =B13-'État de sorties'!B12+SUMIFS(Arrivages!$C$5:$C$15,Arrivages!$B$5:$B$15,"Equate EFDC-7080 Luban") -> 0
A14: Lotrene Q1018H | C14: =B14-'État de sorties'!B13+SUMIFS(Arrivages!$C$5:$C$15,Arrivages!$B$5:$B$15,"Lotrene Q1018H") -> 0
A15: REPSOL 1810F | C15: =B15-'État de sorties'!B14+SUMIFS(Arrivages!$C$5:$C$15,Arrivages!$B$5:$B$15,"REPSOL 1810F") -> 0
A16: Sabic 118WJ | C16: =B16-'État de sorties'!B15+SUMIFS(Arrivages!$C$5:$C$15,Arrivages!$B$5:$B$15,"Sabic 118WJ") -> 0
A17: Total LDPE | B17: =SUM(B6:B16) -> 0 | C17: =SUM(C6:C16) -> -10900
A19: 2- État de stock par produit LDPE
A21: Article | B21: Quantité en stock physique début Février (Kg) | C21: Quantité en stock physique en KG Actuel
A23: ALCUDIA 2212FG | C23: =B23-'État de sorties'!B21+SUMIFS(Arrivages!$C$21:$C$33,Arrivages!$B$21:$B$33,"ALCUDIA 2212FG") -> 0
A24: ALCUDIA 2308FG | C24: =B24-'État de sorties'!B22+SUMIFS(Arrivages!$C$21:$C$33,Arrivages!$B$21:$B$33,"ALCUDIA 2308FG") -> 0
A25: ALCUDIA PE-046A | C25: =B25-'État de sorties'!B23+SUMIFS(Arrivages!$C$21:$C$33,Arrivages!$B$21:$B$33,"ALCUDIA PE-046A") -> 0
A26: RepsoL 2203F | C26: =B26-'État de sorties'!B24+SUMIFS(Arrivages!$C$21:$C$33,Arrivages!$B$21:$B$33,"RepsoL 2203F") -> 0
A27: Baselle 2426H | C27: =B27-'État de sorties'!B25+SUMIFS(Arrivages!$C$21:$C$33,Arrivages!$B$21:$B$33,"Baselle 2426H") -> 0
A28: LDPE 150 | C28: =B28-'État de sorties'!B26+SUMIFS(Arrivages!$C$21:$C$33,Arrivages!$B$21:$B$33,"LDPE 150") -> 0
A29: LDPE 312 | C29: =B29-'État de sorties'!B27+SUMIFS(Arrivages!$C$21:$C$33,Arrivages!$B$21:$B$33,"LDPE 312") -> 0
A30: LDPE 352 | C30: =B30-'État de sorties'!B28+SUMIFS(Arrivages!$C$21:$C$33,Arrivages!$B$21:$B$33,"LDPE 352") -> 0
A31: 2022jn 149 | C31: =B31-'État de sorties'!B29+SUMIFS(Arrivages!$C$21:$C$33,Arrivages!$B$21:$B$33,"2022jn 149") -> 0
A32: LDPE HP 0723JN | C32: =B32-'État de sorties'!B30+SUMIFS(Arrivages!$C$21:$C$33,Arrivages!$B$21:$B$33,"LDPE HP 0723JN") -> 0
A33: Lotrene 0274 | C33: =B33-'État de sorties'!B31+SUMIFS(Arrivages!$C$21:$C$33,Arrivages!$B$21:$B$33,"Lotrene 0274") -> 0
A34: Sabic HP0823 | C34: =B34-'État de sorties'!B32+SUMIFS(Arrivages!$C$21:$C$33,Arrivages!$B$21:$B$33,"Sabic HP0823") -> 0
A35: Tasnee 1925AS | C35: =B35-'État de sorties'!B33+SUMIFS(Arrivages!$C$21:$C$33,Arrivages!$B$21:$B$33,"Tasnee 1925AS") -> 0
A36: Total LDPE | B36: =SUM(B23:B35) -> 0 | C36: =SUM(C23:C35) -> 0
A39: 3- État de stock par produit PP
A41: Article | B41: Quantité en stock physique début Février (Kg) | C41: Quantité en stock physique en KG Actuel
A42: BOROUGE HD 601CF | C42: =B42-'État de sorties'!B40+SUMIFS(Arrivages!$C$40:$C$46,Arrivages!$B$40:$B$46,"BOROUGE HD 601CF") -> 0
A43: BOUROUGE RD 239CF | C43: =B43-'État de sorties'!B41+SUMIFS(Arrivages!$C$40:$C$46,Arrivages!$B$40:$B$46,"BOUROUGE RD 239CF") -> 0
A44: LOTTE PP FC-150U | C44: =B44-'État de sorties'!B42+SUMIFS(Arrivages!$C$40:$C$46,Arrivages!$B$40:$B$46,"LOTTE PP FC-150U") -> 0
A45: LOTTE PP SFC-C550 | C45: =B45-'État de sorties'!B43+SUMIFS(Arrivages!$C$40:$C$46,Arrivages!$B$40:$B$46,"LOTTE PP SFC-C550") -> 0
A46: Repsol P064 | C46: =B46-'État de sorties'!B44+SUMIFS(Arrivages!$C$40:$C$46,Arrivages!$B$40:$B$46,"Repsol P064") -> 0
A47: REPSOL P264 | C47: =B47-'État de sorties'!B45+SUMIFS(Arrivages!$C$40:$C$46,Arrivages!$B$40:$B$46,"REPSOL P264") -> 0
A48: SABIC 520L | C48: =B48-'État de sorties'!B46+SUMIFS(Arrivages!$C$40:$C$46,Arrivages!$B$40:$B$46,"SABIC 520L") -> 0
A49: Total LDPE | B49: =SUM(B42:B48) -> 0 | C49: =SUM(C42:C48) -> 0
A54: 4- État de stock Colorant & Additifs
A56: Article | B56: Quantité en stock physique début Février (Kg) | C56: Quantité en stock physique en KG Actuel
A57: Blanc Masterbatch | C57: =B57-'État de sorties'!B53+SUMIFS(Arrivages!$C$53:$C$61,Arrivages!$B$53:$B$61,"Blanc Masterbatch") -> 0
A58: Vert | C58: =B58-'État de sorties'!B54+SUMIFS(Arrivages!$C$53:$C$61,Arrivages!$B$53:$B$61,"Vert") -> 0
A59: Bleu | C59: =B59-'État de sorties'!B55+SUMIFS(Arrivages!$C$53:$C$61,Arrivages!$B$53:$B$61,"Bleu") -> 0
A60: Noir | C60: =B60-'État de sorties'!B56+SUMIFS(Arrivages!$C$53:$C$61,Arrivages!$B$53:$B$61,"Noir") -> 0
A61: MB PE AB 5100001(anti-block) | C61: =B61-'État de sorties'!B57+SUMIFS(Arrivages!$C$53:$C$61,Arrivages!$B$53:$B$61,"MB PE AB 5100001(anti-block)") -> 0
A62: MB PE AS 5300010 (antistatique) | C62: =B62-'État de sorties'!B58+SUMIFS(Arrivages!$C$53:$C$61,Arrivages!$B$53:$B$61,"MB PE AS 5300010 (antistatique)") -> 0
A63: MB PE UV 5600006 (anti-UV) | C63: =B63-'État de sorties'!B59+SUMIFS(Arrivages!$C$53:$C$61,Arrivages!$B$53:$B$61,"MB PE UV 5600006 (anti-UV)") -> 0
A64: MB PE SLIP 6100011 (Agent Glissant) | C64: =B64-'État de sorties'!B60+SUMIFS(Arrivages!$C$53:$C$61,Arrivages!$B$53:$B$61,"MB PE SLIP 6100011 (Agent Glissant)") -> 0
A65: AKULON XS 36-E2 (Colle) | C65: =B65-'État de sorties'!B61+SUMIFS(Arrivages!$C$53:$C$61,Arrivages!$B$53:$B$61,"AKULON XS 36-E2 (Colle)") -> 0
A66: Total Colorants & Additifs | B66: =SUM(B57:B65) -> 0 | C66: =SUM(C57:C65) -> 0

Sheet État de sorties
A1: 1- État de sortie de matiere LLDPE (Kg)
A3: Article | B3: Total sortie par MP | C3: 44958 | D3: 44959 | E3: 44960 | F3: 44961 | G3: 44962 | H3: 44963 | I3: 44964 | J3: 44965 | K3: 44966 | L3: 44967 | M3: 44968 | N3: 44969 | O3: 44970 | P3: 44971 | Q3: 44972 | R3: 44973 | S3: 44974 | T3: 44975 | U3: 44976 | V3: 44977 | W3: 44978 | X3: 44979 | Y3: 44980 | Z3: 44981 | AA3: 44982 | AB3: 44983 | AC3: 44984 | AD3: 44985
A5: Aramco F2122 | B5: 1800
A6: Dowlex 2645G | B6: 2600
A7: Dowlex 5056 01G | B7: =SUM(C7:AD7) -> 0
A8: Dowlex XZ 89499 | B8: =SUM(C8:AD8) -> 0
A9: Dowlex XZ 89507 | B9: =SUM(C9:AD9) -> 0
A10: Elite 5401G | B10: 6500
A11: Equate 7087 | B11: =SUM(C11:AD11) -> 0
A12: Equate EFDC-7080 Luban | B12: =SUM(C12:AD12) -> 0
A13: Lotrene Q1018H | B13: =SUM(C13:AD13) -> 0
A14: REPSOL 1810F | B14: =SUM(C14:AD14) -> 0
A15: Sabic 118WJ | B15: =SUM(C15:AD15) -> 0
A16: Total LDPE sorti | B16: =SUM(B5:B15) -> 10900 | C16: =SUM(C5:C15) -> 0 | D16: =SUM(D5:D15) -> 0 | E16: =SUM(E5:E15) -> 0 | F16: =SUM(F5:F15) -> 0 | G16: =SUM(G5:G15) -> 0 | H16: =SUM(H5:H15) -> 0 | I16: =SUM(I5:I15) -> 0 | ... AD16: =SUM(AD5:AD15) -> 0
A18: 2- État de sortie de matiere LDPE (Kg)
A20: Article | B20: Total sortie par MP | C20: 44958 | D20: 44959 | E20: 44960 | F20: 44961 | G20: 44962 | H20: 44963 | I20: 44964 | J20: 44965 | K20: 44966 | L20: 44967 | M20: 44968 | N20: 44969 | O20: 44970 | P20: 44971 | Q20: 44972 | R20: 44973 | S20: 44974 | T20: 44975 | U20: 44976 | V20: 44977 | W20: 44978 | X20: 44979 | Y20: 44980 | Z20: 44981 | AA20: 44982 | AB20: 44983 | AC20: 44984 | AD20: 44985
A21: ALCUDIA 2212FG | B21: =SUM(C21:AD21) -> 0
A22: ALCUDIA 2308FG | B22: =SUM(C22:AD22) -> 0
A23: ALCUDIA PE-046A | B23: =SUM(C23:AD23) -> 0
A24: RepsoL 2203F | B24: =SUM(C24:AD24) -> 0
A25: Baselle 2426H | B25: =SUM(C25:AD25) -> 0
A26: LDPE 150 | B26: =SUM(C26:AD26) -> 0
A27: LDPE 312 | B27: =SUM(C27:AD27) -> 0
A28: LDPE 352 | B28: =SUM(C28:AD28) -> 0
A29: 2022jn 149 | B29: =SUM(C29:AD29) -> 0
A30: LDPE HP 0723JN | B30: =SUM(C30:AD30) -> 0
A31: Lotrene 0274 | B31: =SUM(C31:AD31) -> 0
A32: Sabic HP0823 | B32: =SUM(C32:AD32) -> 0
A33: Tasnee 1925AS | B33: =SUM(C33:AD33) -> 0
A34: Total LDPE | B34: =SUM(B21:B33) -> 0 | C34: =SUM(C21:C33) -> 0 | D34: =SUM(D21:D33) -> 0 | E34: =SUM(E21:E33) -> 0 | F34: =SUM(F21:F33) -> 0 | G34: =SUM(G21:G33) -> 0 | H34: =SUM(H21:H33) -> 0 | I34: =SUM(I21:I33) -> 0 | ... AD34: =SUM(AD21:AD33) -> 0
A37: 3- État de sortie de matiere PP (Kg)
A39: Article | B39: Total sortie par MP | C39: 44958 | D39: 44959 | E39: 44960 | F39: 44961 | G39: 44962 | H39: 44963 | I39: 44964 | J39: 44965 | K39: 44966 | L39: 44967 | M39: 44968 | N39: 44969 | O39: 44970 | P39: 44971 | Q39: 44972 | R39: 44973 | S39: 44974 | T39: 44975 | U39: 44976 | V39: 44977 | W39: 44978 | X39: 44979 | Y39: 44980 | Z39: 44981 | AA39: 44982 | AB39: 44983 | AC39: 44984 | AD39: 44985
A40: BOROUGE HD 601CF | B40: =SUM(C40:AD40) -> 0
A41: BOUROUGE RD 239CF | B41: =SUM(C41:AD41) -> 0
A42: LOTTE PP FC-150U | B42: =SUM(C42:AD42) -> 0
A43: LOTTE PP SFC-C550 | B43: =SUM(C43:AD43) -> 0
A44: Repsol P064 | B44: =SUM(C44:AD44) -> 0
A45: REPSOL P264 | B45: =SUM(C45:AD45) -> 0
A46: SABIC 520L | B46: =SUM(C46:AD46) -> 0
A47: Total PP | B47: =SUM(B34:B46) -> 0 | C47: =SUM(C40:C46) -> 0 | D47: =SUM(D40:D46) -> 0 | E47: =SUM(E40:E46) -> 0 | F47: =SUM(F40:F46) -> 0 | G47: =SUM(G40:G46) -> 0 | H47: =SUM(H40:H46) -> 0 | I47: =SUM(I40:I46) -> 0 | J47: =SUM(J40:J46) -> 0 | ... AD47: =SUM(AD40:AD46) -> 0
A50: 4- État de sortie Colorants & Additifs (Kg)
A52: Article | B52: Total sortie par MP | C52: 44958 | D52: 44959 | E52: 44960 | F52: 44961 | G52: 44962 | H52: 44963 | I52: 44964 | J52: 44965 | K52: 44966 | L52: 44967 | M52: 44968 | N52: 44969 | O52: 44970 | P52: 44971 | Q52: 44972 | R52: 44973 | S52: 44974 | T52: 44975 | U52: 44976 | V52: 44977 | W52: 44978 | X52: 44979 | Y52: 44980 | Z52: 44981 | AA52: 44982 | AB52: 44983 | AC52: 44984 | AD52: 44985
A53: Blanc Masterbatch | B53: =SUM(C53:AD53) -> 0
A54: Vert | B54: =SUM(C54:AD54) -> 0
A55: Bleu | B55: =SUM(C55:AD55) -> 0
A56: Noir | B56: =SUM(C56:AD56) -> 0
A57: MB PE AB 5100001(anti-block) | B57: =SUM(C57:AD57) -> 0
A58: MB PE AS 5300010 (antistatique) | B58: =SUM(C58:AD58) -> 0
A59: MB PE UV 5600006 (anti-UV) | B59: =SUM(C59:AD59) -> 0
A60: MB PE SLIP 6100011 (Agent Glissant) | B60: =SUM(C60:AD60) -> 0
A61: AKULON XS 36-E2 (Colle) | B61: =SUM(C61:AD61) -> 0 | F61: ²
A62: Total PP | B62: =SUM(B53:B61) -> 0 | C62: =SUM(C53:C61) -> 0 | D62: =SUM(D53:D61) -> 0 | E62: =SUM(E53:E61) -> 0 | F62: =SUM(F53:F61) -> 0 | G62: =SUM(G53:G61) -> 0 | H62: =SUM(H53:H61) -> 0 | I62: =SUM(I53:I61) -> 0 | ... AD62: =SUM(AD53:AD61) -> 0

Sheet Arrivages
A1: 1- Arrivages LLDPE
A3: Date | B3: Article | C3: Quantité sortie en KG
H4: Réferences
A5: JJ/MM/2023 | H5: Aramco F2122
A6: JJ/MM/2023 | H6: Dowlex 2645G
A7: JJ/MM/2023 | H7: Dowlex 5056 01G
A8: JJ/MM/2023 | H8: Dowlex XZ 89499
A9: JJ/MM/2023 | H9: Dowlex XZ 89507
A10: JJ/MM/2023 | H10: Elite 5401G
A11: JJ/MM/2023 | H11: Equate 7087
A12: JJ/MM/2023 | H12: Equate EFDC-7080 Luban
A13: JJ/MM/2023 | H13: Lotrene Q1018H
A14: JJ/MM/2023 | H14: REPSOL 1810F
A15: JJ/MM/2023 | H15: Sabic 118WJ
B16: Total LDPE sorti | C16: =SUM(C4:C15) -> 0
A18: 2- Arrivages LDPE
A20: Date | B20: Article | C20: Quantité consommée en KG | H20: Réferences
A21: JJ/MM/2023 | H21: ALCUDIA 2212FG
A22: JJ/MM/2023 | H22: ALCUDIA 2308FG
A23: JJ/MM/2023 | H23: ALCUDIA PE-046A
A24: JJ/MM/2023 | H24: RepsoL 2203F
A25: JJ/MM/2023 | H25: Baselle 2426H
A26: JJ/MM/2023 | H26: LDPE 150
A27: JJ/MM/2023 | H27: LDPE 312
A28: JJ/MM/2023 | H28: LDPE 352
A29: JJ/MM/2023 | H29: 2022jn 149
A30: JJ/MM/2023 | H30: LDPE HP 0723JN
A31: JJ/MM/2023 | H31: Lotrene 0274
A32: JJ/MM/2023 | H32: Sabic HP0823
A33: JJ/MM/2023 | H33: Tasnee 1925AS
B34: Total LDPE | C34: =SUM(C21:C33) -> 0
A37: 3- Arrivages produit PP
A39: Date | B39: Article | C39: Quantité en stock physique en KG Février | H39: Réferences
A40: JJ/MM/2023 | H40: BOROUGE HD 601CF
A41: JJ/MM/2023 | H41: BOUROUGE RD 239CF
A42: JJ/MM/2023 | H42: LOTTE PP FC-150U
A43: JJ/MM/2023 | H43: LOTTE PP SFC-C550
A44: JJ/MM/2023 | H44: Repsol P064
A45: JJ/MM/2023 | H45: REPSOL P264
A46: JJ/MM/2023 | H46: SABIC 520L
A50: 4- Arrivages Colorants & Additifs
A52: Date | B52: Article | C52: Quantité en stock physique en KG Février | H52: Réferences
A53: JJ/MM/2023 | H53: Blanc Masterbatch
A54: JJ/MM/2023 | H54: Vert
A55: JJ/MM/2023 | H55: Bleu
A56: JJ/MM/2023 | H56: Noir
A57: JJ/MM/2023 | H57: MB PE AB 5100001(anti-block)
A58: JJ/MM/2023 | H58: MB PE AS 5300010 (antistatique)
A59: JJ/MM/2023 | H59: MB PE UV 5600006 (anti-UV)
A60: JJ/MM/2023 | H60: MB PE SLIP 6100011 (Agent Glissant)
A61: JJ/MM/2023 | H61: AKULON XS 36-E2 (Colle)

Sheet Récapitulatif Reporting
A2: 1- Arrivages | F2: 2 - État de sortie par Matiere | K2: 3- Stock physique
A5: Date | B5: Réference | C5: Quantité (Kg) | F5: Article | G5: Quantité sortie en KG | K5: Date | L5: Réference | M5: Quantité (Kg)
G6: =IFERROR(VLOOKUP('Récapitulatif Reporting'!$F6,'État de sorties'!$A$5:$B$15,2,0),"")
F7: {=IFERROR(INDEX('État de sorties'!$A$5:$A$15,SMALL(IF('État de sorties'!$B$5:$B$15>0,ROW('État de sorties'!$A$5:$A$15)-4),ROWS($1:1))),"")} -> Aramco F2122 | G7: =IFERROR(VLOOKUP('Récapitulatif Reporting'!$F7,'État de sorties'!$A$5:$B$15,2,0),"") -> 1800
F8: {=IFERROR(INDEX('État de sorties'!$A$5:$A$15,SMALL(IF('État de sorties'!$B$5:$B$15>0,ROW('État de sorties'!$A$5:$A$15)-4),ROWS($1:2))),"")} -> Dowlex 2645G | G8: =IFERROR(VLOOKUP('Récapitulatif Reporting'!$F8,'État de sorties'!$A$5:$B$15,2,0),"") -> 2600
F9: {=IFERROR(INDEX('État de sorties'!$A$5:$A$15,SMALL(IF('État de sorties'!$B$5:$B$15>0,ROW('État de sorties'!$A$5:$A$15)-4),ROWS($1:3))),"")} -> Elite 5401G | G9: =IFERROR(VLOOKUP('Récapitulatif Reporting'!$F9,'État de sorties'!$A$5:$B$15,2,0),"") -> 6500
F10: {=IFERROR(INDEX('État de sorties'!$A$5:$A$15,SMALL(IF('État de sorties'!$B$5:$B$15>0,ROW('État de sorties'!$A$5:$A$15)-4),ROWS($1:4))),"")} | G10: =IFERROR(VLOOKUP('Récapitulatif Reporting'!$F10,'État de sorties'!$A$5:$B$15,2,0),"")
F11: {=IFERROR(INDEX('État de sorties'!$A$5:$A$15,SMALL(IF('État de sorties'!$B$5:$B$15>0,ROW('État de sorties'!$A$5:$A$15)-4),ROWS($1:5))),"")} | G11: =IFERROR(VLOOKUP('Récapitulatif Reporting'!$F11,'État de sorties'!$A$5:$B$15,2,0),"")
F12: {=IFERROR(INDEX('État de sorties'!$A$5:$A$15,SMALL(IF('État de sorties'!$B$5:$B$15>0,ROW('État de sorties'!$A$5:$A$15)-4),ROWS($1:6))),"")} | G12: =IFERROR(VLOOKUP('Récapitulatif Reporting'!$F12,'État de sorties'!$A$5:$B$15,2,0),"")
F13: {=IFERROR(INDEX('État de sorties'!$A$5:$A$15,SMALL(IF('État de sorties'!$B$5:$B$15>0,ROW('État de sorties'!$A$5:$A$15)-4),ROWS($1:7))),"")} | G13: =IFERROR(VLOOKUP('Récapitulatif Reporting'!$F13,'État de sorties'!$A$5:$B$15,2,0),"")
F14: {=IFERROR(INDEX('État de sorties'!$A$5:$A$15,SMALL(IF('État de sorties'!$B$5:$B$15>0,ROW('État de sorties'!$A$5:$A$15)-4),ROWS($1:8))),"")} | G14: =IFERROR(VLOOKUP('Récapitulatif Reporting'!$F14,'État de sorties'!$A$5:$B$15,2,0),"")
F15: {=IFERROR(INDEX('État de sorties'!$A$5:$A$15,SMALL(IF('État de sorties'!$B$5:$B$15>0,ROW('État de sorties'!$A$5:$A$15)-4),ROWS($1:9))),"")} | G15: =IFERROR(VLOOKUP('Récapitulatif Reporting'!$F15,'État de sorties'!$A$5:$B$15,2,0),"")
F16: {=IFERROR(INDEX('État de sorties'!$A$5:$A$15,SMALL(IF('État de sorties'!$B$5:$B$15>0,ROW('État de sorties'!$A$5:$A$15)-4),ROWS($1:10))),"")} | G16: =IFERROR(VLOOKUP('Récapitulatif Reporting'!$F16,'État de sorties'!$A$5:$B$15,2,0),"")
F17: {=IFERROR(INDEX('État de sorties'!$A$5:$A$15,SMALL(IF('État de sorties'!$B$5:$B$15>0,ROW('État de sorties'!$A$5:$A$15)-4),ROWS($1:11))),"")} | G17: =IFERROR(VLOOKUP('Récapitulatif Reporting'!$F17,'État de sorties'!$A$5:$B$15,2,0),"")
F18: {=IFERROR(INDEX('État de sorties'!$A$5:$A$15,SMALL(IF('État de sorties'!$B$5:$B$15>0,ROW('État de sorties'!$A$5:$A$15)-4),ROWS($1:12))),"")} | G18: =IFERROR(VLOOKUP('Récapitulatif Reporting'!$F18,'État de sorties'!$A$5:$B$15,2,0),"")
F19: {=IFERROR(INDEX('État de sorties'!$A$5:$A$15,SMALL(IF('État de sorties'!$B$5:$B$15>0,ROW('État de sorties'!$A$5:$A$15)-4),ROWS($1:13))),"")} | G19: =IFERROR(VLOOKUP('Récapitulatif Reporting'!$F19,'État de sorties'!$A$5:$B$15,2,0),"")
F20: {=IFERROR(INDEX('État de sorties'!$A$5:$A$15,SMALL(IF('État de sorties'!$B$5:$B$15>0,ROW('État de sorties'!$A$5:$A$15)-4),ROWS($1:14))),"")} | G20: =IFERROR(VLOOKUP('Récapitulatif Reporting'!$F20,'État de sorties'!$A$5:$B$15,2,0),"")

Sheet Feuil1
A1: 1 - État de sortie par Matiere
B4: Réference | C4: Quantité (Kg)
