Workbook
Name Devise: Devises!#REF!
Name Devise: 'Ne pas toucher'!#REF!
Name Devises: Devises!$D$7:$D$13
Name Devises: 'Ne pas toucher'!#REF!
Name eur: Devises!$D$6:$E$31
Name Pays: [1]Aiport_List!$L$3:$L$81
Name usd: Devises!$D$33:$E$58

Sheet Pricing
B1: DEVISE DU DEVIS | D1: EUR
B3: Achats | I3: Devise du fournisseur | M3: Devise du devis
B4: Fournisseurs | C4: Prestations | E4: Date réception devis | I4: Montant TTC | J4: Devise du founisseur | K4: Taux de change | M4: Montant TTC | N4: Devise du devis
B5: Fournisseur 1 | C5: Prestation 1 | E5: 44727 | I5: 4545 | J5: GBP | K5: =VLOOKUP(Pricing!$J5,INDIRECT(Pricing!$D$1),2,0) -> 1.2191 | M5: =IFERROR(I5*K5," ") -> 5540.8095 | N5: =$D$1 -> EUR | R5: =VLOOKUP(Pricing!$J5,INDIRECT(Pricing!$D$1),2,0) -> 1.2191
B6: Fournisseur 2 | C6: Prestation 2 | E6: 44728 | I6: 7456.65 | J6: EUR | K6: =VLOOKUP(Pricing!$J6,INDIRECT(Pricing!$D$1),2,0) -> 1 | M6: =IFERROR(I6*K6," ") -> 7456.65 | N6: =$D$1 -> EUR
B7: Fournisseur 3 | C7: Prestation 3 | E7: 44729 | I7: 1338 | J7: EUR | K7: =VLOOKUP(Pricing!$J7,INDIRECT(Pricing!$D$1),2,0) -> 1 | M7: =IFERROR(I7*K7," ") -> 1338 | N7: =$D$1 -> EUR
B8: Fournisseur 4 | C8: Prestation 4 | E8: 44730 | I8: 5098.91 | J8: EUR | K8: =VLOOKUP(Pricing!$J8,INDIRECT(Pricing!$D$1),2,0) -> 1 | M8: =IFERROR(I8*K8," ") -> 5098.91 | N8: =$D$1 -> EUR
B9: Fournisseur 5 | C9: Prestation 5 | E9: 44731 | I9: 12445 | J9: EUR | K9: =VLOOKUP(Pricing!$J9,INDIRECT(Pricing!$D$1),2,0) -> 1 | M9: =IFERROR(I9*K9," ") -> 12445 | N9: =$D$1 -> EUR
B10: Fournisseur 6 | C10: Prestation 6 | E10: 44732 | I10: 10770 | J10: THB | K10: =VLOOKUP(Pricing!$J10,INDIRECT(Pricing!$D$1),2,0) -> 0.02816 | M10: =IFERROR(I10*K10," ") -> 303.2832 | N10: =$D$1 -> EUR
B11: Fournisseur 7 | C11: Prestation 7 | E11: 44733 | I11: 30 | J11: EUR | K11: =VLOOKUP(Pricing!$J11,INDIRECT(Pricing!$D$1),2,0) -> 1 | M11: =IFERROR(I11*K11," ") -> 30 | N11: =$D$1 -> EUR
B12: TOTAL ACHATS EN EUR | M12: =SUM(M5:M11) -> 32212.653 | N12: =$D$1 -> EUR
K14: je cherche à obtenir le taux de change de la devise sélectionnée pour le devis en exemple USD

Sheet Devises
A1: L'extracttion automatique des devises est une nouvelle fonctionnalité .xls sur Office 365 qui permet de se connecter directement à une base de données boursières
A2: 1) Si vous avez Office 365 : pas de problème, l'actualisation se fera en cliquant sur la devise et en sélectionnant "actualiser"
A3: 2) Si vous n'avez pas Office 365 : merci d'utiliser le convertisseur suivant | G3: https://www.oanda.com/currency-converter/en/?from=EUR&to=USD&amount=1
C5: Devise | D5: Nom | E5: Taux
A6: ZONE EURO | B6: EUR | D6: EUR | E6: 1
A7: AFRIQUE DU SUD | B7: EUR | C7: #VALUE! | D7: ZAR | E7: {=_FV(C7,"Haut depuis 52 semaines",TRUE)} -> 0.0639
A8: ARGENTINE | B8: EUR | C8: #VALUE! | D8: ARS | E8: {=_FV(C8,"Haut depuis 52 semaines",TRUE)} -> 0.00888
A9: AUSTRALIE | B9: EUR | C9: #VALUE! | D9: AUD | E9: {=_FV(C9,"Haut depuis 52 semaines",TRUE)} -> 0.7
A10: BRESIL | B10: EUR | C10: #VALUE! | D10: BRL | E10: {=_FV(C10,"Haut depuis 52 semaines",TRUE)} -> 0.2007
A11: CAMBODGE | B11: EUR | C11: #VALUE! | D11: KHR | E11: {=_FV(C11,"Haut depuis 52 semaines",TRUE)} -> 0.0003
A12: CANADA | B12: EUR | C12: #VALUE! | D12: CAD | E12: {=_FV(C12,"Haut depuis 52 semaines",TRUE)} -> 0.7765
A13: CHILI | B13: EUR | C13: #VALUE! | D13: CLP | E13: {=_FV(C13,"Haut depuis 52 semaines",TRUE)} -> 0.001201
A14: COSTA RICA | B14: EUR | C14: #VALUE! | D14: CRC | E14: {=_FV(C14,"Haut depuis 52 semaines",TRUE)} -> 0.0017
A15: DANEMARK | B15: EUR | C15: #VALUE! | D15: DKK | E15: {=_FV(C15,"Haut depuis 52 semaines",TRUE)} -> 0.1362
A16: EGYPTE | B16: EUR | C16: #VALUE! | D16: EGP | E16: {=_FV(C16,"Haut depuis 52 semaines",TRUE)} -> 0.0587
A17: EMIRATS ARABES UNIS | B17: EUR | C17: #VALUE! | D17: AED | E17: {=_FV(C17,"Haut depuis 52 semaines",TRUE)} -> 0.2855
A18: EQUATEUR | B18: EUR | C18: #VALUE! | D18: USD | E18: {=_FV(C18,"Haut depuis 52 semaines",TRUE)} -> 1.0485
... A44: EMIRATS ARABES UNIS | B44: USD | C44: #VALUE! | D44: AED | E44: {=_FV(C44,"Haut depuis 52 semaines",TRUE)} -> 0.2723
A45: EQUATEUR | B45: USD | D45: USD | E45: 1
A46: ETATS UNIS | B46: USD | D46: USD | E46: 1
A47: INDE | B47: USD | C47: #VALUE! | D47: INR | E47: {=_FV(C47,"Haut depuis 52 semaines",TRUE)} -> 0.01356
A48: ISLANDE | B48: USD | C48: #VALUE! | D48: ISK | E48: {=_FV(C48,"Haut depuis 52 semaines",TRUE)} -> 0.008097
A49: JAPON | B49: USD | C49: #VALUE! | D49: JPY | E49: {=_FV(C49,"Haut depuis 52 semaines",TRUE)} -> 0.009022
A50: MALDIVES | B50: USD | C50: #VALUE! | D50: MVR | E50: {=_FV(C50,"Haut depuis 52 semaines",TRUE)} -> 0.06494
A51: NORVEGE | B51: USD | C51: #VALUE! | D51: NOK | E51: {=_FV(C51,"Haut depuis 52 semaines",TRUE)} -> 0.1207
A52: NOUVELLE-ZELANDE | B52: USD | C52: #VALUE! | D52: NZD | E52: {=_FV(C52,"Haut depuis 52 semaines",TRUE)} -> 0.7218
A53: ROYAUME UNI | B53: USD | C53: #VALUE! | D53: GBP | E53: {=_FV(C53,"Haut depuis 52 semaines",TRUE)} -> 1.3834
A54: SINGAPOUR | B54: USD | C54: #VALUE! | D54: SGD | E54: {=_FV(C54,"Haut depuis 52 semaines",TRUE)} -> 0.7458
A55: SRI LANKA | B55: USD | C55: #VALUE! | D55: LKR | E55: {=_FV(C55,"Haut depuis 52 semaines",TRUE)} -> 0.005
A56: SUEDE | B56: USD | C56: #VALUE! | D56: SEK | E56: {=_FV(C56,"Haut depuis 52 semaines",TRUE)} -> 0.1175
A57: TANZANIA | B57: USD | C57: #VALUE! | D57: TZS | E57: {=_FV(C57,"Haut depuis 52 semaines",TRUE)} -> 0.000434
A58: THAILANDE | B58: USD | C58: #VALUE! | D58: THB | E58: {=_FV(C58,"Haut depuis 52 semaines",TRUE)} -> 0.03116

Sheet Note
A1: VIRTUOSO
A2: Hedonist n'a pas l'agréement (6000€) donc passe par le compte ATELIER pour avoir les avantages VIRTUOSO (avantages clients / avantages de com)
A3: chaque hotel verse une commission qui peut varier entre 10 et 20%
A4: Sur cette commission L'Hedonist reverse 30% de commission à ATELIER pour utiliser son compte VIRTUOSO
A6: Question => faire le total de ce qui a été versé à ATELIER DU VOYAGE pour voir si on a pas atteint les 6000 € et voir si pas plus intéressant d'avoir un compte VIRTUOSO (dégradation de marge)

Sheet Ne pas toucher
B1: Devise devis
B2: EUR
B3: USD

Sheet Feuil2
