Workbook

Sheet Feuil3
B3: =Présence!B1 -> Joueur 1
C7: 1 | D7: 2 | E7: 3 | F7: 4
B8: VMA | C8: 17 | D8: 18 | E8: 18 | F8: 18.5
B9: 10-10 | C9: =C8/3.6*10*1.05 -> 49.583333 | D9: =D8/3.6*10*1.05 -> 52.5 | E9: =E8/3.6*10*1.05 -> 52.5 | F9: =F8/3.6*10*1.05 -> 53.958333
B10: 15-15 | C10: =C8/3.6*15*1 -> 70.833333 | D10: =D8/3.6*15*1 -> 75 | E10: =E8/3.6*15*1 -> 75 | F10: =F8/3.6*15*1 -> 77.083333
B11: 30-30 | C11: =C8/3.6*30*0.85 -> 120.41667 | D11: =D8/3.6*30*0.85 -> 127.5 | E11: =E8/3.6*30*0.85 -> 127.5 | F11: =F8/3.6*30*0.85 -> 131.04167
B14: Présence | C14: Retard exc. | D14: Avert | E14: Retard | F14: Absent
B15: =(COUNTIF(Présence!B:B,"=Présent"))+(COUNTIF(Présence!B:B,"=Retard exc."))+(COUNTIF(Présence!B:B,"=Avertissement"))+(COUNTIF(Présence!B:B,"=Retard")) -> 41 | C15: =(COUNTIF(Présence!B:B,"=Retard exc.")) -> 6 | D15: =(COUNTIF(Présence!B:B,"=Avert.")) -> 6 | E15: =(COUNTIF(Présence!B:B,"=Retard")) -> 12 | F15: =COUNTIF(Présence!B:B,"=absent") -> 6
B16: =B15/(B15+F15) -> 0.87234043 | C16: =C15/(B15+F15) -> 0.12765957 | D16: =D15/(B15+F15) -> 0.12765957 | E16: =E15/(B15+F15) -> 0.25531915 | F16: =F15/(B15+F15) -> 0.12765957 | H16: en excel 365 ou 2019
A17: le mois dernier | B17: {=SUM((Tableau1[Joueur 1]="présent")*(MONTH(Tableau1[[date ]])=MONTH(TODAY())-1))/(SUM((Tableau1[Joueur 1]="présent")*(MONTH(Tableau1[[date ]])=MONTH(TODAY())-1))+SUM((Tableau1[Joueur 1]="absent")*(MONTH(Tableau1[[date ]])=MONTH(TODAY())-1)))} -> 0.71428571 | H17: {=COUNTA(_xlfn._xlws.FILTER(Tableau1[Joueur 1],(Tableau1[Joueur 1]="présent")*(MONTH(Tableau1[[date ]])=MONTH(TODAY())-1)))/(COUNTA(_xlfn._xlws.FILTER(Tableau1[Joueur 1],(Tableau1[Joueur 1]="présent")*(MONTH(Tableau1[[date ]])=MONTH(TODAY())-1)))+COUNTA(_xlfn._xlws.FILTER(Tableau1[Joueur 1],(Tableau1[Joueur 1]="absent")*(MONTH(Tableau1[[date ]])=MONTH(TODAY())-1))))} -> 0.71428571
B18: en "vieux excel"

Sheet Z_Parametres
A1: Liste Tableau présence
A2: Présent
A3: Retard exc.
A4: Avert.
A5: Retard
A6: Absent

Sheet Présence
A1: date | B1: Joueur 1 | C1: Joueur 2 | D1: Joueur 3 | E1: Joueur 4 | F1: Joueur 5 | G1: Joueur 6 | H1: Joueur 7 | I1: Joueur 8 | J1: Joueur 9 | K1: Joueur 10 | L1: Joueur 11 | M1: Joueur 12 | N1: Joueur 13 | O1: Joueur 14 | P1: Joueur 15 | Q1: Joueur 16 | R1: Joueur 17 | S1: Joueur 18 | T1: Joueur 19 | U1: Joueur 20 | V1: Joueur 21 | W1: Joueur 22 | X1: Joueur 23 | Y1: Joueur 24 | Z1: Joueur 25
A2: 44797 | B2: Absent | C2: Présent | D2: Avert. | E2: Retard exc. | F2: Présent | G2: Retard | H2: Retard | I2: Absent | J2: Absent | K2: Présent | L2: Retard exc. | M2: Retard exc. | N2: Retard exc. | O2: Retard exc. | P2: Retard exc. | Q2: Retard exc. | R2: Retard exc. | S2: Retard exc. | T2: Retard exc. | U2: Retard exc. | V2: Retard exc. | W2: Retard exc. | X2: Retard exc. | Y2: Retard exc. | Z2: Retard exc.
A3: =A2+2 -> 44799 | B3: Retard | C3: Retard | D3: Absent | E3: Absent | F3: Présent | G3: Retard exc. | H3: Retard exc. | I3: Retard exc. | J3: Retard exc. | K3: Retard exc. | L3: Retard exc. | M3: Retard exc. | N3: Présent | O3: Retard | P3: Retard | Q3: Absent | R3: Absent | S3: Présent | T3: Absent | U3: Présent | V3: Avert. | W3: Retard exc. | X3: Présent | Y3: Absent | Z3: Présent
A4: 44798 | B4: Présent | C4: Retard | D4: Retard | E4: Absent | F4: Absent | G4: Présent | H4: Absent | I4: Présent | J4: Avert. | K4: Retard exc. | L4: Présent | M4: Retard | N4: Présent | O4: Retard exc. | P4: Retard exc. | Q4: Retard exc. | R4: Retard exc. | S4: Retard exc. | T4: Retard | U4: Retard | V4: Absent | W4: Absent | X4: Présent | Y4: Retard exc. | Z4: Retard exc.
A5: =A4+2 -> 44800 | B5: Avert. | C5: Retard exc. | D5: Retard exc. | E5: Retard exc. | F5: Retard exc. | G5: Retard exc. | H5: Retard | I5: Retard | J5: Absent | K5: Absent | L5: Présent | M5: Retard exc. | N5: Présent | O5: Retard exc. | P5: Retard exc. | Q5: Retard exc. | R5: Retard exc. | S5: Retard exc. | T5: Présent | U5: Retard | V5: Retard | W5: Absent | X5: Absent | Y5: Retard exc. | Z5: Retard exc.
A6: 44799 | B6: Présent | C6: Retard exc. | D6: Retard exc. | E6: Retard exc. | F6: Retard exc. | G6: Retard exc. | H6: Présent | I6: Retard | J6: Retard | K6: Absent | L6: Absent | M6: Présent | N6: Absent | O6: Présent | P6: Absent | Q6: Présent | R6: Avert. | S6: Retard exc. | T6: Présent | U6: Retard | V6: Présent | W6: Retard exc. | X6: Retard exc. | Y6: Avert. | Z6: Retard exc.
A7: =A6+2 -> 44801 | B7: Retard exc. | C7: Présent | D7: Avert. | E7: Retard exc. | F7: Présent | G7: Retard | H7: Retard | I7: Absent | J7: Absent | K7: Présent | L7: Retard exc. | M7: Retard exc. | N7: Retard exc. | O7: Retard exc. | P7: Retard exc. | Q7: Retard exc. | R7: Retard exc. | S7: Retard exc. | T7: Retard exc. | U7: Retard exc. | V7: Retard exc. | W7: Retard exc. | X7: Retard exc. | Y7: Retard exc. | Z7: Retard exc.
A8: 44800 | B8: Retard | C8: Retard | D8: Absent | E8: Absent | F8: Présent | G8: Retard exc. | H8: Retard exc. | I8: Retard exc. | J8: Retard exc. | K8: Retard exc. | L8: Retard exc. | M8: Retard exc. | N8: Présent | O8: Retard | P8: Retard | Q8: Absent | R8: Absent | S8: Présent | T8: Absent | U8: Présent | V8: Avert. | W8: Retard exc. | X8: Présent | Y8: Absent | Z8: Présent
A9: =A8+2 -> 44802 | B9: Présent | C9: Retard | D9: Retard | E9: Absent | F9: Absent | G9: Présent | H9: Absent | I9: Présent | J9: Avert. | K9: Retard exc. | L9: Présent | M9: Retard | N9: Présent | O9: Retard exc. | P9: Retard exc. | Q9: Retard exc. | R9: Retard exc. | S9: Retard exc. | T9: Retard | U9: Retard | V9: Absent | W9: Absent | X9: Présent | Y9: Retard exc. | Z9: Retard exc.
A10: 44801 | B10: Présent | C10: Retard exc. | D10: Retard exc. | E10: Retard exc. | F10: Retard exc. | G10: Retard exc. | H10: Retard | I10: Retard | J10: Absent | K10: Absent | L10: Présent | M10: Retard exc. | N10: Présent | O10: Retard exc. | P10: Retard exc. | Q10: Retard exc. | R10: Retard exc. | S10: Retard exc. | T10: Présent | U10: Retard | V10: Retard | W10: Absent | X10: Absent | Y10: Retard exc. | Z10: Retard exc.
A11: =A10+2 -> 44803 | B11: Absent | C11: Présent | D11: Avert. | E11: Retard exc. | F11: Présent | G11: Retard | H11: Retard | I11: Absent | J11: Absent | K11: Présent | L11: Retard exc. | M11: Retard exc. | N11: Retard exc. | O11: Retard exc. | P11: Retard exc. | Q11: Retard exc. | R11: Retard exc. | S11: Retard exc. | T11: Retard exc. | U11: Retard exc. | V11: Retard exc. | W11: Retard exc. | X11: Retard exc. | Y11: Retard exc. | Z11: Retard exc.
A12: 44802 | B12: Retard | C12: Retard | D12: Absent | E12: Absent | F12: Présent | G12: Retard exc. | H12: Retard exc. | I12: Retard exc. | J12: Retard exc. | K12: Retard exc. | L12: Retard exc. | M12: Retard exc. | N12: Présent | O12: Retard | P12: Retard | Q12: Absent | R12: Absent | S12: Présent | T12: Absent | U12: Présent | V12: Avert. | W12: Retard exc. | X12: Présent | Y12: Absent | Z12: Présent
A13: =A12+2 -> 44804 | B13: Présent | C13: Retard | D13: Retard | E13: Absent | F13: Absent | G13: Présent | H13: Absent | I13: Présent | J13: Avert. | K13: Retard exc. | L13: Présent | M13: Retard | N13: Présent | O13: Retard exc. | P13: Retard exc. | Q13: Retard exc. | R13: Retard exc. | S13: Retard exc. | T13: Retard | U13: Retard | V13: Absent | W13: Absent | X13: Présent | Y13: Retard exc. | Z13: Retard exc.
A14: 44803 | B14: Avert. | C14: Retard exc. | D14: Retard exc. | E14: Retard exc. | F14: Retard exc. | G14: Retard exc. | H14: Retard | I14: Retard | J14: Absent | K14: Absent | L14: Présent | M14: Retard exc. | N14: Présent | O14: Retard exc. | P14: Retard exc. | Q14: Retard exc. | R14: Retard exc. | S14: Retard exc. | T14: Présent | U14: Retard | V14: Retard | W14: Absent | X14: Absent | Y14: Retard exc. | Z14: Retard exc.
A15: =A14+2 -> 44805 | B15: Présent | C15: Retard exc. | D15: Retard exc. | E15: Retard exc. | F15: Retard exc. | G15: Retard exc. | H15: Présent | I15: Retard | J15: Retard | K15: Absent | L15: Absent | M15: Présent | N15: Absent | O15: Présent | P15: Absent | Q15: Présent | R15: Avert. | S15: Retard exc. | T15: Présent | U15: Retard | V15: Présent | W15: Retard exc. | X15: Retard exc. | Y15: Avert. | Z15: Retard exc.
A16: 44804 | B16: Retard exc. | C16: Présent | D16: Avert. | E16: Retard exc. | F16: Présent | G16: Retard | H16: Retard | I16: Absent | J16: Absent | K16: Présent | L16: Retard exc. | M16: Retard exc. | N16: Retard exc. | O16: Retard exc. | P16: Retard exc. | Q16: Retard exc. | R16: Retard exc. | S16: Retard exc. | T16: Retard exc. | U16: Retard exc. | V16: Retard exc. | W16: Retard exc. | X16: Retard exc. | Y16: Retard exc. | Z16: Retard exc.
A17: =A16+2 -> 44806 | B17: Retard | C17: Retard | D17: Absent | E17: Absent | F17: Présent | G17: Retard exc. | H17: Retard exc. | I17: Retard exc. | J17: Retard exc. | K17: Retard exc. | L17: Retard exc. | M17: Retard exc. | N17: Présent | O17: Retard | P17: Retard | Q17: Absent | R17: Absent | S17: Présent | T17: Absent | U17: Présent | V17: Avert. | W17: Retard exc. | X17: Présent | Y17: Absent | Z17: Présent
A18: 44805 | B18: Présent | C18: Retard | D18: Retard | E18: Absent | F18: Absent | G18: Présent | H18: Absent | I18: Présent | J18: Avert. | K18: Retard exc. | L18: Présent | M18: Retard | N18: Présent | O18: Retard exc. | P18: Retard exc. | Q18: Retard exc. | R18: Retard exc. | S18: Retard exc. | T18: Retard | U18: Retard | V18: Absent | W18: Absent | X18: Présent | Y18: Retard exc. | Z18: Retard exc.
A19: =A18+2 -> 44807 | B19: Présent | C19: Retard exc. | D19: Retard exc. | E19: Retard exc. | F19: Retard exc. | G19: Retard exc. | H19: Retard | I19: Retard | J19: Absent | K19: Absent | L19: Présent | M19: Retard exc. | N19: Présent | O19: Retard exc. | P19: Retard exc. | Q19: Retard exc. | R19: Retard exc. | S19: Retard exc. | T19: Présent | U19: Retard | V19: Retard | W19: Absent | X19: Absent | Y19: Retard exc. | Z19: Retard exc.
A20: 44806 | B20: Absent | C20: Présent | D20: Avert. | E20: Retard exc. | F20: Présent | G20: Retard | H20: Retard | I20: Absent | J20: Absent | K20: Présent | L20: Retard exc. | M20: Retard exc. | N20: Retard exc. | O20: Retard exc. | P20: Retard exc. | Q20: Retard exc. | R20: Retard exc. | S20: Retard exc. | T20: Retard exc. | U20: Retard exc. | V20: Retard exc. | W20: Retard exc. | X20: Retard exc. | Y20: Retard exc. | Z20: Retard exc.
A21: =A20+2 -> 44808 | B21: Retard | C21: Retard | D21: Absent | E21: Absent | F21: Présent | G21: Retard exc. | H21: Retard exc. | I21: Retard exc. | J21: Retard exc. | K21: Retard exc. | L21: Retard exc. | M21: Retard exc. | N21: Présent | O21: Retard | P21: Retard | Q21: Absent | R21: Absent | S21: Présent | T21: Absent | U21: Présent | V21: Avert. | W21: Retard exc. | X21: Présent | Y21: Absent | Z21: Présent
A22: 44807 | B22: Présent | C22: Retard | D22: Retard | E22: Absent | F22: Absent | G22: Présent | H22: Absent | I22: Présent | J22: Avert. | K22: Retard exc. | L22: Présent | M22: Retard | N22: Présent | O22: Retard exc. | P22: Retard exc. | Q22: Retard exc. | R22: Retard exc. | S22: Retard exc. | T22: Retard | U22: Retard | V22: Absent | W22: Absent | X22: Présent | Y22: Retard exc. | Z22: Retard exc.
A23: =A22+2 -> 44809 | B23: Avert. | C23: Retard exc. | D23: Retard exc. | E23: Retard exc. | F23: Retard exc. | G23: Retard exc. | H23: Retard | I23: Retard | J23: Absent | K23: Absent | L23: Présent | M23: Retard exc. | N23: Présent | O23: Retard exc. | P23: Retard exc. | Q23: Retard exc. | R23: Retard exc. | S23: Retard exc. | T23: Présent | U23: Retard | V23: Retard | W23: Absent | X23: Absent | Y23: Retard exc. | Z23: Retard exc.
A24: 44808 | B24: Présent | C24: Retard exc. | D24: Retard exc. | E24: Retard exc. | F24: Retard exc. | G24: Retard exc. | H24: Présent | I24: Retard | J24: Retard | K24: Absent | L24: Absent | M24: Présent | N24: Absent | O24: Présent | P24: Absent | Q24: Présent | R24: Avert. | S24: Retard exc. | T24: Présent | U24: Retard | V24: Présent | W24: Retard exc. | X24: Retard exc. | Y24: Avert. | Z24: Retard exc.
A25: =A24+2 -> 44810 | B25: Retard exc. | C25: Présent | D25: Avert. | E25: Retard exc. | F25: Présent | G25: Retard | H25: Retard | I25: Absent | J25: Absent | K25: Présent | L25: Retard exc. | M25: Retard exc. | N25: Retard exc. | O25: Retard exc. | P25: Retard exc. | Q25: Retard exc. | R25: Retard exc. | S25: Retard exc. | T25: Retard exc. | U25: Retard exc. | V25: Retard exc. | W25: Retard exc. | X25: Retard exc. | Y25: Retard exc. | Z25: Retard exc.
A26: 44809 | B26: Retard | C26: Retard | D26: Absent | E26: Absent | F26: Présent | G26: Retard exc. | H26: Retard exc. | I26: Retard exc. | J26: Retard exc. | K26: Retard exc. | L26: Retard exc. | M26: Retard exc. | N26: Présent | O26: Retard | P26: Retard | Q26: Absent | R26: Absent | S26: Présent | T26: Absent | U26: Présent | V26: Avert. | W26: Retard exc. | X26: Présent | Y26: Absent | Z26: Présent
A27: =A26+2 -> 44811 | B27: Présent | C27: Retard | D27: Retard | E27: Absent | F27: Absent | G27: Présent | H27: Absent | I27: Présent | J27: Avert. | K27: Retard exc. | L27: Présent | M27: Retard | N27: Présent | O27: Retard exc. | P27: Retard exc. | Q27: Retard exc. | R27: Retard exc. | S27: Retard exc. | T27: Retard | U27: Retard | V27: Absent | W27: Absent | X27: Présent | Y27: Retard exc. | Z27: Retard exc.
A28: 44810 | B28: Absent | C28: Présent | D28: Avert. | E28: Retard exc. | F28: Présent | G28: Retard | H28: Retard | I28: Absent | J28: Absent | K28: Présent | L28: Retard exc. | M28: Retard exc. | N28: Retard exc. | O28: Retard exc. | P28: Retard exc. | Q28: Retard exc. | R28: Retard exc. | S28: Retard exc. | T28: Retard exc. | U28: Retard exc. | V28: Retard exc. | W28: Retard exc. | X28: Retard exc. | Y28: Retard exc. | Z28: Retard exc.
A29: =A28+2 -> 44812 | B29: Retard | C29: Retard | D29: Absent | E29: Absent | F29: Présent | G29: Retard exc. | H29: Retard exc. | I29: Retard exc. | J29: Retard exc. | K29: Retard exc. | L29: Retard exc. | M29: Retard exc. | N29: Présent | O29: Retard | P29: Retard | Q29: Absent | R29: Absent | S29: Présent | T29: Absent | U29: Présent | V29: Avert. | W29: Retard exc. | X29: Présent | Y29: Absent | Z29: Présent
A30: =A29+1 -> 44813 | B30: Présent | C30: Retard | D30: Retard | E30: Absent | F30: Absent | G30: Présent | H30: Absent | I30: Présent | J30: Avert. | K30: Retard exc. | L30: Présent | M30: Retard | N30: Présent | O30: Retard exc. | P30: Retard exc. | Q30: Retard exc. | R30: Retard exc. | S30: Retard exc. | T30: Retard | U30: Retard | V30: Absent | W30: Absent | X30: Présent | Y30: Retard exc. | Z30: Retard exc.
A31: =A30+4 -> 44817 | B31: Avert. | C31: Retard exc. | D31: Retard exc. | E31: Retard exc. | F31: Retard exc. | G31: Retard exc. | H31: Retard | I31: Retard | J31: Absent | K31: Absent | L31: Présent | M31: Retard exc. | N31: Présent | O31: Retard exc. | P31: Retard exc. | Q31: Retard exc. | R31: Retard exc. | S31: Retard exc. | T31: Présent | U31: Retard | V31: Retard | W31: Absent | X31: Absent | Y31: Retard exc. | Z31: Retard exc.
A32: =A31+2 -> 44819 | B32: Présent | C32: Retard exc. | D32: Retard exc. | E32: Retard exc. | F32: Retard exc. | G32: Retard exc. | H32: Présent | I32: Retard | J32: Retard | K32: Absent | L32: Absent | M32: Présent | N32: Absent | O32: Présent | P32: Absent | Q32: Présent | R32: Avert. | S32: Retard exc. | T32: Présent | U32: Retard | V32: Présent | W32: Retard exc. | X32: Retard exc. | Y32: Avert. | Z32: Retard exc.
A33: =A32+1 -> 44820 | B33: Retard exc. | C33: Présent | D33: Avert. | E33: Retard exc. | F33: Présent | G33: Retard | H33: Retard | I33: Absent | J33: Absent | K33: Présent | L33: Retard exc. | M33: Retard exc. | N33: Retard exc. | O33: Retard exc. | P33: Retard exc. | Q33: Retard exc. | R33: Retard exc. | S33: Retard exc. | T33: Retard exc. | U33: Retard exc. | V33: Retard exc. | W33: Retard exc. | X33: Retard exc. | Y33: Retard exc. | Z33: Retard exc.
A34: =A33+4 -> 44824 | B34: Retard | C34: Retard | D34: Absent | E34: Absent | F34: Présent | G34: Retard exc. | H34: Retard exc. | I34: Retard exc. | J34: Retard exc. | K34: Retard exc. | L34: Retard exc. | M34: Retard exc. | N34: Présent | O34: Retard | P34: Retard | Q34: Absent | R34: Absent | S34: Présent | T34: Absent | U34: Présent | V34: Avert. | W34: Retard exc. | X34: Présent | Y34: Absent | Z34: Présent
A35: =A34+2 -> 44826 | B35: Présent | C35: Retard | D35: Retard | E35: Absent | F35: Absent | G35: Présent | H35: Absent | I35: Présent | J35: Avert. | K35: Retard exc. | L35: Présent | M35: Retard | N35: Présent | O35: Retard exc. | P35: Retard exc. | Q35: Retard exc. | R35: Retard exc. | S35: Retard exc. | T35: Retard | U35: Retard | V35: Absent | W35: Absent | X35: Présent | Y35: Retard exc. | Z35: Retard exc.
A36: =A35+1 -> 44827 | B36: Présent | C36: Retard exc. | D36: Retard exc. | E36: Retard exc. | F36: Retard exc. | G36: Retard exc. | H36: Retard | I36: Retard | J36: Absent | K36: Absent | L36: Présent | M36: Retard exc. | N36: Présent | O36: Retard exc. | P36: Retard exc. | Q36: Retard exc. | R36: Retard exc. | S36: Retard exc. | T36: Présent | U36: Retard | V36: Retard | W36: Absent | X36: Absent | Y36: Retard exc. | Z36: Retard exc.
A37: =A36+4 -> 44831 | B37: Absent | C37: Présent | D37: Avert. | E37: Retard exc. | F37: Présent | G37: Retard | H37: Retard | I37: Absent | J37: Absent | K37: Présent | L37: Retard exc. | M37: Retard exc. | N37: Retard exc. | O37: Retard exc. | P37: Retard exc. | Q37: Retard exc. | R37: Retard exc. | S37: Retard exc. | T37: Retard exc. | U37: Retard exc. | V37: Retard exc. | W37: Retard exc. | X37: Retard exc. | Y37: Retard exc. | Z37: Retard exc.
A38: =A37+2 -> 44833 | B38: Retard | C38: Retard | D38: Absent | E38: Absent | F38: Présent | G38: Retard exc. | H38: Retard exc. | I38: Retard exc. | J38: Retard exc. | K38: Retard exc. | L38: Retard exc. | M38: Retard exc. | N38: Présent | O38: Retard | P38: Retard | Q38: Absent | R38: Absent | S38: Présent | T38: Absent | U38: Présent | V38: Avert. | W38: Retard exc. | X38: Présent | Y38: Absent | Z38: Présent
A39: =A38+1 -> 44834 | B39: Présent | C39: Retard | D39: Retard | E39: Absent | F39: Absent | G39: Présent | H39: Absent | I39: Présent | J39: Avert. | K39: Retard exc. | L39: Présent | M39: Retard | N39: Présent | O39: Retard exc. | P39: Retard exc. | Q39: Retard exc. | R39: Retard exc. | S39: Retard exc. | T39: Retard | U39: Retard | V39: Absent | W39: Absent | X39: Présent | Y39: Retard exc. | Z39: Retard exc.
A40: =A39+4 -> 44838 | B40: Avert. | C40: Retard exc. | D40: Retard exc. | E40: Retard exc. | F40: Retard exc. | G40: Retard exc. | H40: Retard | I40: Retard | J40: Absent | K40: Absent | L40: Présent | M40: Retard exc. | N40: Présent | O40: Retard exc. | P40: Retard exc. | Q40: Retard exc. | R40: Retard exc. | S40: Retard exc. | T40: Présent | U40: Retard | V40: Retard | W40: Absent | X40: Absent | Y40: Retard exc. | Z40: Retard exc.
A41: =A40+2 -> 44840 | B41: Présent | C41: Retard exc. | D41: Retard exc. | E41: Retard exc. | F41: Retard exc. | G41: Retard exc. | H41: Présent | I41: Retard | J41: Retard | K41: Absent | L41: Absent | M41: Présent | N41: Absent | O41: Présent | P41: Absent | Q41: Présent | R41: Avert. | S41: Retard exc. | T41: Présent | U41: Retard | V41: Présent | W41: Retard exc. | X41: Retard exc. | Y41: Avert. | Z41: Retard exc.
A42: =A41+1 -> 44841 | B42: Retard exc. | C42: Présent | D42: Avert. | E42: Retard exc. | F42: Présent | G42: Retard | H42: Retard | I42: Absent | J42: Absent | K42: Présent | L42: Retard exc. | M42: Retard exc. | N42: Retard exc. | O42: Retard exc. | P42: Retard exc. | Q42: Retard exc. | R42: Retard exc. | S42: Retard exc. | T42: Retard exc. | U42: Retard exc. | V42: Retard exc. | W42: Retard exc. | X42: Retard exc. | Y42: Retard exc. | Z42: Retard exc.
A43: =A42+4 -> 44845 | B43: Retard | C43: Retard | D43: Absent | E43: Absent | F43: Présent | G43: Retard exc. | H43: Retard exc. | I43: Retard exc. | J43: Retard exc. | K43: Retard exc. | L43: Retard exc. | M43: Retard exc. | N43: Présent | O43: Retard | P43: Retard | Q43: Absent | R43: Absent | S43: Présent | T43: Absent | U43: Présent | V43: Avert. | W43: Retard exc. | X43: Présent | Y43: Absent | Z43: Présent
A44: =A43+2 -> 44847 | B44: Présent | C44: Retard | D44: Retard | E44: Absent | F44: Absent | G44: Présent | H44: Absent | I44: Présent | J44: Avert. | K44: Retard exc. | L44: Présent | M44: Retard | N44: Présent | O44: Retard exc. | P44: Retard exc. | Q44: Retard exc. | R44: Retard exc. | S44: Retard exc. | T44: Retard | U44: Retard | V44: Absent | W44: Absent | X44: Présent | Y44: Retard exc. | Z44: Retard exc.
A45: =A44+1 -> 44848 | B45: Présent | C45: Retard exc. | D45: Retard exc. | E45: Retard exc. | F45: Retard exc. | G45: Retard exc. | H45: Retard | I45: Retard | J45: Absent | K45: Absent | L45: Présent | M45: Retard exc. | N45: Présent | O45: Retard exc. | P45: Retard exc. | Q45: Retard exc. | R45: Retard exc. | S45: Retard exc. | T45: Présent | U45: Retard | V45: Retard | W45: Absent | X45: Absent | Y45: Retard exc. | Z45: Retard exc.
A46: =A45+4 -> 44852 | B46: Absent | C46: Présent | D46: Avert. | E46: Retard exc. | F46: Présent | G46: Retard | H46: Retard | I46: Absent | J46: Absent | K46: Présent | L46: Retard exc. | M46: Retard exc. | N46: Retard exc. | O46: Retard exc. | P46: Retard exc. | Q46: Retard exc. | R46: Retard exc. | S46: Retard exc. | T46: Retard exc. | U46: Retard exc. | V46: Retard exc. | W46: Retard exc. | X46: Retard exc. | Y46: Retard exc. | Z46: Retard exc.
A47: =A46+2 -> 44854 | B47: Retard | C47: Retard | D47: Absent | E47: Absent | F47: Présent | G47: Retard exc. | H47: Retard exc. | I47: Retard exc. | J47: Retard exc. | K47: Retard exc. | L47: Retard exc. | M47: Retard exc. | N47: Présent | O47: Retard | P47: Retard | Q47: Absent | R47: Absent | S47: Présent | T47: Absent | U47: Présent | V47: Avert. | W47: Retard exc. | X47: Présent | Y47: Absent | Z47: Présent
A48: =A47+1 -> 44855 | B48: Présent | C48: Retard | D48: Retard | E48: Absent | F48: Absent | G48: Présent | H48: Absent | I48: Présent | J48: Avert. | K48: Retard exc. | L48: Présent | M48: Retard | N48: Présent | O48: Retard exc. | P48: Retard exc. | Q48: Retard exc. | R48: Retard exc. | S48: Retard exc. | T48: Retard | U48: Retard | V48: Absent | W48: Absent | X48: Présent | Y48: Retard exc. | Z48: Retard exc.
A49: =A48+4 -> 44859 | B49: Avert. | C49: Retard exc. | D49: Retard exc. | E49: Retard exc. | F49: Retard exc. | G49: Retard exc. | H49: Retard | I49: Retard | J49: Absent | K49: Absent | L49: Présent | M49: Retard exc. | N49: Présent | O49: Retard exc. | P49: Retard exc. | Q49: Retard exc. | R49: Retard exc. | S49: Retard exc. | T49: Présent | U49: Retard | V49: Retard | W49: Absent | X49: Absent | Y49: Retard exc. | Z49: Retard exc.
A50: =A49+2 -> 44861 | B50: Présent | C50: Retard exc. | D50: Retard exc. | E50: Retard exc. | F50: Retard exc. | G50: Retard exc. | H50: Présent | I50: Retard | J50: Retard | K50: Absent | L50: Absent | M50: Présent | N50: Absent | O50: Présent | P50: Absent | Q50: Présent | R50: Avert. | S50: Retard exc. | T50: Présent | U50: Retard | V50: Présent | W50: Retard exc. | X50: Retard exc. | Y50: Avert. | Z50: Retard exc.
A51: =A50+1 -> 44862 | B51: Retard exc. | C51: Présent | D51: Avert. | E51: Retard exc. | F51: Présent | G51: Retard | H51: Retard | I51: Absent | J51: Absent | K51: Présent | L51: Retard exc. | M51: Retard exc. | N51: Retard exc. | O51: Retard exc. | P51: Retard exc. | Q51: Retard exc. | R51: Retard exc. | S51: Retard exc. | T51: Retard exc. | U51: Retard exc. | V51: Retard exc. | W51: Retard exc. | X51: Retard exc. | Y51: Retard exc. | Z51: Retard exc.
A52: =A51+4 -> 44866 | B52: Retard | C52: Retard | D52: Absent | E52: Absent | F52: Présent | G52: Retard exc. | H52: Retard exc. | I52: Retard exc. | J52: Retard exc. | K52: Retard exc. | L52: Retard exc. | M52: Retard exc. | N52: Présent | O52: Retard | P52: Retard | Q52: Absent | R52: Absent | S52: Présent | T52: Absent | U52: Présent | V52: Avert. | W52: Retard exc. | X52: Présent | Y52: Absent | Z52: Présent
A53: =A52+2 -> 44868 | B53: Présent | C53: Retard | D53: Retard | E53: Absent | F53: Absent | G53: Présent | H53: Absent | I53: Présent | J53: Avert. | K53: Retard exc. | L53: Présent | M53: Retard | N53: Présent | O53: Retard exc. | P53: Retard exc. | Q53: Retard exc. | R53: Retard exc. | S53: Retard exc. | T53: Retard | U53: Retard | V53: Absent | W53: Absent | X53: Présent | Y53: Retard exc. | Z53: Retard exc.
A54: =A53+1 -> 44869 | B54: Présent | C54: Retard exc. | D54: Retard exc. | E54: Retard exc. | F54: Retard exc. | G54: Retard exc. | H54: Retard | I54: Retard | J54: Absent | K54: Absent | L54: Présent | M54: Retard exc. | N54: Présent | O54: Retard exc. | P54: Retard exc. | Q54: Retard exc. | R54: Retard exc. | S54: Retard exc. | T54: Présent | U54: Retard | V54: Retard | W54: Absent | X54: Absent | Y54: Retard exc. | Z54: Retard exc.
