Workbook

Sheet Matrice
A1: RANG | B1: NOM | C1: MATERIEL 1 | D1: MATERIEL 2 | E1: MATERIEL 3 | F1: MATERIEL 4 | G1: MATERIEL 5 | H1: MATERIEL 6 | I1: MATERIEL 7 | J1: MATERIEL 8
A2: az | B2: jean | C2: 2423 | E2: 235 | F2: 5235 | H2: 235
A3: az | B3: julien | D3: 525 | G3: 52345 | I3: 253 | J3: 235
A4: az | B4: remy | C4: 5235 | F4: 5235
A5: e | B5: marcel | C5: 52345 | E5: 5235 | G5: 5235 | I5: 5235
A6: ar | B6: robert | D6: 235 | E6: 5235
A7: at | B7: david | E7: 5235 | F7: 2524T
A8: fr | B8: franck | D8: 3577 | F8: 72457 | H8: 3576
A9: as | B9: fabien | D9: 23576 | G9: 24567

Sheet BON DE COMMANDE
A1: BON DE COMMANDE
A4: RANG | B4: NOM | C4: MATERIEL | D4: NUMERO
A5: =IFERROR(INDEX(Matrice!$A$2:$A$9,MATCH('BON DE COMMANDE'!B5,Matrice!$B$2:$B$9,0)),"") -> az | B5: julien | C5: MATERIEL 2 | D5: =IFERROR(INDEX(Matrice!C2:J10,MATCH('BON DE COMMANDE'!B5,Matrice!B2:B9,0),MATCH('BON DE COMMANDE'!C5,Matrice!C1:J1,0)),"") -> 525
A6: =IFERROR(INDEX(Matrice!$A$2:$A$9,MATCH('BON DE COMMANDE'!B6,Matrice!$B$2:$B$9,0)),"") | D6: =IFERROR(INDEX(Matrice!C3:J11,MATCH('BON DE COMMANDE'!B6,Matrice!B3:B10,0),MATCH('BON DE COMMANDE'!C6,Matrice!C2:J2,0)),"")
A7: =IFERROR(INDEX(Matrice!$A$2:$A$9,MATCH('BON DE COMMANDE'!B7,Matrice!$B$2:$B$9,0)),"") | D7: =IFERROR(INDEX(Matrice!C4:J12,MATCH('BON DE COMMANDE'!B7,Matrice!B4:B11,0),MATCH('BON DE COMMANDE'!C7,Matrice!C3:J3,0)),"")
A8: =IFERROR(INDEX(Matrice!$A$2:$A$9,MATCH('BON DE COMMANDE'!B8,Matrice!$B$2:$B$9,0)),"") | D8: =IFERROR(INDEX(Matrice!C5:J13,MATCH('BON DE COMMANDE'!B8,Matrice!B5:B12,0),MATCH('BON DE COMMANDE'!C8,Matrice!C4:J4,0)),"")
A9: =IFERROR(INDEX(Matrice!$A$2:$A$9,MATCH('BON DE COMMANDE'!B9,Matrice!$B$2:$B$9,0)),"") | D9: =IFERROR(INDEX(Matrice!C6:J14,MATCH('BON DE COMMANDE'!B9,Matrice!B6:B13,0),MATCH('BON DE COMMANDE'!C9,Matrice!C5:J5,0)),"")
A10: =IFERROR(INDEX(Matrice!$A$2:$A$9,MATCH('BON DE COMMANDE'!B10,Matrice!$B$2:$B$9,0)),"") | D10: =IFERROR(INDEX(Matrice!C7:J15,MATCH('BON DE COMMANDE'!B10,Matrice!B7:B14,0),MATCH('BON DE COMMANDE'!C10,Matrice!C6:J6,0)),"")
A11: =IFERROR(INDEX(Matrice!$A$2:$A$9,MATCH('BON DE COMMANDE'!B11,Matrice!$B$2:$B$9,0)),"") | D11: =IFERROR(INDEX(Matrice!C8:J16,MATCH('BON DE COMMANDE'!B11,Matrice!B8:B15,0),MATCH('BON DE COMMANDE'!C11,Matrice!C7:J7,0)),"")
A12: =IFERROR(INDEX(Matrice!$A$2:$A$9,MATCH('BON DE COMMANDE'!B12,Matrice!$B$2:$B$9,0)),"") | D12: =IFERROR(INDEX(Matrice!C9:J17,MATCH('BON DE COMMANDE'!B12,Matrice!B9:B16,0),MATCH('BON DE COMMANDE'!C12,Matrice!C8:J8,0)),"")
A13: =IFERROR(INDEX(Matrice!$A$2:$A$9,MATCH('BON DE COMMANDE'!B13,Matrice!$B$2:$B$9,0)),"") | D13: =IFERROR(INDEX(Matrice!C10:J18,MATCH('BON DE COMMANDE'!B13,Matrice!B10:B17,0),MATCH('BON DE COMMANDE'!C13,Matrice!C9:J9,0)),"")
A14: =IFERROR(INDEX(Matrice!$A$2:$A$9,MATCH('BON DE COMMANDE'!B14,Matrice!$B$2:$B$9,0)),"") | D14: =IFERROR(INDEX(Matrice!C11:J19,MATCH('BON DE COMMANDE'!B14,Matrice!B11:B18,0),MATCH('BON DE COMMANDE'!C14,Matrice!C10:J10,0)),"")
A15: =IFERROR(INDEX(Matrice!$A$2:$A$9,MATCH('BON DE COMMANDE'!B15,Matrice!$B$2:$B$9,0)),"") | D15: =IFERROR(INDEX(Matrice!C12:J20,MATCH('BON DE COMMANDE'!B15,Matrice!B12:B19,0),MATCH('BON DE COMMANDE'!C15,Matrice!C11:J11,0)),"")
A16: =IFERROR(INDEX(Matrice!$A$2:$A$9,MATCH('BON DE COMMANDE'!B16,Matrice!$B$2:$B$9,0)),"") | D16: =IFERROR(INDEX(Matrice!C13:J21,MATCH('BON DE COMMANDE'!B16,Matrice!B13:B20,0),MATCH('BON DE COMMANDE'!C16,Matrice!C12:J12,0)),"")
A17: =IFERROR(INDEX(Matrice!$A$2:$A$9,MATCH('BON DE COMMANDE'!B17,Matrice!$B$2:$B$9,0)),"") | D17: =IFERROR(INDEX(Matrice!C14:J22,MATCH('BON DE COMMANDE'!B17,Matrice!B14:B21,0),MATCH('BON DE COMMANDE'!C17,Matrice!C13:J13,0)),"")
... A33: =IFERROR(INDEX(Matrice!$A$2:$A$9,MATCH('BON DE COMMANDE'!B33,Matrice!$B$2:$B$9,0)),"") | D33: =IFERROR(INDEX(Matrice!C30:J38,MATCH('BON DE COMMANDE'!B33,Matrice!B30:B37,0),MATCH('BON DE COMMANDE'!C33,Matrice!C29:J29,0)),"")
A34: sur un autre essaie j'avais utlisé la fonction RECHERCHE V avec ESTNA mais je devais donc faire un bon de commande par type de matériel Merci d'avance
