Workbook

Sheet Extrap
A1: Week | B1: Local Brands | C1: 44621 | D1: 44652 | E1: 44682 | F1: 44713
A2: 11 | B2: BADOIT FLAVOURED | C2: 477.30286 | D2: 463.53345 | E2: 633.13811
A3: 11 | B3: BADOIT SPARKLING | C3: 18492.279 | D3: 16059.652 | E3: 14913.597
A4: 11 | B4: BULLES & THE BY BADOIT | C4: 81.779178 | D4: 14.92169 | E4: 84.057142
A5: 11 | B5: BULLES DE FRUITS | C5: 1308.0575 | D5: 1106.9926 | E5: 1543.8967
A6: 11 | B6: EVIAN | C6: 62743.216 | D6: 53491.292 | E6: 44056.401
A7: 11 | B7: FERRARELLE | C7: 24.564203 | D7: 25.709707 | E7: 39.263648
A8: 11 | B8: SALVETAT FLAVOURED | C8: 456.49666 | D8: 408.62917 | E8: 897.66347
A9: 11 | B9: SALVETAT SPARKLING | C9: 15225.276 | D9: 15572.186 | E9: 11674.403
A10: 11 | B10: TRAD GOODS SEV | C10: 0.267982 | D10: 0.217974 | E10: 0.092987
A11: 11 | B11: VOLVIC FLAVOURED | C11: 2097.372 | D11: 2287.4326 | E11: 2419.7314
A12: 11 | B12: VOLVIC FLAVOURED ORGANIC | C12: 206.35655 | D12: 173.6752 | E12: 194.32013
A13: 11 | B13: VOLVIC JUICE | C13: 2956.6757 | D13: 3433.2128 | E13: 3211.1311
... A31: 12 | B31: Total général | C31: 161640.25 | D31: 141222.35 | E31: 104024.76
A32: 13 | B32: BADOIT FLAVOURED | D32: 505.62766 | E32: 681.72956 | F32: 561.23715
A33: 13 | B33: BADOIT SPARKLING | D33: 19313.175 | E33: 18316.712 | F33: 14628.601
A34: 13 | B34: BULLES & THE BY BADOIT | D34: 110.776 | E34: 110.18847 | F34: 686.32532
A35: 13 | B35: BULLES DE FRUITS | D35: 1488.2591 | E35: 1508.713 | F35: 1771.9069
A36: 13 | B36: EVIAN | D36: 67673.571 | E36: 52011.406 | F36: 42714.727
A37: 13 | B37: FERRARELLE | D37: 13.718947 | E37: 8.0260556 | F37: 44.458717
A38: 13 | B38: SALVETAT FLAVOURED | D38: 510.72484 | E38: 699.67576 | F38: 1225.7519
A39: 13 | B39: SALVETAT SPARKLING | D39: 17486.089 | E39: 19715.515 | F39: 12234.378
A40: 13 | B40: TRAD GOODS SEV | D40: 0.16351056 | E40: -0.09032671 | F40: 0.129984
A41: 13 | B41: VOLVIC FLAVOURED | D41: 2327.7007 | E41: 2353.2876 | F41: 2359.326
A42: 13 | B42: VOLVIC FLAVOURED ORGANIC | D42: 220.25477 | E42: 234.45984 | F42: 178.34869
A43: 13 | B43: VOLVIC JUICE | D43: 3192.7259 | E43: 3707.0654 | F43: 3015.3361
... A106: 17 | B106: Total général | D106: 157045.61 | E106: 143489.49 | F106: 138071.81

Sheet Recap
A1: 17
A2: Extraps | B2: 44562 | C2: 44593 | D2: 44621 | E2: 44652 | F2: 44682 | G2: 44713
A3: BADOIT FLAVOURED | E3: {=SUMPRODUCT((Extrap!$A$2:$A$106=Recap!$A$1)*(Extrap!$B$2:$B$106=Recap!$A3)*(OFFSET(Extrap!$B$2,0,MATCH(Recap!E$2,Extrap!$C$1:$F$1,0),ROWS(Extrap!$A$2:$A$106),1)))} -> 679.00562 | F3: {=SUMPRODUCT((Extrap!$A$2:$A$106=Recap!$A$1)*(Extrap!$B$2:$B$106=Recap!$A3)*(OFFSET(Extrap!$B$2,0,MATCH(Recap!F$2,Extrap!$C$1:$F$1,0),ROWS(Extrap!$A$2:$A$106),1)))} -> 2590.4136 | G3: {=SUMPRODUCT((Extrap!$A$2:$A$106=Recap!$A$1)*(Extrap!$B$2:$B$106=Recap!$A3)*(OFFSET(Extrap!$B$2,0,MATCH(Recap!G$2,Extrap!$C$1:$F$1,0),ROWS(Extrap!$A$2:$A$106),1)))} -> 567.39303
A4: BADOIT SPARKLING | E4: {=SUMPRODUCT((Extrap!$A$2:$A$106=Recap!$A$1)*(Extrap!$B$2:$B$106=Recap!$A4)*(OFFSET(Extrap!$B$2,0,MATCH(Recap!E$2,Extrap!$C$1:$F$1,0),ROWS(Extrap!$A$2:$A$106),1)))} -> 18775.765 | F4: {=SUMPRODUCT((Extrap!$A$2:$A$106=Recap!$A$1)*(Extrap!$B$2:$B$106=Recap!$A4)*(OFFSET(Extrap!$B$2,0,MATCH(Recap!F$2,Extrap!$C$1:$F$1,0),ROWS(Extrap!$A$2:$A$106),1)))} -> 15367.756 | G4: {=SUMPRODUCT((Extrap!$A$2:$A$106=Recap!$A$1)*(Extrap!$B$2:$B$106=Recap!$A4)*(OFFSET(Extrap!$B$2,0,MATCH(Recap!G$2,Extrap!$C$1:$F$1,0),ROWS(Extrap!$A$2:$A$106),1)))} -> 16634.975 | R4: =ROWS(Extrap!$A$2:$A$106) -> 105
A5: BULLES & THE BY BADOIT | E5: {=SUMPRODUCT((Extrap!$A$2:$A$106=Recap!$A$1)*(Extrap!$B$2:$B$106=Recap!$A5)*(OFFSET(Extrap!$B$2,0,MATCH(Recap!E$2,Extrap!$C$1:$F$1,0),ROWS(Extrap!$A$2:$A$106),1)))} -> 112.11839 | F5: {=SUMPRODUCT((Extrap!$A$2:$A$106=Recap!$A$1)*(Extrap!$B$2:$B$106=Recap!$A5)*(OFFSET(Extrap!$B$2,0,MATCH(Recap!F$2,Extrap!$C$1:$F$1,0),ROWS(Extrap!$A$2:$A$106),1)))} -> 390.69717 | G5: {=SUMPRODUCT((Extrap!$A$2:$A$106=Recap!$A$1)*(Extrap!$B$2:$B$106=Recap!$A5)*(OFFSET(Extrap!$B$2,0,MATCH(Recap!G$2,Extrap!$C$1:$F$1,0),ROWS(Extrap!$A$2:$A$106),1)))} -> 581.02376
A6: BULLES DE FRUITS | E6: {=SUMPRODUCT((Extrap!$A$2:$A$106=Recap!$A$1)*(Extrap!$B$2:$B$106=Recap!$A6)*(OFFSET(Extrap!$B$2,0,MATCH(Recap!E$2,Extrap!$C$1:$F$1,0),ROWS(Extrap!$A$2:$A$106),1)))} -> 1460.6494 | F6: {=SUMPRODUCT((Extrap!$A$2:$A$106=Recap!$A$1)*(Extrap!$B$2:$B$106=Recap!$A6)*(OFFSET(Extrap!$B$2,0,MATCH(Recap!F$2,Extrap!$C$1:$F$1,0),ROWS(Extrap!$A$2:$A$106),1)))} -> 1616.4315 | G6: {=SUMPRODUCT((Extrap!$A$2:$A$106=Recap!$A$1)*(Extrap!$B$2:$B$106=Recap!$A6)*(OFFSET(Extrap!$B$2,0,MATCH(Recap!G$2,Extrap!$C$1:$F$1,0),ROWS(Extrap!$A$2:$A$106),1)))} -> 1608.4385
A7: EVIAN | E7: {=SUMPRODUCT((Extrap!$A$2:$A$106=Recap!$A$1)*(Extrap!$B$2:$B$106=Recap!$A7)*(OFFSET(Extrap!$B$2,0,MATCH(Recap!E$2,Extrap!$C$1:$F$1,0),ROWS(Extrap!$A$2:$A$106),1)))} -> 59385.6 | F7: {=SUMPRODUCT((Extrap!$A$2:$A$106=Recap!$A$1)*(Extrap!$B$2:$B$106=Recap!$A7)*(OFFSET(Extrap!$B$2,0,MATCH(Recap!F$2,Extrap!$C$1:$F$1,0),ROWS(Extrap!$A$2:$A$106),1)))} -> 51217.797 | G7: {=SUMPRODUCT((Extrap!$A$2:$A$106=Recap!$A$1)*(Extrap!$B$2:$B$106=Recap!$A7)*(OFFSET(Extrap!$B$2,0,MATCH(Recap!G$2,Extrap!$C$1:$F$1,0),ROWS(Extrap!$A$2:$A$106),1)))} -> 46902.942
A8: FERRARELLE | E8: {=SUMPRODUCT((Extrap!$A$2:$A$106=Recap!$A$1)*(Extrap!$B$2:$B$106=Recap!$A8)*(OFFSET(Extrap!$B$2,0,MATCH(Recap!E$2,Extrap!$C$1:$F$1,0),ROWS(Extrap!$A$2:$A$106),1)))} -> 6.4438567 | F8: {=SUMPRODUCT((Extrap!$A$2:$A$106=Recap!$A$1)*(Extrap!$B$2:$B$106=Recap!$A8)*(OFFSET(Extrap!$B$2,0,MATCH(Recap!F$2,Extrap!$C$1:$F$1,0),ROWS(Extrap!$A$2:$A$106),1)))} -> 32.246044 | G8: {=SUMPRODUCT((Extrap!$A$2:$A$106=Recap!$A$1)*(Extrap!$B$2:$B$106=Recap!$A8)*(OFFSET(Extrap!$B$2,0,MATCH(Recap!G$2,Extrap!$C$1:$F$1,0),ROWS(Extrap!$A$2:$A$106),1)))} -> 14.992841
A9: SALVETAT FLAVOURED | E9: {=SUMPRODUCT((Extrap!$A$2:$A$106=Recap!$A$1)*(Extrap!$B$2:$B$106=Recap!$A9)*(OFFSET(Extrap!$B$2,0,MATCH(Recap!E$2,Extrap!$C$1:$F$1,0),ROWS(Extrap!$A$2:$A$106),1)))} -> 579.17028 | F9: {=SUMPRODUCT((Extrap!$A$2:$A$106=Recap!$A$1)*(Extrap!$B$2:$B$106=Recap!$A9)*(OFFSET(Extrap!$B$2,0,MATCH(Recap!F$2,Extrap!$C$1:$F$1,0),ROWS(Extrap!$A$2:$A$106),1)))} -> 1213.4357 | G9: {=SUMPRODUCT((Extrap!$A$2:$A$106=Recap!$A$1)*(Extrap!$B$2:$B$106=Recap!$A9)*(OFFSET(Extrap!$B$2,0,MATCH(Recap!G$2,Extrap!$C$1:$F$1,0),ROWS(Extrap!$A$2:$A$106),1)))} -> 1203.53
A10: SALVETAT SPARKLING | E10: {=SUMPRODUCT((Extrap!$A$2:$A$106=Recap!$A$1)*(Extrap!$B$2:$B$106=Recap!$A10)*(OFFSET(Extrap!$B$2,0,MATCH(Recap!E$2,Extrap!$C$1:$F$1,0),ROWS(Extrap!$A$2:$A$106),1)))} -> 16817.813 | F10: {=SUMPRODUCT((Extrap!$A$2:$A$106=Recap!$A$1)*(Extrap!$B$2:$B$106=Recap!$A10)*(OFFSET(Extrap!$B$2,0,MATCH(Recap!F$2,Extrap!$C$1:$F$1,0),ROWS(Extrap!$A$2:$A$106),1)))} -> 11961.291 | G10: {=SUMPRODUCT((Extrap!$A$2:$A$106=Recap!$A$1)*(Extrap!$B$2:$B$106=Recap!$A10)*(OFFSET(Extrap!$B$2,0,MATCH(Recap!G$2,Extrap!$C$1:$F$1,0),ROWS(Extrap!$A$2:$A$106),1)))} -> 13047.372
A11: TRAD GOODS SEV | E11: {=SUMPRODUCT((Extrap!$A$2:$A$106=Recap!$A$1)*(Extrap!$B$2:$B$106=Recap!$A11)*(OFFSET(Extrap!$B$2,0,MATCH(Recap!E$2,Extrap!$C$1:$F$1,0),ROWS(Extrap!$A$2:$A$106),1)))} -> -0.16794337 | F11: {=SUMPRODUCT((Extrap!$A$2:$A$106=Recap!$A$1)*(Extrap!$B$2:$B$106=Recap!$A11)*(OFFSET(Extrap!$B$2,0,MATCH(Recap!F$2,Extrap!$C$1:$F$1,0),ROWS(Extrap!$A$2:$A$106),1)))} -> 0.066056633 | G11: {=SUMPRODUCT((Extrap!$A$2:$A$106=Recap!$A$1)*(Extrap!$B$2:$B$106=Recap!$A11)*(OFFSET(Extrap!$B$2,0,MATCH(Recap!G$2,Extrap!$C$1:$F$1,0),ROWS(Extrap!$A$2:$A$106),1)))} -> -0.16594337
A12: VOLVIC FLAVOURED | E12: {=SUMPRODUCT((Extrap!$A$2:$A$106=Recap!$A$1)*(Extrap!$B$2:$B$106=Recap!$A12)*(OFFSET(Extrap!$B$2,0,MATCH(Recap!E$2,Extrap!$C$1:$F$1,0),ROWS(Extrap!$A$2:$A$106),1)))} -> 2793.8593 | F12: {=SUMPRODUCT((Extrap!$A$2:$A$106=Recap!$A$1)*(Extrap!$B$2:$B$106=Recap!$A12)*(OFFSET(Extrap!$B$2,0,MATCH(Recap!F$2,Extrap!$C$1:$F$1,0),ROWS(Extrap!$A$2:$A$106),1)))} -> 3648.6726 | G12: {=SUMPRODUCT((Extrap!$A$2:$A$106=Recap!$A$1)*(Extrap!$B$2:$B$106=Recap!$A12)*(OFFSET(Extrap!$B$2,0,MATCH(Recap!G$2,Extrap!$C$1:$F$1,0),ROWS(Extrap!$A$2:$A$106),1)))} -> 2574.6759
A13: VOLVIC FLAVOURED ORGANIC | E13: {=SUMPRODUCT((Extrap!$A$2:$A$106=Recap!$A$1)*(Extrap!$B$2:$B$106=Recap!$A13)*(OFFSET(Extrap!$B$2,0,MATCH(Recap!E$2,Extrap!$C$1:$F$1,0),ROWS(Extrap!$A$2:$A$106),1)))} -> 188.91027 | F13: {=SUMPRODUCT((Extrap!$A$2:$A$106=Recap!$A$1)*(Extrap!$B$2:$B$106=Recap!$A13)*(OFFSET(Extrap!$B$2,0,MATCH(Recap!F$2,Extrap!$C$1:$F$1,0),ROWS(Extrap!$A$2:$A$106),1)))} -> 198.23424 | G13: {=SUMPRODUCT((Extrap!$A$2:$A$106=Recap!$A$1)*(Extrap!$B$2:$B$106=Recap!$A13)*(OFFSET(Extrap!$B$2,0,MATCH(Recap!G$2,Extrap!$C$1:$F$1,0),ROWS(Extrap!$A$2:$A$106),1)))} -> 165.46261
A14: VOLVIC JUICE | E14: {=SUMPRODUCT((Extrap!$A$2:$A$106=Recap!$A$1)*(Extrap!$B$2:$B$106=Recap!$A14)*(OFFSET(Extrap!$B$2,0,MATCH(Recap!E$2,Extrap!$C$1:$F$1,0),ROWS(Extrap!$A$2:$A$106),1)))} -> 4244.6682 | F14: {=SUMPRODUCT((Extrap!$A$2:$A$106=Recap!$A$1)*(Extrap!$B$2:$B$106=Recap!$A14)*(OFFSET(Extrap!$B$2,0,MATCH(Recap!F$2,Extrap!$C$1:$F$1,0),ROWS(Extrap!$A$2:$A$106),1)))} -> 4556.8206 | G14: {=SUMPRODUCT((Extrap!$A$2:$A$106=Recap!$A$1)*(Extrap!$B$2:$B$106=Recap!$A14)*(OFFSET(Extrap!$B$2,0,MATCH(Recap!G$2,Extrap!$C$1:$F$1,0),ROWS(Extrap!$A$2:$A$106),1)))} -> 3353.7598
A15: VOLVIC STILL | E15: {=SUMPRODUCT((Extrap!$A$2:$A$106=Recap!$A$1)*(Extrap!$B$2:$B$106=Recap!$A15)*(OFFSET(Extrap!$B$2,0,MATCH(Recap!E$2,Extrap!$C$1:$F$1,0),ROWS(Extrap!$A$2:$A$106),1)))} -> 51799.1 | F15: {=SUMPRODUCT((Extrap!$A$2:$A$106=Recap!$A$1)*(Extrap!$B$2:$B$106=Recap!$A15)*(OFFSET(Extrap!$B$2,0,MATCH(Recap!F$2,Extrap!$C$1:$F$1,0),ROWS(Extrap!$A$2:$A$106),1)))} -> 50453.165 | G15: {=SUMPRODUCT((Extrap!$A$2:$A$106=Recap!$A$1)*(Extrap!$B$2:$B$106=Recap!$A15)*(OFFSET(Extrap!$B$2,0,MATCH(Recap!G$2,Extrap!$C$1:$F$1,0),ROWS(Extrap!$A$2:$A$106),1)))} -> 51182.267
A16: VOLVIC TEA ORGANIC | E16: {=SUMPRODUCT((Extrap!$A$2:$A$106=Recap!$A$1)*(Extrap!$B$2:$B$106=Recap!$A16)*(OFFSET(Extrap!$B$2,0,MATCH(Recap!E$2,Extrap!$C$1:$F$1,0),ROWS(Extrap!$A$2:$A$106),1)))} -> 202.67918 | F16: {=SUMPRODUCT((Extrap!$A$2:$A$106=Recap!$A$1)*(Extrap!$B$2:$B$106=Recap!$A16)*(OFFSET(Extrap!$B$2,0,MATCH(Recap!F$2,Extrap!$C$1:$F$1,0),ROWS(Extrap!$A$2:$A$106),1)))} -> 242.46276 | G16: {=SUMPRODUCT((Extrap!$A$2:$A$106=Recap!$A$1)*(Extrap!$B$2:$B$106=Recap!$A16)*(OFFSET(Extrap!$B$2,0,MATCH(Recap!G$2,Extrap!$C$1:$F$1,0),ROWS(Extrap!$A$2:$A$106),1)))} -> 235.14216

Sheet GPS
