Workbook

Sheet Effectif 03-22
A1: Nom | B1: Prénom | C1: Nom | D1: PrénomE1 | E1: Né(e) le | F1: PrénomE2 | G1: Né(e) le | H1: PrénomE3 | I1: Né(e) le | J1: PrénomE4 | K1: Né(e) le
A2: Martin | B2: Jean Luc | C2: {=IFERROR(INDEX(Enfants!$E$2:$E$9,SMALL(IF((Enfants!$A$2:$A$9=$A2)*(Enfants!$B$2:$B$9=$B2),ROW($F$2:$F$9)-1),1)),"")} -> Martin | D2: {=IFERROR(INDEX(Enfants!$F$2:$F$9,SMALL(IF((Enfants!$A$2:$A$9=$A2)*(Enfants!$B$2:$B$9=$B2),ROW($F$2:$F$9)-1),INT((COLUMN()-1)/2))),"")} -> Lucille | E2: {=IFERROR(INDEX(Enfants!$G$2:$G$9,SMALL(IF((Enfants!$A$2:$A$9=$A2)*(Enfants!$B$2:$B$9=$B2),ROW($F$2:$F$9)-1),INT((COLUMN()-1)/2)-1)),"")} -> 36668 | F2: {=IFERROR(INDEX(Enfants!$F$2:$F$9,SMALL(IF((Enfants!$A$2:$A$9=$A2)*(Enfants!$B$2:$B$9=$B2),ROW($F$2:$F$9)-1),INT((COLUMN()-1)/2))),"")} -> Lucas | G2: {=IFERROR(INDEX(Enfants!$G$2:$G$9,SMALL(IF((Enfants!$A$2:$A$9=$A2)*(Enfants!$B$2:$B$9=$B2),ROW($F$2:$F$9)-1),INT((COLUMN()-1)/2)-1)),"")} -> 35727 | H2: {=IFERROR(INDEX(Enfants!$F$2:$F$9,SMALL(IF((Enfants!$A$2:$A$9=$A2)*(Enfants!$B$2:$B$9=$B2),ROW($F$2:$F$9)-1),INT((COLUMN()-1)/2))),"")} | I2: {=IFERROR(INDEX(Enfants!$G$2:$G$9,SMALL(IF((Enfants!$A$2:$A$9=$A2)*(Enfants!$B$2:$B$9=$B2),ROW($F$2:$F$9)-1),INT((COLUMN()-1)/2)-1)),"")} | J2: {=IFERROR(INDEX(Enfants!$F$2:$F$9,SMALL(IF((Enfants!$A$2:$A$9=$A2)*(Enfants!$B$2:$B$9=$B2),ROW($F$2:$F$9)-1),INT((COLUMN()-1)/2))),"")} | K2: {=IFERROR(INDEX(Enfants!$G$2:$G$9,SMALL(IF((Enfants!$A$2:$A$9=$A2)*(Enfants!$B$2:$B$9=$B2),ROW($F$2:$F$9)-1),INT((COLUMN()-1)/2)-1)),"")}
A3: Dupont | B3: Thierry | C3: {=IFERROR(INDEX(Enfants!$E$2:$E$9,SMALL(IF((Enfants!$A$2:$A$9=$A3)*(Enfants!$B$2:$B$9=$B3),ROW($F$2:$F$9)-1),1)),"")} -> Dupont | D3: {=IFERROR(INDEX(Enfants!$F$2:$F$9,SMALL(IF((Enfants!$A$2:$A$9=$A3)*(Enfants!$B$2:$B$9=$B3),ROW($F$2:$F$9)-1),INT((COLUMN()-1)/2))),"")} -> ANTHONY | E3: {=IFERROR(INDEX(Enfants!$G$2:$G$9,SMALL(IF((Enfants!$A$2:$A$9=$A3)*(Enfants!$B$2:$B$9=$B3),ROW($F$2:$F$9)-1),INT((COLUMN()-1)/2)-1)),"")} -> 33919 | F3: {=IFERROR(INDEX(Enfants!$F$2:$F$9,SMALL(IF((Enfants!$A$2:$A$9=$A3)*(Enfants!$B$2:$B$9=$B3),ROW($F$2:$F$9)-1),INT((COLUMN()-1)/2))),"")} -> CYRIELLE | G3: {=IFERROR(INDEX(Enfants!$G$2:$G$9,SMALL(IF((Enfants!$A$2:$A$9=$A3)*(Enfants!$B$2:$B$9=$B3),ROW($F$2:$F$9)-1),INT((COLUMN()-1)/2)-1)),"")} -> 35262 | H3: {=IFERROR(INDEX(Enfants!$F$2:$F$9,SMALL(IF((Enfants!$A$2:$A$9=$A3)*(Enfants!$B$2:$B$9=$B3),ROW($F$2:$F$9)-1),INT((COLUMN()-1)/2))),"")} | I3: {=IFERROR(INDEX(Enfants!$G$2:$G$9,SMALL(IF((Enfants!$A$2:$A$9=$A3)*(Enfants!$B$2:$B$9=$B3),ROW($F$2:$F$9)-1),INT((COLUMN()-1)/2)-1)),"")} | J3: {=IFERROR(INDEX(Enfants!$F$2:$F$9,SMALL(IF((Enfants!$A$2:$A$9=$A3)*(Enfants!$B$2:$B$9=$B3),ROW($F$2:$F$9)-1),INT((COLUMN()-1)/2))),"")} | K3: {=IFERROR(INDEX(Enfants!$G$2:$G$9,SMALL(IF((Enfants!$A$2:$A$9=$A3)*(Enfants!$B$2:$B$9=$B3),ROW($F$2:$F$9)-1),INT((COLUMN()-1)/2)-1)),"")}
A4: Henry | B4: Veronique | C4: {=IFERROR(INDEX(Enfants!$E$2:$E$9,SMALL(IF((Enfants!$A$2:$A$9=$A4)*(Enfants!$B$2:$B$9=$B4),ROW($F$2:$F$9)-1),1)),"")} -> Henry | D4: {=IFERROR(INDEX(Enfants!$F$2:$F$9,SMALL(IF((Enfants!$A$2:$A$9=$A4)*(Enfants!$B$2:$B$9=$B4),ROW($F$2:$F$9)-1),INT((COLUMN()-1)/2))),"")} -> GUILLAUME | E4: {=IFERROR(INDEX(Enfants!$G$2:$G$9,SMALL(IF((Enfants!$A$2:$A$9=$A4)*(Enfants!$B$2:$B$9=$B4),ROW($F$2:$F$9)-1),INT((COLUMN()-1)/2)-1)),"")} -> 32288 | F4: {=IFERROR(INDEX(Enfants!$F$2:$F$9,SMALL(IF((Enfants!$A$2:$A$9=$A4)*(Enfants!$B$2:$B$9=$B4),ROW($F$2:$F$9)-1),INT((COLUMN()-1)/2))),"")} -> LUDIVINE | G4: {=IFERROR(INDEX(Enfants!$G$2:$G$9,SMALL(IF((Enfants!$A$2:$A$9=$A4)*(Enfants!$B$2:$B$9=$B4),ROW($F$2:$F$9)-1),INT((COLUMN()-1)/2)-1)),"")} -> 33483 | H4: {=IFERROR(INDEX(Enfants!$F$2:$F$9,SMALL(IF((Enfants!$A$2:$A$9=$A4)*(Enfants!$B$2:$B$9=$B4),ROW($F$2:$F$9)-1),INT((COLUMN()-1)/2))),"")} -> Céline | I4: {=IFERROR(INDEX(Enfants!$G$2:$G$9,SMALL(IF((Enfants!$A$2:$A$9=$A4)*(Enfants!$B$2:$B$9=$B4),ROW($F$2:$F$9)-1),INT((COLUMN()-1)/2)-1)),"")} -> 31292 | J4: {=IFERROR(INDEX(Enfants!$F$2:$F$9,SMALL(IF((Enfants!$A$2:$A$9=$A4)*(Enfants!$B$2:$B$9=$B4),ROW($F$2:$F$9)-1),INT((COLUMN()-1)/2))),"")} | K4: {=IFERROR(INDEX(Enfants!$G$2:$G$9,SMALL(IF((Enfants!$A$2:$A$9=$A4)*(Enfants!$B$2:$B$9=$B4),ROW($F$2:$F$9)-1),INT((COLUMN()-1)/2)-1)),"")}
A5: Martin | B5: Josiane | C5: {=IFERROR(INDEX(Enfants!$E$2:$E$9,SMALL(IF((Enfants!$A$2:$A$9=$A5)*(Enfants!$B$2:$B$9=$B5),ROW($F$2:$F$9)-1),1)),"")} -> Martin | D5: {=IFERROR(INDEX(Enfants!$F$2:$F$9,SMALL(IF((Enfants!$A$2:$A$9=$A5)*(Enfants!$B$2:$B$9=$B5),ROW($F$2:$F$9)-1),INT((COLUMN()-1)/2))),"")} -> Corinne | E5: {=IFERROR(INDEX(Enfants!$G$2:$G$9,SMALL(IF((Enfants!$A$2:$A$9=$A5)*(Enfants!$B$2:$B$9=$B5),ROW($F$2:$F$9)-1),INT((COLUMN()-1)/2)-1)),"")} -> 44542 | F5: {=IFERROR(INDEX(Enfants!$F$2:$F$9,SMALL(IF((Enfants!$A$2:$A$9=$A5)*(Enfants!$B$2:$B$9=$B5),ROW($F$2:$F$9)-1),INT((COLUMN()-1)/2))),"")} | G5: {=IFERROR(INDEX(Enfants!$G$2:$G$9,SMALL(IF((Enfants!$A$2:$A$9=$A5)*(Enfants!$B$2:$B$9=$B5),ROW($F$2:$F$9)-1),INT((COLUMN()-1)/2)-1)),"")} | H5: {=IFERROR(INDEX(Enfants!$F$2:$F$9,SMALL(IF((Enfants!$A$2:$A$9=$A5)*(Enfants!$B$2:$B$9=$B5),ROW($F$2:$F$9)-1),INT((COLUMN()-1)/2))),"")} | I5: {=IFERROR(INDEX(Enfants!$G$2:$G$9,SMALL(IF((Enfants!$A$2:$A$9=$A5)*(Enfants!$B$2:$B$9=$B5),ROW($F$2:$F$9)-1),INT((COLUMN()-1)/2)-1)),"")} | J5: {=IFERROR(INDEX(Enfants!$F$2:$F$9,SMALL(IF((Enfants!$A$2:$A$9=$A5)*(Enfants!$B$2:$B$9=$B5),ROW($F$2:$F$9)-1),INT((COLUMN()-1)/2))),"")} | K5: {=IFERROR(INDEX(Enfants!$G$2:$G$9,SMALL(IF((Enfants!$A$2:$A$9=$A5)*(Enfants!$B$2:$B$9=$B5),ROW($F$2:$F$9)-1),INT((COLUMN()-1)/2)-1)),"")}
C6: {=IFERROR(INDEX(Enfants!$E$2:$E$9,SMALL(IF((Enfants!$A$2:$A$9=$A6)*(Enfants!$B$2:$B$9=$B6),ROW($F$2:$F$9)-1),1)),"")} | D6: {=IFERROR(INDEX(Enfants!$F$2:$F$9,SMALL(IF((Enfants!$A$2:$A$9=$A6)*(Enfants!$B$2:$B$9=$B6),ROW($F$2:$F$9)-1),INT((COLUMN()-1)/2))),"")} | E6: {=IFERROR(INDEX(Enfants!$G$2:$G$9,SMALL(IF((Enfants!$A$2:$A$9=$A6)*(Enfants!$B$2:$B$9=$B6),ROW($F$2:$F$9)-1),(INT((COLUMN()-1)/2)))),"")}

Sheet Enfants
A1: Nom | B1: Prénom | C1: Centre de coûts | D1: Type de contrat | E1: Nom | F1: Prénom | G1: Né(e) le
A2: Martin | B2: Jean Luc | E2: Martin | F2: Lucille | G2: 36668
A3: Martin | B3: Jean Luc | E3: Martin | F3: Lucas | G3: 35727
A4: Dupont | B4: Thierry | E4: Dupont | F4: ANTHONY | G4: 33919
A5: Dupont | B5: Thierry | E5: Dupont | F5: CYRIELLE | G5: 35262
A6: Henry | B6: Veronique | E6: Henry | F6: GUILLAUME | G6: 32288
A7: Henry | B7: Veronique | E7: Henry | F7: LUDIVINE | G7: 33483
A8: Henry | B8: Veronique | E8: Henry | F8: Céline | G8: 31292
A9: Martin | B9: Josiane | E9: Martin | F9: Corinne | G9: 44542
