Workbook

Sheet UNITE FABRICATION
C1: CLASSES DE RISQUES
A2: Phases de travail | B2: Tâches | C2: Brûlure | D2: Gestes et postures
A3: Démarrage machines | B3: chargement | D3: X
A4: FG | B4: FHGF | C4: X | D4: x
A5: Démarrage machines | B5: Prise d'échantillon | C5: X
A6: Conditionnement | B6: Vérification machine | D6: X
A7: Conditionnement | B7: Contrôle | C7: X
A8: Conditionnement | B8: hh | C8: X
A9: ll | D9: x
G18: Liste Risques
A19: Phases de travail | B19: Tâches | C19: CLASSES DE RISQUES | D19: Colonne1
A20: Démarrage machines | B20: chargement | C20: Gestes et postures | G20: Brûlure
A21: FG | B21: FHGF | C21: Brûlure | G21: Gestes et postures
A22: Démarrage machines | B22: Prise d'échantillon | C22: Brûlure
A23: Conditionnement | B23: Vérification machine | C23: Gestes et postures
A24: Conditionnement | B24: Contrôle | C24: Brûlure
A25: Conditionnement | B25: hh | C25: Brûlure
A26: ll | C26: Gestes et postures

Sheet Carto
C6: Phases de travail | E6: Brûlure | F6: Gestes et postures | H6: total par phases de travail | O6: Phases de travail | P6: Brûlure | Q6: Gestes et postures | S6: total par phases de travail
A7: Unité de fabrication | C7: Démarrage machines | E7: =SUMPRODUCT((Tableau1[[#Headers],[Brûlure]:[Gestes et postures]]=Carto!E$6)*(Tableau1[[Phases de travail]:[Phases de travail]]=Carto!$C7)*(Tableau1[[Brûlure]:[Gestes et postures]]="x")) -> 1 | F7: {=SUMPRODUCT((Tableau1[[#Headers],[Brûlure]:[Gestes et postures]]=Carto!F$6)*(Tableau1[[Phases de travail]:[Phases de travail]]=Carto!$C7)*(Tableau1[[Brûlure]:[Gestes et postures]]="x"))} -> 1 | H7: =SUM(E7:F7) -> 2 | M7: Unité de fabrication | O7: Démarrage machines | P7: =COUNTIFS(Tableau13[[CLASSES DE RISQUES]:[CLASSES DE RISQUES]],P$6,Tableau13[[Phases de travail]:[Phases de travail]],Carto!$O7) -> 1 | Q7: =COUNTIFS(Tableau13[[CLASSES DE RISQUES]:[CLASSES DE RISQUES]],Q$6,Tableau13[[Phases de travail]:[Phases de travail]],Carto!$O7) -> 1 | S7: =SUM(P7:Q7) -> 2
C8: FG | E8: =SUMPRODUCT((Tableau1[[#Headers],[Brûlure]:[Gestes et postures]]=Carto!E$6)*(Tableau1[[Phases de travail]:[Phases de travail]]=Carto!$C8)*(Tableau1[[Brûlure]:[Gestes et postures]]="x")) -> 1 | F8: {=SUMPRODUCT((Tableau1[[#Headers],[Brûlure]:[Gestes et postures]]=Carto!F$6)*(Tableau1[[Phases de travail]:[Phases de travail]]=Carto!$C8)*(Tableau1[[Brûlure]:[Gestes et postures]]="x"))} -> 1 | H8: =SUM(E8:F8) -> 2 | O8: FG | P8: =COUNTIFS(Tableau13[[CLASSES DE RISQUES]:[CLASSES DE RISQUES]],P$6,Tableau13[[Phases de travail]:[Phases de travail]],Carto!$O8) -> 1 | Q8: =COUNTIFS(Tableau13[[CLASSES DE RISQUES]:[CLASSES DE RISQUES]],Q$6,Tableau13[[Phases de travail]:[Phases de travail]],Carto!$O8) -> 0 | S8: =SUM(P8:Q8) -> 1
C9: conditionnement | E9: {=SUMPRODUCT((Tableau1[[#Headers],[Brûlure]:[Gestes et postures]]=Carto!E$6)*(Tableau1[[Phases de travail]:[Phases de travail]]=Carto!$C9)*(Tableau1[[Brûlure]:[Gestes et postures]]="x"))} -> 2 | F9: =SUMPRODUCT((Tableau1[[#Headers],[Brûlure]:[Gestes et postures]]=Carto!F$6)*(Tableau1[[Phases de travail]:[Phases de travail]]=Carto!$C9)*(Tableau1[[Brûlure]:[Gestes et postures]]="x")) -> 1 | H9: =SUM(E9:F9) -> 3 | O9: conditionnement | P9: =COUNTIFS(Tableau13[[CLASSES DE RISQUES]:[CLASSES DE RISQUES]],P$6,Tableau13[[Phases de travail]:[Phases de travail]],Carto!$O9) -> 2 | Q9: =COUNTIFS(Tableau13[[CLASSES DE RISQUES]:[CLASSES DE RISQUES]],Q$6,Tableau13[[Phases de travail]:[Phases de travail]],Carto!$O9) -> 1 | S9: =SUM(P9:Q9) -> 3
C10: ll | E10: {=SUMPRODUCT((Tableau1[[#Headers],[Brûlure]:[Gestes et postures]]=Carto!E$6)*(Tableau1[[Phases de travail]:[Phases de travail]]=Carto!$C10)*(Tableau1[[Brûlure]:[Gestes et postures]]="x"))} -> 0 | F10: =SUMPRODUCT((Tableau1[[#Headers],[Brûlure]:[Gestes et postures]]=Carto!F$6)*(Tableau1[[Phases de travail]:[Phases de travail]]=Carto!$C10)*(Tableau1[[Brûlure]:[Gestes et postures]]="x")) -> 1 | O10: ll | P10: =COUNTIFS(Tableau13[[CLASSES DE RISQUES]:[CLASSES DE RISQUES]],P$6,Tableau13[[Phases de travail]:[Phases de travail]],Carto!$O10) -> 0 | Q10: =COUNTIFS(Tableau13[[CLASSES DE RISQUES]:[CLASSES DE RISQUES]],Q$6,Tableau13[[Phases de travail]:[Phases de travail]],Carto!$O10) -> 1
A11: Total par risques | E11: =SUM(E7:E9) -> 4 | F11: =SUM(F7:F9) -> 3 | M11: Total par risques | P11: =SUM(P7:P10) -> 4 | Q11: =SUM(Q7:Q10) -> 3
D35: Phases de travail | F35: Brûlure | G35: Gestes et postures | I35: total par phases de travail
B36: Unité de fabrication | D36: Démarrage machines | F36: =SUMPRODUCT((Tableau1[[#Headers],[Brûlure]:[Gestes et postures]]=Carto!$F35)*(Tableau1[[Phases de travail]:[Phases de travail]]=Carto!$D36)*(Tableau1[[Brûlure]:[Gestes et postures]]="x")) -> 1 | G36: {=SUMPRODUCT((Tableau1[[#Headers],[Brûlure]:[Gestes et postures]]=Carto!G$6)*(Tableau1[[Phases de travail]:[Phases de travail]]=Carto!$C36)*(Tableau1[[Brûlure]:[Gestes et postures]]="x"))} -> 0 | I36: =SUM(F36:G36) -> 1
D37: FG | F37: =SUMPRODUCT((Tableau1[[#Headers],[Brûlure]:[Gestes et postures]]=Carto!F$6)*(Tableau1[[Phases de travail]:[Phases de travail]]=Carto!$C37)*(Tableau1[[Brûlure]:[Gestes et postures]]="x")) -> 0 | G37: {=SUMPRODUCT((Tableau1[[#Headers],[Brûlure]:[Gestes et postures]]=Carto!G$6)*(Tableau1[[Phases de travail]:[Phases de travail]]=Carto!$C37)*(Tableau1[[Brûlure]:[Gestes et postures]]="x"))} -> 0 | I37: =SUM(F37:G37) -> 0
D38: conditionnement | F38: {=SUMPRODUCT((Tableau1[[#Headers],[Brûlure]:[Gestes et postures]]=Carto!F$6)*(Tableau1[[Phases de travail]:[Phases de travail]]=Carto!$C38)*(Tableau1[[Brûlure]:[Gestes et postures]]="x"))} -> 0 | G38: =SUMPRODUCT((Tableau1[[#Headers],[Brûlure]:[Gestes et postures]]=Carto!G$6)*(Tableau1[[Phases de travail]:[Phases de travail]]=Carto!$C38)*(Tableau1[[Brûlure]:[Gestes et postures]]="x")) -> 0 | I38: =SUM(F38:G38) -> 0
D39: ll | F39: {=SUMPRODUCT((Tableau1[[#Headers],[Brûlure]:[Gestes et postures]]=Carto!F$6)*(Tableau1[[Phases de travail]:[Phases de travail]]=Carto!$C39)*(Tableau1[[Brûlure]:[Gestes et postures]]="x"))} -> 0 | G39: =SUMPRODUCT((Tableau1[[#Headers],[Brûlure]:[Gestes et postures]]=Carto!G$6)*(Tableau1[[Phases de travail]:[Phases de travail]]=Carto!$C39)*(Tableau1[[Brûlure]:[Gestes et postures]]="x")) -> 0
B40: Total par risques | F40: =SUM(F36:F38) -> 1 | G40: =SUM(G36:G38) -> 0
