Workbook
Name Layout: #REF!
Name Layout1: 'Raw Vente'!$A$1:$E$1102
Name Layout2: #REF!
Name Layout3: 'Raw Fournisseur'!$A$1:$D$7

Sheet Tableau d'amortissement
A1: Client | B1: Date | C1: Amo | D1: Prix | E1: 44408 | F1: =EOMONTH(E1,1) -> 44439 | G1: =EOMONTH(F1,1) -> 44469 | H1: =EOMONTH(G1,1) -> 44500 | I1: =EOMONTH(H1,1) -> 44530 | J1: =EOMONTH(I1,1) -> 44561 | K1: =EOMONTH(J1,1) -> 44592 | L1: =EOMONTH(K1,1) -> 44620 | M1: =EOMONTH(L1,1) -> 44651 | ... O1: =EOMONTH(N1,1) -> 44712
A2: Bob 1 | B2: 44391 | C2: 24 | D2: 700 | E2: =IF(E$1<EDATE($B2,$C2),ROUND($D2/((EDATE($B2,$C2))-$B2)*((((EDATE($B2,$C2))-$B2))-(E$1-$B2)),2),0) -> 683.7 | F2: =IF(F$1<EDATE($B2,$C2),ROUND($D2/((EDATE($B2,$C2))-$B2)*((((EDATE($B2,$C2))-$B2))-(F$1-$B2)),2),0) -> 653.97 | G2: =IF(G$1<EDATE($B2,$C2),ROUND($D2/((EDATE($B2,$C2))-$B2)*((((EDATE($B2,$C2))-$B2))-(G$1-$B2)),2),0) -> 625.21 | H2: =IF(H$1<EDATE($B2,$C2),ROUND($D2/((EDATE($B2,$C2))-$B2)*((((EDATE($B2,$C2))-$B2))-(H$1-$B2)),2),0) -> 595.48 | I2: =IF(I$1<EDATE($B2,$C2),ROUND($D2/((EDATE($B2,$C2))-$B2)*((((EDATE($B2,$C2))-$B2))-(I$1-$B2)),2),0) -> 566.71 | J2: =IF(J$1<EDATE($B2,$C2),ROUND($D2/((EDATE($B2,$C2))-$B2)*((((EDATE($B2,$C2))-$B2))-(J$1-$B2)),2),0) -> 536.99 | K2: =IF(K$1<EDATE($B2,$C2),ROUND($D2/((EDATE($B2,$C2))-$B2)*((((EDATE($B2,$C2))-$B2))-(K$1-$B2)),2),0) -> 507.26 | L2: =IF(L$1<EDATE($B2,$C2),ROUND($D2/((EDATE($B2,$C2))-$B2)*((((EDATE($B2,$C2))-$B2))-(L$1-$B2)),2),0) -> 480.41 | ... O2: =IF(O$1<EDATE($B2,$C2),ROUND($D2/((EDATE($B2,$C2))-$B2)*((((EDATE($B2,$C2))-$B2))-(O$1-$B2)),2),0) -> 392.19
A3: Bob 2 | B3: 44393 | C3: 24 | D3: 700 | E3: =IF(E$1<EDATE($B3,$C3),ROUND($D3/((EDATE($B3,$C3))-$B3)*((((EDATE($B3,$C3))-$B3))-(E$1-$B3)),2),0) -> 685.62 | F3: =IF(F$1<EDATE($B3,$C3),ROUND($D3/((EDATE($B3,$C3))-$B3)*((((EDATE($B3,$C3))-$B3))-(F$1-$B3)),2),0) -> 655.89 | G3: =IF(G$1<EDATE($B3,$C3),ROUND($D3/((EDATE($B3,$C3))-$B3)*((((EDATE($B3,$C3))-$B3))-(G$1-$B3)),2),0) -> 627.12 | H3: =IF(H$1<EDATE($B3,$C3),ROUND($D3/((EDATE($B3,$C3))-$B3)*((((EDATE($B3,$C3))-$B3))-(H$1-$B3)),2),0) -> 597.4 | I3: =IF(I$1<EDATE($B3,$C3),ROUND($D3/((EDATE($B3,$C3))-$B3)*((((EDATE($B3,$C3))-$B3))-(I$1-$B3)),2),0) -> 568.63 | J3: =IF(J$1<EDATE($B3,$C3),ROUND($D3/((EDATE($B3,$C3))-$B3)*((((EDATE($B3,$C3))-$B3))-(J$1-$B3)),2),0) -> 538.9 | K3: =IF(K$1<EDATE($B3,$C3),ROUND($D3/((EDATE($B3,$C3))-$B3)*((((EDATE($B3,$C3))-$B3))-(K$1-$B3)),2),0) -> 509.18 | L3: =IF(L$1<EDATE($B3,$C3),ROUND($D3/((EDATE($B3,$C3))-$B3)*((((EDATE($B3,$C3))-$B3))-(L$1-$B3)),2),0) -> 482.33 | ... O3: =IF(O$1<EDATE($B3,$C3),ROUND($D3/((EDATE($B3,$C3))-$B3)*((((EDATE($B3,$C3))-$B3))-(O$1-$B3)),2),0) -> 394.11
A4: Bob 3 | B4: 44393 | C4: 36 | D4: 1050 | E4: =IF(E$1<EDATE($B4,$C4),ROUND($D4/((EDATE($B4,$C4))-$B4)*((((EDATE($B4,$C4))-$B4))-(E$1-$B4)),2),0) -> 1035.63 | F4: =IF(F$1<EDATE($B4,$C4),ROUND($D4/((EDATE($B4,$C4))-$B4)*((((EDATE($B4,$C4))-$B4))-(F$1-$B4)),2),0) -> 1005.93 | G4: =IF(G$1<EDATE($B4,$C4),ROUND($D4/((EDATE($B4,$C4))-$B4)*((((EDATE($B4,$C4))-$B4))-(G$1-$B4)),2),0) -> 977.19 | H4: =IF(H$1<EDATE($B4,$C4),ROUND($D4/((EDATE($B4,$C4))-$B4)*((((EDATE($B4,$C4))-$B4))-(H$1-$B4)),2),0) -> 947.49 | I4: =IF(I$1<EDATE($B4,$C4),ROUND($D4/((EDATE($B4,$C4))-$B4)*((((EDATE($B4,$C4))-$B4))-(I$1-$B4)),2),0) -> 918.75 | J4: =IF(J$1<EDATE($B4,$C4),ROUND($D4/((EDATE($B4,$C4))-$B4)*((((EDATE($B4,$C4))-$B4))-(J$1-$B4)),2),0) -> 889.05 | K4: =IF(K$1<EDATE($B4,$C4),ROUND($D4/((EDATE($B4,$C4))-$B4)*((((EDATE($B4,$C4))-$B4))-(K$1-$B4)),2),0) -> 859.35 | L4: =IF(L$1<EDATE($B4,$C4),ROUND($D4/((EDATE($B4,$C4))-$B4)*((((EDATE($B4,$C4))-$B4))-(L$1-$B4)),2),0) -> 832.53 | ... O4: =IF(O$1<EDATE($B4,$C4),ROUND($D4/((EDATE($B4,$C4))-$B4)*((((EDATE($B4,$C4))-$B4))-(O$1-$B4)),2),0) -> 744.39
A5: Bob 4 | B5: 44393 | C5: 36 | D5: 1050 | E5: =IF(E$1<EDATE($B5,$C5),ROUND($D5/((EDATE($B5,$C5))-$B5)*((((EDATE($B5,$C5))-$B5))-(E$1-$B5)),2),0) -> 1035.63 | F5: =IF(F$1<EDATE($B5,$C5),ROUND($D5/((EDATE($B5,$C5))-$B5)*((((EDATE($B5,$C5))-$B5))-(F$1-$B5)),2),0) -> 1005.93 | G5: =IF(G$1<EDATE($B5,$C5),ROUND($D5/((EDATE($B5,$C5))-$B5)*((((EDATE($B5,$C5))-$B5))-(G$1-$B5)),2),0) -> 977.19 | H5: =IF(H$1<EDATE($B5,$C5),ROUND($D5/((EDATE($B5,$C5))-$B5)*((((EDATE($B5,$C5))-$B5))-(H$1-$B5)),2),0) -> 947.49 | I5: =IF(I$1<EDATE($B5,$C5),ROUND($D5/((EDATE($B5,$C5))-$B5)*((((EDATE($B5,$C5))-$B5))-(I$1-$B5)),2),0) -> 918.75 | J5: =IF(J$1<EDATE($B5,$C5),ROUND($D5/((EDATE($B5,$C5))-$B5)*((((EDATE($B5,$C5))-$B5))-(J$1-$B5)),2),0) -> 889.05 | K5: =IF(K$1<EDATE($B5,$C5),ROUND($D5/((EDATE($B5,$C5))-$B5)*((((EDATE($B5,$C5))-$B5))-(K$1-$B5)),2),0) -> 859.35 | L5: =IF(L$1<EDATE($B5,$C5),ROUND($D5/((EDATE($B5,$C5))-$B5)*((((EDATE($B5,$C5))-$B5))-(L$1-$B5)),2),0) -> 832.53 | ... O5: =IF(O$1<EDATE($B5,$C5),ROUND($D5/((EDATE($B5,$C5))-$B5)*((((EDATE($B5,$C5))-$B5))-(O$1-$B5)),2),0) -> 744.39
A6: Bob 5 | B6: 44396 | C6: 24 | D6: 700 | E6: =IF(E$1<EDATE($B6,$C6),ROUND($D6/((EDATE($B6,$C6))-$B6)*((((EDATE($B6,$C6))-$B6))-(E$1-$B6)),2),0) -> 688.49 | F6: =IF(F$1<EDATE($B6,$C6),ROUND($D6/((EDATE($B6,$C6))-$B6)*((((EDATE($B6,$C6))-$B6))-(F$1-$B6)),2),0) -> 658.77 | G6: =IF(G$1<EDATE($B6,$C6),ROUND($D6/((EDATE($B6,$C6))-$B6)*((((EDATE($B6,$C6))-$B6))-(G$1-$B6)),2),0) -> 630 | H6: =IF(H$1<EDATE($B6,$C6),ROUND($D6/((EDATE($B6,$C6))-$B6)*((((EDATE($B6,$C6))-$B6))-(H$1-$B6)),2),0) -> 600.27 | I6: =IF(I$1<EDATE($B6,$C6),ROUND($D6/((EDATE($B6,$C6))-$B6)*((((EDATE($B6,$C6))-$B6))-(I$1-$B6)),2),0) -> 571.51 | J6: =IF(J$1<EDATE($B6,$C6),ROUND($D6/((EDATE($B6,$C6))-$B6)*((((EDATE($B6,$C6))-$B6))-(J$1-$B6)),2),0) -> 541.78 | K6: =IF(K$1<EDATE($B6,$C6),ROUND($D6/((EDATE($B6,$C6))-$B6)*((((EDATE($B6,$C6))-$B6))-(K$1-$B6)),2),0) -> 512.05 | L6: =IF(L$1<EDATE($B6,$C6),ROUND($D6/((EDATE($B6,$C6))-$B6)*((((EDATE($B6,$C6))-$B6))-(L$1-$B6)),2),0) -> 485.21 | ... O6: =IF(O$1<EDATE($B6,$C6),ROUND($D6/((EDATE($B6,$C6))-$B6)*((((EDATE($B6,$C6))-$B6))-(O$1-$B6)),2),0) -> 396.99
A7: Bob 6 | B7: 44397 | C7: 36 | D7: 1050 | E7: =IF(E$1<EDATE($B7,$C7),ROUND($D7/((EDATE($B7,$C7))-$B7)*((((EDATE($B7,$C7))-$B7))-(E$1-$B7)),2),0) -> 1039.46 | F7: =IF(F$1<EDATE($B7,$C7),ROUND($D7/((EDATE($B7,$C7))-$B7)*((((EDATE($B7,$C7))-$B7))-(F$1-$B7)),2),0) -> 1009.76 | G7: =IF(G$1<EDATE($B7,$C7),ROUND($D7/((EDATE($B7,$C7))-$B7)*((((EDATE($B7,$C7))-$B7))-(G$1-$B7)),2),0) -> 981.02 | H7: =IF(H$1<EDATE($B7,$C7),ROUND($D7/((EDATE($B7,$C7))-$B7)*((((EDATE($B7,$C7))-$B7))-(H$1-$B7)),2),0) -> 951.32 | I7: =IF(I$1<EDATE($B7,$C7),ROUND($D7/((EDATE($B7,$C7))-$B7)*((((EDATE($B7,$C7))-$B7))-(I$1-$B7)),2),0) -> 922.58 | J7: =IF(J$1<EDATE($B7,$C7),ROUND($D7/((EDATE($B7,$C7))-$B7)*((((EDATE($B7,$C7))-$B7))-(J$1-$B7)),2),0) -> 892.88 | K7: =IF(K$1<EDATE($B7,$C7),ROUND($D7/((EDATE($B7,$C7))-$B7)*((((EDATE($B7,$C7))-$B7))-(K$1-$B7)),2),0) -> 863.18 | L7: =IF(L$1<EDATE($B7,$C7),ROUND($D7/((EDATE($B7,$C7))-$B7)*((((EDATE($B7,$C7))-$B7))-(L$1-$B7)),2),0) -> 836.36 | ... O7: =IF(O$1<EDATE($B7,$C7),ROUND($D7/((EDATE($B7,$C7))-$B7)*((((EDATE($B7,$C7))-$B7))-(O$1-$B7)),2),0) -> 748.22
A8: Bob 7 | B8: 44398 | C8: 36 | D8: 1050 | E8: =IF(E$1<EDATE($B8,$C8),ROUND($D8/((EDATE($B8,$C8))-$B8)*((((EDATE($B8,$C8))-$B8))-(E$1-$B8)),2),0) -> 1040.42 | F8: =IF(F$1<EDATE($B8,$C8),ROUND($D8/((EDATE($B8,$C8))-$B8)*((((EDATE($B8,$C8))-$B8))-(F$1-$B8)),2),0) -> 1010.72 | G8: =IF(G$1<EDATE($B8,$C8),ROUND($D8/((EDATE($B8,$C8))-$B8)*((((EDATE($B8,$C8))-$B8))-(G$1-$B8)),2),0) -> 981.98 | H8: =IF(H$1<EDATE($B8,$C8),ROUND($D8/((EDATE($B8,$C8))-$B8)*((((EDATE($B8,$C8))-$B8))-(H$1-$B8)),2),0) -> 952.28 | I8: =IF(I$1<EDATE($B8,$C8),ROUND($D8/((EDATE($B8,$C8))-$B8)*((((EDATE($B8,$C8))-$B8))-(I$1-$B8)),2),0) -> 923.54 | J8: =IF(J$1<EDATE($B8,$C8),ROUND($D8/((EDATE($B8,$C8))-$B8)*((((EDATE($B8,$C8))-$B8))-(J$1-$B8)),2),0) -> 893.84 | K8: =IF(K$1<EDATE($B8,$C8),ROUND($D8/((EDATE($B8,$C8))-$B8)*((((EDATE($B8,$C8))-$B8))-(K$1-$B8)),2),0) -> 864.14 | L8: =IF(L$1<EDATE($B8,$C8),ROUND($D8/((EDATE($B8,$C8))-$B8)*((((EDATE($B8,$C8))-$B8))-(L$1-$B8)),2),0) -> 837.32 | ... O8: =IF(O$1<EDATE($B8,$C8),ROUND($D8/((EDATE($B8,$C8))-$B8)*((((EDATE($B8,$C8))-$B8))-(O$1-$B8)),2),0) -> 749.18
A9: Bob 8 | B9: 44400 | C9: 24 | D9: 700 | E9: =IF(E$1<EDATE($B9,$C9),ROUND($D9/((EDATE($B9,$C9))-$B9)*((((EDATE($B9,$C9))-$B9))-(E$1-$B9)),2),0) -> 692.33 | F9: =IF(F$1<EDATE($B9,$C9),ROUND($D9/((EDATE($B9,$C9))-$B9)*((((EDATE($B9,$C9))-$B9))-(F$1-$B9)),2),0) -> 662.6 | G9: =IF(G$1<EDATE($B9,$C9),ROUND($D9/((EDATE($B9,$C9))-$B9)*((((EDATE($B9,$C9))-$B9))-(G$1-$B9)),2),0) -> 633.84 | H9: =IF(H$1<EDATE($B9,$C9),ROUND($D9/((EDATE($B9,$C9))-$B9)*((((EDATE($B9,$C9))-$B9))-(H$1-$B9)),2),0) -> 604.11 | I9: =IF(I$1<EDATE($B9,$C9),ROUND($D9/((EDATE($B9,$C9))-$B9)*((((EDATE($B9,$C9))-$B9))-(I$1-$B9)),2),0) -> 575.34 | J9: =IF(J$1<EDATE($B9,$C9),ROUND($D9/((EDATE($B9,$C9))-$B9)*((((EDATE($B9,$C9))-$B9))-(J$1-$B9)),2),0) -> 545.62 | K9: =IF(K$1<EDATE($B9,$C9),ROUND($D9/((EDATE($B9,$C9))-$B9)*((((EDATE($B9,$C9))-$B9))-(K$1-$B9)),2),0) -> 515.89 | L9: =IF(L$1<EDATE($B9,$C9),ROUND($D9/((EDATE($B9,$C9))-$B9)*((((EDATE($B9,$C9))-$B9))-(L$1-$B9)),2),0) -> 489.04 | ... O9: =IF(O$1<EDATE($B9,$C9),ROUND($D9/((EDATE($B9,$C9))-$B9)*((((EDATE($B9,$C9))-$B9))-(O$1-$B9)),2),0) -> 400.82
A10: Bob 9 | B10: 44400 | C10: 24 | D10: 700 | E10: =IF(E$1<EDATE($B10,$C10),ROUND($D10/((EDATE($B10,$C10))-$B10)*((((EDATE($B10,$C10))-$B10))-(E$1-$B10)),2),0) -> 692.33 | F10: =IF(F$1<EDATE($B10,$C10),ROUND($D10/((EDATE($B10,$C10))-$B10)*((((EDATE($B10,$C10))-$B10))-(F$1-$B10)),2),0) -> 662.6 | G10: =IF(G$1<EDATE($B10,$C10),ROUND($D10/((EDATE($B10,$C10))-$B10)*((((EDATE($B10,$C10))-$B10))-(G$1-$B10)),2),0) -> 633.84 | H10: =IF(H$1<EDATE($B10,$C10),ROUND($D10/((EDATE($B10,$C10))-$B10)*((((EDATE($B10,$C10))-$B10))-(H$1-$B10)),2),0) -> 604.11 | I10: =IF(I$1<EDATE($B10,$C10),ROUND($D10/((EDATE($B10,$C10))-$B10)*((((EDATE($B10,$C10))-$B10))-(I$1-$B10)),2),0) -> 575.34 | J10: =IF(J$1<EDATE($B10,$C10),ROUND($D10/((EDATE($B10,$C10))-$B10)*((((EDATE($B10,$C10))-$B10))-(J$1-$B10)),2),0) -> 545.62 | K10: =IF(K$1<EDATE($B10,$C10),ROUND($D10/((EDATE($B10,$C10))-$B10)*((((EDATE($B10,$C10))-$B10))-(K$1-$B10)),2),0) -> 515.89 | L10: =IF(L$1<EDATE($B10,$C10),ROUND($D10/((EDATE($B10,$C10))-$B10)*((((EDATE($B10,$C10))-$B10))-(L$1-$B10)),2),0) -> 489.04 | ... O10: =IF(O$1<EDATE($B10,$C10),ROUND($D10/((EDATE($B10,$C10))-$B10)*((((EDATE($B10,$C10))-$B10))-(O$1-$B10)),2),0) -> 400.82
A11: Bob 10 | B11: 44401 | C11: 36 | D11: 1050 | E11: =IF(E$1<EDATE($B11,$C11),ROUND($D11/((EDATE($B11,$C11))-$B11)*((((EDATE($B11,$C11))-$B11))-(E$1-$B11)),2),0) -> 1043.29 | F11: =IF(F$1<EDATE($B11,$C11),ROUND($D11/((EDATE($B11,$C11))-$B11)*((((EDATE($B11,$C11))-$B11))-(F$1-$B11)),2),0) -> 1013.59 | G11: =IF(G$1<EDATE($B11,$C11),ROUND($D11/((EDATE($B11,$C11))-$B11)*((((EDATE($B11,$C11))-$B11))-(G$1-$B11)),2),0) -> 984.85 | H11: =IF(H$1<EDATE($B11,$C11),ROUND($D11/((EDATE($B11,$C11))-$B11)*((((EDATE($B11,$C11))-$B11))-(H$1-$B11)),2),0) -> 955.16 | I11: =IF(I$1<EDATE($B11,$C11),ROUND($D11/((EDATE($B11,$C11))-$B11)*((((EDATE($B11,$C11))-$B11))-(I$1-$B11)),2),0) -> 926.41 | J11: =IF(J$1<EDATE($B11,$C11),ROUND($D11/((EDATE($B11,$C11))-$B11)*((((EDATE($B11,$C11))-$B11))-(J$1-$B11)),2),0) -> 896.72 | K11: =IF(K$1<EDATE($B11,$C11),ROUND($D11/((EDATE($B11,$C11))-$B11)*((((EDATE($B11,$C11))-$B11))-(K$1-$B11)),2),0) -> 867.02 | L11: =IF(L$1<EDATE($B11,$C11),ROUND($D11/((EDATE($B11,$C11))-$B11)*((((EDATE($B11,$C11))-$B11))-(L$1-$B11)),2),0) -> 840.19 | ... O11: =IF(O$1<EDATE($B11,$C11),ROUND($D11/((EDATE($B11,$C11))-$B11)*((((EDATE($B11,$C11))-$B11))-(O$1-$B11)),2),0) -> 752.05
A12: Bob 11 | B12: 44401 | C12: 36 | D12: 1050 | E12: =IF(E$1<EDATE($B12,$C12),ROUND($D12/((EDATE($B12,$C12))-$B12)*((((EDATE($B12,$C12))-$B12))-(E$1-$B12)),2),0) -> 1043.29 | F12: =IF(F$1<EDATE($B12,$C12),ROUND($D12/((EDATE($B12,$C12))-$B12)*((((EDATE($B12,$C12))-$B12))-(F$1-$B12)),2),0) -> 1013.59 | G12: =IF(G$1<EDATE($B12,$C12),ROUND($D12/((EDATE($B12,$C12))-$B12)*((((EDATE($B12,$C12))-$B12))-(G$1-$B12)),2),0) -> 984.85 | H12: =IF(H$1<EDATE($B12,$C12),ROUND($D12/((EDATE($B12,$C12))-$B12)*((((EDATE($B12,$C12))-$B12))-(H$1-$B12)),2),0) -> 955.16 | I12: =IF(I$1<EDATE($B12,$C12),ROUND($D12/((EDATE($B12,$C12))-$B12)*((((EDATE($B12,$C12))-$B12))-(I$1-$B12)),2),0) -> 926.41 | J12: =IF(J$1<EDATE($B12,$C12),ROUND($D12/((EDATE($B12,$C12))-$B12)*((((EDATE($B12,$C12))-$B12))-(J$1-$B12)),2),0) -> 896.72 | K12: =IF(K$1<EDATE($B12,$C12),ROUND($D12/((EDATE($B12,$C12))-$B12)*((((EDATE($B12,$C12))-$B12))-(K$1-$B12)),2),0) -> 867.02 | L12: =IF(L$1<EDATE($B12,$C12),ROUND($D12/((EDATE($B12,$C12))-$B12)*((((EDATE($B12,$C12))-$B12))-(L$1-$B12)),2),0) -> 840.19 | ... O12: =IF(O$1<EDATE($B12,$C12),ROUND($D12/((EDATE($B12,$C12))-$B12)*((((EDATE($B12,$C12))-$B12))-(O$1-$B12)),2),0) -> 752.05
A13: Bob 12 | B13: 44401 | C13: 36 | D13: 1050 | E13: =IF(E$1<EDATE($B13,$C13),ROUND($D13/((EDATE($B13,$C13))-$B13)*((((EDATE($B13,$C13))-$B13))-(E$1-$B13)),2),0) -> 1043.29 | F13: =IF(F$1<EDATE($B13,$C13),ROUND($D13/((EDATE($B13,$C13))-$B13)*((((EDATE($B13,$C13))-$B13))-(F$1-$B13)),2),0) -> 1013.59 | G13: =IF(G$1<EDATE($B13,$C13),ROUND($D13/((EDATE($B13,$C13))-$B13)*((((EDATE($B13,$C13))-$B13))-(G$1-$B13)),2),0) -> 984.85 | H13: =IF(H$1<EDATE($B13,$C13),ROUND($D13/((EDATE($B13,$C13))-$B13)*((((EDATE($B13,$C13))-$B13))-(H$1-$B13)),2),0) -> 955.16 | I13: =IF(I$1<EDATE($B13,$C13),ROUND($D13/((EDATE($B13,$C13))-$B13)*((((EDATE($B13,$C13))-$B13))-(I$1-$B13)),2),0) -> 926.41 | J13: =IF(J$1<EDATE($B13,$C13),ROUND($D13/((EDATE($B13,$C13))-$B13)*((((EDATE($B13,$C13))-$B13))-(J$1-$B13)),2),0) -> 896.72 | K13: =IF(K$1<EDATE($B13,$C13),ROUND($D13/((EDATE($B13,$C13))-$B13)*((((EDATE($B13,$C13))-$B13))-(K$1-$B13)),2),0) -> 867.02 | L13: =IF(L$1<EDATE($B13,$C13),ROUND($D13/((EDATE($B13,$C13))-$B13)*((((EDATE($B13,$C13))-$B13))-(L$1-$B13)),2),0) -> 840.19 | ... O13: =IF(O$1<EDATE($B13,$C13),ROUND($D13/((EDATE($B13,$C13))-$B13)*((((EDATE($B13,$C13))-$B13))-(O$1-$B13)),2),0) -> 752.05
... A140: Bob 139 | B140: 44530 | C140: 24 | D140: 700 | E140: =IF(E$1<EDATE($B140,$C140),ROUND($D140/((EDATE($B140,$C140))-$B140)*((((EDATE($B140,$C140))-$B140))-(E$1-$B140)),2),0) -> 816.99 | F140: =IF(F$1<EDATE($B140,$C140),ROUND($D140/((EDATE($B140,$C140))-$B140)*((((EDATE($B140,$C140))-$B140))-(F$1-$B140)),2),0) -> 787.26 | G140: =IF(G$1<EDATE($B140,$C140),ROUND($D140/((EDATE($B140,$C140))-$B140)*((((EDATE($B140,$C140))-$B140))-(G$1-$B140)),2),0) -> 758.49 | H140: =IF(H$1<EDATE($B140,$C140),ROUND($D140/((EDATE($B140,$C140))-$B140)*((((EDATE($B140,$C140))-$B140))-(H$1-$B140)),2),0) -> 728.77 | I140: =IF(I$1<EDATE($B140,$C140),ROUND($D140/((EDATE($B140,$C140))-$B140)*((((EDATE($B140,$C140))-$B140))-(I$1-$B140)),2),0) -> 700 | J140: =IF(J$1<EDATE($B140,$C140),ROUND($D140/((EDATE($B140,$C140))-$B140)*((((EDATE($B140,$C140))-$B140))-(J$1-$B140)),2),0) -> 670.27 | K140: =IF(K$1<EDATE($B140,$C140),ROUND($D140/((EDATE($B140,$C140))-$B140)*((((EDATE($B140,$C140))-$B140))-(K$1-$B140)),2),0) -> 640.55 | L140: =IF(L$1<EDATE($B140,$C140),ROUND($D140/((EDATE($B140,$C140))-$B140)*((((EDATE($B140,$C140))-$B140))-(L$1-$B140)),2),0) -> 613.7 | ... O140: =IF(O$1<EDATE($B140,$C140),ROUND($D140/((EDATE($B140,$C140))-$B140)*((((EDATE($B140,$C140))-$B140))-(O$1-$B140)),2),0) -> 525.48

Sheet Controle
C1: Mois | D1: Novembre | E1: 2021
A3: 1 | B3: Mois | C3: Mois | E3: Jours | F3: Jours | H3: Année fiscal
A4: Période | B4: Chiffre | C4: Letre | D4: Année | E4: Début | F4: Fin | G4: Trimestre | H4: =DATE(E1-1,B5,A3) -> 44166
A5: 1 | B5: =+B16+1 -> 12 | C5: Décembre | E5: =DATE($E$1,B5,1) -> 44531 | F5: =EOMONTH(E5,0) -> 44561 | G5: T1 | H5: =EOMONTH(H4,11) -> 44530
A6: =1+A5 -> 2 | B6: 1 | C6: Janvier | E6: =DATE($E$1,B6,1) -> 44197 | F6: =EOMONTH(E6,0) -> 44227 | G6: T1
A7: =1+A6 -> 3 | B7: =+B6+1 -> 2 | C7: Février | E7: =DATE($E$1,B7,1) -> 44228 | F7: =EOMONTH(E7,0) -> 44255 | G7: T1
A8: =1+A7 -> 4 | B8: =+B7+1 -> 3 | C8: Mars | E8: =DATE($E$1,B8,1) -> 44256 | F8: =EOMONTH(E8,0) -> 44286 | G8: T2
A9: =1+A8 -> 5 | B9: =+B8+1 -> 4 | C9: Avril | E9: =DATE($E$1,B9,1) -> 44287 | F9: =EOMONTH(E9,0) -> 44316 | G9: T2
A10: =1+A9 -> 6 | B10: =+B9+1 -> 5 | C10: Mai | E10: =DATE($E$1,B10,1) -> 44317 | F10: =EOMONTH(E10,0) -> 44347 | G10: T2
A11: =1+A10 -> 7 | B11: =+B10+1 -> 6 | C11: Juin | E11: =DATE($E$1,B11,1) -> 44348 | F11: =EOMONTH(E11,0) -> 44377 | G11: T3
A12: =1+A11 -> 8 | B12: =+B11+1 -> 7 | C12: Juillet | E12: =DATE($E$1,B12,1) -> 44378 | F12: =EOMONTH(E12,0) -> 44408 | G12: T3
A13: =1+A12 -> 9 | B13: =+B12+1 -> 8 | C13: Août | E13: =DATE($E$1,B13,1) -> 44409 | F13: =EOMONTH(E13,0) -> 44439 | G13: T3
A14: =1+A13 -> 10 | B14: =+B13+1 -> 9 | C14: Septembre | E14: =DATE($E$1,B14,1) -> 44440 | F14: =EOMONTH(E14,0) -> 44469 | G14: T4 | N14: =CODE("E") -> 69
A15: =1+A14 -> 11 | B15: =+B14+1 -> 10 | C15: Octobre | E15: =DATE($E$1,B15,1) -> 44470 | F15: =EOMONTH(E15,0) -> 44500 | G15: T4
A16: =1+A15 -> 12 | B16: =+B15+1 -> 11 | C16: Novembre | E16: =DATE($E$1,B16,1) -> 44501 | F16: =EOMONTH(E16,0) -> 44530 | G16: T4
K17: 4020
A18: période | B18: Année | C18: Début | D18: Fin | E18: mois | F18: Vente brute | G18: valeur fin du mois | H18: Revenus cumulé | I18: Revenu mensuels | K18: Système | L18: écart
A19: 8 | B19: 2021 | C19: 44378 | D19: =EOMONTH(C19,0) -> 44408 | E19: =CONCATENATE(_xlfn.XLOOKUP(A19,$A$5:$A$16,$C$5:$C$16)," ",B19) -> Juillet 2021 | F19: =SUMIFS('Tableau d''amortissement'!D:D,'Tableau d''amortissement'!B:B,">"&$C$19,'Tableau d''amortissement'!B:B,"<="&D19) -> 21700 | G19: =SUMIFS(INDIRECT("'Tableau d''amortissement'!"&CHAR(68+ROW()-18)&":"&CHAR(68+ROW()-18)),'Tableau d''amortissement'!B:B,">"&$C$19,'Tableau d''amortissement'!B:B,"<="&D$19) -> 21542.8 | H19: =F19-G19 -> 157.2 | I19: =H19 -> 157.2 | K19: 157.2 | L19: =I19-K19 -> -2.8990144e-12 | M19: {=MATCH(INDEX('Tableau d''amortissement'!$E$1:$L$1,1,COUNT($D$19:D19)),'Tableau d''amortissement'!$E$1:$H$1,0)} -> 1
A20: 9 | B20: =B19 -> 2021 | C20: =D19+1 -> 44409 | D20: =EOMONTH(C20,0) -> 44439 | E20: =CONCATENATE(_xlfn.XLOOKUP(A20,$A$5:$A$16,$C$5:$C$16)," ",B20) -> Août 2021 | F20: =SUMIFS('Tableau d''amortissement'!D:D,'Tableau d''amortissement'!B:B,">"&$C$19,'Tableau d''amortissement'!B:B,"<="&D20) -> 40189 | G20: =SUMIFS(INDIRECT("'Tableau d''amortissement'!"&CHAR(68+ROW()-18)&":"&CHAR(68+ROW()-18)),'Tableau d''amortissement'!B:B,">"&$C$19,'Tableau d''amortissement'!B:B,"<="&D$19) -> 20799.97 | H20: =F20-G20 -> 19389.03 | I20: =H20-H19 -> 19231.83 | K20: 978.52 | L20: =I20-K20 -> 18253.31 | M20: {=MATCH(INDEX('Tableau d''amortissement'!$E$1:$L$1,1,COUNT($D$19:D20)),'Tableau d''amortissement'!$E$1:$H$1,0)} -> 2
A21: 10 | B21: =B20 -> 2021 | C21: =D20+1 -> 44440 | D21: =EOMONTH(C21,0) -> 44469 | E21: =CONCATENATE(_xlfn.XLOOKUP(A21,$A$5:$A$16,$C$5:$C$16)," ",B21) -> Septembre 2021 | F21: =SUMIFS('Tableau d''amortissement'!D:D,'Tableau d''amortissement'!B:B,">"&$C$19,'Tableau d''amortissement'!B:B,"<="&D21) -> 63388 | G21: =SUMIFS(INDIRECT("'Tableau d''amortissement'!"&CHAR(68+ROW()-18)&":"&CHAR(68+ROW()-18)),'Tableau d''amortissement'!B:B,">"&$C$19,'Tableau d''amortissement'!B:B,"<="&D$19) -> 20081.13 | H21: =F21-G21 -> 43306.87 | I21: =H21-H20 -> 23917.84 | K21: 1621.79 | L21: =I21-K21 -> 22296.05 | M21: {=MATCH(INDEX('Tableau d''amortissement'!$E$1:$L$1,1,COUNT($D$19:D21)),'Tableau d''amortissement'!$E$1:$H$1,0)} -> 3
A22: 11 | B22: =B21 -> 2021 | C22: =D21+1 -> 44470 | D22: =EOMONTH(C22,0) -> 44500 | E22: =CONCATENATE(_xlfn.XLOOKUP(A22,$A$5:$A$16,$C$5:$C$16)," ",B22) -> Octobre 2021 | F22: =SUMIFS('Tableau d''amortissement'!D:D,'Tableau d''amortissement'!B:B,">"&$C$19,'Tableau d''amortissement'!B:B,"<="&D22) -> 79363 | G22: =SUMIFS(INDIRECT("'Tableau d''amortissement'!"&CHAR(68+ROW()-18)&":"&CHAR(68+ROW()-18)),'Tableau d''amortissement'!B:B,">"&$C$19,'Tableau d''amortissement'!B:B,"<="&D$19) -> 19338.32 | H22: =F22-G22 -> 60024.68 | I22: =H22-H21 -> 16717.81 | K22: 2567.02 | L22: =I22-K22 -> 14150.79 | M22: {=MATCH(INDEX('Tableau d''amortissement'!$E$1:$L$1,1,COUNT($D$19:D22)),'Tableau d''amortissement'!$E$1:$H$1,0)} -> 4
A23: 12 | B23: =B22 -> 2021 | C23: =D22+1 -> 44501 | D23: =EOMONTH(C23,0) -> 44530 | E23: =CONCATENATE(_xlfn.XLOOKUP(A23,$A$5:$A$16,$C$5:$C$16)," ",B23) -> Novembre 2021 | F23: =SUMIFS('Tableau d''amortissement'!D:D,'Tableau d''amortissement'!B:B,">"&$C$19,'Tableau d''amortissement'!B:B,"<="&D23) -> 98578 | G23: =SUMIFS(INDIRECT("'Tableau d''amortissement'!"&CHAR(68+ROW()-18)&":"&CHAR(68+ROW()-18)),'Tableau d''amortissement'!B:B,">"&$C$19,'Tableau d''amortissement'!B:B,"<="&D$19) -> 18619.42 | H23: =F23-G23 -> 79958.58 | I23: =H23-H22 -> 19933.9 | K23: 3141.18 | L23: =I23-K23 -> 16792.72 | M23: {=MATCH(INDEX('Tableau d''amortissement'!$E$1:$L$1,1,COUNT($D$19:D23)),'Tableau d''amortissement'!$E$1:$H$1,0)} -> #N/A
A24: 1 | B24: 2022 | C24: =D23+1 -> 44531 | D24: =EOMONTH(C24,0) -> 44561 | E24: =CONCATENATE(_xlfn.XLOOKUP(A24,$A$5:$A$16,$C$5:$C$16)," ",B24) -> Décembre 2022 | F24: =SUMIFS('Tableau d''amortissement'!D:D,'Tableau d''amortissement'!B:B,">"&$C$19,'Tableau d''amortissement'!B:B,"<="&D24) -> 98578 | G24: =SUMIFS(INDIRECT("'Tableau d''amortissement'!"&CHAR(68+ROW()-18)&":"&CHAR(68+ROW()-18)),'Tableau d''amortissement'!B:B,">"&$C$19,'Tableau d''amortissement'!B:B,"<="&D$19) -> 17876.63 | H24: =F24-G24 -> 80701.37 | I24: =H24-H23 -> 742.79 | K24: 0 | L24: =I24-K24 -> 742.79 | M24: {=MATCH(INDEX('Tableau d''amortissement'!$E$1:$L$1,1,COUNT($D$19:D24)),'Tableau d''amortissement'!$E$1:$H$1,0)} -> #N/A
A25: =1+A24 -> 2 | B25: =B24 -> 2022 | C25: =D24+1 -> 44562 | D25: =EOMONTH(C25,0) -> 44592 | E25: =CONCATENATE(_xlfn.XLOOKUP(A25,$A$5:$A$16,$C$5:$C$16)," ",B25) -> Janvier 2022 | F25: =SUMIFS('Tableau d''amortissement'!D:D,'Tableau d''amortissement'!B:B,">"&$C$19,'Tableau d''amortissement'!B:B,"<="&D25) -> 98578 | K25: 0 | L25: =I25-K25 -> 0 | M25: {=MATCH(INDEX('Tableau d''amortissement'!$E$1:$L$1,1,COUNT($D$19:D25)),'Tableau d''amortissement'!$E$1:$H$1,0)} -> #N/A
A26: =1+A25 -> 3 | B26: =B25 -> 2022 | C26: =D25+1 -> 44593 | D26: =EOMONTH(C26,0) -> 44620 | E26: =CONCATENATE(_xlfn.XLOOKUP(A26,$A$5:$A$16,$C$5:$C$16)," ",B26) -> Février 2022 | F26: =SUMIFS('Tableau d''amortissement'!D:D,'Tableau d''amortissement'!B:B,">"&$C$19,'Tableau d''amortissement'!B:B,"<="&D26) -> 98578 | K26: 0 | L26: =I26-K26 -> 0 | M26: {=MATCH(INDEX('Tableau d''amortissement'!$E$1:$L$1,1,COUNT($D$19:D26)),'Tableau d''amortissement'!$E$1:$H$1,0)} -> #N/A
A27: =1+A26 -> 4 | B27: =B26 -> 2022 | C27: =D26+1 -> 44621 | D27: =EOMONTH(C27,0) -> 44651 | E27: =CONCATENATE(_xlfn.XLOOKUP(A27,$A$5:$A$16,$C$5:$C$16)," ",B27) -> Mars 2022 | F27: =SUMIFS('Tableau d''amortissement'!D:D,'Tableau d''amortissement'!B:B,">"&$C$19,'Tableau d''amortissement'!B:B,"<="&D27) -> 98578 | K27: 0 | L27: =I27-K27 -> 0 | M27: {=MATCH(INDEX('Tableau d''amortissement'!$E$1:$L$1,1,COUNT($D$19:D27)),'Tableau d''amortissement'!$E$1:$H$1,0)} -> #REF!
A28: =1+A27 -> 5 | B28: =B27 -> 2022 | C28: =D27+1 -> 44652 | D28: =EOMONTH(C28,0) -> 44681 | E28: =CONCATENATE(_xlfn.XLOOKUP(A28,$A$5:$A$16,$C$5:$C$16)," ",B28) -> Avril 2022 | F28: =SUMIFS('Tableau d''amortissement'!D:D,'Tableau d''amortissement'!B:B,">"&$C$19,'Tableau d''amortissement'!B:B,"<="&D28) -> 98578 | K28: 0 | L28: =I28-K28 -> 0 | M28: {=MATCH(INDEX('Tableau d''amortissement'!$E$1:$L$1,1,COUNT($D$19:D28)),'Tableau d''amortissement'!$E$1:$H$1,0)} -> #REF!
A29: =1+A28 -> 6 | B29: =B28 -> 2022 | C29: =D28+1 -> 44682 | D29: =EOMONTH(C29,0) -> 44712 | E29: =CONCATENATE(_xlfn.XLOOKUP(A29,$A$5:$A$16,$C$5:$C$16)," ",B29) -> Mai 2022 | F29: =SUMIFS('Tableau d''amortissement'!D:D,'Tableau d''amortissement'!B:B,">"&$C$19,'Tableau d''amortissement'!B:B,"<="&D29) -> 98578 | K29: 0 | L29: =I29-K29 -> 0 | M29: {=MATCH(INDEX('Tableau d''amortissement'!$E$1:$L$1,1,COUNT($D$19:D29)),'Tableau d''amortissement'!$E$1:$H$1,0)} -> #REF!
A30: =1+A29 -> 7 | B30: =B29 -> 2022 | C30: =D29+1 -> 44713 | D30: =EOMONTH(C30,0) -> 44742 | E30: =CONCATENATE(_xlfn.XLOOKUP(A30,$A$5:$A$16,$C$5:$C$16)," ",B30) -> Juin 2022 | F30: =SUMIFS('Tableau d''amortissement'!D:D,'Tableau d''amortissement'!B:B,">"&$C$19,'Tableau d''amortissement'!B:B,"<="&D30) -> 98578 | K30: 0 | L30: =I30-K30 -> 0 | M30: {=MATCH(INDEX('Tableau d''amortissement'!$E$1:$L$1,1,COUNT($D$19:D30)),'Tableau d''amortissement'!$E$1:$H$1,0)} -> #REF!
A31: =1+A30 -> 8 | B31: =B30 -> 2022 | C31: =D30+1 -> 44743 | D31: =EOMONTH(C31,0) -> 44773 | E31: =CONCATENATE(_xlfn.XLOOKUP(A31,$A$5:$A$16,$C$5:$C$16)," ",B31) -> Juillet 2022 | F31: =SUMIFS('Tableau d''amortissement'!D:D,'Tableau d''amortissement'!B:B,">"&$C$19,'Tableau d''amortissement'!B:B,"<="&D31) -> 98578 | K31: 0 | L31: =I31-K31 -> 0 | M31: {=MATCH(INDEX('Tableau d''amortissement'!$E$1:$L$1,1,COUNT($D$19:D31)),'Tableau d''amortissement'!$E$1:$H$1,0)} -> #REF!
A32: =1+A31 -> 9 | B32: =B31 -> 2022 | C32: =D31+1 -> 44774 | D32: =EOMONTH(C32,0) -> 44804 | E32: =CONCATENATE(_xlfn.XLOOKUP(A32,$A$5:$A$16,$C$5:$C$16)," ",B32) -> Août 2022 | F32: =SUMIFS('Tableau d''amortissement'!D:D,'Tableau d''amortissement'!B:B,">"&$C$19,'Tableau d''amortissement'!B:B,"<="&D32) -> 98578 | K32: 0 | L32: =I32-K32 -> 0 | M32: {=MATCH(INDEX('Tableau d''amortissement'!$E$1:$L$1,1,COUNT($D$19:D32)),'Tableau d''amortissement'!$E$1:$H$1,0)} -> #REF!
A33: =1+A32 -> 10 | B33: =B32 -> 2022 | C33: =D32+1 -> 44805 | D33: =EOMONTH(C33,0) -> 44834 | E33: =CONCATENATE(_xlfn.XLOOKUP(A33,$A$5:$A$16,$C$5:$C$16)," ",B33) -> Septembre 2022 | F33: =SUMIFS('Tableau d''amortissement'!D:D,'Tableau d''amortissement'!B:B,">"&$C$19,'Tableau d''amortissement'!B:B,"<="&D33) -> 98578 | K33: 0 | L33: =I33-K33 -> 0 | M33: {=MATCH(INDEX('Tableau d''amortissement'!$E$1:$L$1,1,COUNT($D$19:D33)),'Tableau d''amortissement'!$E$1:$H$1,0)} -> #REF!
A34: =1+A33 -> 11 | B34: =B33 -> 2022 | C34: =D33+1 -> 44835 | D34: =EOMONTH(C34,0) -> 44865 | E34: =CONCATENATE(_xlfn.XLOOKUP(A34,$A$5:$A$16,$C$5:$C$16)," ",B34) -> Octobre 2022 | F34: =SUMIFS('Tableau d''amortissement'!D:D,'Tableau d''amortissement'!B:B,">"&$C$19,'Tableau d''amortissement'!B:B,"<="&D34) -> 98578 | K34: 0 | L34: =I34-K34 -> 0 | M34: {=MATCH(INDEX('Tableau d''amortissement'!$E$1:$L$1,1,COUNT($D$19:D34)),'Tableau d''amortissement'!$E$1:$H$1,0)} -> #REF!
A35: =1+A34 -> 12 | B35: =B34 -> 2022 | C35: =D34+1 -> 44866 | D35: =EOMONTH(C35,0) -> 44895 | E35: =CONCATENATE(_xlfn.XLOOKUP(A35,$A$5:$A$16,$C$5:$C$16)," ",B35) -> Novembre 2022 | F35: =SUMIFS('Tableau d''amortissement'!D:D,'Tableau d''amortissement'!B:B,">"&$C$19,'Tableau d''amortissement'!B:B,"<="&D35) -> 98578 | K35: 0 | L35: =I35-K35 -> 0 | M35: {=MATCH(INDEX('Tableau d''amortissement'!$E$1:$L$1,1,COUNT($D$19:D35)),'Tableau d''amortissement'!$E$1:$H$1,0)} -> #REF!

Sheet Raw Vente
A1: Facture | B1: LineNum | C1: Lookup | D1: Description
A2: v11350787 | B2: 1 | C2: =A2&"--"&B2 -> v11350787--1 | D2: GARANTIE OR 36 MOIS 60000 KILO
A3: v11350787 | B3: 2 | C3: =A3&"--"&B3 -> v11350787--2 | D3: bienvenu viku lukombo
A4: v11350787 | B4: 3 | C4: =A4&"--"&B4 -> v11350787--3 | D4: chevrolet
A5: v11350787 | B5: 4 | C5: =A5&"--"&B5 -> v11350787--4 | D5: equinox
A6: v11350787 | B6: 5 | C6: =A6&"--"&B6 -> v11350787--5 | D6: 2015
A7: v11350787 | B7: 6 | C7: =A7&"--"&B7 -> v11350787--6 | D7: 133432
A8: v11350787 | B8: 7 | C8: =A8&"--"&B8 -> v11350787--7 | D8: 1GNALBEK1FZ138787
A9: OT16100139 | B9: 1 | C9: =A9&"--"&B9 -> OT16100139--1 | D9: GARANTIE OR 24 MOIS 48000 KILO
A10: OT16100139 | B10: 2 | C10: =A10&"--"&B10 -> OT16100139--2 | D10: CRISTINA JARDINES RODRIGUEZ
A11: OT16100139 | B11: 3 | C11: =A11&"--"&B11 -> OT16100139--3 | D11: AUDI
A12: OT16100139 | B12: 4 | C12: =A12&"--"&B12 -> OT16100139--4 | D12: A4
A13: OT16100139 | B13: 5 | C13: =A13&"--"&B13 -> OT16100139--5 | D13: 2015
A14: OT16100139 | B14: 6 | C14: =A14&"--"&B14 -> OT16100139--6 | D14: 83357
A15: OT16100139 | B15: 7 | C15: =A15&"--"&B15 -> OT16100139--7 | D15: WAUBFCFL6FN005139
A16: v6950905 | B16: 1 | C16: =A16&"--"&B16 -> v6950905--1 | D16: GARANTIE OR 24 MOIS 48000 KILO
A17: v6950905 | B17: 2 | C17: =A17&"--"&B17 -> v6950905--2 | D17: KENOL LEVEILLE
A18: v6950905 | B18: 3 | C18: =A18&"--"&B18 -> v6950905--3 | D18: FORD
A19: v6950905 | B19: 4 | C19: =A19&"--"&B19 -> v6950905--4 | D19: FIESTA
A20: v6950905 | B20: 5 | C20: =A20&"--"&B20 -> v6950905--5 | D20: 2014
A21: v6950905 | B21: 6 | C21: =A21&"--"&B21 -> v6950905--6 | D21: 101717
A22: v6950905 | B22: 7 | C22: =A22&"--"&B22 -> v6950905--7 | D22: 1FADP3F28EL351905
A23: v13800508 | B23: 1 | C23: =A23&"--"&B23 -> v13800508--1 | D23: GARANTIE OR 36 MOIS 60000 KILO
A24: v13800508 | B24: 2 | C24: =A24&"--"&B24 -> v13800508--2 | D24: suraya mukoko mbelami
A25: v13800508 | B25: 3 | C25: =A25&"--"&B25 -> v13800508--3 | D25: HYUNDAI
A26: v13800508 | B26: 4 | C26: =A26&"--"&B26 -> v13800508--4 | D26: SANTA FE
A27: v13800508 | B27: 5 | C27: =A27&"--"&B27 -> v13800508--5 | D27: 2015
A28: v13800508 | B28: 6 | C28: =A28&"--"&B28 -> v13800508--6 | D28: 90228
A29: v13800508 | B29: 7 | C29: =A29&"--"&B29 -> v13800508--7 | D29: 5XYZU3LB2FG245508
A30: V7200988 | B30: 1 | C30: =A30&"--"&B30 -> V7200988--1 | D30: GARANTIE OR 24 MOIS 48000 KILO
A31: V7200988 | B31: 2 | C31: =A31&"--"&B31 -> V7200988--2 | D31: JOANIE GAMELIN
A32: V7200988 | B32: 3 | C32: =A32&"--"&B32 -> V7200988--3 | D32: NISSAN
A33: V7200988 | B33: 4 | C33: =A33&"--"&B33 -> V7200988--4 | D33: SENTRA
A34: V7200988 | B34: 5 | C34: =A34&"--"&B34 -> V7200988--5 | D34: 2015
A35: V7200988 | B35: 6 | C35: =A35&"--"&B35 -> V7200988--6 | D35: 118086
A36: V7200988 | B36: 7 | C36: =A36&"--"&B36 -> V7200988--7 | D36: 3N1AB7AP6FL640988
A37: OT12500933 | B37: 1 | C37: =A37&"--"&B37 -> OT12500933--1 | D37: GARANTIE OR 24 MOIS 48000 KILO
A38: OT12500933 | B38: 2 | C38: =A38&"--"&B38 -> OT12500933--2 | D38: ERIN OHARA
A39: OT12500933 | B39: 3 | C39: =A39&"--"&B39 -> OT12500933--3 | D39: KIA
A40: OT12500933 | B40: 4 | C40: =A40&"--"&B40 -> OT12500933--4 | D40: SORENTO LX
...

Sheet Raw Fournisseur
A1: Facture | B1: LineNum | C1: Lookup | D1: Amount
A2: 2102021 | B2: 1 | C2: =A2&"--"&B2 -> 2102021--1 | D2: 5000
A3: 70632 | B3: 1 | C3: =A3&"--"&B3 -> 70632--1 | D3: 6031
A4: 70632 | B4: 2 | C4: =A4&"--"&B4 -> 70632--2 | D4: -500
A5: 70632 | B5: 3 | C5: =A5&"--"&B5 -> 70632--3 | D5: 4.05
A6: 70632 | B6: 4 | C6: =A6&"--"&B6 -> 70632--4 | D6: -5748.75
A7: 70632 | B7: 5 | C7: =A7&"--"&B7 -> 70632--5 | D7: 211
