Workbook
Name _1Excel_BuiltIn_Print_Area_1_1: #REF!
Name Banderole: #REF!
Name Banderole: #REF!
Name Blistercard: #REF!
Name Blistercard: #REF!
Name DATA10: '[1]Hierarchie Stand 12.06.14'!#REF!
Name DATA10: '[1]Hierarchie Stand 12.06.14'!#REF!
Name DATA11: '[1]Hierarchie Stand 12.06.14'!#REF!
Name DATA11: '[1]Hierarchie Stand 12.06.14'!#REF!
Name DATA12: '[1]Hierarchie Stand 12.06.14'!#REF!
Name DATA12: '[1]Hierarchie Stand 12.06.14'!#REF!
Name DATA13: '[1]Hierarchie Stand 12.06.14'!#REF!
Name DATA13: '[1]Hierarchie Stand 12.06.14'!#REF!
Name DATA14: '[1]Hierarchie Stand 12.06.14'!#REF!
Name DATA14: '[1]Hierarchie Stand 12.06.14'!#REF!
Name DATA15: '[1]Hierarchie Stand 12.06.14'!#REF!
Name DATA15: '[1]Hierarchie Stand 12.06.14'!#REF!
Name DATA16: '[1]Hierarchie Stand 12.06.14'!#REF!
Name DATA16: '[1]Hierarchie Stand 12.06.14'!#REF!
Name DATA17: '[1]Hierarchie Stand 12.06.14'!#REF!
Name DATA17: '[1]Hierarchie Stand 12.06.14'!#REF!
Name DATA18: '[1]Hierarchie Stand 12.06.14'!#REF!
Name DATA18: '[1]Hierarchie Stand 12.06.14'!#REF!
Name DATA19: '[1]Hierarchie Stand 12.06.14'!#REF!
Name DATA19: '[1]Hierarchie Stand 12.06.14'!#REF!
Name DATA20: '[1]Hierarchie Stand 12.06.14'!#REF!
Name DATA20: '[1]Hierarchie Stand 12.06.14'!#REF!
Name DATA21: '[1]Hierarchie Stand 12.06.14'!#REF!
Name DATA21: '[1]Hierarchie Stand 12.06.14'!#REF!
Name DATA22: '[1]Hierarchie Stand 12.06.14'!#REF!
Name DATA22: '[1]Hierarchie Stand 12.06.14'!#REF!
Name DATA23: '[1]Hierarchie Stand 12.06.14'!#REF!
Name DATA23: '[1]Hierarchie Stand 12.06.14'!#REF!
Name DATA24: '[1]Hierarchie Stand 12.06.14'!#REF!
Name DATA24: '[1]Hierarchie Stand 12.06.14'!#REF!
Name DATA25: '[1]Hierarchie Stand 12.06.14'!#REF!
Name DATA25: '[1]Hierarchie Stand 12.06.14'!#REF!
Name DATA26: '[1]Hierarchie Stand 12.06.14'!#REF!
Name DATA26: '[1]Hierarchie Stand 12.06.14'!#REF!
Name DATA27: '[1]Hierarchie Stand 12.06.14'!#REF!
Name DATA27: '[1]Hierarchie Stand 12.06.14'!#REF!
Name DATA28: '[1]Hierarchie Stand 12.06.14'!#REF!
Name DATA28: '[1]Hierarchie Stand 12.06.14'!#REF!
Name DATA29: '[1]Hierarchie Stand 12.06.14'!#REF!
Name DATA29: '[1]Hierarchie Stand 12.06.14'!#REF!
Name DATA30: '[1]Hierarchie Stand 12.06.14'!#REF!
Name DATA30: '[1]Hierarchie Stand 12.06.14'!#REF!
Name DATA31: '[1]Hierarchie Stand 12.06.14'!#REF!
Name DATA31: '[1]Hierarchie Stand 12.06.14'!#REF!
Name DATA32: '[1]Hierarchie Stand 12.06.14'!#REF!
Name DATA32: '[1]Hierarchie Stand 12.06.14'!#REF!
Name DATA33: '[1]Hierarchie Stand 12.06.14'!#REF!
Name DATA33: '[1]Hierarchie Stand 12.06.14'!#REF!
Name DATA34: '[1]Hierarchie Stand 12.06.14'!#REF!
Name DATA34: '[1]Hierarchie Stand 12.06.14'!#REF!
Name DATA35: '[1]Hierarchie Stand 12.06.14'!#REF!
Name DATA35: '[1]Hierarchie Stand 12.06.14'!#REF!
Name DATA36: '[1]Hierarchie Stand 12.06.14'!#REF!
Name DATA36: '[1]Hierarchie Stand 12.06.14'!#REF!
Name DATA37: '[1]Hierarchie Stand 12.06.14'!#REF!

Sheet Comptage client
A1: Code Barres | B1: Qty | C1: non autorisé | E1: Total Qty | F1: =SUM(B:B) -> 46
A2: 3527071500095 | B2: 10
A3: 3279661540218 | B3: 5
A4: 3527079047738 | B4: 1
A5: 3527079069808 | B5: 1
A6: 3527079035148 | B6: 1
A7: 3527071560716 | B7: 1
A8: 3527079053005 | B8: 2
A9: 3527079053050 | B9: 10
A10: 3527079053050 | B10: 10
A11: 82686124676 | B11: 5 | C11: x

Sheet RETOURS
F5: QTY | J5: COMMENTAIRES
A6: Référence | B6: Désignation | D6: Code Barres | E6: Prix tarif HT
A7: 1 | B7: ARTICLE 1 | D7: 3527071500095 | E7: 0.83 | F7: {=IF(SUMPRODUCT(('Comptage client'!$A$2:$A$11=RETOURS!$D7)*('Comptage client'!$B$2:$B$11))=0,"X",SUMPRODUCT(('Comptage client'!$A$2:$A$11=RETOURS!$D7)*('Comptage client'!$B$2:$B$11)))} -> 10 | G7: =IF(SUMIF('Comptage client'!$A$2:$A$10,RETOURS!$D7,'Comptage client'!$B$2:$B$11)=0,"X",SUMIF('Comptage client'!$A$2:$A$10,RETOURS!$D7,'Comptage client'!$B$2:$B$11)) -> 10
A8: 2 | B8: ARTICLE 2 | D8: 3279661540218 | E8: 2.08 | F8: {=IF(SUMPRODUCT(('Comptage client'!$A$2:$A$11=RETOURS!$D8)*('Comptage client'!$B$2:$B$11))=0,"X",SUMPRODUCT(('Comptage client'!$A$2:$A$11=RETOURS!$D8)*('Comptage client'!$B$2:$B$11)))} -> 5 | G8: =IF(SUMIF('Comptage client'!$A$2:$A$10,RETOURS!$D8,'Comptage client'!$B$2:$B$11)=0,"X",SUMIF('Comptage client'!$A$2:$A$10,RETOURS!$D8,'Comptage client'!$B$2:$B$11)) -> 5
A9: 3 | B9: ARTICLE 3 | D9: 3527079047738 | E9: 0.83 | F9: {=IF(SUMPRODUCT(('Comptage client'!$A$2:$A$11=RETOURS!$D9)*('Comptage client'!$B$2:$B$11))=0,"X",SUMPRODUCT(('Comptage client'!$A$2:$A$11=RETOURS!$D9)*('Comptage client'!$B$2:$B$11)))} -> 1 | G9: =IF(SUMIF('Comptage client'!$A$2:$A$10,RETOURS!$D9,'Comptage client'!$B$2:$B$11)=0,"X",SUMIF('Comptage client'!$A$2:$A$10,RETOURS!$D9,'Comptage client'!$B$2:$B$11)) -> 1
A10: 4 | B10: ARTICLE 4 | D10: 3527079069808 | E10: 18.33 | F10: {=IF(SUMPRODUCT(('Comptage client'!$A$2:$A$11=RETOURS!$D10)*('Comptage client'!$B$2:$B$11))=0,"X",SUMPRODUCT(('Comptage client'!$A$2:$A$11=RETOURS!$D10)*('Comptage client'!$B$2:$B$11)))} -> 1 | G10: =IF(SUMIF('Comptage client'!$A$2:$A$10,RETOURS!$D10,'Comptage client'!$B$2:$B$11)=0,"X",SUMIF('Comptage client'!$A$2:$A$10,RETOURS!$D10,'Comptage client'!$B$2:$B$11)) -> 1
A11: 5 | B11: ARTICLE 5 | D11: 3527079035148 | E11: 1.66 | F11: {=IF(SUMPRODUCT(('Comptage client'!$A$2:$A$11=RETOURS!$D11)*('Comptage client'!$B$2:$B$11))=0,"X",SUMPRODUCT(('Comptage client'!$A$2:$A$11=RETOURS!$D11)*('Comptage client'!$B$2:$B$11)))} -> 1 | G11: =IF(SUMIF('Comptage client'!$A$2:$A$10,RETOURS!$D11,'Comptage client'!$B$2:$B$11)=0,"X",SUMIF('Comptage client'!$A$2:$A$10,RETOURS!$D11,'Comptage client'!$B$2:$B$11)) -> 1
A12: 6 | B12: ARTICLE 6 | D12: 3527071560716 | E12: 0.58 | F12: {=IF(SUMPRODUCT(('Comptage client'!$A$2:$A$11=RETOURS!$D12)*('Comptage client'!$B$2:$B$11))=0,"X",SUMPRODUCT(('Comptage client'!$A$2:$A$11=RETOURS!$D12)*('Comptage client'!$B$2:$B$11)))} -> 1 | G12: =IF(SUMIF('Comptage client'!$A$2:$A$10,RETOURS!$D12,'Comptage client'!$B$2:$B$11)=0,"X",SUMIF('Comptage client'!$A$2:$A$10,RETOURS!$D12,'Comptage client'!$B$2:$B$11)) -> 1
A13: 7 | B13: ARTICLE 7 | D13: 3527079053005 | E13: 4.99 | F13: {=IF(SUMPRODUCT(('Comptage client'!$A$2:$A$11=RETOURS!$D13)*('Comptage client'!$B$2:$B$11))=0,"X",SUMPRODUCT(('Comptage client'!$A$2:$A$11=RETOURS!$D13)*('Comptage client'!$B$2:$B$11)))} -> 2 | G13: =IF(SUMIF('Comptage client'!$A$2:$A$10,RETOURS!$D13,'Comptage client'!$B$2:$B$11)=0,"X",SUMIF('Comptage client'!$A$2:$A$10,RETOURS!$D13,'Comptage client'!$B$2:$B$11)) -> 2
A14: 8 | B14: ARTICLE 8 | D14: 3527079053050 | E14: 2.91 | F14: {=IF(SUMPRODUCT(('Comptage client'!$A$2:$A$11=RETOURS!$D14)*('Comptage client'!$B$2:$B$11))=0,"X",SUMPRODUCT(('Comptage client'!$A$2:$A$11=RETOURS!$D14)*('Comptage client'!$B$2:$B$11)))} -> 20 | G14: =IF(SUMIF('Comptage client'!$A$2:$A$10,RETOURS!$D14,'Comptage client'!$B$2:$B$11)=0,"X",SUMIF('Comptage client'!$A$2:$A$10,RETOURS!$D14,'Comptage client'!$B$2:$B$11)) -> 20
A15: 9 | B15: ARTICLE 9 | D15: 3527079053067 | E15: 2.91 | F15: {=IF(SUMPRODUCT(('Comptage client'!$A$2:$A$11=RETOURS!$D15)*('Comptage client'!$B$2:$B$11))=0,"X",SUMPRODUCT(('Comptage client'!$A$2:$A$11=RETOURS!$D15)*('Comptage client'!$B$2:$B$11)))} -> X | G15: =IF(SUMIF('Comptage client'!$A$2:$A$10,RETOURS!$D15,'Comptage client'!$B$2:$B$11)=0,"X",SUMIF('Comptage client'!$A$2:$A$10,RETOURS!$D15,'Comptage client'!$B$2:$B$11)) -> X
A16: 10 | B16: ARTICLE 10 | D16: 3527079053159 | E16: 4.99 | F16: {=IF(SUMPRODUCT(('Comptage client'!$A$2:$A$11=RETOURS!$D16)*('Comptage client'!$B$2:$B$11))=0,"X",SUMPRODUCT(('Comptage client'!$A$2:$A$11=RETOURS!$D16)*('Comptage client'!$B$2:$B$11)))} -> X | G16: =IF(SUMIF('Comptage client'!$A$2:$A$10,RETOURS!$D16,'Comptage client'!$B$2:$B$11)=0,"X",SUMIF('Comptage client'!$A$2:$A$10,RETOURS!$D16,'Comptage client'!$B$2:$B$11)) -> X
A17: 11 | B17: ARTICLE 11 | D17: 3527079053166 | E17: 4.99 | F17: {=IF(SUMPRODUCT(('Comptage client'!$A$2:$A$11=RETOURS!$D17)*('Comptage client'!$B$2:$B$11))=0,"X",SUMPRODUCT(('Comptage client'!$A$2:$A$11=RETOURS!$D17)*('Comptage client'!$B$2:$B$11)))} -> X | G17: =IF(SUMIF('Comptage client'!$A$2:$A$10,RETOURS!$D17,'Comptage client'!$B$2:$B$11)=0,"X",SUMIF('Comptage client'!$A$2:$A$10,RETOURS!$D17,'Comptage client'!$B$2:$B$11)) -> X
A18: 12 | B18: ARTICLE 12 | D18: 3527079057447 | E18: 1.66 | F18: {=IF(SUMPRODUCT(('Comptage client'!$A$2:$A$11=RETOURS!$D18)*('Comptage client'!$B$2:$B$11))=0,"X",SUMPRODUCT(('Comptage client'!$A$2:$A$11=RETOURS!$D18)*('Comptage client'!$B$2:$B$11)))} -> X | G18: =IF(SUMIF('Comptage client'!$A$2:$A$10,RETOURS!$D18,'Comptage client'!$B$2:$B$11)=0,"X",SUMIF('Comptage client'!$A$2:$A$10,RETOURS!$D18,'Comptage client'!$B$2:$B$11)) -> X
... A285: 279 | B285: ARTICLE 279 | D285: 3527079076615 | E285: 8.33 | F285: {=IF(SUMPRODUCT(('Comptage client'!$A$2:$A$11=RETOURS!$D285)*('Comptage client'!$B$2:$B$11))=0,"X",SUMPRODUCT(('Comptage client'!$A$2:$A$11=RETOURS!$D285)*('Comptage client'!$B$2:$B$11)))} -> X | G285: =IF(SUMIF('Comptage client'!$A$2:$A$10,RETOURS!$D285,'Comptage client'!$B$2:$B$11)=0,"X",SUMIF('Comptage client'!$A$2:$A$10,RETOURS!$D285,'Comptage client'!$B$2:$B$11)) -> X
A286: TOTAL | F286: =SUM(F7:F285) -> 41
