Workbook

Sheet Liste des auteurs-challenge
A1: Participants | C1: 1 | H1: etats
A2: =C1 -> 1 | B2: auteur 1 | C2: pete fromm | E2: {=SUMPRODUCT(('états - auteurs'!$A$2:$D$3='Liste des auteurs-challenge'!C2)*(COLUMN('états - auteurs'!$A:$D)))} -> 0 | G2: {=IF(SUMPRODUCT(('états - auteurs'!$A$2:$D$3='Liste des auteurs-challenge'!C2)*(COLUMN('états - auteurs'!A:D)))=0,"",INDEX('états - auteurs'!$A$1:$D$1,SUMPRODUCT(('états - auteurs'!$A$2:$D$3='Liste des auteurs-challenge'!C2)*(COLUMN('états - auteurs'!A:D)))))} | H2: Montana | I2: =IF(COUNTIF(OFFSET($G$1,MATCH($A2,$C:$C,0),0,COUNTIF($A:$A,$A2),1),'Liste des auteurs-challenge'!$H2)>0,"OK","") | L2: on copie/colle le tableau de participant 1
A3: =C1 -> 1 | B3: auteur 2 | C3: david vann | E3: {=SUMPRODUCT(('états - auteurs'!$A$2:$D$3='Liste des auteurs-challenge'!C3)*(COLUMN('états - auteurs'!$A:$D)))} -> 4 | G3: {=IF(SUMPRODUCT(('états - auteurs'!$A$2:$D$3='Liste des auteurs-challenge'!C3)*(COLUMN('états - auteurs'!A:D)))=0,"",INDEX('états - auteurs'!$A$1:$D$1,SUMPRODUCT(('états - auteurs'!$A$2:$D$3='Liste des auteurs-challenge'!C3)*(COLUMN('états - auteurs'!A:D)))))} -> alaska | H3: idaho | I3: =IF(COUNTIF(OFFSET($G$1,MATCH($A3,$C:$C,0),0,COUNTIF($A:$A,$A3),1),'Liste des auteurs-challenge'!$H3)>0,"OK","") | L3: On change le N° 1==>2
A4: =C1 -> 1 | B4: auteur 3 | C4: chris offut | E4: {=SUMPRODUCT(('états - auteurs'!$A$2:$D$3='Liste des auteurs-challenge'!C4)*(COLUMN('états - auteurs'!$A:$D)))} -> 0 | G4: {=IF(SUMPRODUCT(('états - auteurs'!$A$2:$D$3='Liste des auteurs-challenge'!C4)*(COLUMN('états - auteurs'!A:D)))=0,"",INDEX('états - auteurs'!$A$1:$D$1,SUMPRODUCT(('états - auteurs'!$A$2:$D$3='Liste des auteurs-challenge'!C4)*(COLUMN('états - auteurs'!A:D)))))} | H4: alaska | I4: =IF(COUNTIF(OFFSET($G$1,MATCH($A4,$C:$C,0),0,COUNTIF($A:$A,$A4),1),'Liste des auteurs-challenge'!$H4)>0,"OK","") -> OK | L4: On met a jours les auteurs lus
A5: =C1 -> 1 | B5: auteur 4 | C5: trevanian | E5: {=SUMPRODUCT(('états - auteurs'!$A$2:$D$3='Liste des auteurs-challenge'!C5)*(COLUMN('états - auteurs'!$A:$D)))} -> 3 | G5: {=IF(SUMPRODUCT(('états - auteurs'!$A$2:$D$3='Liste des auteurs-challenge'!C5)*(COLUMN('états - auteurs'!A:D)))=0,"",INDEX('états - auteurs'!$A$1:$D$1,SUMPRODUCT(('états - auteurs'!$A$2:$D$3='Liste des auteurs-challenge'!C5)*(COLUMN('états - auteurs'!A:D)))))} -> Californie | H5: californie | I5: =IF(COUNTIF(OFFSET($G$1,MATCH($A5,$C:$C,0),0,COUNTIF($A:$A,$A5),1),'Liste des auteurs-challenge'!$H5)>0,"OK","") -> OK
A6: =C1 -> 1 | B6: auteur 5 | C6: toto | E6: {=SUMPRODUCT(('états - auteurs'!$A$2:$D$3='Liste des auteurs-challenge'!C6)*(COLUMN('états - auteurs'!$A:$D)))} -> 4 | G6: {=IF(SUMPRODUCT(('états - auteurs'!$A$2:$D$3='Liste des auteurs-challenge'!C6)*(COLUMN('états - auteurs'!A:D)))=0,"",INDEX('états - auteurs'!$A$1:$D$1,SUMPRODUCT(('états - auteurs'!$A$2:$D$3='Liste des auteurs-challenge'!C6)*(COLUMN('états - auteurs'!A:D)))))} -> alaska
A10: Participants | C10: 2 | H10: etats
A11: =C10 -> 2 | B11: auteur 1 | C11: emily ruskovich | E11: {=SUMPRODUCT(('états - auteurs'!$A$2:$D$3='Liste des auteurs-challenge'!C11)*(COLUMN('états - auteurs'!$A:$D)))} -> 2 | G11: {=IF(SUMPRODUCT(('états - auteurs'!$A$2:$D$3='Liste des auteurs-challenge'!C11)*(COLUMN('états - auteurs'!A:D)))=0,"",INDEX('états - auteurs'!$A$1:$D$1,SUMPRODUCT(('états - auteurs'!$A$2:$D$3='Liste des auteurs-challenge'!C11)*(COLUMN('états - auteurs'!A:D)))))} -> Idaho | H11: Montana | I11: =IF(COUNTIF(OFFSET($G$1,MATCH($A11,$C:$C,0),0,COUNTIF($A:$A,$A11),1),'Liste des auteurs-challenge'!$H11)>0,"OK","")
A12: =C10 -> 2 | B12: auteur 2 | C12: david vann | E12: {=SUMPRODUCT(('états - auteurs'!$A$2:$D$3='Liste des auteurs-challenge'!C12)*(COLUMN('états - auteurs'!$A:$D)))} -> 4 | G12: {=IF(SUMPRODUCT(('états - auteurs'!$A$2:$D$3='Liste des auteurs-challenge'!C12)*(COLUMN('états - auteurs'!A:D)))=0,"",INDEX('états - auteurs'!$A$1:$D$1,SUMPRODUCT(('états - auteurs'!$A$2:$D$3='Liste des auteurs-challenge'!C12)*(COLUMN('états - auteurs'!A:D)))))} -> alaska | H12: idaho | I12: =IF(COUNTIF(OFFSET($G$1,MATCH($A12,$C:$C,0),0,COUNTIF($A:$A,$A12),1),'Liste des auteurs-challenge'!$H12)>0,"OK","") -> OK
A13: =C10 -> 2 | B13: auteur 3 | C13: chris offut | E13: {=SUMPRODUCT(('états - auteurs'!$A$2:$D$3='Liste des auteurs-challenge'!C13)*(COLUMN('états - auteurs'!$A:$D)))} -> 0 | G13: {=IF(SUMPRODUCT(('états - auteurs'!$A$2:$D$3='Liste des auteurs-challenge'!C13)*(COLUMN('états - auteurs'!A:D)))=0,"",INDEX('états - auteurs'!$A$1:$D$1,SUMPRODUCT(('états - auteurs'!$A$2:$D$3='Liste des auteurs-challenge'!C13)*(COLUMN('états - auteurs'!A:D)))))} | H13: alaska | I13: =IF(COUNTIF(OFFSET($G$1,MATCH($A13,$C:$C,0),0,COUNTIF($A:$A,$A13),1),'Liste des auteurs-challenge'!$H13)>0,"OK","") -> OK
A14: =C10 -> 2 | B14: auteur 4 | C14: trevanian | E14: {=SUMPRODUCT(('états - auteurs'!$A$2:$D$3='Liste des auteurs-challenge'!C14)*(COLUMN('états - auteurs'!$A:$D)))} -> 3 | G14: {=IF(SUMPRODUCT(('états - auteurs'!$A$2:$D$3='Liste des auteurs-challenge'!C14)*(COLUMN('états - auteurs'!A:D)))=0,"",INDEX('états - auteurs'!$A$1:$D$1,SUMPRODUCT(('états - auteurs'!$A$2:$D$3='Liste des auteurs-challenge'!C14)*(COLUMN('états - auteurs'!A:D)))))} -> Californie | H14: californie | I14: =IF(COUNTIF(OFFSET($G$1,MATCH($A14,$C:$C,0),0,COUNTIF($A:$A,$A14),1),'Liste des auteurs-challenge'!$H14)>0,"OK","") -> OK
A15: =C10 -> 2 | B15: auteur 5 | C15: toto | E15: {=SUMPRODUCT(('états - auteurs'!$A$2:$D$3='Liste des auteurs-challenge'!C15)*(COLUMN('états - auteurs'!$A:$D)))} -> 4 | G15: {=IF(SUMPRODUCT(('états - auteurs'!$A$2:$D$3='Liste des auteurs-challenge'!C15)*(COLUMN('états - auteurs'!A:D)))=0,"",INDEX('états - auteurs'!$A$1:$D$1,SUMPRODUCT(('états - auteurs'!$A$2:$D$3='Liste des auteurs-challenge'!C15)*(COLUMN('états - auteurs'!A:D)))))} -> alaska

Sheet états - auteurs
A1: Montana | B1: Idaho | C1: Californie | D1: alaska
A2: chris offutt | B2: emily ruskovich | C2: trevanian | D2: david vann
A3: larry brown | D3: toto
