Workbook
Name date_recrut: #REF!
Name liste_poste: 'Avancement Categorie.old'!#REF!
Name liste_salarie: 'Avancement Categorie.old'!#REF!
Name Mat: Categorie!$A$2

Sheet Categorie
A1: Matricule | B1: Nom | C1: Date Recrut | D1: Poste 1 | E1: Categorie Poste | F1: Categorie | G1: Echelon | H1: Grade | L1: Echelon Exceptionnel | M1: 43466 | N1: Date Sanction | O1: 43855
A2: Mat 2 | B2: =VLOOKUP(Mat,'Avancement Categorie.old'!A2:E2,2,0) -> Nom 2 | C2: =VLOOKUP(Mat,'Avancement Categorie.old'!A2:E2,4,0) -> 35796 | D2: Poste 1 | E2: =VLOOKUP(D2,'Avancement Categorie.old'!#REF!,2,0) -> #REF! | F2: =VLOOKUP(Mat,'Avancement Categorie.old'!A2:E2,6,0) -> #REF! | G2: =VLOOKUP(Mat,'Avancement Categorie.old'!A2:E2,8,0) -> #REF! | H2: =VLOOKUP(A2,'Avancement Categorie.old'!A2:E2,10,0) -> #REF! | L2: Date | N2: Sanction
A4: Date prochainne Categorie | B4: Periodicite | C4: Prochainne Categorie | D4: Alerte Categorie | E4: N° Decision
A5: =IF(OR(C2="",B5=""),"",EDATE(C2,B5*12)) -> 37622 | B5: 5 | C5: =IF(A5="","",IF(A5-TODAY()>0,A5-TODAY(),0)) -> 0 | D5: =INT(DATEDIF(C2,A5,"y")/B5)+F2 -> #REF!
A6: =IF(OR(A5="",B6=""),"",EDATE(A5,B5*12)) -> 39448 | B6: 5 | C6: =IF(A6="","",IF(A6-TODAY()>0,A6-TODAY(),0)) -> 0 | D6: =INT(DATEDIF(A5,A6,"y")/B6)+D5 -> #REF!
A7: =IF(OR(A6="",B7=""),"",EDATE(A6,B6*12)) -> 41275 | B7: 5 | C7: =IF(A7="","",IF(A7-TODAY()>0,A7-TODAY(),0)) -> 0 | D7: =INT(DATEDIF(A6,A7,"y")/B7)+D6 -> #REF!
A8: =IF(OR(A7="",B8=""),"",EDATE(A7,B7*12)) -> 43101 | B8: 5 | C8: =IF(A8="","",IF(A8-TODAY()>0,A8-TODAY(),0)) -> 0 | D8: =INT(DATEDIF(A7,A8,"y")/B8)+D7 -> #REF!
A9: =IF(OR(A8="",B9=""),"",EDATE(A8,B8*12)) -> 44927 | B9: 5 | C9: =IF(A9="","",IF(A9-TODAY()>0,A9-TODAY(),0)) -> 440 | D9: =INT(DATEDIF(A8,A9,"y")/B9)+D8 -> #REF!

Sheet Avancement Categorie.old
A1: Mat | B1: Nom | C1: Prenom | D1: Date Recrutement | E1: Poste | F1: Date Categorie Merite | G1: Categorie Merite
A2: Mat 2 | B2: =VLOOKUP(A2,[1]BD!$A$2:$J$9,2,0) -> Nom 2 | C2: =VLOOKUP(A2,[1]BD!$A$2:$H$9,3,0) -> Prenom 2 | D2: =VLOOKUP(A2,[1]BD!$A$2:$H$9,4) -> 35796 | E2: =VLOOKUP(A2,[1]BD!$A$2:$H$9,6,0) -> Poste 2 | F2: =IF(OR(D2="",5=""),"",EDATE(D2,5*12)) -> 37622 | G2: =IF(F2="","",IF(F2>TODAY(),"",INT(DATEDIF(F2,F3,"y")/5))) -> 1
A3: Mat 2 | B3: =VLOOKUP(A3,[1]BD!$A$2:$J$9,2,0) -> Nom 2 | C3: =VLOOKUP(A3,[1]BD!$A$2:$H$9,3,0) -> Prenom 2 | D3: =VLOOKUP(A3,[1]BD!$A$2:$H$9,4) -> 35796 | E3: =VLOOKUP(A3,[1]BD!$A$2:$H$9,6,0) -> Poste 2 | F3: =IF(OR(F2="",5=""),"",EDATE(F2,5*12)) -> 39448 | G3: =IF(F3="","",IF(F3>TODAY(),"",INT(DATEDIF(F3,F4,"y")/5))) -> 1
A4: Mat 2 | B4: =VLOOKUP(A4,[1]BD!$A$2:$J$9,2,0) -> Nom 2 | C4: =VLOOKUP(A4,[1]BD!$A$2:$H$9,3,0) -> Prenom 2 | D4: =VLOOKUP(A4,[1]BD!$A$2:$H$9,4) -> 35796 | E4: =VLOOKUP(A4,[1]BD!$A$2:$H$9,6,0) -> Poste 2 | F4: =IF(OR(F3="",5=""),"",EDATE(F3,5*12)) -> 41275 | G4: =IF(F4="","",IF(F4>TODAY(),"",INT(DATEDIF(F4,F5,"y")/5))) -> 1
A5: Mat 2 | B5: =VLOOKUP(A5,[1]BD!$A$2:$J$9,2,0) -> Nom 2 | C5: =VLOOKUP(A5,[1]BD!$A$2:$H$9,3,0) -> Prenom 2 | D5: =VLOOKUP(A5,[1]BD!$A$2:$H$9,4) -> 35796 | E5: =VLOOKUP(A5,[1]BD!$A$2:$H$9,6,0) -> Poste 2 | F5: =IF(OR(F4="",5=""),"",EDATE(F4,5*12)) -> 43101 | G5: =IF(F5="","",IF(F5>TODAY(),"",INT(DATEDIF(F5,F6,"y")/5))) -> 1
A6: Mat 2 | B6: =VLOOKUP(A6,[1]BD!$A$2:$J$9,2,0) -> Nom 2 | C6: =VLOOKUP(A6,[1]BD!$A$2:$H$9,3,0) -> Prenom 2 | D6: =VLOOKUP(A6,[1]BD!$A$2:$H$9,4) -> 35796 | E6: =VLOOKUP(A6,[1]BD!$A$2:$H$9,6,0) -> Poste 2 | F6: =IF(OR(F5="",5=""),"",EDATE(F5,5*12)) -> 44927 | G6: =IF(F6="","",IF(F6>TODAY(),"",INT(DATEDIF(F6,F7,"y")/5)))

Sheet Poste
A3: Poste | B3: Categorie
A4: Poste 1 | B4: 10
A5: Poste 2 | B5: 15
A6: Poste 3 | B6: 12
A7: Poste 4 | B7: 18
A8: Poste 5 | B8: 14
A9: Poste 6 | B9: 12
A10: Poste 7 | B10: 12
A11: Poste 8 | B11: 12

Sheet BD
A1: MAT | B1: Nom | C1: Prenom | D1: Date Recrutement | E1: Ancienneté | F1: Poste | G1: Categorie Embauche | H1: Echelon Embauche | I1: Grade Embauche | J1: Grade Poste
A2: Mat 1 | B2: =IF(ISBLANK(A2),"",VLOOKUP(BD!A2,Personnel!A2:E4,2,0)) -> Nom 1 | C2: =IF(ISBLANK(A2),"",VLOOKUP(BD!A2,Personnel!A2:E4,3,0)) -> Prenom 1 | D2: 40339 | E2: =DATEDIF(D2,TODAY(),"Y") & " Années " -> 11 Années | F2: Poste 1 | G2: =VLOOKUP(F2,Poste!A4:B11,2,0) -> 10 | H2: 0 | I2: =CONCATENATE(G2,".",H2) -> 10.0
A3: Mat 2 | B3: =IF(ISBLANK(A3),"",VLOOKUP(BD!A3,Personnel!A3:E7,2,0)) -> Nom 2 | C3: =IF(ISBLANK(A3),"",VLOOKUP(BD!A3,Personnel!A3:E7,3,0)) -> Prenom 2 | D3: 35796 | E3: =DATEDIF(D3,TODAY(),"Y") & " Années " -> 23 Années | F3: Poste 2 | G3: =VLOOKUP(F3,Poste!A5:B12,2,0) -> 15 | H3: 0 | I3: =CONCATENATE(G3,".",H3) -> 15.0
A4: Mat 3 | B4: =IF(ISBLANK(A4),"",VLOOKUP(BD!A4,Personnel!A4:E8,2,0)) -> Nom 3 | C4: =IF(ISBLANK(A4),"",VLOOKUP(BD!A4,Personnel!A4:E8,3,0)) -> Prenom 3 | D4: 42038 | E4: =DATEDIF(D4,TODAY(),"Y") & " Années " -> 6 Années | F4: Poste 3 | G4: =VLOOKUP(F4,Poste!A6:B13,2,0) -> 12 | H4: 0 | I4: =CONCATENATE(G4,".",H4) -> 12.0

Sheet Personnel
A1: MAT | B1: Nom | C1: Prenom | D1: Sexe | E1: Date Naissance | F1: Ancienneté
A2: Mat 1 | B2: Nom 1 | C2: Prenom 1 | D2: Masculin | E2: 33725 | F2: =DATEDIF(E2,TODAY(),"Y") & " Années, "&DATEDIF(E2,TODAY(),"YM") & " Mois, "& DATEDIF(E2,TODAY(),"MD") & " Jours, " -> 29 Années, 5 Mois, 17 Jours,
A3: Mat 2 | B3: Nom 2 | C3: Prenom 2 | D3: Feminin | E3: 29282 | F3: =DATEDIF(E3,TODAY(),"Y") & " Années, "&DATEDIF(E3,TODAY(),"YM") & " Mois, "& DATEDIF(E3,TODAY(),"MD") & " Jours, " -> 41 Années, 7 Mois, 16 Jours,
A4: Mat 3 | B4: Nom 3 | C4: Prenom 3 | D4: Masculin | E4: 28202 | F4: =DATEDIF(E4,TODAY(),"Y") & " Années, "&DATEDIF(E4,TODAY(),"YM") & " Mois, "& DATEDIF(E4,TODAY(),"MD") & " Jours, " -> 44 Années, 7 Mois, 0 Jours,

Sheet Avancement Echelon
A1: Mat | B1: Nom | C1: Prenom | D1: Date Recrutement
A2: Mat 2 | B2: =VLOOKUP($A$2,Tableau1[],COLUMN(),0) -> Nom 2 | C2: =VLOOKUP($A$2,Tableau1[],COLUMN(),0) -> Prenom 2 | D2: =VLOOKUP($A$2,Tableau1[],COLUMN(),0) -> 35796
A4: Poste | B4: Date Echelon Merite | C4: Echelon Merite | D4: Echelon Promo | E4: Echelon | F4: Date Echelon Promo | G4: N° Decision | H4: Sanction | I4: Date Sanction
A5: =VLOOKUP(A$2,BD!$A$2:$H$4,6,0) -> Poste 2 | B5: =EDATE(IF(COUNTA($A$5:A5)=1,$D$2,$B4),IF(H4=1,3*12,2*12)) -> 36526 | C5: =IF(B5>TODAY(),"",INT(DATEDIF(D2,B5,"y")/2)) -> 1 | E5: =SUM(E4,D5,C5) -> 1 | G5: 145
A6: =VLOOKUP(A$2,BD!$A$2:$H$4,6,0) -> Poste 2 | B6: =EDATE(IF(COUNTA($A$5:A6)=1,$D$2,$B5),IF(H5=1,3*12,2*12)) -> 37257 | C6: =IF(B5>TODAY(),"",INT(DATEDIF(B5,B6,"y")/2)) -> 1 | D6: =IF(F6<>"",1,"") -> 1 | E6: =SUM(E5,D6,C6) -> 3 | F6: 37891 | G6: 235
A7: =VLOOKUP(A$2,BD!$A$2:$H$4,6,0) -> Poste 2 | B7: =EDATE(IF(COUNTA($A$5:A7)=1,$D$2,$B6),IF(H6=1,3*12,2*12)) -> 37987 | C7: =IF(B6>TODAY(),"",INT(DATEDIF(B6,B7,"y")/2)) -> 1 | E7: =SUM(E6,D7,C7) -> 4 | G7: 700
A8: =VLOOKUP(A$2,BD!$A$2:$H$4,6,0) -> Poste 2 | B8: =EDATE(IF(COUNTA($A$5:A8)=1,$D$2,$B7),IF(H7=1,3*12,2*12)) -> 38718 | C8: =IF(B7>TODAY(),"",INT(DATEDIF(B7,B8,"y")/2)) -> 1 | E8: =SUM(E7,D8,C8) -> 5 | G8: 203
A9: =VLOOKUP(A$2,BD!$A$2:$H$4,6,0) -> Poste 2 | B9: =EDATE(IF(COUNTA($A$5:A9)=1,$D$2,$B8),IF(H8=1,3*12,2*12)) -> 39448 | C9: =IF(B8>TODAY(),"",INT(DATEDIF(B8,B9,"y")/2)) -> 1 | E9: =SUM(E8,D9,C9) -> 6 | G9: 658 | H9: 1 | I9: 40091
A10: =VLOOKUP(A$2,BD!$A$2:$H$4,6,0) -> Poste 2 | B10: =EDATE(IF(COUNTA($A$5:A10)=1,$D$2,$B9),IF(H9=1,3*12,2*12)) -> 40544 | C10: =IF(B9>TODAY(),"",INT(DATEDIF(B9,B10,"y")/2)) -> 1 | E10: =SUM(E9,D10,C10) -> 7 | G10: 75
A11: =VLOOKUP(A$2,BD!$A$2:$H$4,6,0) -> Poste 2 | B11: =EDATE(IF(COUNTA($A$5:A11)=1,$D$2,$B10),IF(H10=1,3*12,2*12)) -> 41275 | C11: =IF(B10>TODAY(),"",INT(DATEDIF(B10,B11,"y")/2)) -> 1 | E11: =SUM(E10,D11,C11) -> 8 | G11: 5
A12: =VLOOKUP(A$2,BD!$A$2:$H$4,6,0) -> Poste 2 | B12: =EDATE(IF(COUNTA($A$5:A12)=1,$D$2,$B11),IF(H11=1,3*12,2*12)) -> 42005 | C12: =IF(B11>TODAY(),"",INT(DATEDIF(B11,B12,"y")/2)) -> 1 | E12: =SUM(E11,D12,C12) -> 9 | G12: 300
A13: =VLOOKUP(A$2,BD!$A$2:$H$4,6,0) -> Poste 2 | B13: =EDATE(IF(COUNTA($A$5:A13)=1,$D$2,$B12),IF(H12=1,3*12,2*12)) -> 42736 | C13: =IF(B12>TODAY(),"",INT(DATEDIF(B12,B13,"y")/2)) -> 1 | E13: =SUM(E12,D13,C13) -> 10 | G13: 205
A14: =VLOOKUP(A$2,BD!$A$2:$H$4,6,0) -> Poste 2 | B14: =EDATE(IF(COUNTA($A$5:A14)=1,$D$2,$B13),IF(H13=1,3*12,2*12)) -> 43466 | C14: =IF(B13>TODAY(),"",INT(DATEDIF(B13,B14,"y")/2)) -> 1 | E14: =SUM(E13,D14,C14) -> 11 | G14: 659
A15: =VLOOKUP(A$2,BD!$A$2:$H$4,6,0) -> Poste 2 | B15: =EDATE(IF(COUNTA($A$5:A15)=1,$D$2,$B14),IF(H14=1,3*12,2*12)) -> 44197 | C15: =IF(B14>TODAY(),"",INT(DATEDIF(B14,B15,"y")/2)) -> 1 | E15: =SUM(E14,D15,C15) -> 12 | G15: 100

Sheet Avancement Catégorie
A1: Mat | B1: Nom | C1: Prenom | D1: Date Recrutement
A2: Mat 2 | B2: =VLOOKUP(A2,BD!$A$2:$H$4,2,0) -> Nom 2 | C2: =IF(ISBLANK(A2),"",VLOOKUP(A2,BD!$A$2:$H$4,3,0)) -> Prenom 2 | D2: =IF(ISBLANK(A2),"",VLOOKUP(A2,BD!$A$2:$H$4,4,0)) -> 35796
A4: Poste | B4: Date Echelon Merite | C4: Echelon Merite | D4: Echelon Promo | E4: Echelon | F4: Date Echelon Promo | G4: N° Decision
A5: =VLOOKUP(A$2,BD!$A$2:$H$4,6,0) -> Poste 2 | B5: =EDATE(IF(COUNTA($A$5:A5)=1,$D$2,$B4),5*12) -> 37622 | C5: 5 | E5: =SUM(E4,D5,C5,D4) -> 5 | G5: 145
A6: =VLOOKUP(A$2,BD!$A$2:$H$4,6,0) -> Poste 2 | B6: =EDATE(IF(COUNTA($A$5:A6)=1,$D$2,$B5),5*12) -> 39448 | C6: 5 | D6: =IF(F6<>"",1,"") -> 1 | E6: =SUM(E5,D6,C6,D5) -> 11 | F6: 38987 | G6: 235
A7: =VLOOKUP(A$2,BD!$A$2:$H$4,6,0) -> Poste 2 | B7: =EDATE(IF(COUNTA($A$5:A7)=1,$D$2,$B6),5*12) -> 41275 | C7: 5 | E7: =SUM(E6,D7,C7,D6) -> 17 | G7: 700
A8: =VLOOKUP(A$2,BD!$A$2:$H$4,6,0) -> Poste 2 | B8: =EDATE(IF(COUNTA($A$5:A8)=1,$D$2,$B7),5*12) -> 43101 | C8: 5 | E8: =SUM(E7,D8,C8,D7) -> 22 | G8: 203
A9: =VLOOKUP(A$2,BD!$A$2:$H$4,6,0) -> Poste 2 | B9: =EDATE(IF(COUNTA($A$5:A9)=1,$D$2,$B8),5*12) -> 44927 | C9: 5 | E9: =SUM(E8,D9,C9,D8) -> 27 | G9: 658
A10: =VLOOKUP(A$2,BD!$A$2:$H$4,6,0) -> Poste 2 | B10: =EDATE(IF(COUNTA($A$5:A10)=1,$D$2,$B9),5*12) -> 46753 | C10: =IF(B9>TODAY(),"",INT(DATEDIF(B9,B10,"y")/2)) | E10: =SUM(E9,D10,C10,D9) -> 27 | G10: 75
A11: =VLOOKUP(A$2,BD!$A$2:$H$4,6,0) -> Poste 2 | B11: =EDATE(IF(COUNTA($A$5:A11)=1,$D$2,$B10),5*12) -> 48580 | C11: =IF(B10>TODAY(),"",INT(DATEDIF(B10,B11,"y")/2)) | E11: =SUM(E10,D11,C11,D10) -> 27 | G11: 5
A12: =VLOOKUP(A$2,BD!$A$2:$H$4,6,0) -> Poste 2 | B12: =EDATE(IF(COUNTA($A$5:A12)=1,$D$2,$B11),5*12) -> 50406 | C12: =IF(B11>TODAY(),"",INT(DATEDIF(B11,B12,"y")/2)) | E12: =SUM(E11,D12,C12,D11) -> 27 | G12: 300
A13: =VLOOKUP(A$2,BD!$A$2:$H$4,6,0) -> Poste 2 | B13: =EDATE(IF(COUNTA($A$5:A13)=1,$D$2,$B12),5*12) -> 52232 | C13: =IF(B12>TODAY(),"",INT(DATEDIF(B12,B13,"y")/2)) | E13: =SUM(E12,D13,C13,D12) -> 27 | G13: 205
A14: =VLOOKUP(A$2,BD!$A$2:$H$4,6,0) -> Poste 2 | B14: =EDATE(IF(COUNTA($A$5:A14)=1,$D$2,$B13),5*12) -> 54058 | C14: =IF(B13>TODAY(),"",INT(DATEDIF(B13,B14,"y")/2)) | E14: =SUM(E13,D14,C14,D13) -> 27 | G14: 659
A15: =VLOOKUP(A$2,BD!$A$2:$H$4,6,0) -> Poste 2 | B15: =EDATE(IF(COUNTA($A$5:A15)=1,$D$2,$B14),5*12) -> 55885 | C15: =IF(B14>TODAY(),"",INT(DATEDIF(B14,B15,"y")/2)) | E15: =SUM(E14,D15,C15,D14) -> 27 | G15: 100
