Workbook
Name categorie: #REF!

Sheet Feuil2
A3: Famille | B3: Nom | C3: Prénom | D3: Somme de cotisation
A4: OUI | B4: BOUTEILLE | C4: Aurore | D4: 185
C5: Justine | D5: 129.5
C6: Pablo | D6: 62.5
B7: Total BOUTEILLE | D7: 377
B8: CHAISE | C8: Bixente | D8: 129.5
C9: Ines | D9: 126
B10: Total CHAISE | D10: 255.5
B11: ECRAN | C11: Caroline | D11: 190
C12: Jerome | D12: 129.5
B13: Total ECRAN | D13: 319.5
B14: TABLE | C14: Anne | D14: 126
C15: Eric | D15: 185
B16: Total TABLE | D16: 311
B17: TROUSSE | C17: Nicolas | D17: 62.5
C18: Olivier | D18: 129.5
C19: Simon | D19: 185
B20: Total TROUSSE | D20: 377
A21: Total OUI | D21: 1640
A22: Total général | D22: 1640

Sheet BASE
A1: Nom | B1: Prénom | C1: Famille | D1: Lic | E1: S | F1: Naissance | G1: Cat 2021/2022 | H1: Tarif 2021/2021 | I1: cotisation
A2: TABLE | B2: Eric | C2: =IF(COUNTIF(A$2:A$21,A2)>=2,"OUI","") -> OUI | D2: JC | E2: M | F2: 40179 | G2: =IF(YEAR(F2)<2000,"senior",IF(E2="M",VLOOKUP(YEAR(F2),TABLE!C$6:D$20,2,FALSE),VLOOKUP(YEAR(F2),TABLE!A$6:B$20,2,FALSE))) -> U13 | H2: =VLOOKUP(G2,TABLE!A$24:B$33,2,FALSE) -> 185 | I2: =H2*CHOOSE(COUNTIF($A$2:$A2,$A2),1,0.7,0.5,0.5,0.5) -> 185
A3: TABLE | B3: Anne | C3: =IF(COUNTIF(A$2:A$21,A3)>=2,"OUI","") -> OUI | D3: JC | E3: F | F3: 41506 | G3: =IF(YEAR(F3)<2000,"senior",IF(E3="M",VLOOKUP(YEAR(F3),TABLE!C$6:D$20,2,FALSE),VLOOKUP(YEAR(F3),TABLE!A$6:B$20,2,FALSE))) -> U9 | H3: =VLOOKUP(G3,TABLE!A$24:B$33,2,FALSE) -> 180 | I3: =H3*CHOOSE(COUNTIF($A$2:$A3,$A3),1,0.7,0.5,0.5,0.5) -> 126
A4: CHAISE | B4: Ines | C4: =IF(COUNTIF(A$2:A$21,A4)>=2,"OUI","") -> OUI | D4: JC | E4: F | F4: 39534 | G4: =IF(YEAR(F4)<2000,"senior",IF(E4="M",VLOOKUP(YEAR(F4),TABLE!C$6:D$20,2,FALSE),VLOOKUP(YEAR(F4),TABLE!A$6:B$20,2,FALSE))) -> U15 | H4: =VLOOKUP(G4,TABLE!A$24:B$33,2,FALSE) -> 185 | I4: =H5*CHOOSE(COUNTIF($A$2:$A5,$A5),1,0.7,0.5,0.5,0.5) -> 126
A5: CHAISE | B5: Bixente | C5: =IF(COUNTIF(A$2:A$21,A5)>=2,"OUI","") -> OUI | D5: JC | E5: M | F5: 41470 | G5: =IF(YEAR(F5)<2000,"senior",IF(E5="M",VLOOKUP(YEAR(F5),TABLE!C$6:D$20,2,FALSE),VLOOKUP(YEAR(F5),TABLE!A$6:B$20,2,FALSE))) -> U9 | H5: =VLOOKUP(G5,TABLE!A$24:B$33,2,FALSE) -> 180 | I5: =H4*CHOOSE(COUNTIF($A$2:$A26,$A4),1,0.7,0.5,0.5,0.5) -> 129.5
A6: FEUILLE | B6: Romain | C6: =IF(COUNTIF(A$2:A$21,A6)>=2,"OUI","") | D6: JC | E6: M | F6: 40031 | G6: =IF(YEAR(F6)<2000,"senior",IF(E6="M",VLOOKUP(YEAR(F6),TABLE!C$6:D$20,2,FALSE),VLOOKUP(YEAR(F6),TABLE!A$6:B$20,2,FALSE))) -> U13 | H6: =VLOOKUP(G6,TABLE!A$24:B$33,2,FALSE) -> 185 | I6: =H6*CHOOSE(COUNTIF($A$2:$A6,$A6),1,0.7,0.5,0.5,0.5) -> 185
A7: CRAYON | B7: Maelle | C7: =IF(COUNTIF(A$2:A$21,A7)>=2,"OUI","") | D7: JC | E7: F | F7: 38218 | G7: =IF(YEAR(F7)<2000,"senior",IF(E7="M",VLOOKUP(YEAR(F7),TABLE!C$6:D$20,2,FALSE),VLOOKUP(YEAR(F7),TABLE!A$6:B$20,2,FALSE))) -> U18 | H7: =VLOOKUP(G7,TABLE!A$24:B$33,2,FALSE) -> 185 | I7: =H7*CHOOSE(COUNTIF($A$2:$A7,$A7),1,0.7,0.5,0.5,0.5) -> 185
A8: ECRAN | B8: Jerome | C8: =IF(COUNTIF(A$2:A$21,A8)>=2,"OUI","") -> OUI | D8: JC | E8: M | F8: 37318 | G8: =IF(YEAR(F8)<2000,"senior",IF(E8="M",VLOOKUP(YEAR(F8),TABLE!C$6:D$20,2,FALSE),VLOOKUP(YEAR(F8),TABLE!A$6:B$20,2,FALSE))) -> Senior | H8: =VLOOKUP(G8,TABLE!A$24:B$33,2,FALSE) -> 190 | I8: =H9*CHOOSE(COUNTIF($A$2:$A24,$A9),1,0.7,0.5,0.5,0.5) -> 129.5
A9: ECRAN | B9: Caroline | C9: =IF(COUNTIF(A$2:A$21,A9)>=2,"OUI","") -> OUI | D9: JC | E9: F | F9: 39831 | G9: =IF(YEAR(F9)<2000,"senior",IF(E9="M",VLOOKUP(YEAR(F9),TABLE!C$6:D$20,2,FALSE),VLOOKUP(YEAR(F9),TABLE!A$6:B$20,2,FALSE))) -> U13 | H9: =VLOOKUP(G9,TABLE!A$24:B$33,2,FALSE) -> 185 | I9: =H8*CHOOSE(COUNTIF($A$2:$A8,$A8),1,0.7,0.5,0.5,0.5) -> 190
A10: STYLO | B10: Lucas | C10: =IF(COUNTIF(A$2:A$21,A10)>=2,"OUI","") | D10: JC | E10: M | F10: 38245 | G10: =IF(YEAR(F10)<2000,"senior",IF(E10="M",VLOOKUP(YEAR(F10),TABLE!C$6:D$20,2,FALSE),VLOOKUP(YEAR(F10),TABLE!A$6:B$20,2,FALSE))) -> U20 | H10: =VLOOKUP(G10,TABLE!A$24:B$33,2,FALSE) -> 185 | I10: =H10*CHOOSE(COUNTIF($A$2:$A10,$A10),1,0.7,0.5,0.5,0.5) -> 185
A11: PAPIER | B11: lucie | C11: =IF(COUNTIF(A$2:A$21,A11)>=2,"OUI","") | D11: JC | E11: F | F11: 39897 | G11: =IF(YEAR(F11)<2000,"senior",IF(E11="M",VLOOKUP(YEAR(F11),TABLE!C$6:D$20,2,FALSE),VLOOKUP(YEAR(F11),TABLE!A$6:B$20,2,FALSE))) -> U13 | H11: =VLOOKUP(G11,TABLE!A$24:B$33,2,FALSE) -> 185 | I11: =H11*CHOOSE(COUNTIF($A$2:$A11,$A11),1,0.7,0.5,0.5,0.5) -> 185
A12: TASSE | B12: Emma | C12: =IF(COUNTIF(A$2:A$21,A12)>=2,"OUI","") | D12: JC1 | E12: F | F12: 37519 | G12: =IF(YEAR(F12)<2000,"senior",IF(E12="M",VLOOKUP(YEAR(F12),TABLE!C$6:D$20,2,FALSE),VLOOKUP(YEAR(F12),TABLE!A$6:B$20,2,FALSE))) -> Senior | H12: =VLOOKUP(G12,TABLE!A$24:B$33,2,FALSE) -> 190 | I12: =H12*CHOOSE(COUNTIF($A$2:$A12,$A12),1,0.7,0.5,0.5,0.5) -> 190
A13: FOURCHETTE | B13: Alexis | C13: =IF(COUNTIF(A$2:A$21,A13)>=2,"OUI","") | D13: JC | E13: M | F13: 37524 | G13: =IF(YEAR(F13)<2000,"senior",IF(E13="M",VLOOKUP(YEAR(F13),TABLE!C$6:D$20,2,FALSE),VLOOKUP(YEAR(F13),TABLE!A$6:B$20,2,FALSE))) -> Senior | H13: =VLOOKUP(G13,TABLE!A$24:B$33,2,FALSE) -> 190 | I13: =H13*CHOOSE(COUNTIF($A$2:$A13,$A13),1,0.7,0.5,0.5,0.5) -> 190
A14: LAMPE | B14: Germain | C14: =IF(COUNTIF(A$2:A$21,A14)>=2,"OUI","") | D14: JC | E14: M | F14: 37850 | G14: =IF(YEAR(F14)<2000,"senior",IF(E14="M",VLOOKUP(YEAR(F14),TABLE!C$6:D$20,2,FALSE),VLOOKUP(YEAR(F14),TABLE!A$6:B$20,2,FALSE))) -> U20 | H14: =VLOOKUP(G14,TABLE!A$24:B$33,2,FALSE) -> 185 | I14: =H14*CHOOSE(COUNTIF($A$2:$A14,$A14),1,0.7,0.5,0.5,0.5) -> 185
A15: TELEPHONE | B15: Lucas | C15: =IF(COUNTIF(A$2:A$21,A15)>=2,"OUI","") | D15: JC2 | E15: M | F15: 38142 | G15: =IF(YEAR(F15)<2000,"senior",IF(E15="M",VLOOKUP(YEAR(F15),TABLE!C$6:D$20,2,FALSE),VLOOKUP(YEAR(F15),TABLE!A$6:B$20,2,FALSE))) -> U20 | H15: =VLOOKUP(G15,TABLE!A$24:B$33,2,FALSE) -> 185 | I15: =H15*CHOOSE(COUNTIF($A$2:$A15,$A15),1,0.7,0.5,0.5,0.5) -> 185
A16: CISEAU | B16: Daphne | C16: =IF(COUNTIF(A$2:A$21,A16)>=2,"OUI","") | D16: JC | E16: F | F16: 42221 | G16: =IF(YEAR(F16)<2000,"senior",IF(E16="M",VLOOKUP(YEAR(F16),TABLE!C$6:D$20,2,FALSE),VLOOKUP(YEAR(F16),TABLE!A$6:B$20,2,FALSE))) -> U7 | H16: =VLOOKUP(G16,TABLE!A$24:B$33,2,FALSE) -> 125 | I16: =H16*CHOOSE(COUNTIF($A$2:$A16,$A16),1,0.7,0.5,0.5,0.5) -> 125
A17: BOUTEILLE | B17: Aurore | C17: =IF(COUNTIF(A$2:A$21,A17)>=2,"OUI","") -> OUI | D17: JC | E17: F | F17: 39165 | G17: =IF(YEAR(F17)<2000,"senior",IF(E17="M",VLOOKUP(YEAR(F17),TABLE!C$6:D$20,2,FALSE),VLOOKUP(YEAR(F17),TABLE!A$6:B$20,2,FALSE))) -> U15 | H17: =VLOOKUP(G17,TABLE!A$24:B$33,2,FALSE) -> 185 | I17: =H17*CHOOSE(COUNTIF($A$2:$A17,$A17),1,0.7,0.5,0.5,0.5) -> 185
A18: BOUTEILLE | B18: Justine | C18: =IF(COUNTIF(A$2:A$21,A18)>=2,"OUI","") -> OUI | D18: JC | E18: F | F18: 40061 | G18: =IF(YEAR(F18)<2000,"senior",IF(E18="M",VLOOKUP(YEAR(F18),TABLE!C$6:D$20,2,FALSE),VLOOKUP(YEAR(F18),TABLE!A$6:B$20,2,FALSE))) -> U13 | H18: =VLOOKUP(G18,TABLE!A$24:B$33,2,FALSE) -> 185 | I18: =H18*CHOOSE(COUNTIF($A$2:$A18,$A18),1,0.7,0.5,0.5,0.5) -> 129.5
A19: BOUTEILLE | B19: Pablo | C19: =IF(COUNTIF(A$2:A$21,A19)>=2,"OUI","") -> OUI | D19: JC | E19: M | F19: 42205 | G19: =IF(YEAR(F19)<2000,"senior",IF(E19="M",VLOOKUP(YEAR(F19),TABLE!C$6:D$20,2,FALSE),VLOOKUP(YEAR(F19),TABLE!A$6:B$20,2,FALSE))) -> U7 | H19: =VLOOKUP(G19,TABLE!A$24:B$33,2,FALSE) -> 125 | I19: =H19*CHOOSE(COUNTIF($A$2:$A19,$A19),1,0.7,0.5,0.5,0.5) -> 62.5
A20: TROUSSE | B20: Simon | C20: =IF(COUNTIF(A$2:A$21,A20)>=2,"OUI","") -> OUI | D20: JC | E20: M | F20: 37994 | G20: =IF(YEAR(F20)<2000,"senior",IF(E20="M",VLOOKUP(YEAR(F20),TABLE!C$6:D$20,2,FALSE),VLOOKUP(YEAR(F20),TABLE!A$6:B$20,2,FALSE))) -> U20 | H20: =VLOOKUP(G20,TABLE!A$24:B$33,2,FALSE) -> 185 | I20: =H20*CHOOSE(COUNTIF($A$2:$A20,$A20),1,0.7,0.5,0.5,0.5) -> 185
A21: TROUSSE | B21: Olivier | C21: =IF(COUNTIF(A$2:A$21,A21)>=2,"OUI","") -> OUI | D21: JC | E21: M | F21: 39643 | G21: =IF(YEAR(F21)<2000,"senior",IF(E21="M",VLOOKUP(YEAR(F21),TABLE!C$6:D$20,2,FALSE),VLOOKUP(YEAR(F21),TABLE!A$6:B$20,2,FALSE))) -> U15 | H21: =VLOOKUP(G21,TABLE!A$24:B$33,2,FALSE) -> 185 | I21: =H21*CHOOSE(COUNTIF($A$2:$A21,$A21),1,0.7,0.5,0.5,0.5) -> 129.5
A22: TROUSSE | B22: Nicolas | C22: =IF(COUNTIF(A$2:A$21,A22)>=2,"OUI","") -> OUI | D22: JC | E22: M | F22: 42131 | G22: =IF(YEAR(F22)<2000,"senior",IF(E22="M",VLOOKUP(YEAR(F22),TABLE!C$6:D$20,2,FALSE),VLOOKUP(YEAR(F22),TABLE!A$6:B$20,2,FALSE))) -> U7 | H22: =VLOOKUP(G22,TABLE!A$24:B$33,2,FALSE) -> 125 | I22: =H22*CHOOSE(COUNTIF($A$2:$A22,$A22),1,0.7,0.5,0.5,0.5) -> 62.5

Sheet FAMILLE
B2: Nom | C2: Prénom | D2: S | E2: Naissance | F2: Cat 2021/2022 | G2: Tarif 2021/2021
B3: =IF(BASE!C2="oui",INDEX(BASE!A2:B18,1,1),"") -> TABLE | C3: =INDEX(BASE!A2:H21,1,2) -> Eric | D3: =INDEX(BASE!D2:K22,1,2) -> M | E3: =INDEX(BASE!E2:L22,1,2) -> 40179 | F3: =INDEX(BASE!F2:M22,1,2) -> U13 | G3: =VLOOKUP(F3,TABLE!A$24:B$33,2,FALSE) -> 185
B4: =IF(BASE!C3="oui",INDEX(BASE!A3:B24,1,1),"") -> TABLE | C4: =INDEX(BASE!A3:H22,1,2) -> Anne | D4: =INDEX(BASE!D3:K23,1,2) -> F | E4: =INDEX(BASE!E3:L23,1,2) -> 41506 | F4: =INDEX(BASE!F3:M23,1,2) -> U9 | G4: =VLOOKUP(F4,TABLE!A$24:B$33,2,FALSE) -> 180 | I4: =G4*0.7 -> 126
B5: =IF(BASE!C5="oui",INDEX(BASE!A5:B20,1,1),"") -> CHAISE | C5: =INDEX(BASE!A5:H24,1,2) -> Bixente | D5: =INDEX(BASE!D4:K24,1,2) -> F | E5: =INDEX(BASE!E4:L24,1,2) -> 39534 | F5: =INDEX(BASE!F4:M24,1,2) -> U15 | G5: =VLOOKUP(F5,TABLE!A$24:B$33,2,FALSE) -> 185 | I5: =G5*0.7 -> 129.5
B6: =IF(BASE!C4="oui",INDEX(BASE!A5:B22,1,1),"") -> CHAISE | C6: =INDEX(BASE!A5:H24,1,2) -> Bixente | D6: =INDEX(BASE!D5:K25,1,2) -> M | E6: =INDEX(BASE!E5:L25,1,2) -> 41470 | F6: =INDEX(BASE!F5:M25,1,2) -> U9 | G6: =VLOOKUP(F6,TABLE!A$24:B$33,2,FALSE) -> 180
B7: =IF(BASE!C6="oui",INDEX(BASE!A6:B21,1,1),"") | C7: =INDEX(BASE!A6:H26,1,2) -> Romain | D7: =INDEX(BASE!D6:K26,1,2) -> M | E7: =INDEX(BASE!E6:L26,1,2) -> 40031 | F7: =INDEX(BASE!F6:M26,1,2) -> U13 | G7: =VLOOKUP(F7,TABLE!A$24:B$33,2,FALSE) -> 185
B8: =IF(BASE!C7="oui",INDEX(BASE!A7:B22,1,1),"") | C8: =INDEX(BASE!A7:H27,1,2) -> Maelle | D8: =INDEX(BASE!D7:K27,1,2) -> F | E8: =INDEX(BASE!E7:L27,1,2) -> 38218 | F8: =INDEX(BASE!F7:M27,1,2) -> U18 | G8: =VLOOKUP(F8,TABLE!A$24:B$33,2,FALSE) -> 185
B9: =IF(BASE!C9="oui",INDEX(BASE!A8:B24,1,1),"") -> ECRAN | C9: =INDEX(BASE!A8:H27,1,2) -> Jerome | D9: =INDEX(BASE!D10:K28,1,2) -> M | E9: =INDEX(BASE!E10:L28,1,2) -> 38245 | F9: =INDEX(BASE!F10:M28,1,2) -> U20 | G9: =VLOOKUP(F9,TABLE!A$24:B$33,2,FALSE) -> 185 | I9: =G9*0.7 -> 129.5
B10: =IF(BASE!C8="oui",INDEX(BASE!A8:B24,1,1),"") -> ECRAN | C10: =INDEX(BASE!A8:H29,1,2) -> Jerome | D10: =INDEX(BASE!D12:K29,1,2) -> F | E10: =INDEX(BASE!E12:L29,1,2) -> 37519 | F10: =INDEX(BASE!F12:M29,1,2) -> Senior | G10: =VLOOKUP(F10,TABLE!A$24:B$33,2,FALSE) -> 190
B11: =IF(BASE!C10="oui",INDEX(BASE!A10:B26,1,1),"") | C11: =INDEX(BASE!A10:H30,1,2) -> Lucas | D11: =INDEX(BASE!D13:K30,1,2) -> M | E11: =INDEX(BASE!E13:L30,1,2) -> 37524 | F11: =INDEX(BASE!F13:M30,1,2) -> Senior | G11: =VLOOKUP(F11,TABLE!A$24:B$33,2,FALSE) -> 190
B12: =IF(BASE!C11="oui",INDEX(BASE!A11:B27,1,1),"") | C12: =INDEX(BASE!A11:H31,1,2) -> lucie | D12: =INDEX(BASE!D14:K31,1,2) -> M | E12: =INDEX(BASE!E14:L31,1,2) -> 37850 | F12: =INDEX(BASE!F14:M31,1,2) -> U20 | G12: =VLOOKUP(F12,TABLE!A$24:B$33,2,FALSE) -> 185
B13: =IF(BASE!C12="oui",INDEX(BASE!A12:B27,1,1),"") | C13: =INDEX(BASE!A12:H32,1,2) -> Emma | D13: =INDEX(BASE!D15:K32,1,2) -> M | E13: =INDEX(BASE!E15:L32,1,2) -> 38142 | F13: =INDEX(BASE!F15:M32,1,2) -> U20 | G13: =VLOOKUP(F13,TABLE!A$24:B$33,2,FALSE) -> 185
B14: =IF(BASE!C13="oui",INDEX(BASE!A13:B29,1,1),"") | C14: =INDEX(BASE!A13:H33,1,2) -> Alexis | D14: =INDEX(BASE!D16:K33,1,2) -> F | E14: =INDEX(BASE!E16:L33,1,2) -> 42221 | F14: =INDEX(BASE!F16:M33,1,2) -> U7 | G14: =VLOOKUP(F14,TABLE!A$24:B$33,2,FALSE) -> 125
B15: =IF(BASE!C19="oui",INDEX(BASE!A18:B29,1,1),"") -> BOUTEILLE | C15: =INDEX(BASE!A18:H34,1,2) -> Justine | D15: =INDEX(BASE!D17:K34,1,2) -> F | E15: =INDEX(BASE!E17:L34,1,2) -> 39165 | F15: =INDEX(BASE!F17:M34,1,2) -> U15 | G15: =VLOOKUP(F15,TABLE!A$24:B$33,2,FALSE) -> 185 | I15: =G15/2 -> 92.5
B16: =IF(BASE!C18="oui",INDEX(BASE!A18:B30,1,1),"") -> BOUTEILLE | C16: =INDEX(BASE!A18:H35,1,2) -> Justine | D16: =INDEX(BASE!D18:K35,1,2) -> F | E16: =INDEX(BASE!E18:L35,1,2) -> 40061 | F16: =INDEX(BASE!F18:M35,1,2) -> U13 | G16: =VLOOKUP(F16,TABLE!A$24:B$33,2,FALSE) -> 185 | I16: =G16*0.7 -> 129.5
B17: =IF(BASE!C17="oui",INDEX(BASE!A20:B31,1,1),"") -> TROUSSE | C17: =INDEX(BASE!A20:H36,1,2) -> Simon | D17: =INDEX(BASE!D19:K36,1,2) -> M | E17: =INDEX(BASE!E19:L36,1,2) -> 42205 | F17: =INDEX(BASE!F19:M36,1,2) -> U7 | G17: =VLOOKUP(F17,TABLE!A$24:B$33,2,FALSE) -> 125
B18: =IF(BASE!C20="oui",INDEX(BASE!A20:B32,1,1),"") -> TROUSSE | C18: =INDEX(BASE!A20:H37,1,2) -> Simon | D18: =INDEX(BASE!D20:K37,1,2) -> M | E18: =INDEX(BASE!E20:L37,1,2) -> 37994 | F18: =INDEX(BASE!F20:M37,1,2) -> U20 | G18: =VLOOKUP(F18,TABLE!A$24:B$33,2,FALSE) -> 185
B19: =IF(BASE!C22="oui",INDEX(BASE!A21:B33,1,1),"") -> TROUSSE | C19: =INDEX(BASE!A21:H38,1,2) -> Olivier | D19: =INDEX(BASE!D21:K38,1,2) -> M | E19: =INDEX(BASE!E21:L38,1,2) -> 39643 | F19: =INDEX(BASE!F21:M38,1,2) -> U15 | G19: =VLOOKUP(F19,TABLE!A$24:B$33,2,FALSE) -> 185 | I19: =G19/2 -> 92.5
B20: =IF(BASE!C21="oui",INDEX(BASE!A21:B34,1,1),"") -> TROUSSE | C20: =INDEX(BASE!A21:H39,1,2) -> Olivier | D20: =INDEX(BASE!D22:K39,1,2) -> M | E20: =INDEX(BASE!E22:L39,1,2) -> 42131 | F20: =INDEX(BASE!F22:M39,1,2) -> U7 | G20: =VLOOKUP(F20,TABLE!A$24:B$33,2,FALSE) -> 125 | I20: =G20*0.7 -> 87.5
B21: =IF(BASE!#REF!="oui",INDEX(BASE!A22:B35,1,1),"") -> #REF!
B22: 1er licence tarif normal
B23: 2ieme licence -30% | C23: -0.3
B24: 3ieme licence -50% | C24: -0.5
B25: =IF(BASE!#REF!="oui",INDEX(BASE!A4:B39,1,1),"") -> #REF!
B26: =IF(BASE!#REF!="oui",INDEX(BASE!A19:B40,1,1),"") -> #REF!
B27: =IF(BASE!C29="oui",INDEX(BASE!A29:B41,1,1),"")
B28: =IF(BASE!C30="oui",INDEX(BASE!A30:B42,1,1),"")
B29: =IF(BASE!C31="oui",INDEX(BASE!A31:B43,1,1),"")
B30: =IF(BASE!C32="oui",INDEX(BASE!A32:B44,1,1),"")

Sheet TABLE
A3: categorie
A5: FILLE | C5: GARCON
A6: 2016 | B6: U7 | C6: 2016 | D6: U7
A7: 2015 | B7: U7 | C7: 2015 | D7: U7
A8: =A7-1 -> 2014 | B8: U9 | C8: =C7-1 -> 2014 | D8: U9
A9: =A8-1 -> 2013 | B9: U9 | C9: =C8-1 -> 2013 | D9: U9
A10: =A9-1 -> 2012 | B10: U11 | C10: =C9-1 -> 2012 | D10: U11
A11: =A10-1 -> 2011 | B11: U11 | C11: =C10-1 -> 2011 | D11: U11
A12: =A11-1 -> 2010 | B12: U13 | C12: =C11-1 -> 2010 | D12: U13
A13: =A12-1 -> 2009 | B13: U13 | C13: =C12-1 -> 2009 | D13: U13
A14: =A13-1 -> 2008 | B14: U15 | C14: =C13-1 -> 2008 | D14: U15
A15: =A14-1 -> 2007 | B15: U15 | C15: =C14-1 -> 2007 | D15: U15
A16: =A15-1 -> 2006 | B16: U18 | C16: =C15-1 -> 2006 | D16: U17
A17: =A16-1 -> 2005 | B17: U18 | C17: =C16-1 -> 2005 | D17: U17
A18: =A17-1 -> 2004 | B18: U18 | C18: =C17-1 -> 2004 | D18: U20
A19: 2003 | B19: Senior | C19: =C18-1 -> 2003 | D19: U20
A20: 2002 | B20: Senior | C20: 2002 | D20: Senior
A23: TARIF
A24: U7 | B24: 125
A25: U9 | B25: 180
A26: U11 | B26: 185
A27: U13 | B27: 185
A28: U15 | B28: 185
A29: U18 | B29: 185
A30: U17 | B30: 185
A31: U20 | B31: 185
A32: SENIOR | B32: 190
A33: OL | B33: 90
